{"text_format":"1","workbook":"xlsx","n_sheets":7,"sheets":["ID_パスワード","表示","データ整理","有効積算気温","超える日計算","Mesh設定","html"],"not_rendered":{"charts":0,"images":2,"macros":1,"external_links":2,"defined_names":51,"comments":0,"pivot_tables":0},"unopened":[],"bounds":{"document_bytes":16777216,"sheet_cells":100000,"rows_first":2000,"rows_last":500,"rows_between":2000,"halvings":0,"cell_chars":16384,"cell_head_chars":4096},"cells_cut":0,"cells_raw":0,"read":"whole","date_system":"1900"}

{"sheet":"ID_パスワード","index":0,"n_rows":9,"n_cols":3,"rows_kept":9,"cut":false,"hidden":false,"merged":[[4,1,4,4]]}
[]
[]
[]
[]
[null,"メッシュ農業気象データを取得するための\nIDとパスワードを入力してください。"]
[]
[null,null,"ID"]
[null,null,"Password1"]
[null,null,"Password2"]

{"sheet":"表示","index":1,"n_rows":47,"n_cols":10,"rows_kept":47,"cut":false,"hidden":false,"merged":[[13,9,14,9],[42,0,42,1],[8,0,8,3],[5,7,5,8],[13,7,14,7],[13,8,14,8]]}
[]
["有効積算気温を使用した牧草夏季播種晩限日計算プログラム「農研機構メッシュ農業気象データ」版（ver.2018/10/31)"]
[null,null,null,null,null,null,null,"農研機構北海道農業研究センター　　井上　聡"]
[]
["入力"]
[null,"緯度","経度",null,null,null,"試験地","牧草種組み合わせ",null,"必要有効"]
["対象地点",43.012461227305998,141.40545845031701,"←地点の位置を入力する",null,null,"(グループ）","イネ科","マメ科","積算気温"]
[null,null,null,null,null,null,"北農研","オーチャードグラス","アルファルファ",615]
["確率を求める20年（最終年を指定）",null,null,null,null,null,"（グループB：□）","オーチャードグラス","アカクローバ",516]
[{"$f":"C10-19","v":1999},"-",{"$f":"D10","v":2018},2018,null,null,null,"チモシー","アルファルファ",480]
[null,null,null,null,null,null,null,"チモシー","アカクローバ",354]
[null,"℃・日",null,null,null,null,"北見農試","チモシー","アルファルファ",564]
["必要有効\n積算気温",480,"←右表より必要有効積算気温を入力する",null,null,null,"（グループC：○）","チモシー","アカクローバ",531]
[null,null,null,null,null,null,"根釧農試","チモシー","アカクローバ",629]
[null,null,null,null,null,null,"（グループD：◆）"]
["出力",null,null,null,null,null,"有効積算気温は、播種翌日から播種当年10月31日までの有効積算気温（基準温度＝5℃）。"]
["年","晩限日","％確率日","遅い順",null,null,"晩限推奨日は、1994〜2013年の各年の必要有効積算気温を満たす日の90％確率日。"]
[{"$f":"A19-1","v":1999},{"$f":"超える日計算!B217-1","v":"2014-08-23"},null,{"$f":"LARGE($B$18:$B$37,1)","v":"2014-08-31"},null,null,"目標収量はチモシー混播630kg/10a（根釧は540kg/10a）、オーチャードグラス混播480kg/10a。"]
[2000,{"$f":"超える日計算!C217-1","v":"2014-08-24"},0.1,{"$f":"LARGE($B$18:$B$37,2)","v":"2014-08-27"}]
[2001,{"$f":"超える日計算!D217-1","v":"2014-08-18"},null,{"$f":"LARGE($B$18:$B$37,3)","v":"2014-08-24"}]
[2002,{"$f":"超える日計算!E217-1","v":"2014-08-18"},0.2,{"$f":"LARGE($B$18:$B$37,4)","v":"2014-08-23"}]
[2003,{"$f":"超える日計算!F217-1","v":"2014-08-18"},null,{"$f":"LARGE($B$18:$B$37,5)","v":"2014-08-23"}]
[2004,{"$f":"超える日計算!G217-1","v":"2014-08-20"},0.3,{"$f":"LARGE($B$18:$B$37,6)","v":"2014-08-23"}]
[2005,{"$f":"超える日計算!H217-1","v":"2014-08-23"},null,{"$f":"LARGE($B$18:$B$37,7)","v":"2014-08-23"}]
[2006,{"$f":"超える日計算!I217-1","v":"2014-08-22"},0.4,{"$f":"LARGE($B$18:$B$37,8)","v":"2014-08-22"}]
[2007,{"$f":"超える日計算!J217-1","v":"2014-08-20"},null,{"$f":"LARGE($B$18:$B$37,9)","v":"2014-08-22"}]
[2008,{"$f":"超える日計算!K217-1","v":"2014-08-23"},0.5,{"$f":"LARGE($B$18:$B$37,10)","v":"2014-08-22"}]
[2009,{"$f":"超える日計算!L217-1","v":"2014-08-17"},null,{"$f":"LARGE($B$18:$B$37,11)","v":"2014-08-20"}]
[2010,{"$f":"超える日計算!M217-1","v":"2014-08-27"},0.6,{"$f":"LARGE($B$18:$B$37,12)","v":"2014-08-20"}]
[2011,{"$f":"超える日計算!N217-1","v":"2014-08-23"},null,{"$f":"LARGE($B$18:$B$37,13)","v":"2014-08-20"}]
[2012,{"$f":"超える日計算!O217-1","v":"2014-08-31"},0.7,{"$f":"LARGE($B$18:$B$37,14)","v":"2014-08-18"}]
[2013,{"$f":"超える日計算!P217-1","v":"2014-08-22"},null,{"$f":"LARGE($B$18:$B$37,15)","v":"2014-08-18"},null,null,"上図のマーカーは、各グループに区分した位置を示す。\n"]
[2014,{"$f":"超える日計算!Q217-1","v":"2014-08-16"},0.8,{"$f":"LARGE($B$18:$B$37,16)","v":"2014-08-18"},null,null,"□はグループＢ（北農研）の値を参照する地点であり\n"]
[2015,{"$f":"超える日計算!R217-1","v":"2014-08-16"},null,{"$f":"LARGE($B$18:$B$37,17)","v":"2014-08-17"},null,null,"○はグループＣ（北見農試）の値を参照する地点であり"]
[2016,{"$f":"超える日計算!S217-1","v":"2014-08-22"},0.9,{"$f":"LARGE($B$18:$B$37,18)","v":"2014-08-16"},"→晩限日",null,"◆はグループＤ（根釧農試）の値を参照する地点である。"]
[{"$f":"A37-1","v":2017},{"$f":"超える日計算!T217-1","v":"2014-08-16"},null,{"$f":"LARGE($B$18:$B$37,19)","v":"2014-08-16"},null,null,"それぞれの試験地は☆の位置にある"]
[{"$f":"C10","v":2018},{"$f":"超える日計算!U217-1","v":"2014-08-20"},1,{"$f":"LARGE($B$18:$B$37,20)","v":"2014-08-16"},null,null,"希望する地点の区分選定にあたっては、最近傍地点のみ"]
["90%とは、過去20年間*において18年は有効積算気温が",null,null,null,null,null,"ではなく、周辺の複数地点から総合的に判断してください。"]
["確保できる（目標収量が確保できる）と推定される日である。",null,null,null,null,null,"※試験時の機関名は「根釧農業試験場」"]
["*本成績では1994年から2013年までの期間を想定している。"]
[]
["参考出力"]
["予報による晩限日"]
[{"$f":"TODAY()","v":"2018-11-05"},{"$f":"超える日計算!Z217-1","v":"2014-08-20"}]
[]
["予報による\n明日以降の\n有効積算気温",{"$f":"VLOOKUP(TODAY()+1,有効積算気温!Y2:Z216,2)","v":0}]
["平年値による\n明日以降の\n有効積算気温",{"$f":"VLOOKUP(TODAY()+1,有効積算気温!Y2:AA216,3)","v":0}]

{"sheet":"データ整理","index":2,"n_rows":216,"n_cols":27,"rows_kept":216,"cut":false,"hidden":true,"merged":[]}
[null,{"$f":"表示!$A$10","v":1999},{"$f":"B1+1","v":2000},{"$f":"C1+1","v":2001},2002,2003,2004,2005,2006,2007,2008,2009,2010,2011,2012,2013,2014,2015,2016,2017,2018,null,null,null,null,{"$f":"YEAR(TODAY())","v":2018},"平年値"]
["2014-04-01",0.97850499999999996,-0.87716499999999997,-1.7002200000000001,4.92075,0.71232700000000004,-3.0474199999999998,-3.7523399999999998,-0.48479100000000003,-0.18312200000000001,-1.9820199999999999,-1.2501199999999999,4.5410500000000003,2.3024,-6.4588000000000001,-0.49190099999999998,-0.282163,0.33062399999999997,1.4859599999999999,-2.8826900000000002,2.0646599999999999,null,null,null,null,2.0646599999999999,-0.36223699999999998]
["2014-04-02",-1.96231,-1.4735400000000001,1.55623,3.7761,2.1612,-5.3811600000000004,-0.61775899999999995,0.19874,2.4588700000000002E-2,-0.67064199999999996,-1.06606,1.91337,-1.54593,-5.8111600000000001,0.70194900000000005,-0.23250699999999999,0.75007199999999996,1.8685400000000001,-0.78214499999999998,3.4173900000000001,null,null,null,null,3.4173900000000001,-0.117505]
["2014-04-03",-5.7233900000000002,1.4134899999999999,0.53054400000000002,2.4574799999999999,0.34006799999999998,-4.1901299999999999,5.6331300000000001E-2,-2.5404100000000001,-1.8466499999999999,-7.8717099999999998E-2,0.55572200000000005,0.41744100000000001,-3.5070100000000002,-2.89405,1.30996,1.89883,1.10869,3.9626899999999998,1.1972499999999999,3.1888800000000002,null,null,null,null,3.1888800000000002,0.120458]
["2014-04-04",-3.2827299999999999,4.6494200000000001,-1.30894,0.976939,1.4462999999999999,-0.26816699999999999,-9.8698999999999995E-2,-1.7552399999999999,-1.32586,1.1586099999999999,1.6470800000000001,1.9270700000000001,-5.0535100000000002,-2.9371999999999998,2.4434499999999999,-1.8210599999999999,2.4518499999999999,2.37236,2.6192299999999999,0.29133900000000001,null,null,null,null,0.29133900000000001,0.34787000000000001]
["2014-04-05",-2.3897400000000002,4.9096700000000002,0.20845,-0.62266699999999997,0.92202600000000001,0.48652600000000001,9.8467499999999999E-2,-2.1240600000000001,-1.7531399999999999,1.9427399999999999,3.3263099999999999,2.92618,3.0009000000000001,-2.6907999999999999,1.38547,-2.29237,2.3377500000000002,1.76342,4.4273100000000003,-1.4673499999999999,null,null,null,null,-1.4673499999999999,0.56449499999999997]
["2014-04-06",-5.5225,0.98934900000000003,0.81553900000000001,0.65780300000000003,8.3860100000000007E-2,4.2136699999999996,3.9516100000000001,-3.63849,-0.81089500000000003,3.6105100000000001,0.69538800000000001,0.57111199999999995,4.9633000000000003,-3.66981,2.5888,-1.70604,2.2957800000000002,3.6625399999999999,6.7568299999999999,-0.26104100000000002,null,null,null,null,-0.26104100000000002,0.76930799999999999]
["2014-04-07",-5.6110800000000003,4.0908100000000003,-0.42136400000000002,0.55548399999999998,2.0342099999999999,2.2868300000000001,2.8410000000000002,-3.9739599999999999,1.5563400000000001,2.90951,-0.98461399999999999,-1.72431,6.6038399999999999,-5.6433900000000001,3.5264000000000002,-0.64601600000000003,-2.3325399999999998,3.1977000000000002,3.6220699999999999,-0.53841300000000003,null,null,null,null,-0.53841300000000003,0.96048199999999995]
["2014-04-08",-4.5015499999999999,1.9185099999999999,1.8639699999999999,0.224075,1.79444,-0.44039,0.59539200000000003,-3.74057,1.57168,3.74234,-0.14507900000000001,-2.3596599999999999,3.4038599999999999,-3.7829000000000002,0.91429499999999997,-2.74126,-3.0575199999999998,2.3169200000000001,0.11502800000000001,-0.16709399999999999,null,null,null,null,-0.16709399999999999,1.13862]
["2014-04-09",0.72292199999999995,2.6908699999999999,5.8354799999999996,3.3374299999999999,-3.7053699999999998,1.0093300000000001,0.31054100000000001,-2.6157499999999998,2.6660699999999999,3.89005,3.4351400000000001,2.8196099999999999,1.4719599999999999,-2.2083599999999999,2.54122,0.11905499999999999,-0.45445200000000002,0.69472699999999998,2.5755599999999998,0.56388400000000005,null,null,null,null,0.56388400000000005,1.30698]
["2014-04-10",2.3449599999999999,4.4750199999999998,4.3045099999999996,2.3014899999999998,-0.974997,0.30587399999999998,-1.1461699999999999,-0.181919,0.91834800000000005,4.32721,6.3675600000000001,5.2524300000000004,2.6905899999999998,0.55484900000000004,0.79795400000000005,-1.22384,1.5114300000000001,-0.26250800000000002,1.1129899999999999,1.04572,null,null,null,null,1.04572,1.46966]
["2014-04-11",4.0864599999999998,2.18973,5.1151799999999996,3.7147800000000002,3.5964900000000002,0.26074999999999998,1.7085999999999999,1.0127999999999999,-0.94382200000000005,1.0072399999999999,1.3202400000000001,1.8671899999999999,0.81878700000000004,5.4155600000000002,0.75854999999999995,-2.9612599999999998,3.39662,-1.9451099999999999,3.3317199999999998,4.1063000000000001,null,null,null,null,4.1063000000000001,1.6303300000000001]
["2014-04-12",7.3566000000000003,0.115882,3.2957999999999998,3.14533,3.3190300000000001,2.1637300000000002,2.7804700000000002,4.0201000000000002,-1.82199,-0.54229799999999995,2.88524,0.68560399999999999,-1.0241199999999999,2.31785,1.19153,-0.614035,1.1835,1.4859599999999999,0.24384900000000001,2.2877100000000001,null,null,null,null,2.2877100000000001,1.7912999999999999]
["2014-04-13",2.6020300000000001,2.4028999999999998,3.1120899999999998,3.3050000000000002,2.6488399999999999,2.2170700000000001,1.4393400000000001,1.9589000000000001,-0.49314000000000002,1.10883,6.43459,1.0263500000000001,1.7043600000000001,1.7658799999999999,2.5794800000000002,-0.179372,0.57814299999999996,2.52576,-1.3448899999999999,-0.31492199999999998,null,null,null,null,-0.31492199999999998,1.95411]
["2014-04-14",2.09971,3.4266899999999998,5.7023099999999998,3.8023699999999998,2.3924599999999998,4.3367399999999998,2.4840599999999999,1.4403300000000001,-0.75828600000000002,2.37026,3.74912,-0.124974,3.5272399999999999,2.2692000000000001,4.80518,0.98936900000000005,4.0863699999999996,3.7450299999999999,6.5457299999999998,1.67642,null,null,null,null,1.67642,2.11781]
["2014-04-15",0.30246600000000001,0.77336199999999999,2.6990599999999998,7.3590600000000004,4.9351599999999998,1.6916500000000001,1.0225900000000001,0.72323199999999999,-1.2610699999999999,4.5561400000000001,1.87862,-1.0854900000000001,6.1541499999999996,2.8739499999999998,0.85758400000000001,3.2522000000000002,3.7392799999999999,0.57316,9.7210099999999997,0.75785499999999995,null,null,null,null,0.75785499999999995,2.2847400000000002]
["2014-04-16",2.2946,-0.41626000000000002,5.0062800000000003,7.8255699999999999,6.1548699999999998,-7.1961899999999995E-2,2.5127299999999999,1.5721400000000001,-1.63547,2.6248100000000001,1.13784,0.45733800000000002,4.3998400000000002,3.1539299999999999,1.78956,0.15865499999999999,0.86115399999999998,2.4731200000000002,5.8875599999999997,0.97016599999999997,null,null,null,null,0.97016599999999997,2.4576099999999999]
["2014-04-17",2.8983699999999999,0.36448399999999997,5.0971000000000002,7.8515100000000002,9.7355400000000003,0.70561799999999997,1.1010599999999999,0.485738,-2.0483500000000001,3.85175,3.1815899999999999,2.6744500000000002,-5.0108E-2,1.7597799999999999,0.77868400000000004,0.36380899999999999,3.0811700000000002,2.2463899999999999,3.0837500000000002,4.8851100000000001,null,null,null,null,4.8851100000000001,2.6371000000000002]
["2014-04-18",4.1351000000000004,1.08989,7.1162400000000003,4.5199999999999996,5.5943399999999999,4.3136299999999999,-0.32400800000000002,-4.0541199999999999E-2,-0.859128,5.1577900000000003,3.51857,0.65706100000000001,1.22607,2.9646499999999998,1.56145,8.0250500000000002E-2,3.9898099999999999,-0.45172899999999999,2.3687999999999998,4.7325100000000004,null,null,null,null,4.7325100000000004,2.82098]
["2014-04-19",6.5488,1.8529599999999999,8.9989100000000004,3.26268,1.0707,6.3072999999999997,6.2744599999999999E-3,0.94115599999999999,2.5315500000000002,7.1320199999999998,3.6387999999999998,0.861263,0.50029800000000002,3.7387700000000001,0.58268299999999995,-0.38791399999999998,2.3736199999999998,-0.39073600000000003,1.97828,4.8799299999999999,null,null,null,null,4.8799299999999999,3.0078299999999998]
["2014-04-20",3.1983600000000001,1.56104,0.49060700000000002,7.61998,3.7717299999999998,3.3045499999999999,2.8156500000000002,3.9197299999999999,3.4040599999999999,7.1894,3.0264199999999999,-0.846217,0.62567799999999996,2.6229399999999998,1.72844,1.0863400000000001,1.8747499999999999,4.6410400000000003,0.48735899999999999,5.7975300000000001,null,null,null,null,5.7975300000000001,3.1962899999999999]
["2014-04-21",1.60253,3.2147299999999999,1.46295,8.8942700000000006,1.4999499999999999,1.14324,1.09829,3.2955800000000002,5.4902300000000004,7.8547700000000003,1.86635,0.709843,-2.8020400000000001E-2,2.80694,2.8128500000000001,2.7560699999999998,3.3027600000000001,7.1141699999999997,1.6312500000000001,7.7845199999999997,null,null,null,null,7.7845199999999997,3.3867699999999998]
["2014-04-22",2.8783799999999999,5.3372400000000004,0.61689899999999998,10.643800000000001,2.9765000000000001,0.363676,-0.56425599999999998,2.0312700000000001,3.7763300000000002,7.7739099999999999,3.5813000000000001,0.79043799999999997,2.2715700000000001,4.3266499999999999,3.33419,3.2851599999999999,4.74925,5.2460800000000001,0.22941,4.2142900000000001,null,null,null,null,4.2142900000000001,3.5801400000000001]
["2014-04-23",6.3727299999999998,3.8135699999999999,1.62537,11.779400000000001,6.1983499999999996,0.25596600000000003,0.158304,2.20505,2.367,8.4048300000000005,-0.222385,1.86493,3.8993600000000002,5.5305299999999997,4.3790199999999997,3.0746899999999999,6.6734299999999998,3.2585700000000002,0.60548000000000002,3.0335800000000002,null,null,null,null,3.0335800000000002,3.7770600000000001]
["2014-04-24",5.8766800000000003,2.9509799999999999,1.8389,10.6724,3.8344100000000001,-0.78506200000000004,1.7323200000000001,1.7247399999999999,5.3345599999999997,8.6202299999999994,0.24904200000000001,2.31812,4.3831800000000003,3.9893900000000002,5.0299500000000004,6.4681300000000004,6.3437400000000004,4.2907799999999998,2.9219300000000001,3.8731800000000001,null,null,null,null,3.8731800000000001,3.9762]
["2014-04-25",6.4701700000000004,2.7003900000000001,0.88861800000000002,5.12784,6.4297000000000004,-0.35889300000000002,4.1091699999999998,3.06731,5.5299100000000001,4.8446800000000003,2.5099,0.41015600000000002,4.18004,6.1154599999999997,3.1389499999999999,6.9097999999999997,6.3754799999999996,4.3991600000000002,6.9378799999999998,5.5114700000000001,null,null,null,null,5.5114700000000001,4.17638]
["2014-04-26",6.3992300000000002,1.7937700000000001,3.6282899999999998,4.29636,5.0034999999999998,2.7107299999999999,6.3437400000000004,2.4079100000000002,1.42838,4.6177000000000001,1.8482700000000001,0.376724,4.9356900000000001,8.4651099999999992,3.8226,7.0798899999999998,10.2384,2.7806799999999998,6.1872800000000003,5.1981400000000004,null,null,null,null,5.1981400000000004,4.3755199999999999]
["2014-04-27",5.4453300000000002,0.75821000000000005,6.5194999999999999,5.2171099999999999,6.5812900000000001,5.9983899999999997,7.3088100000000003,4.0613700000000001,2.6414200000000001,4.9411100000000001,2.0368599999999999,2.3252299999999999,5.6947900000000002,8.2642199999999999,2.7530700000000001,8.9194499999999994,10.168900000000001,1.99434,3.3937499999999998,4.3035600000000001,null,null,null,null,4.3035600000000001,4.5752199999999998]
["2014-04-28",0.28702,0.61964300000000005,7.1067499999999999,6.3366199999999999,7.9824799999999998,4.2937900000000004,7.7944399999999998,2.3370500000000001,7.1035399999999997,3.7112099999999999,2.6552799999999999,3.08439,2.49762,6.4898999999999996,1.78565,3.6777799999999998,7.4492599999999998,3.4493299999999998,4.4475600000000002,2.8292199999999998,null,null,null,null,2.8292199999999998,4.7750500000000002]
["2014-04-29",0.83930800000000005,2.4105400000000001,5.5499499999999999,7.9753499999999997,4.0180699999999998,5.5091000000000001,5.9680600000000004,4.66296,4.1862599999999999,5.4958600000000004,3.6697199999999999,4.3157699999999997,3.8794200000000001,7.5175299999999998,2.3256800000000002,3.2336200000000002,9.4541000000000004,0.81427499999999997,5.1367799999999999,8.8931799999999992,null,null,null,null,8.8931799999999992,4.9757499999999997]
["2014-04-30",4.9852800000000004,2.9917699999999998,1.8100700000000001,7.0390800000000002,2.5411999999999999,5.9758500000000003,2.8442099999999999,4.3123300000000002,2.2082799999999998,7.2716099999999999,10.238300000000001,3.72858,7.3783899999999996,7.6360200000000003,1.31308,6.4010499999999997,12.2166,0.67011399999999999,4.5164200000000001,9.8623100000000008,null,null,null,null,9.8623100000000008,5.1765800000000004]
["2014-05-01",7.5930499999999999,4.7096799999999996,0.37920599999999999,6.1195399999999998,4.1425099999999997,3.8268,2.8504100000000001,2.8591199999999999,5.6932400000000003,13.555300000000001,7.8656699999999997,4.2180200000000001,3.7876099999999999,10.242599999999999,1.24373,7.9244700000000003,10.6197,2.1271599999999999,4.0685000000000002,6.2550699999999999,null,null,null,null,6.2550699999999999,5.37683]
["2014-05-02",5.6178600000000003,6.4042599999999998,1.4240900000000001,6.0444000000000004,11.4214,5.0949499999999999,5.4499300000000002,0.11877,5.5973499999999996,12.4152,7.8998299999999997,6.0312999999999999,1.6006199999999999,9.4798299999999998,0.17636399999999999,7.2329600000000003,9.9176699999999993,3.8259300000000001,5.8927899999999998,5.2858400000000003,null,null,null,null,5.2858400000000003,5.5765799999999999]
["2014-05-03",6.6916000000000002,6.7918099999999999,2.7384400000000002,8.8279499999999995,9.3647100000000005,4.8601799999999997,6.36198,2.7781799999999999,6.1316600000000001,9.7401999999999997,11.473599999999999,7.3954700000000004,2.34206,8.3033599999999996,1.0818300000000001,7.42842,11.7773,9.9228000000000005,10.1157,5.34077,null,null,null,null,5.34077,5.7744]
["2014-05-04",5.7537399999999996,6.8951200000000004,4.0902700000000003,7.3522600000000002,6.0441700000000003,5.3722599999999998,4.6498600000000003,5.7810499999999996,8.2533100000000008,9.8243899999999993,11.6114,7.4386799999999997,1.07782,9.1938600000000008,2.7069299999999998,4.8160699999999999,12.613200000000001,6.6027500000000003,10.3653,5.9641400000000004,null,null,null,null,5.9641400000000004,5.97004]
["2014-05-05",3.7136100000000001,6.3604799999999999,5.1036599999999996,7.68018,4.85236,6.1432599999999997,3.3462000000000001,4.4233099999999999,6.2731899999999996,11.5143,7.9890299999999996,6.7578199999999997,2.8632,6.4104299999999999,2.90665,7.2700899999999997,10.8431,5.5425500000000003,10.6183,3.9613800000000001,null,null,null,null,3.9613800000000001,6.1664199999999996]
["2014-05-06",5.0418399999999997,7.4047400000000003,6.2607600000000003,5.8749900000000004,7.9879800000000003,8.1382700000000003,2.1334599999999999,7.0407999999999999,8.9831199999999995,8.9457000000000004,8.7816100000000006,6.1068899999999999,6.7732999999999999,8.8125199999999992,2.1094900000000001,7.2210099999999997,11.7225,6.08263,7.1758100000000002,4.9731100000000001,null,null,null,null,4.9731100000000001,6.3630000000000004]
["2014-05-07",5.1787799999999997,8.4429400000000001,7.5528899999999997,8.2985399999999991,7.0014000000000003,6.66005,0.52520800000000001,4.9462000000000002,4.3422200000000002,8.1477000000000004,12.6027,4.9931000000000001,9.8914799999999996,7.16418,-0.26165300000000002,7.3489100000000001,9.9426699999999997,6.1863700000000001,6.3923699999999997,4.8373999999999997,null,null,null,null,4.8373999999999997,6.5628200000000003]
["2014-05-08",5.9875299999999996,6.4151499999999997,5.6130100000000001,9.7570200000000007,3.17388,7.39473,3.0814400000000002,5.8522600000000002,4.7970899999999999,6.08148,8.8905499999999993,4.6926699999999997,5.6559400000000002,7.4758300000000002,3.0241199999999999,8.2330400000000008,8.0502400000000005,7.2495500000000002,4.4357300000000004,3.4632700000000001,null,null,null,null,3.4632700000000001,6.7676400000000001]
["2014-05-09",6.5151300000000001,7.7895200000000004,5.9523700000000002,10.8489,3.2469000000000001,10.740600000000001,2.4390900000000002,7.7427200000000003,7.2185499999999996,1.5354099999999999,9.7357099999999992,4.6944699999999999,4.7895399999999997,6.4662199999999999,3.9218099999999998,6.0057700000000001,6.0509599999999999,7.1681900000000001,7.9131099999999996,2.98054,null,null,null,null,2.98054,6.9775999999999998]
["2014-05-10",5.7199099999999996,7.1539299999999999,4.4320399999999998,11.922800000000001,3.3486400000000001,12.4473,1.31271,7.8071700000000002,7.7287299999999997,1.2228399999999999,9.2892399999999995,3.5640399999999999,4.4289199999999997,4.9603299999999999,6.1669,7.7586399999999998,6.3651099999999996,8.8716100000000004,10.9267,5.43344,null,null,null,null,5.43344,7.1930399999999999]
["2014-05-11",5.1953899999999997,6.9692800000000004,5.1547599999999996,10.9825,4.9438300000000002,9.0105599999999999,2.8839399999999999,7.2831000000000001,5.5209400000000004,2.1805500000000002,8.9680400000000002,4.5727099999999998,4.4680799999999996,2.0869399999999998,4.8361799999999997,9.9372299999999996,10.256600000000001,7.29345,9.7947299999999995,6.7378799999999996,null,null,null,null,6.7378799999999996,7.4149200000000004]
["2014-05-12",5.6141199999999998,8.2576800000000006,10.373900000000001,10.6197,7.9047900000000002,10.870100000000001,3.29555,6.9104099999999997,6.8088100000000003,3.7337500000000001,9.91629,3.39053,7.6016700000000004,2.0984799999999999,3.6019899999999998,12.2906,12.556699999999999,5.7571300000000001,9.6999399999999998,10.33,null,null,null,null,10.33,7.6468999999999996]
["2014-05-13",5.0880400000000003,9.2666400000000007,12.729900000000001,8.7090099999999993,10.2349,9.7183100000000007,4.3420699999999997,7.3034299999999996,4.8154300000000001,5.4432900000000002,7.9935900000000002,2.4699599999999999,5.7154199999999999,5.7476799999999999,4.2907200000000003,11.1633,10.0722,10.6198,9.6357300000000006,6.7683999999999997,null,null,null,null,6.7683999999999997,7.8887700000000001]
["2014-05-14",3.78146,9.2080000000000002,13.824400000000001,7.8446499999999997,8.5867599999999999,12.4527,5.1766399999999999,7.4301399999999997,6.8552799999999996,6.4321000000000002,3.1675900000000001,3.8758499999999998,3.1159400000000002,7.8489199999999997,4.4299600000000003,11.0474,4.0058800000000003,9.49587,8.48916,7.4063299999999996,null,null,null,null,7.4063299999999996,8.1368100000000005]
["2014-05-15",4.0755999999999997,8.2855799999999995,14.9222,9.9251900000000006,7.6163600000000002,14.143700000000001,2.8207300000000002,10.126300000000001,8.6582899999999992,7.5852700000000004,3.8763000000000001,6.7301599999999997,3.1468500000000001,6.7503399999999996,3.94299,10.519500000000001,6.1012500000000003,10.143800000000001,6.5438000000000001,10.4491,null,null,null,null,10.4491,8.3880599999999994]
["2014-05-16",4.9420200000000003,7.7572099999999997,10.489100000000001,10.309900000000001,6.5025399999999998,9.6959400000000002,6.0873699999999999,10.9635,10.4544,10.2112,8.4414700000000007,8.8142399999999999,8.2236600000000006,7.50305,5.3448200000000003,4.2205000000000004,7.1996500000000001,12.7189,8.2821599999999993,12.544499999999999,null,null,null,null,12.544499999999999,8.6369600000000002]
["2014-05-17",6.0400200000000002,9.0782299999999996,9.5931800000000003,11.2895,7.8872299999999997,10.4437,6.7914300000000001,11.5069,11.2425,8.8813200000000005,11.071199999999999,9.3969199999999997,6.8610499999999996,7.41683,6.4566299999999996,3.6983700000000002,7.0573800000000002,12.9062,10.401,10.74,null,null,null,null,10.74,8.8795999999999999]
["2014-05-18",5.30776,10.6548,14.778499999999999,11.4483,10.072800000000001,9.6719100000000005,6.3007799999999996,12.422599999999999,8.9179099999999991,10.2569,10.1691,9.5134899999999991,9.5915700000000008,7.35832,7.0454499999999998,4.2142799999999996,9.9332399999999996,11.8607,12.7319,7.8740199999999998,null,null,null,null,7.8740199999999998,9.1149900000000006]
["2014-05-19",6.8092899999999998,12.823,13.182600000000001,12.340400000000001,11.6189,11.751099999999999,6.0431100000000004,13.3599,4.3341599999999998,13.106999999999999,12.726000000000001,11.007300000000001,10.8261,7.1020300000000001,7.0939300000000003,7.1769100000000003,7.8528500000000001,13.0585,15.3775,7.5598999999999998,null,null,null,null,7.5598999999999998,9.3404600000000002]
["2014-05-20",10.680300000000001,12.962400000000001,10.5647,10.8973,11.246600000000001,16.285599999999999,9.1416799999999991,10.8185,5.9891399999999999,12.6379,11.949,7.3771100000000001,9.3934700000000007,9.4346800000000002,7.7302799999999996,9.4080100000000009,9.8794299999999993,14.672800000000001,14.097,7.7448300000000003,null,null,null,null,7.7448300000000003,9.5539199999999997]
["2014-05-21",10.110300000000001,12.385999999999999,9.4928000000000008,10.066000000000001,8.9167500000000004,9.6944800000000004,11.860200000000001,10.5077,9.8078800000000008,9.1840600000000006,14.122,9.1106200000000008,9.5746599999999997,11.407500000000001,8.1076899999999998,10.623799999999999,8.2492900000000002,15.6698,12.7867,10.453200000000001,null,null,null,null,10.453200000000001,9.7519500000000008]
["2014-05-22",15.791600000000001,11.066000000000001,9.9411799999999992,12.0358,8.2584199999999992,8.3352699999999995,11.768700000000001,10.263,15.379799999999999,11.942600000000001,13.5945,10.626200000000001,6.8201499999999999,14.1198,7.8532900000000003,5.0738899999999996,10.755699999999999,15.307499999999999,11.6629,13.4175,null,null,null,null,13.4175,9.9363399999999995]
["2014-05-23",11.613200000000001,12.947900000000001,9.6217900000000007,12.144299999999999,10.6296,11.6676,8.0853400000000004,9.8972700000000007,9.7401700000000009,10.146699999999999,12.314299999999999,12.677899999999999,4.1698700000000004,12.680899999999999,5.2660400000000003,8.2001200000000001,12.104900000000001,13.7994,10.494999999999999,14.4473,null,null,null,null,14.4473,10.110200000000001]
["2014-05-24",9.71645,12.2972,12.1265,11.128399999999999,12.4885,11.903499999999999,6.4622400000000004,6.3242099999999999,7.0179499999999999,12.611599999999999,10.5169,12.301299999999999,8.3728599999999993,13.5029,7.0923100000000003,9.1698599999999999,9.8042300000000004,13.7646,10.5746,11.4442,null,null,null,null,11.4442,10.2783]
["2014-05-25",9.2208199999999998,13.7218,10.981,8.3967299999999998,12.366300000000001,9.7227700000000006,7.1084699999999996,7.3263100000000003,7.5386600000000001,12.820499999999999,8.8677299999999999,8.5932700000000004,10.473000000000001,14.013999999999999,8.0700599999999998,8.2161899999999992,10.0596,14.1394,12.5497,8.9706399999999995,null,null,null,null,8.9706399999999995,10.445499999999999]
["2014-05-26",10.185600000000001,15.3309,10.0268,8.0118399999999994,13.1426,13.447800000000001,7.64757,10.888500000000001,8.1137499999999996,11.9125,10.607200000000001,5.8801800000000002,11.282500000000001,9.1343899999999998,11.129899999999999,9.7337600000000002,9.3742300000000007,15.9512,12.7727,7.5724200000000002,null,null,null,null,7.5724200000000002,10.613]
["2014-05-27",9.9361899999999999,17.428599999999999,9.6038700000000006,10.905900000000001,11.152200000000001,16.684899999999999,8.3668899999999997,15.5022,5.0882300000000003,7.4249200000000002,10.638400000000001,3.7919700000000001,12.9594,6.0237999999999996,15.2003,13.916700000000001,10.113,12.553800000000001,10.939399999999999,8.8165999999999993,null,null,null,null,8.8165999999999993,10.781000000000001]
["2014-05-28",10.197900000000001,14.1561,11.497299999999999,13.6189,14.6813,17.738299999999999,12.069900000000001,12.6631,7.5710800000000003,7.7238300000000004,9.7153700000000001,3.9507500000000002,14.094099999999999,9.3605300000000007,15.8249,14.9992,13.0497,11.4938,11.9405,10.0733,null,null,null,null,10.0733,10.952299999999999]
["2014-05-29",8.9745699999999999,13.6838,14.6174,14.474500000000001,15.3965,15.2042,13.346399999999999,11.977600000000001,10.095000000000001,8.2141800000000007,11.7201,7.4138400000000004,11.728899999999999,10.4114,16.041699999999999,17.994,16.242799999999999,10.436,14.2828,12.158300000000001,null,null,null,null,12.158300000000001,11.1288]
["2014-05-30",11.118499999999999,12.5609,15.340999999999999,15.488099999999999,18.712900000000001,14.3142,14.6173,12.932499999999999,12.5389,7.0961999999999996,13.2812,8.7797699999999992,9.3970400000000005,11.048999999999999,14.969099999999999,16.1342,17.3459,12.0097,14.7347,15.8781,null,null,null,null,15.8781,11.313700000000001]
["2014-05-31",15.6251,11.769,12.146800000000001,12.6968,14.9793,11.263999999999999,15.024800000000001,9.2276500000000006,11.2593,9.4867000000000008,10.7035,10.8428,7.8963000000000001,11.3292,15.3491,16.047999999999998,12.5756,13.096299999999999,12.374000000000001,14.059200000000001,null,null,null,null,14.059200000000001,11.5053]
["2014-06-01",15.258699999999999,11.5312,10.8841,13.202199999999999,13.3622,12.929600000000001,12.387499999999999,9.4338999999999995,11.348800000000001,8.4567999999999994,11.0398,9.2442499999999992,9.5804500000000008,12.352399999999999,16.065000000000001,14.028700000000001,15.0379,7.4529300000000003,9.21617,11.9122,null,null,null,null,11.9122,11.701599999999999]
["2014-06-02",14.860300000000001,9.7798700000000007,10.981999999999999,8.8815100000000005,10.728400000000001,11.419,16.596699999999998,8.1981099999999998,11.6129,10.822100000000001,9.8103499999999997,10.310600000000001,9.8676600000000008,11.585599999999999,12.2705,16.423999999999999,13.302,5.7439799999999996,7.2105499999999996,12.895799999999999,null,null,null,null,12.895799999999999,11.898999999999999]
["2014-06-03",12.6227,10.3263,10.7006,10.9131,15.421200000000001,12.402100000000001,13.79,9.3375500000000002,13.4176,12.6532,14.41,9.2648700000000002,12.020099999999999,13.3088,8.6130899999999997,19.214500000000001,11.126799999999999,6.3911100000000003,4.8416600000000001,16.320599999999999,null,null,null,null,16.320599999999999,12.0931]
["2014-06-04",15.795199999999999,10.103999999999999,11.9465,11.8697,9.9144699999999997,15.0078,12.5808,12.1999,14.932,14.922499999999999,14.527200000000001,10.081,12.9329,14.2446,11.035600000000001,20.369199999999999,8.7790900000000001,5.0828699999999998,5.0334300000000001,17.158000000000001,null,null,null,null,17.158000000000001,12.2845]
["2014-06-05",13.661,12.631399999999999,16.2209,11.9306,10.0968,11.9826,10.6891,12.508699999999999,16.434100000000001,15.6875,14.4376,11.5457,12.6693,14.4488,12.223599999999999,19.805199999999999,6.6050399999999998,8.7437799999999992,9.0158699999999996,17.886600000000001,null,null,null,null,17.886600000000001,12.4733]
["2014-06-06",11.7341,12.4664,19.1296,15.0509,12.005599999999999,15.1533,10.1595,12.524100000000001,17.968699999999998,12.802300000000001,15.179,13.573,13.241,13.681800000000001,13.1266,17.025700000000001,6.1233500000000003,11.411899999999999,11.1081,17.773199999999999,null,null,null,null,17.773199999999999,12.659000000000001]
["2014-06-07",11.4581,9.7043800000000005,16.678000000000001,17.285799999999998,12.911,13.8866,12.936400000000001,13.7529,15.962,12.5932,13.246600000000001,15.613799999999999,15.081200000000001,14.359299999999999,14.3148,16.9846,7.8089599999999999,14.1381,12.3782,16.395299999999999,null,null,null,null,16.395299999999999,12.8392]
["2014-06-08",11.964600000000001,7.7853700000000003,15.6394,19.247699999999998,13.6914,12.4108,16.392900000000001,10.329800000000001,17.032,13.8188,14.0419,15.606199999999999,16.978400000000001,15.77,15.81,15.9445,12.266999999999999,12.264900000000001,12.997400000000001,8.7858099999999997,null,null,null,null,8.7858099999999997,13.009]
["2014-06-09",12.8591,9.1194299999999995,15.6412,11.748799999999999,14.549099999999999,12.5929,16.494499999999999,13.089,17.338100000000001,15.5946,13.274800000000001,14.336399999999999,15.9459,16.4636,15.438000000000001,17.2178,13.3142,14.6351,16.0853,6.6031899999999997,null,null,null,null,6.6031899999999997,13.166600000000001]
["2014-06-10",15.3832,8.8181100000000008,10.5687,8.1540499999999998,15.808199999999999,12.7445,18.313800000000001,10.902100000000001,16.341899999999999,14.7759,16.1813,15.684799999999999,15.6965,15.195399999999999,17.399000000000001,18.019100000000002,11.506600000000001,11.992699999999999,12.785299999999999,9.19834,null,null,null,null,9.19834,13.3139]
["2014-06-11",13.907500000000001,11.418200000000001,9.84741,9.5343099999999996,16.0685,14.558400000000001,18.113900000000001,12.9564,17.124500000000001,13.6252,13.1015,15.411199999999999,15.6869,9.51938,18.966000000000001,18.332100000000001,10.9808,12.8827,7.22654,12.1158,null,null,null,null,12.1158,13.4526]
["2014-06-12",16.481999999999999,12.966799999999999,8.1080000000000005,10.9964,17.497,12.4993,11.699400000000001,14.214399999999999,17.773700000000002,11.4831,15.303800000000001,16.291599999999999,14.107200000000001,9.7536000000000005,19.1981,16.7865,13.2927,14.614000000000001,8.1205599999999993,7.9252200000000004,null,null,null,null,7.9252200000000004,13.5862]
["2014-06-13",17.952300000000001,14.952,8.5281500000000001,12.1046,15.6861,12.738899999999999,14.341699999999999,14.4587,18.4726,10.7851,12.967499999999999,18.6023,12.6416,10.826499999999999,19.028600000000001,14.880100000000001,14.355600000000001,13.5604,10.443899999999999,6.3938699999999997,null,null,null,null,6.3938699999999997,13.7158]
["2014-06-14",17.026599999999998,13.1904,8.2290299999999998,13.162000000000001,11.7821,13.9884,16.273399999999999,16.2363,18.481400000000001,9.7339500000000001,9.1483699999999999,17.872699999999998,11.814,11.472200000000001,19.153099999999998,11.3118,14.244899999999999,12.984299999999999,13.383699999999999,5.9462400000000004,null,null,null,null,5.9462400000000004,13.8438]
["2014-06-15",18.8538,13.8179,11.353199999999999,13.263999999999999,12.2805,11.8276,18.199400000000001,17.391400000000001,15.466799999999999,10.0533,10.0336,18.665800000000001,12.053599999999999,13.9191,19.192499999999999,12.8756,15.0251,14.553800000000001,12.033099999999999,7.0474100000000002,null,null,null,null,7.0474100000000002,13.9687]
["2014-06-16",17.734000000000002,15.661199999999999,13.7776,16.022200000000002,15.4964,11.719200000000001,17.724299999999999,17.066700000000001,14.693,11.582100000000001,10.5307,16.9358,13.2027,14.065099999999999,17.459,13.3035,17.019400000000001,14.0556,13.115600000000001,10.5975,null,null,null,null,10.5975,14.092700000000001]
["2014-06-17",14.853199999999999,16.7941,14.8432,14.781700000000001,18.006799999999998,14.276,16.109500000000001,17.235099999999999,15.7941,13.6897,11.386200000000001,14.6409,15.751799999999999,14.2735,17.471399999999999,14.0542,17.6721,13.2523,12.9086,11.11,null,null,null,null,11.11,14.2204]
["2014-06-18",13.0404,16.818000000000001,16.592300000000002,16.264900000000001,16.668900000000001,16.533999999999999,15.542199999999999,18.397099999999998,12.9519,16.4724,12.7456,17.771799999999999,14.6806,15.2773,15.788600000000001,14.4573,18.0366,12.5624,16.427299999999999,12.1723,null,null,null,null,12.1723,14.354100000000001]
["2014-06-19",10.6358,12.866899999999999,13.139799999999999,13.200699999999999,19.165500000000002,17.956,16.924299999999999,13.9002,12.8659,17.302499999999998,13.2608,19.604199999999999,16.252600000000001,16.422000000000001,16.420300000000001,14.8103,16.9373,15.0695,16.011399999999998,16.9633,null,null,null,null,16.9633,14.490399999999999]
["2014-06-20",10.222,16.735299999999999,8.1601099999999995,11.8391,18.9314,20.633700000000001,17.765499999999999,13.927899999999999,14.722300000000001,15.2765,13.754099999999999,18.6251,15.7416,13.4215,12.5006,13.543900000000001,15.0487,16.312100000000001,15.807399999999999,17.070399999999999,null,null,null,null,17.070399999999999,14.6286]
["2014-06-21",13.063700000000001,16.3919,8.1551399999999994,7.5011299999999999,18.895299999999999,19.712599999999998,19.306000000000001,13.8689,16.090199999999999,10.739100000000001,17.148299999999999,18.669,18.982500000000002,10.9146,13.112299999999999,12.9047,15.272500000000001,18.404599999999999,17.999099999999999,16.5092,null,null,null,null,16.5092,14.767899999999999]
["2014-06-22",17.377099999999999,17.4741,10.8232,8.6453199999999999,18.228100000000001,16.820499999999999,20.827300000000001,15.560499999999999,18.092700000000001,13.4253,18.9221,19.7118,16.778199999999998,11.701700000000001,12.904999999999999,13.3209,13.739599999999999,16.857399999999998,14.7104,14.541399999999999,null,null,null,null,14.541399999999999,14.907400000000001]
["2014-06-23",17.2379,16.7773,14.057,7.9732599999999998,18.8765,15.4832,21.462399999999999,14.6858,15.7065,13.735900000000001,17.326000000000001,18.9877,11.8817,12.8733,15.331200000000001,13.587400000000001,11.419,16.6981,14.565200000000001,16.933800000000002,null,null,null,null,16.933800000000002,15.0444]
["2014-06-24",14.1183,16.0943,15.282299999999999,6.7454599999999996,18.057600000000001,16.681899999999999,17.4666,15.0151,14.896599999999999,13.3225,17.731400000000001,16.141400000000001,8.2095500000000001,14.638500000000001,15.497199999999999,14.6281,13.621499999999999,15.4217,15.1899,13.1473,null,null,null,null,13.1473,15.179399999999999]
["2014-06-25",12.975199999999999,16.217700000000001,17.900099999999998,8.4973399999999994,16.961300000000001,16.777799999999999,17.2685,14.5351,14.826499999999999,12.169600000000001,19.332599999999999,18.246400000000001,8.8529900000000001,14.357100000000001,16.5641,16.888999999999999,13.682700000000001,11.257999999999999,12.497400000000001,10.8222,null,null,null,null,10.8222,15.3117]
["2014-06-26",15.026899999999999,16.454599999999999,19.110700000000001,11.721299999999999,17.0593,18.1342,19.178999999999998,17.254799999999999,15.9177,12.799200000000001,19.397400000000001,19.388300000000001,12.0038,15.7547,13.3408,17.557200000000002,12.165699999999999,9.9729899999999994,9.3776499999999992,13.4666,null,null,null,null,13.4666,15.440200000000001]
["2014-06-27",17.067299999999999,16.087299999999999,20.082899999999999,13.100099999999999,16.833600000000001,19.156199999999998,17.408999999999999,17.715499999999999,15.6023,13.7453,16.924800000000001,20.768699999999999,14.7563,16.639600000000002,10.808400000000001,19.1417,9.5176599999999993,12.059699999999999,11.5154,14.713699999999999,null,null,null,null,14.713699999999999,15.565899999999999]
["2014-06-28",18.034800000000001,15.8764,18.556799999999999,16.0823,15.371,18.703900000000001,16.848800000000001,18.9572,16.440999999999999,15.850099999999999,14.651999999999999,22.309799999999999,17.682600000000001,16.623000000000001,11.66,19.807300000000001,11.061,16.250800000000002,14.671200000000001,15.325200000000001,null,null,null,null,15.325200000000001,15.693899999999999]
["2014-06-29",18.828399999999998,15.331300000000001,18.145199999999999,17.052700000000002,11.023899999999999,18.843,15.494400000000001,14.2982,13.563599999999999,13.928599999999999,18.514199999999999,22.865400000000001,17.532299999999999,18.1723,14.1546,19.254799999999999,12.4438,16.772500000000001,14.8635,18.315999999999999,null,null,null,null,18.315999999999999,15.8232]
["2014-06-30",17.5291,18.432600000000001,17.0596,17.986799999999999,10.827299999999999,16.2727,13.202400000000001,15.829800000000001,11.4528,14.085900000000001,16.188199999999998,21.676300000000001,17.0063,19.631499999999999,15.571899999999999,17.979299999999999,13.859400000000001,17.884399999999999,18.460599999999999,18.4742,null,null,null,null,18.4742,15.9513]
["2014-07-01",12.376899999999999,18.495000000000001,14.1539,18.8645,13.8139,11.796900000000001,15.7889,16.059799999999999,12.0335,15.0016,15.815899999999999,20.897200000000002,18.536000000000001,19.645199999999999,18.249199999999998,17.462399999999999,14.774900000000001,18.050999999999998,18.2377,19.010100000000001,null,null,null,null,19.010100000000001,16.076599999999999]
["2014-07-02",15.4709,19.254200000000001,14.4649,19.110800000000001,14.802,15.153499999999999,18.287199999999999,17.5212,14.780200000000001,16.298100000000002,17.160699999999999,21.817399999999999,18.499199999999998,17.454000000000001,20.765899999999998,18.864599999999999,15.2803,17.4573,17.0243,19.792300000000001,null,null,null,null,19.792300000000001,16.1998]
["2014-07-03",17.659600000000001,18.581399999999999,16.0152,18.971,16.226700000000001,16.448799999999999,17.671500000000002,18.5168,17.787600000000001,18.360199999999999,16.067599999999999,20.906600000000001,19.5566,19.540500000000002,18.895299999999999,19.661899999999999,13.6326,15.8842,16.149799999999999,18.506499999999999,null,null,null,null,18.506499999999999,16.3218]
["2014-07-04",14.0924,18.897200000000002,18.890799999999999,19.3262,15.9732,15.8634,18.1248,18.216899999999999,18.961300000000001,19.6129,16.568300000000001,20.944800000000001,18.400200000000002,18.88,20.497599999999998,16.9862,12.666700000000001,11.111599999999999,17.9237,12.1373,null,null,null,null,12.1373,16.443300000000001]
["2014-07-05",14.757999999999999,18.1051,18.179400000000001,17.8247,17.572199999999999,14.670400000000001,15.2752,19.228899999999999,18.1767,21.368099999999998,17.397500000000001,20.058599999999998,16.651299999999999,18.938600000000001,20.850100000000001,15.998100000000001,13.2896,14.391299999999999,18.5108,8.1126100000000001,null,null,null,null,8.1126100000000001,16.562999999999999]
["2014-07-06",15.9414,18.485600000000002,13.167999999999999,17.304200000000002,16.302700000000002,15.553599999999999,12.7011,17.056699999999999,16.092700000000001,22.4344,17.507000000000001,18.088799999999999,17.163399999999999,18.443100000000001,21.237500000000001,15.3561,16.387499999999999,16.2514,18.669599999999999,9.9365799999999993,null,null,null,null,9.9365799999999993,16.677600000000002]
["2014-07-07",18.3292,18.8476,13.9872,17.236599999999999,17.6191,16.7667,12.7332,17.933,16.569700000000001,21.2637,19.391300000000001,18.359300000000001,20.367599999999999,17.683800000000002,19.342199999999998,18.992799999999999,12.343500000000001,16.026700000000002,20.560300000000002,10.6561,null,null,null,null,10.6561,16.783799999999999]
["2014-07-08",17.8889,18.851700000000001,13.682399999999999,16.214700000000001,17.442900000000002,19.034400000000002,14.0085,19.4923,16.2879,21.4681,16.9984,17.047499999999999,19.578800000000001,17.213000000000001,21.712700000000002,18.418099999999999,11.4544,17.176200000000001,19.993099999999998,15.140499999999999,null,null,null,null,15.140499999999999,16.884]
["2014-07-09",17.699000000000002,16.884699999999999,17.6309,15.3796,17.5685,17.1084,15.790699999999999,20.058199999999999,14.024900000000001,19.223500000000001,17.124099999999999,18.821100000000001,19.9116,16.089700000000001,21.5319,19.327300000000001,13.3164,17.4224,21.7775,16.622299999999999,null,null,null,null,16.622299999999999,16.982399999999998]
["2014-07-10",17.650400000000001,16.901199999999999,18.885000000000002,14.8101,15.2149,15.903600000000001,16.514900000000001,19.501100000000001,12.5177,19.2715,11.166399999999999,17.801600000000001,19.341899999999999,16.380600000000001,19.631900000000002,17.158999999999999,15.713699999999999,16.299700000000001,23.0837,18.6844,null,null,null,null,18.6844,17.081399999999999]
["2014-07-11",18.483499999999999,19.424399999999999,20.6829,13.2555,18.1675,12.9755,15.7216,21.5762,12.197800000000001,17.565799999999999,12.715999999999999,18.568999999999999,20.846299999999999,16.7422,19.745200000000001,18.859200000000001,19.393899999999999,15.9594,22.558599999999998,17.772600000000001,null,null,null,null,17.772600000000001,17.1814]
["2014-07-12",19.901800000000001,21.3443,21.6159,13.9072,18.7117,14.1775,17.7227,18.940000000000001,12.237399999999999,17.371400000000001,16.483699999999999,13.274900000000001,20.189,14.125400000000001,19.339200000000002,15.9893,19.594100000000001,17.234400000000001,21.082699999999999,17.992799999999999,null,null,null,null,17.992799999999999,17.282499999999999]
["2014-07-13",20.787700000000001,20.042300000000001,21.407399999999999,19.161000000000001,14.032,16.194400000000002,18.5106,20.628699999999998,14.504300000000001,16.768699999999999,15.2964,14.9247,20.253499999999999,12.136699999999999,18.6585,18.619800000000001,17.6676,18.831199999999999,21.5123,19.0579,null,null,null,null,19.0579,17.384399999999999]
["2014-07-14",20.164100000000001,22.199100000000001,20.7944,20.645399999999999,12.0108,16.9742,19.331399999999999,20.069500000000001,15.851000000000001,19.1828,16.7361,17.302199999999999,16.436499999999999,12.874000000000001,18.874500000000001,19.610700000000001,21.2,19.026499999999999,21.825199999999999,20.531400000000001,null,null,null,null,20.531400000000001,17.488600000000002]
["2014-07-15",23.1617,19.623000000000001,20.3888,18.013400000000001,12.654500000000001,18.639800000000001,18.398499999999999,18.665600000000001,17.823499999999999,18.9879,17.6357,18.5871,15.6313,14.5692,19.982099999999999,20.270700000000001,13.163,17.214600000000001,22.334299999999999,18.006799999999998,null,null,null,null,18.006799999999998,17.598600000000001]
["2014-07-16",23.653400000000001,19.5322,17.985399999999998,18.555099999999999,13.448700000000001,20.693899999999999,19.811599999999999,19.4054,18.690999999999999,17.846299999999999,14.031700000000001,20.781199999999998,17.709800000000001,16.8339,19.258400000000002,21.434100000000001,12.151,17.323399999999999,20.617599999999999,15.8688,null,null,null,null,15.8688,17.7163]
["2014-07-17",18.803100000000001,18.87,18.146999999999998,17.444299999999998,14.8401,21.1738,20.2363,18.462499999999999,16.718599999999999,15.0992,13.494400000000001,20.989599999999999,18.623999999999999,17.3536,18.637,20.9648,15.3003,18.546099999999999,15.0954,16.312000000000001,null,null,null,null,16.312000000000001,17.840399999999999]
["2014-07-18",16.165800000000001,14.478300000000001,18.843900000000001,20.038799999999998,16.764099999999999,19.1203,19.741900000000001,17.3477,17.441299999999998,15.3886,15.663600000000001,21.043299999999999,19.6295,18.485299999999999,18.422799999999999,20.450500000000002,18.0367,17.6981,15.8803,17.404699999999998,null,null,null,null,17.404699999999998,17.9693]
["2014-07-19",19.416899999999998,15.358499999999999,19.1403,21.984300000000001,15.5534,19.778400000000001,17.485900000000001,18.2775,17.779,16.7059,12.8535,20.572399999999998,18.806699999999999,13.051299999999999,17.902100000000001,20.422499999999999,19.874400000000001,16.436699999999998,18.7621,19.485299999999999,null,null,null,null,19.485299999999999,18.102799999999998]
["2014-07-20",19.929500000000001,18.511199999999999,17.885400000000001,19.463699999999999,16.325399999999998,19.948499999999999,16.604500000000002,17.448799999999999,18.221299999999999,16.896599999999999,12.5709,20.458100000000002,13.635899999999999,14.2029,18.338999999999999,19.503799999999998,19.284800000000001,17.231400000000001,19.446300000000001,21.635999999999999,null,null,null,null,21.635999999999999,18.241700000000002]
["2014-07-21",19.957000000000001,18.402100000000001,19.8184,19.710899999999999,15.808,16.893599999999999,18.350899999999999,16.941700000000001,19.6447,17.593399999999999,14.1409,21.1191,14.7014,15.6479,19.110700000000001,19.488800000000001,19.949400000000001,18.4147,23.753,20.1218,null,null,null,null,20.1218,18.382999999999999]
["2014-07-22",20.8689,22.924399999999999,21.5764,17.482099999999999,15.4903,16.255600000000001,18.668199999999999,16.289899999999999,20.721699999999998,17.5413,13.451599999999999,20.216100000000001,17.299700000000001,16.8155,19.872499999999999,20.5428,19.868400000000001,18.668500000000002,20.971599999999999,18.0075,null,null,null,null,18.0075,18.526299999999999]
["2014-07-23",22.024100000000001,21.759,19.866599999999998,15.1295,16.9499,21.009699999999999,17.0139,17.0519,18.609000000000002,18.310600000000001,16.5366,19.0657,17.314699999999998,18.208200000000001,21.611499999999999,20.475899999999999,21.8781,19.489100000000001,19.203399999999998,17.013999999999999,null,null,null,null,17.013999999999999,18.6692]
["2014-07-24",21.356100000000001,22.914899999999999,19.703700000000001,15.9254,15.575200000000001,25.079599999999999,18.966799999999999,18.229700000000001,17.610299999999999,19.706399999999999,20.0517,18.7759,19.4621,19.3202,22.313700000000001,21.4191,21.209900000000001,20.202100000000002,17.9345,18.2425,null,null,null,null,18.2425,18.808700000000002]
["2014-07-25",20.265699999999999,20.439,18.490600000000001,18.7624,14.969099999999999,21.395800000000001,19.159300000000002,17.378699999999998,18.047000000000001,17.8812,19.148499999999999,18.6465,19.0824,20.048400000000001,18.661000000000001,20.1799,21.2606,19.056100000000001,17.652899999999999,20.511500000000002,null,null,null,null,20.511500000000002,18.942299999999999]
["2014-07-26",20.363399999999999,20.693899999999999,18.239999999999998,19.8706,15.3956,22.3125,20.877700000000001,17.8779,18.3216,16.177299999999999,19.558499999999999,18.2349,19.350100000000001,22.1996,19.2363,17.261199999999999,21.4344,19.8568,17.09,22.965499999999999,null,null,null,null,22.965499999999999,19.069900000000001]
["2014-07-27",22.1432,20.594999999999999,18.092700000000001,16.439699999999998,13.2628,19.788599999999999,16.9709,18.9436,18.6617,17.171900000000001,18.119599999999998,20.724,19.612400000000001,22.865200000000002,19.619399999999999,15.382199999999999,21.959099999999999,17.901599999999998,16.8477,22.9405,null,null,null,null,22.9405,19.189399999999999]
["2014-07-28",22.8415,21.027699999999999,17.663900000000002,17.272600000000001,14.834,20.459900000000001,17.239699999999999,19.1754,16.376100000000001,19.450399999999998,18.627400000000002,22.251300000000001,21.474399999999999,22.5579,20.804400000000001,17.2286,22.796600000000002,19.947500000000002,16.996200000000002,23.477799999999998,null,null,null,null,23.477799999999998,19.298100000000002]
["2014-07-29",16.119800000000001,20.3474,17.736499999999999,19.6844,15.5685,22.870899999999999,16.985199999999999,19.645099999999999,13.941800000000001,19.598400000000002,19.216699999999999,20.035900000000002,21.854399999999998,20.967700000000001,21.408999999999999,18.5444,22.264500000000002,21.802600000000002,17.398599999999998,25.476900000000001,null,null,null,null,25.476900000000001,19.3935]
["2014-07-30",18.420400000000001,23.097799999999999,16.317499999999999,20.8323,13.982799999999999,24.157299999999999,21.801600000000001,19.628699999999998,16.037199999999999,20.1206,18.709199999999999,20.632100000000001,17.780899999999999,22.185300000000002,21.223400000000002,19.397600000000001,20.996200000000002,22.468599999999999,18.853100000000001,24.544699999999999,null,null,null,null,24.544699999999999,19.476700000000001]
["2014-07-31",22.432700000000001,24.785299999999999,17.593499999999999,20.5778,15.0868,24.8432,21.5304,18.988199999999999,17.577999999999999,19.0259,19.138300000000001,21.819199999999999,18.2651,21.105499999999999,21.1236,19.087900000000001,20.807600000000001,23.186,19.1616,24.793600000000001,null,null,null,null,24.793600000000001,19.546199999999999]
["2014-08-01",22.9131,25.278099999999998,16.4818,20.033899999999999,16.933399999999999,23.66,23.141500000000001,20.210899999999999,18.471900000000002,21.3231,19.7575,20.2193,18.798400000000001,18.567299999999999,17.508199999999999,21.874700000000001,20.2409,21.7363,19.439,20.997900000000001,null,null,null,null,20.997900000000001,19.6023]
["2014-08-02",20.6816,22.139399999999998,17.277100000000001,16.8904,18.196200000000001,22.538499999999999,22.965900000000001,20.098500000000001,20.225899999999999,19.845700000000001,17.271999999999998,19.725999999999999,18.803899999999999,16.501999999999999,16.313500000000001,20.833400000000001,19.163900000000002,22.017299999999999,18.9648,19.343,null,null,null,null,19.343,19.646000000000001]
["2014-08-03",23.694099999999999,20.561800000000002,15.439299999999999,15.6938,18.515000000000001,22.754799999999999,22.495999999999999,22.094799999999999,19.5608,19.932300000000001,17.7179,19.627700000000001,19.335599999999999,18.074200000000001,16.930599999999998,21.536799999999999,20.076599999999999,22.479600000000001,19.137,17.979299999999999,null,null,null,null,17.979299999999999,19.6769]
["2014-08-04",24.617999999999999,21.602900000000002,15.839600000000001,19.9726,20.0185,22.690200000000001,23.7151,19.968299999999999,19.549199999999999,18.772600000000001,18.913399999999999,20.020700000000001,20.9483,18.985499999999998,18.658200000000001,23.325099999999999,23.362500000000001,20.7287,19.374099999999999,16.434100000000001,null,null,null,null,16.434100000000001,19.692499999999999]
["2014-08-05",23.865100000000002,20.3688,15.745100000000001,20.782800000000002,20.438400000000001,23.218800000000002,22.6113,20.814599999999999,19.1083,19.0288,20.007899999999999,21.832699999999999,22.025400000000001,18.434699999999999,20.426200000000001,21.6126,21.8613,19.016500000000001,19.508299999999998,16.1388,null,null,null,null,16.1388,19.692799999999998]
["2014-08-06",21.0471,22.008400000000002,16.511299999999999,18.774999999999999,19.601900000000001,23.753599999999999,21.623100000000001,22.363099999999999,19.478999999999999,19.6355,20.019500000000001,26.3903,23.2211,16.889900000000001,22.832999999999998,20.656099999999999,20.835599999999999,18.003799999999998,20.722000000000001,16.4816,null,null,null,null,16.4816,19.678899999999999]
["2014-08-07",23.4147,21.604399999999998,17.667100000000001,17.588899999999999,20.872299999999999,22.728100000000001,20.059100000000001,22.2026,21.857700000000001,19.9863,20.276299999999999,23.023499999999999,22.987400000000001,14.872,23.0794,19.4986,19.743500000000001,21.0185,19.533799999999999,16.908100000000001,null,null,null,null,16.908100000000001,19.6524]
["2014-08-08",24.8216,21.9924,17.511600000000001,13.056900000000001,19.906400000000001,23.9923,19.987400000000001,23.5321,22.047000000000001,18.285599999999999,20.411200000000001,22.7151,22.4178,16.087499999999999,22.398900000000001,19.3049,20.426300000000001,22.899899999999999,18.162199999999999,18.359500000000001,null,null,null,null,18.359500000000001,19.613900000000001]
["2014-08-09",24.790700000000001,20.817699999999999,17.6877,13.962400000000001,19.3369,22.483699999999999,19.790800000000001,23.689,22.0335,15.674200000000001,20.483499999999999,23.2058,22.685500000000001,19.515000000000001,20.937899999999999,19.1052,20.842500000000001,18.612100000000002,16.894400000000001,18.175999999999998,null,null,null,null,18.175999999999998,19.566099999999999]
["2014-08-10",24.100200000000001,21.146799999999999,19.023499999999999,14.5062,17.775500000000001,19.796399999999998,20.6996,23.534199999999998,21.11,15.418900000000001,21.307400000000001,23.522300000000001,23.771100000000001,21.365100000000002,20.4635,19.332599999999999,21.5259,17.0517,16.751100000000001,19.0352,null,null,null,null,19.0352,19.510000000000002]
["2014-08-11",23.630400000000002,19.883099999999999,17.7866,15.3802,19.2437,18.601099999999999,22.402100000000001,22.679200000000002,22.076599999999999,17.765499999999999,22.007000000000001,20.870799999999999,23.3416,20.0564,20.295100000000001,20.358599999999999,20.411000000000001,18.9115,16.750900000000001,17.909500000000001,null,null,null,null,17.909500000000001,19.444099999999999]
["2014-08-12",22.148399999999999,18.160699999999999,17.407,15.0655,19.008500000000002,18.938300000000002,22.428000000000001,22.322199999999999,23.658300000000001,20.106300000000001,20.0152,20.8935,19.798200000000001,20.543700000000001,20.625900000000001,20.726700000000001,19.392199999999999,19.383199999999999,14.4001,18.861999999999998,null,null,null,null,18.861999999999998,19.367899999999999]
["2014-08-13",21.582599999999999,18.896899999999999,18.010300000000001,15.081200000000001,17.167300000000001,15.7103,22.513300000000001,22.262699999999999,22.833400000000001,21.190999999999999,19.228000000000002,21.201000000000001,18.977699999999999,18.985600000000002,20.186900000000001,17.497699999999998,19.970700000000001,20.2577,15.336,19.773199999999999,null,null,null,null,19.773199999999999,19.284400000000002]
["2014-08-14",22.856200000000001,20.583200000000001,18.990200000000002,17.8169,16.810099999999998,16.704799999999999,22.397200000000002,21.639900000000001,23.688600000000001,20.399100000000001,18.8535,20.785,20.166699999999999,17.846699999999998,20.481000000000002,17.048400000000001,19.766300000000001,21.458200000000001,17.352599999999999,18.274100000000001,null,null,null,null,18.274100000000001,19.194900000000001]
["2014-08-15",21.300999999999998,20.454899999999999,20.588799999999999,17.295000000000002,18.534400000000002,14.670199999999999,21.322900000000001,22.535399999999999,23.7944,18.8443,18.790400000000002,20.415500000000002,20.000599999999999,17.331399999999999,23.517399999999999,16.623999999999999,19.738,21.2529,17.705500000000001,16.316700000000001,null,null,null,null,16.316700000000001,19.100000000000001]
["2014-08-16",22.6812,22.397200000000002,21.555299999999999,17.744,18.399899999999999,14.1389,18.349399999999999,22.492100000000001,16.222100000000001,16.204899999999999,19.095099999999999,22.4192,17.954599999999999,19.1997,22.821899999999999,18.496300000000002,19.184200000000001,21.9376,16.791699999999999,12.9962,null,null,null,null,12.9962,18.999199999999998]
["2014-08-17",24.258299999999998,21.397400000000001,18.985700000000001,16.535799999999998,18.410299999999999,14.641500000000001,19.819099999999999,24.0928,16.126100000000001,14.201499999999999,17.249700000000001,20.072600000000001,18.371700000000001,18.4907,22.491800000000001,19.137899999999998,17.840399999999999,19.5853,17.436699999999998,11.999499999999999,null,null,null,null,11.999499999999999,18.892700000000001]
["2014-08-18",18.018899999999999,19.4375,16.0533,18.293399999999998,18.489000000000001,17.7212,21.583200000000001,21.139299999999999,17.180900000000001,15.9641,18.482199999999999,19.078499999999998,17.515599999999999,19.514299999999999,23.435500000000001,20.287299999999998,15.1767,21.1084,18.334900000000001,13.4595,null,null,null,null,13.4595,18.779800000000002]
["2014-08-19",20.428999999999998,20.033300000000001,17.280200000000001,17.247499999999999,17.7699,19.0472,21.138200000000001,19.484999999999999,17.8477,15.697699999999999,17.352,18.980499999999999,18.067299999999999,21.365300000000001,22.210899999999999,18.469799999999999,14.6815,20.486599999999999,18.580100000000002,15.205299999999999,null,null,null,null,15.205299999999999,18.6617]
["2014-08-20",22.6112,19.759399999999999,16.973299999999998,14.4412,17.9221,13.556100000000001,18.2089,20.7714,20.726199999999999,13.898999999999999,19.208400000000001,20.2608,17.014700000000001,22.177700000000002,19.855599999999999,18.6523,15.9217,19.787500000000001,17.9253,19.606200000000001,null,null,null,null,19.606200000000001,18.543199999999999]
["2014-08-21",22.663699999999999,21.782,17.989699999999999,11.7651,19.6523,11.4437,17.254799999999999,24.4,21.334700000000002,12.149900000000001,20.366900000000001,21.2911,17.864799999999999,24.0274,19.014900000000001,19.195799999999998,17.555599999999998,21.37,19.825700000000001,18.724,null,null,null,null,18.724,18.427900000000001]
["2014-08-22",22.415299999999998,22.040700000000001,18.2837,12.3935,20.2257,14.552099999999999,17.473299999999998,21.816099999999999,19.223800000000001,11.46,18.644300000000001,21.652899999999999,18.279599999999999,24.0839,19.163900000000002,20.023499999999999,16.862100000000002,21.053599999999999,18.691299999999998,21.953199999999999,null,null,null,null,21.953199999999999,18.315300000000001]
["2014-08-23",20.1906,22.309699999999999,19.842199999999998,14.3835,18.043600000000001,15.753299999999999,16.0793,21.054600000000001,17.07,12.7957,15.9375,18.494800000000001,16.8672,19.976199999999999,19.008500000000002,20.470199999999998,15.1304,19.715499999999999,20.853000000000002,19.098199999999999,null,null,null,null,19.098199999999999,18.2042]
["2014-08-24",17.39,22.044499999999999,20.474299999999999,15.509499999999999,15.444599999999999,17.6249,15.842000000000001,19.617699999999999,16.3691,11.9023,15.004300000000001,19.810400000000001,18.3413,19,18.3934,18.564,13.904299999999999,18.9191,19.835599999999999,17.768000000000001,null,null,null,null,17.768000000000001,18.093599999999999]
["2014-08-25",17.426500000000001,21.421299999999999,20.377700000000001,16.060500000000001,16.479399999999998,13.8203,15.382,18.634,18.888400000000001,15.9788,14.9312,19.543700000000001,17.451799999999999,21.404800000000002,17.550999999999998,14.0373,13.3047,20.564299999999999,18.966699999999999,15.461499999999999,null,null,null,null,15.461499999999999,17.984100000000002]
["2014-08-26",17.698499999999999,19.121600000000001,20.585899999999999,15.7637,16.9664,13.299300000000001,15.409000000000001,18.842099999999999,19.9315,18.191500000000001,15.012499999999999,17.5504,17.167400000000001,21.4818,16.887899999999998,12.7037,13.927,16.806100000000001,17.289000000000001,16.761099999999999,null,null,null,null,16.761099999999999,17.8752]
["2014-08-27",18.4575,18.429200000000002,15.4009,18.341999999999999,15.8314,14.1126,19.241700000000002,19.327200000000001,17.849399999999999,15.557700000000001,17.3399,16.831800000000001,18.044699999999999,21.255299999999998,17.4892,13.183199999999999,15.935700000000001,14.1244,16.911100000000001,15.494300000000001,null,null,null,null,15.494300000000001,17.764800000000001]
["2014-08-28",19.345099999999999,17.772600000000001,13.035399999999999,21.616099999999999,16.154900000000001,13.283899999999999,18.772099999999998,19.367799999999999,17.190899999999999,18.995699999999999,18.945799999999998,19.335599999999999,19.482399999999998,20.971499999999999,15.1944,14.8261,15.2689,14.641999999999999,15.7674,14.8443,null,null,null,null,14.8443,17.648800000000001]
["2014-08-29",16.175999999999998,18.351800000000001,15.585100000000001,18.6371,16.7803,14.6305,17.868099999999998,21.049399999999999,17.4755,19.625599999999999,16.119700000000002,19.454599999999999,19.108799999999999,23.157900000000001,15.620699999999999,16.141200000000001,15.606299999999999,21.072299999999998,14.9716,15.7226,null,null,null,null,15.7226,17.521599999999999]
["2014-08-30",17.784099999999999,19.095700000000001,17.308399999999999,17.7773,15.181699999999999,15.256,20.004899999999999,19.348199999999999,16.759399999999999,19.2942,13.528499999999999,24.245699999999999,19.445,23.374199999999998,14.484400000000001,16.474,16.7818,22.523900000000001,13.113300000000001,15.4133,null,null,null,null,15.4133,17.379799999999999]
["2014-08-31",17.136099999999999,19.552099999999999,17.331900000000001,18.836500000000001,17.852799999999998,18.096699999999998,18.8216,17.6434,15.0189,17.304500000000001,14.2758,24.049099999999999,20.332899999999999,20.7104,13.909800000000001,16.051100000000002,18.4468,22.136900000000001,13.676299999999999,18.320699999999999,null,null,null,null,18.320699999999999,17.224699999999999]
["2014-09-01",18.420400000000001,19.861499999999999,16.854900000000001,19.84,17.8203,19.203199999999999,19.324999999999999,16.791499999999999,15.7812,19.5913,13.3893,23.110900000000001,22.145299999999999,18.713799999999999,15.757899999999999,16.0989,17.931799999999999,21.2105,14.1416,14.8142,null,null,null,null,14.8142,17.058499999999999]
["2014-09-02",14.651199999999999,17.037800000000001,13.4742,23.2121,17.271899999999999,18.6755,19.965399999999999,16.3001,17.0213,20.761800000000001,13.6229,21.186599999999999,19.269200000000001,21.6037,17.336500000000001,16.948599999999999,16.264700000000001,20.938300000000002,12.6754,12.868499999999999,null,null,null,null,12.868499999999999,16.882400000000001]
["2014-09-03",16.788399999999999,15.752000000000001,12.0489,19.366199999999999,17.4847,16.597200000000001,14.159000000000001,17.2379,15.3657,19.670000000000002,15.430999999999999,18.5486,20.3,21.928799999999999,17.397200000000002,16.5349,18.1006,20.2424,10.621499999999999,15.820399999999999,null,null,null,null,15.820399999999999,16.695]
["2014-09-04",19.9619,16.427299999999999,13.635400000000001,14.529400000000001,15.547700000000001,15.327299999999999,11.9785,17.991199999999999,18.618400000000001,19.027200000000001,13.353199999999999,19.123000000000001,18.811199999999999,21.109500000000001,16.8872,14.944699999999999,16.355699999999999,20,13.2087,19.632999999999999,null,null,null,null,19.632999999999999,16.495699999999999]
["2014-09-05",20.8186,16.4421,15.018800000000001,13.840999999999999,13.22,14.752000000000001,12.824,13.8752,16.877800000000001,18.968599999999999,16.6374,19.839300000000001,19.2193,21.514900000000001,16.7363,18.071000000000002,12.2379,21.2364,16.918700000000001,20.893999999999998,null,null,null,null,20.893999999999998,16.2866]
["2014-09-06",21.229399999999998,15.046799999999999,13.604100000000001,14.4778,13.573600000000001,15.350899999999999,13.5251,13.676600000000001,15.5703,20.610399999999998,17.842099999999999,22.093699999999998,18.402100000000001,20.214200000000002,14.1343,16.902100000000001,11.851900000000001,20.0212,15.765499999999999,19.907399999999999,null,null,null,null,19.907399999999999,16.071400000000001]
["2014-09-07",19.488,17.487500000000001,14.1662,15.314399999999999,13.699299999999999,16.860399999999998,15.0649,15.118399999999999,15.4026,18.9877,16.992599999999999,18.431899999999999,16.6021,19.094899999999999,14.2972,15.7011,13.16,17.287299999999998,17.2285,18.636800000000001,null,null,null,null,18.636800000000001,15.854200000000001]
["2014-09-08",20.629200000000001,15.6615,15.615600000000001,16.1418,13.460599999999999,17.690899999999999,16.893999999999998,17.207899999999999,15.281499999999999,16.938800000000001,13.9352,14.2791,18.518999999999998,17.889800000000001,16.539200000000001,15.444900000000001,13.569900000000001,13.9773,16.328299999999999,17.035299999999999,null,null,null,null,17.035299999999999,15.6357]
["2014-09-09",20.832699999999999,14.5046,16.336500000000001,16.182200000000002,15.1876,15.5106,17.462,18.3492,17.154699999999998,15.2285,12.345800000000001,13.9383,17.1158,17.241099999999999,15.0708,16.5444,14.711,14.897500000000001,15.9535,14.1433,null,null,null,null,14.1433,15.414199999999999]
["2014-09-10",18.810700000000001,15.6485,16.6968,13.5341,15.41,12.066599999999999,16.1099,19.684799999999999,14.812900000000001,14.673299999999999,12.1396,17.689399999999999,15.6967,19.6417,15.1807,15.9452,15.738200000000001,14.2841,12.4681,10.553699999999999,null,null,null,null,10.553699999999999,15.1881]
["2014-09-11",20.394200000000001,16.714099999999998,13.370699999999999,16.714700000000001,18.5535,13.1577,17.7498,13.904199999999999,17.349499999999999,15.200699999999999,13.401199999999999,17.7986,13.776899999999999,19.1708,17.105599999999999,14.7331,16.8094,13.178699999999999,12.357900000000001,9.6161799999999999,null,null,null,null,9.6161799999999999,14.957599999999999]
["2014-09-12",19.377700000000001,16.467400000000001,13.022,12.7738,17.675999999999998,14.7013,19.550599999999999,12.209099999999999,16.831900000000001,15.3225,15.0669,16.8536,15.491400000000001,19.87,17.281400000000001,14.7781,15.7538,12.163399999999999,13.241099999999999,11.4025,null,null,null,null,11.4025,14.7255]
["2014-09-13",17.939800000000002,14.530099999999999,14.915699999999999,11.248200000000001,15.831300000000001,12.316700000000001,15.7067,11.829800000000001,17.495200000000001,17.587499999999999,13.5334,16.945699999999999,15.489699999999999,19.843399999999999,17.229399999999998,12.3323,13.0909,13.892300000000001,14.2363,14.1241,null,null,null,null,14.1241,14.4938]
["2014-09-14",16.432200000000002,14.394299999999999,16.487500000000001,11.1958,17.044899999999998,13.1868,9.5415399999999995,14.0099,18.242100000000001,14.712400000000001,14.407999999999999,16.520399999999999,16.532,20.732299999999999,18.36,11.059200000000001,12.422000000000001,15.459,13.7056,16.503399999999999,null,null,null,null,16.503399999999999,14.262499999999999]
["2014-09-15",13.7098,15.282500000000001,16.613600000000002,10.129,11.380699999999999,10.4274,12.822800000000001,14.092599999999999,15.882099999999999,12.6264,13.8155,17.639199999999999,18.1646,21.2803,18.334900000000001,12.357100000000001,11.9779,16.6404,11.2827,16.234100000000002,null,null,null,null,16.234100000000002,14.0289]
["2014-09-16",11.574299999999999,20.035,15.758900000000001,10.216100000000001,11.5825,12.412800000000001,16.705300000000001,15.0657,15.482200000000001,14.6236,14.080399999999999,17.002099999999999,19.2471,17.599399999999999,15.756399999999999,12.005000000000001,12.7218,16.5381,9.4870099999999997,16.715,null,null,null,null,16.715,13.7898]
["2014-09-17",11.4152,20.9573,15.597,11.362299999999999,16.1114,12.746499999999999,15.1937,14.6709,13.763500000000001,15.2423,12.6403,16.285699999999999,17.1571,18.1952,12.8085,9.5939300000000003,12.493499999999999,12.3849,12.123200000000001,16.543800000000001,null,null,null,null,16.543800000000001,13.5466]
["2014-09-18",10.498699999999999,18.252800000000001,14.1676,12.2898,16.688600000000001,17.2546,17.824400000000001,14.4108,13.8568,15.8813,12.5528,13.681900000000001,13.213699999999999,22.457999999999998,11.496,9.4656199999999995,12.3734,10.205399999999999,12.8,12.594799999999999,null,null,null,null,12.594799999999999,13.302]
["2014-09-19",11.339700000000001,15.680400000000001,11.9671,14.311400000000001,9.9466800000000006,16.488600000000002,16.900600000000001,16.069700000000001,14.872400000000001,14.1845,12.4772,13.944900000000001,10.1685,21.413399999999999,11.710900000000001,11.0243,13.524900000000001,9.5604800000000001,15.370799999999999,11.7049,null,null,null,null,11.7049,13.058]
["2014-09-20",9.0102399999999996,15.345000000000001,11.253,14.379799999999999,7.7136300000000002,14.952199999999999,12.5016,15.362399999999999,17.927199999999999,10.0411,8.0095700000000001,15.045,9.20045,17.5929,15.8102,11.433299999999999,14.735200000000001,9.5269499999999994,15.515000000000001,10.8207,null,null,null,null,10.8207,12.815200000000001]
["2014-09-21",8.2162900000000008,16.152100000000001,6.6746400000000001,9.8450000000000006,8.2708899999999996,12.958299999999999,10.4231,13.7136,19.558299999999999,12.373699999999999,7.8741199999999996,15.4793,10.585900000000001,14.9694,14.5062,11.345499999999999,15.6706,9.61388,12.4085,10.531000000000001,null,null,null,null,10.531000000000001,12.5724]
["2014-09-22",8.77102,12.508800000000001,6.4894800000000004,8.7925299999999993,9.0588899999999999,10.9373,9.7214799999999997,12.1854,13.402799999999999,15.6828,14.0032,10.8757,10.7987,15.176600000000001,10.3146,11.1911,15.2768,10.9275,12.4557,11.3398,null,null,null,null,11.3398,12.3279]
["2014-09-23",10.587199999999999,12.4887,10.908099999999999,8.1931899999999995,8.3570600000000006,14.6007,13.602399999999999,10.7506,8.0980000000000008,13.190799999999999,14.5291,8.7023399999999995,10.1655,14.6721,11.2363,12.172700000000001,14.8423,12.4543,13.7323,13.205,null,null,null,null,13.205,12.0824]
["2014-09-24",14.1797,13.925000000000001,13.600899999999999,7.8888299999999996,9.1373700000000007,12.2462,11.2332,11.816000000000001,9.4283000000000001,9.6362199999999998,13.650399999999999,7.2773000000000003,9.9293700000000005,14.3294,14.398899999999999,13.816800000000001,15.175700000000001,14.3528,13.9381,14.51,null,null,null,null,14.51,11.839399999999999]
["2014-09-25",16.572399999999998,12.9178,12.013999999999999,8.2640499999999992,10.812200000000001,13.327299999999999,10.1233,8.4946800000000007,10.180300000000001,9.6671800000000001,14.135,6.4004300000000001,11.1127,11.9604,9.7282600000000006,13.802199999999999,13.4963,16.018599999999999,12.4656,12.4833,null,null,null,null,12.4833,11.603400000000001]
["2014-09-26",13.624700000000001,12.4862,10.523999999999999,9.2806999999999995,14.3283,11.703900000000001,9.2960700000000003,10.287800000000001,7.5487599999999997,9.0336599999999994,11.536,7.5811599999999997,12.4902,13.5016,6.4500999999999999,9.4376899999999999,14.8733,15.504799999999999,10.9849,9.1454199999999997,null,null,null,null,9.1454199999999997,11.3752]
["2014-09-27",14.6966,12.1004,11.5626,11.122400000000001,11.930099999999999,13.0349,10.029,11.5526,11.5274,7.6135200000000003,8.7832500000000007,11.223000000000001,12.6043,15.2216,6.5581500000000004,10.827400000000001,13.594200000000001,14.347799999999999,12.9192,9.5146599999999992,null,null,null,null,9.5146599999999992,11.150600000000001]
["2014-09-28",14.0601,10.968500000000001,7.1175499999999996,12.0389,11.351800000000001,12.715,11.7629,10.3843,12.3361,8.0633999999999997,10.460100000000001,14.4392,10.970700000000001,13.977499999999999,11.9305,12.9518,9.8293700000000008,15.092499999999999,8.0829299999999993,9.54664,null,null,null,null,9.54664,10.9262]
["2014-09-29",14.4381,10.2013,6.4526000000000003,13.577299999999999,11.4864,14.3935,11.465299999999999,11.9072,8.9057999999999993,7.6148199999999999,12.4139,10.8764,12.378,15.8939,12.922800000000001,10.4057,9.1066699999999994,11.3409,6.0434599999999996,9.3881800000000002,null,null,null,null,9.3881800000000002,10.7019]
["2014-09-30",14.8306,10.136799999999999,9.5316899999999993,12.162100000000001,11.5707,12.968299999999999,12.813800000000001,11.820499999999999,8.8370200000000008,10.5716,11.561299999999999,11.8848,12.831,15.8231,13.6297,7.9648000000000003,8.0324899999999992,11.8026,8.8033400000000004,11.5688,null,null,null,null,11.5688,10.4801]
["2014-10-01",9.3873899999999999,12.8124,10.637700000000001,13.9382,11.245100000000001,11.850099999999999,14.509600000000001,12.409599999999999,10.9156,9.4023500000000002,10.5848,10.9085,6.0630499999999996,14.1433,13.8132,6.9541899999999996,9.4666999999999994,12.5053,12.3735,13.047800000000001,null,null,null,null,13.047800000000001,10.2628]
["2014-10-02",7.2846399999999996,12.474500000000001,9.1195199999999996,16.003499999999999,10.906000000000001,9.1066299999999991,12.964700000000001,11.912800000000001,11.1112,5.7505699999999997,12.449299999999999,7.6461399999999999,3.35467,11.946999999999999,15.375999999999999,8.4305800000000009,10.9422,14.189299999999999,13.600899999999999,9.9545700000000004,null,null,null,null,9.9545700000000004,10.050800000000001]
["2014-10-03",8.1386000000000003,12.427,8.5683500000000006,14.680300000000001,6.3328499999999996,6.5548400000000004,8.8841900000000003,13.6609,8.2996099999999995,7.13713,13.364100000000001,8.1841500000000007,2.4793400000000001,11.5961,11.537599999999999,9.2081700000000009,9.5020900000000008,14.747999999999999,7.2233299999999998,9.9179499999999994,null,null,null,null,9.9179499999999994,9.8444500000000001]
["2014-10-04",7.5189399999999997,12.6486,9.0118799999999997,10.6838,5.6273400000000002,7.2347999999999999,11.5641,14.657400000000001,9.4804700000000004,10.404500000000001,11.112500000000001,11.287100000000001,6.5155799999999999,11.985799999999999,9.7829999999999995,8.1716999999999995,7.0071399999999997,10.0938,4.6434199999999999,7.8037700000000001,null,null,null,null,7.8037700000000001,9.6411300000000004]
["2014-10-05",8.0363699999999998,10.714399999999999,10.842499999999999,10.141500000000001,5.6457600000000001,8.8955900000000003,8.0846499999999999,11.848800000000001,8.4962599999999995,7.7472099999999999,7.7834199999999996,12.243399999999999,9.6777599999999993,11.8863,12.2798,6.4520200000000001,6.9040699999999999,7.2690599999999996,5.9033199999999999,7.6806400000000004,null,null,null,null,7.6806400000000004,9.4389500000000002]
["2014-10-06",8.7720400000000005,9.3230000000000004,11.678900000000001,8.6948299999999996,6.6841999999999997,9.8786199999999997,8.5077200000000008,9.4716500000000003,8.3219700000000003,7.54617,9.6038999999999994,12.1837,9.1111199999999997,11.4177,10.9649,4.5613000000000001,7.2148500000000002,7.0694699999999999,9.6093799999999998,11.7494,null,null,null,null,11.7494,9.2423699999999993]
["2014-10-07",10.8414,8.4808699999999995,8.3122699999999998,11.144500000000001,6.5094099999999999,13.701499999999999,9.7032500000000006,9.8005200000000006,10.988899999999999,8.4067399999999992,6.7435999999999998,10.797700000000001,8.5976300000000005,9.6009700000000002,12.836499999999999,4.1971600000000002,8.5959900000000005,5.6288799999999997,11.2525,10.752700000000001,null,null,null,null,10.752700000000001,9.0541199999999993]
["2014-10-08",9.3580100000000002,11.666700000000001,6.4898199999999999,9.7536699999999996,7.6311200000000001,15.057700000000001,10.929399999999999,7.9530700000000003,9.6542700000000004,5.9822699999999998,5.8797499999999996,11.026999999999999,7.7804500000000001,7.36775,12.8294,5.57348,7.8149600000000001,8.9922799999999992,14.0162,11.5722,null,null,null,null,11.5722,8.8707399999999996]
["2014-10-09",6.1281400000000001,14.077400000000001,6.6089099999999998,7.9176799999999998,10.3226,12.3725,7.9711699999999999,9.2354900000000004,7.8511100000000003,7.8685299999999998,6.0945299999999998,12.5236,9.8595199999999998,8.5228199999999994,7.8119800000000001,8.1460799999999995,8.9960699999999996,8.5064299999999999,12.330299999999999,9.6505399999999995,null,null,null,null,9.6505399999999995,8.6867699999999992]
["2014-10-10",7.3965699999999996,9.5596499999999995,7.7472599999999998,6.4710099999999997,12.141,9.8777600000000003,7.7220199999999997,11.864000000000001,7.7093600000000002,12.685499999999999,5.7495599999999998,12.839399999999999,10.6434,7.5229200000000001,8.3820899999999998,9.0188900000000007,10.3424,4.12554,8.2863100000000003,7.9653700000000001,null,null,null,null,7.9653700000000001,8.4996200000000002]
["2014-10-11",9.5185200000000005,9.1992899999999995,7.5557100000000004,9.0326599999999999,12.555099999999999,11.239000000000001,9.8148999999999997,11.5952,7.8753000000000002,10.776400000000001,5.5333399999999999,13.872400000000001,6.1092199999999997,8.2497600000000002,9.7689299999999992,7.6341299999999999,9.7474100000000004,6.1327699999999998,5.5670999999999999,12.3856,null,null,null,null,12.3856,8.3066700000000004]
["2014-10-12",12.436400000000001,6.76959,11.2826,12.342000000000001,10.0336,14.1,9.36313,7.2660999999999998,4.2922399999999996,9.6456700000000009,7.3742099999999997,14.323,5.5180100000000003,9.1584199999999996,11.844900000000001,8.4611900000000002,8.5958199999999998,4.15334,5.6703000000000001,9.9055900000000001,null,null,null,null,9.9055900000000001,8.1046200000000006]
["2014-10-13",9.2455499999999997,5.7554600000000002,11.328799999999999,11.0029,6.2974699999999997,9.1105199999999993,10.9815,3.5516800000000002,4.4885000000000002,13.321099999999999,5.4207999999999998,9.7337699999999998,8.36876,8.1867699999999992,7.6377600000000001,8.0118299999999998,4.73421,4.3409899999999997,4.2165699999999999,7.1135099999999998,null,null,null,null,7.1135099999999998,7.8932799999999999]
["2014-10-14",6.3007,6.8882899999999996,10.1286,8.0597300000000001,4.1350600000000002,5.6172199999999997,13.709300000000001,5.9102100000000002,4.1045600000000002,14.7287,4.2181100000000002,6.0217499999999999,9.4037600000000001,10.311299999999999,9.1653900000000004,4.7494800000000001,3.34998,3.4684300000000001,6.3546699999999996,8.1438600000000001,null,null,null,null,8.1438600000000001,7.6736599999999999]
["2014-10-15",5.59293,7.6356799999999998,6.3936500000000001,8.3717400000000008,5.8949199999999999,9.95838,10.636699999999999,8.4729700000000001,3.1108799999999999,11.372999999999999,4.1318599999999996,6.7835000000000001,11.2698,7.9130500000000001,7.2938200000000002,3.0928599999999999,4.3609499999999999,7.5856000000000003,4.56067,9.5119100000000003,null,null,null,null,9.5119100000000003,7.4446199999999996]
["2014-10-16",4.8718899999999996,4.7507200000000003,10.148,10.2003,6.6868699999999999,6.6559999999999997,8.5595300000000005,4.9061399999999997,2.7603200000000001,4.1397300000000001,4.5282099999999996,10.1114,13.950100000000001,8.5217299999999998,2.6115900000000001,5.02447,6.98766,14.153700000000001,3.59843,8.8384499999999999,null,null,null,null,8.8384499999999999,7.2064700000000004]
["2014-10-17",0.57028699999999999,9.5147499999999994,7.2577299999999996,8.0490399999999998,4.2663000000000002,4.1065300000000002,7.9452199999999999,7.9717900000000004,4.3883999999999999,5.6578799999999996,7.8734500000000001,8.4264899999999994,8.3852399999999996,10.478300000000001,1.99085,7.8187199999999999,10.5609,11.992100000000001,2.8427099999999998,4.7719199999999997,null,null,null,null,4.7719199999999997,6.9645700000000001]
["2014-10-18",3.01295,1.7478,5.2766700000000002,4.7617700000000003,5.82247,6.2415599999999998,4.8993599999999997,5.2377099999999999,3.53233,10.226699999999999,11.074199999999999,5.1065800000000001,5.0462899999999999,7.13856,3.3213900000000001,5.8172800000000002,8.7747799999999998,9.6854300000000002,0.84624600000000005,4.9156599999999999,null,null,null,null,4.9156599999999999,6.7253600000000002]
["2014-10-19",5.18269,3.72418,3.6476700000000002,3.80294,6.6017000000000001,8.5044500000000003,4.4075600000000001,8.4684600000000003,4.7049000000000003,10.244,9.61524,5.8313699999999997,6.9353699999999998,4.7679499999999999,3.33725,6.6892100000000001,3.1551100000000001,7.6289300000000004,0.57346200000000003,3.73685,null,null,null,null,3.73685,6.4908000000000001]
["2014-10-20",5.3431800000000003,5.3479799999999997,4.6046899999999997,1.1605300000000001,5.8349900000000003,10.205299999999999,6.5704000000000002,6.7664900000000001,8.2362099999999998,9.1164500000000004,9.9942600000000006,6.2174399999999999,5.0530200000000001,8.2240199999999994,5.0565600000000002,11.113200000000001,3.4636999999999998,4.1774199999999997,4.1101700000000001,5.1579699999999997,null,null,null,null,5.1579699999999997,6.2633900000000002]
["2014-10-21",7.4140199999999998,7.6269400000000003,9.4864999999999995,3.3118400000000001,4.5759699999999999,7.3089399999999998,7.5678900000000002,2.7759399999999999,5.5853400000000004,5.7741300000000004,8.5014400000000006,4.3854499999999996,6.6793199999999997,4.2797200000000002,7.6422299999999996,4.2360300000000004,1.72,0.74276200000000003,9.0323100000000007,5.8085699999999996,null,null,null,null,5.8085699999999996,6.0442099999999996]
["2014-10-22",8.4347200000000004,4.3298500000000004,10.8491,5.5443899999999999,7.8999800000000002,7.7527400000000002,8.5617900000000002,1.2136100000000001,8.6404099999999993,7.7805600000000004,6.1612,3.6289899999999999,9.4253999999999998,5.17408,4.3260699999999996,-0.799956,3.3064100000000001,1.05094,7.1383799999999997,4.6485099999999999,null,null,null,null,4.6485099999999999,5.8349200000000003]
["2014-10-23",4.5371600000000001,3.9422799999999998,8.3042700000000007,6.8541699999999999,9.9308399999999999,3.7438600000000002,8.6626700000000003,-0.94458500000000001,5.6949399999999999,9.2041400000000007,4.8012800000000002,8.25943,9.9622700000000002,8.7696799999999993,3.9467699999999999,1.1047800000000001,7.5904600000000002,1.1539200000000001,1.3099000000000001,6.2708399999999997,null,null,null,null,6.2708399999999997,5.6376099999999996]
["2014-10-24",5.1173700000000002,4.18154,6.5092699999999999,5.4561700000000002,4.2207699999999999,3.76742,9.9490499999999997,-1.1023700000000001,4.60799,13.4276,4.1057300000000003,12.5467,8.0990500000000001,3.8950999999999998,5.5441599999999998,5.2659200000000004,7.3331600000000003,0.210926,4.59762,7.9820599999999997,null,null,null,null,7.9820599999999997,5.45268]
["2014-10-25",5.0571700000000002,8.3384199999999993,2.7447599999999999,5.9031399999999996,8.3803300000000007,3.9973700000000001,4.0534400000000002,0.52500199999999997,4.9484300000000001,7.5914700000000002,4.0357099999999999,8.5827899999999993,9.0192599999999992,3.9301300000000001,6.6579800000000002,11.009,-9.0742100000000006E-2,3.72472,8.13476,7.5105000000000004,null,null,null,null,7.5105000000000004,5.2788599999999999]
["2014-10-26",7.6734600000000004,2.7063999999999999,3.2176399999999998,6.2982800000000001,4.9784100000000002,0.75385599999999997,6.0938999999999997,2.3143099999999999,6.4394999999999998,4.31569,7.5238199999999997,1.9058999999999999,4.62242,5.6055400000000004,8.07761,13.7888,1.0969100000000001,5.54664,3.0782699999999998,5.3965899999999998,null,null,null,null,5.3965899999999998,5.1119199999999996]
["2014-10-27",10.8659,4.1830499999999997,5.31867,7.0609400000000004,6.9336900000000004,-1.3677600000000001,8.8011700000000008,0.55457500000000004,5.6484300000000003,3.3634200000000001,9.0144699999999993,2.08969E-2,3.5897800000000002,2.7300800000000001,4.2232399999999997,6.3550300000000002,3.5632299999999999,2.0559799999999999,2.4484499999999998,7.9433100000000003,null,null,null,null,7.9433100000000003,4.9469099999999999]
["2014-10-28",9.5799099999999999,6.1261299999999999,5.1223200000000002,3.2751399999999999,7.66073,0.29010799999999998,9.6510599999999993,8.1768000000000001,6.1643499999999998,3.81202,4.1640800000000002,2.0646200000000001,5.0128199999999996,4.5511600000000003,3.5434899999999998,0.59490200000000004,6.5712400000000004,3.4106000000000001,4.4852299999999996,5.7624399999999998,null,null,null,null,5.7624399999999998,4.7829600000000001]
["2014-10-29",8.7168200000000002,4.3616200000000003,3.97376,1.4304699999999999,6.9528299999999996,3.2380599999999999,8.0601699999999994,6.2830899999999996,4.8943700000000003,0.72197,9.2241800000000005,1.3583099999999999,6.8453099999999996,8.7097599999999993,8.3210200000000007,1.0104200000000001,2.5908099999999998,8.0735699999999994E-2,7.46821,5.1180199999999996,null,null,null,null,5.1180199999999996,4.6173700000000002]
["2014-10-30",6.8040500000000002,2.33691,4.5815900000000003,0.95782900000000004,7.5313100000000004,4.9506399999999999,4.2876700000000003,4.4623200000000001,3.8118300000000001,1.98827,6.8390399999999998,3.30078,4.8640999999999996,7.2160599999999997,7.3951799999999999,2.6306699999999998,1.6570400000000001,2.66506E-2,1.98685,2.2025600000000001,null,null,null,null,2.2025600000000001,4.4519399999999996]
["2014-10-31",5.3112199999999996,6.10853,6.4631100000000004,1.76285,5.3929099999999996,4.9666199999999998,4.52895,8.5162700000000005,4.6283599999999998,4.8643400000000003,1.2163900000000001,3.9106999999999998,6.0754200000000003,5.6093000000000002,4.6006099999999996,5.3847399999999999,1.81301,-0.57098099999999996,2.10582,3.59409,null,null,null,null,3.59409,4.28376]
["2014-11-01",3.52969,6.5070699999999997,6.6924000000000001,3.7996599999999998,5.9646999999999997,7.8518800000000004,8.0280799999999992,0.72566699999999995,6.2811199999999996,2.3298999999999999,0.18598700000000001,3.7962799999999999,4.1616400000000002,6.6195500000000003,3.02352,4.8981899999999996,5.5416800000000004,-2.1115400000000002,7.2528699999999997,3.0775399999999999,null,null,null,null,3.0775399999999999,4.1066700000000003]

{"sheet":"有効積算気温","index":3,"n_rows":216,"n_cols":27,"rows_kept":216,"cut":false,"hidden":true,"merged":[]}
[null,{"$f":"データ整理!B1","v":1999},{"$f":"データ整理!C1","v":2000},{"$f":"データ整理!D1","v":2001},{"$f":"データ整理!E1","v":2002},{"$f":"データ整理!F1","v":2003},{"$f":"データ整理!G1","v":2004},{"$f":"データ整理!H1","v":2005},{"$f":"データ整理!I1","v":2006},{"$f":"データ整理!J1","v":2007},{"$f":"データ整理!K1","v":2008},{"$f":"データ整理!L1","v":2009},{"$f":"データ整理!M1","v":2010},{"$f":"データ整理!N1","v":2011},{"$f":"データ整理!O1","v":2012},{"$f":"データ整理!P1","v":2013},{"$f":"データ整理!Q1","v":2014},{"$f":"データ整理!R1","v":2015},{"$f":"データ整理!S1","v":2016},{"$f":"データ整理!T1","v":2017},{"$f":"データ整理!U1","v":2018},null,null,null,null,{"$f":"データ整理!Z1","v":2018},{"$f":"データ整理!AA1","v":"平年値"}]
["2014-04-01",{"$f":"B3+IF(データ整理!B2>5,データ整理!B2-5,0)","v":1722.3869900000007},{"$f":"C3+IF(データ整理!C2>5,データ整理!C2-5,0)","v":1753.2596499999997},{"$f":"D3+IF(データ整理!D2>5,データ整理!D2-5,0)","v":1534.6838800000003},{"$f":"E3+IF(データ整理!E2>5,データ整理!E2-5,0)","v":1532.4388199999996},{"$f":"F3+IF(データ整理!F2>5,データ整理!F2-5,0)","v":1513.9942899999985},{"$f":"G3+IF(データ整理!G2>5,データ整理!G2-5,0)","v":1669.7001500000003},{"$f":"H3+IF(データ整理!H2>5,データ整理!H2-5,0)","v":1657.0960499999997},{"$f":"I3+IF(データ整理!I2>5,データ整理!I2-5,0)","v":1682.4760799999997},{"$f":"J3+IF(データ整理!J2>5,データ整理!J2-5,0)","v":1555.7405899999997},{"$f":"K3+IF(データ整理!K2>5,データ整理!K2-5,0)","v":1573.4270799999999},{"$f":"L3+IF(データ整理!L2>5,データ整理!L2-5,0)","v":1540.08195},{"$f":"M3+IF(データ整理!M2>5,データ整理!M2-5,0)","v":1776.9363499999999},{"$f":"N3+IF(データ整理!N2>5,データ整理!N2-5,0)","v":1610.94724},{"$f":"O3+IF(データ整理!O2>5,データ整理!O2-5,0)","v":1752.5483999999992},{"$f":"P3+IF(データ整理!P2>5,データ整理!P2-5,0)","v":1666.1664600000004},{"$f":"Q3+IF(データ整理!Q2>5,データ整理!Q2-5,0)","v":1632.8847699999999},{"$f":"R3+IF(データ整理!R2>5,データ整理!R2-5,0)","v":1553.1792399999997},{"$f":"S3+IF(データ整理!S2>5,データ整理!S2-5,0)","v":1645.0766100000001},{"$f":"T3+IF(データ整理!T2>5,データ整理!T2-5,0)","v":1534.0321499999998},{"$f":"U3+IF(データ整理!U2>5,データ整理!U2-5,0)","v":1515.6160399999999},null,null,null,{"$f":"DATE($Z$1,4,1)","v":"2018-04-01"},{"$f":"Z3+IF(データ整理!Z2>5,データ整理!Z2-5,0)","v":1515.6160399999999},{"$f":"AA3+IF(データ整理!AA2>5,データ整理!AA2-5,0)","v":1540.0098200000002}]
["2014-04-02",{"$f":"B4+IF(データ整理!B3>5,データ整理!B3-5,0)","v":1722.3869900000007},{"$f":"C4+IF(データ整理!C3>5,データ整理!C3-5,0)","v":1753.2596499999997},{"$f":"D4+IF(データ整理!D3>5,データ整理!D3-5,0)","v":1534.6838800000003},{"$f":"E4+IF(データ整理!E3>5,データ整理!E3-5,0)","v":1532.4388199999996},{"$f":"F4+IF(データ整理!F3>5,データ整理!F3-5,0)","v":1513.9942899999985},{"$f":"G4+IF(データ整理!G3>5,データ整理!G3-5,0)","v":1669.7001500000003},{"$f":"H4+IF(データ整理!H3>5,データ整理!H3-5,0)","v":1657.0960499999997},{"$f":"I4+IF(データ整理!I3>5,データ整理!I3-5,0)","v":1682.4760799999997},{"$f":"J4+IF(データ整理!J3>5,データ整理!J3-5,0)","v":1555.7405899999997},{"$f":"K4+IF(データ整理!K3>5,データ整理!K3-5,0)","v":1573.4270799999999},{"$f":"L4+IF(データ整理!L3>5,データ整理!L3-5,0)","v":1540.08195},{"$f":"M4+IF(データ整理!M3>5,データ整理!M3-5,0)","v":1776.9363499999999},{"$f":"N4+IF(データ整理!N3>5,データ整理!N3-5,0)","v":1610.94724},{"$f":"O4+IF(データ整理!O3>5,データ整理!O3-5,0)","v":1752.5483999999992},{"$f":"P4+IF(データ整理!P3>5,データ整理!P3-5,0)","v":1666.1664600000004},{"$f":"Q4+IF(データ整理!Q3>5,データ整理!Q3-5,0)","v":1632.8847699999999},{"$f":"R4+IF(データ整理!R3>5,データ整理!R3-5,0)","v":1553.1792399999997},{"$f":"S4+IF(データ整理!S3>5,データ整理!S3-5,0)","v":1645.0766100000001},{"$f":"T4+IF(データ整理!T3>5,データ整理!T3-5,0)","v":1534.0321499999998},{"$f":"U4+IF(データ整理!U3>5,データ整理!U3-5,0)","v":1515.6160399999999},null,null,null,{"$f":"Y2+1","v":"2018-04-02"},{"$f":"Z4+IF(データ整理!Z3>5,データ整理!Z3-5,0)","v":1515.6160399999999},{"$f":"AA4+IF(データ整理!AA3>5,データ整理!AA3-5,0)","v":1540.0098200000002}]
["2014-04-03",{"$f":"B5+IF(データ整理!B4>5,データ整理!B4-5,0)","v":1722.3869900000007},{"$f":"C5+IF(データ整理!C4>5,データ整理!C4-5,0)","v":1753.2596499999997},{"$f":"D5+IF(データ整理!D4>5,データ整理!D4-5,0)","v":1534.6838800000003},{"$f":"E5+IF(データ整理!E4>5,データ整理!E4-5,0)","v":1532.4388199999996},{"$f":"F5+IF(データ整理!F4>5,データ整理!F4-5,0)","v":1513.9942899999985},{"$f":"G5+IF(データ整理!G4>5,データ整理!G4-5,0)","v":1669.7001500000003},{"$f":"H5+IF(データ整理!H4>5,データ整理!H4-5,0)","v":1657.0960499999997},{"$f":"I5+IF(データ整理!I4>5,データ整理!I4-5,0)","v":1682.4760799999997},{"$f":"J5+IF(データ整理!J4>5,データ整理!J4-5,0)","v":1555.7405899999997},{"$f":"K5+IF(データ整理!K4>5,データ整理!K4-5,0)","v":1573.4270799999999},{"$f":"L5+IF(データ整理!L4>5,データ整理!L4-5,0)","v":1540.08195},{"$f":"M5+IF(データ整理!M4>5,データ整理!M4-5,0)","v":1776.9363499999999},{"$f":"N5+IF(データ整理!N4>5,データ整理!N4-5,0)","v":1610.94724},{"$f":"O5+IF(データ整理!O4>5,データ整理!O4-5,0)","v":1752.5483999999992},{"$f":"P5+IF(データ整理!P4>5,データ整理!P4-5,0)","v":1666.1664600000004},{"$f":"Q5+IF(データ整理!Q4>5,データ整理!Q4-5,0)","v":1632.8847699999999},{"$f":"R5+IF(データ整理!R4>5,データ整理!R4-5,0)","v":1553.1792399999997},{"$f":"S5+IF(データ整理!S4>5,データ整理!S4-5,0)","v":1645.0766100000001},{"$f":"T5+IF(データ整理!T4>5,データ整理!T4-5,0)","v":1534.0321499999998},{"$f":"U5+IF(データ整理!U4>5,データ整理!U4-5,0)","v":1515.6160399999999},null,null,null,{"$f":"Y3+1","v":"2018-04-03"},{"$f":"Z5+IF(データ整理!Z4>5,データ整理!Z4-5,0)","v":1515.6160399999999},{"$f":"AA5+IF(データ整理!AA4>5,データ整理!AA4-5,0)","v":1540.0098200000002}]
["2014-04-04",{"$f":"B6+IF(データ整理!B5>5,データ整理!B5-5,0)","v":1722.3869900000007},{"$f":"C6+IF(データ整理!C5>5,データ整理!C5-5,0)","v":1753.2596499999997},{"$f":"D6+IF(データ整理!D5>5,データ整理!D5-5,0)","v":1534.6838800000003},{"$f":"E6+IF(データ整理!E5>5,データ整理!E5-5,0)","v":1532.4388199999996},{"$f":"F6+IF(データ整理!F5>5,データ整理!F5-5,0)","v":1513.9942899999985},{"$f":"G6+IF(データ整理!G5>5,データ整理!G5-5,0)","v":1669.7001500000003},{"$f":"H6+IF(データ整理!H5>5,データ整理!H5-5,0)","v":1657.0960499999997},{"$f":"I6+IF(データ整理!I5>5,データ整理!I5-5,0)","v":1682.4760799999997},{"$f":"J6+IF(データ整理!J5>5,データ整理!J5-5,0)","v":1555.7405899999997},{"$f":"K6+IF(データ整理!K5>5,データ整理!K5-5,0)","v":1573.4270799999999},{"$f":"L6+IF(データ整理!L5>5,データ整理!L5-5,0)","v":1540.08195},{"$f":"M6+IF(データ整理!M5>5,データ整理!M5-5,0)","v":1776.9363499999999},{"$f":"N6+IF(データ整理!N5>5,データ整理!N5-5,0)","v":1610.94724},{"$f":"O6+IF(データ整理!O5>5,データ整理!O5-5,0)","v":1752.5483999999992},{"$f":"P6+IF(データ整理!P5>5,データ整理!P5-5,0)","v":1666.1664600000004},{"$f":"Q6+IF(データ整理!Q5>5,データ整理!Q5-5,0)","v":1632.8847699999999},{"$f":"R6+IF(データ整理!R5>5,データ整理!R5-5,0)","v":1553.1792399999997},{"$f":"S6+IF(データ整理!S5>5,データ整理!S5-5,0)","v":1645.0766100000001},{"$f":"T6+IF(データ整理!T5>5,データ整理!T5-5,0)","v":1534.0321499999998},{"$f":"U6+IF(データ整理!U5>5,データ整理!U5-5,0)","v":1515.6160399999999},null,null,null,"2018-04-04",{"$f":"Z6+IF(データ整理!Z5>5,データ整理!Z5-5,0)","v":1515.6160399999999},{"$f":"AA6+IF(データ整理!AA5>5,データ整理!AA5-5,0)","v":1540.0098200000002}]
["2014-04-05",{"$f":"B7+IF(データ整理!B6>5,データ整理!B6-5,0)","v":1722.3869900000007},{"$f":"C7+IF(データ整理!C6>5,データ整理!C6-5,0)","v":1753.2596499999997},{"$f":"D7+IF(データ整理!D6>5,データ整理!D6-5,0)","v":1534.6838800000003},{"$f":"E7+IF(データ整理!E6>5,データ整理!E6-5,0)","v":1532.4388199999996},{"$f":"F7+IF(データ整理!F6>5,データ整理!F6-5,0)","v":1513.9942899999985},{"$f":"G7+IF(データ整理!G6>5,データ整理!G6-5,0)","v":1669.7001500000003},{"$f":"H7+IF(データ整理!H6>5,データ整理!H6-5,0)","v":1657.0960499999997},{"$f":"I7+IF(データ整理!I6>5,データ整理!I6-5,0)","v":1682.4760799999997},{"$f":"J7+IF(データ整理!J6>5,データ整理!J6-5,0)","v":1555.7405899999997},{"$f":"K7+IF(データ整理!K6>5,データ整理!K6-5,0)","v":1573.4270799999999},{"$f":"L7+IF(データ整理!L6>5,データ整理!L6-5,0)","v":1540.08195},{"$f":"M7+IF(データ整理!M6>5,データ整理!M6-5,0)","v":1776.9363499999999},{"$f":"N7+IF(データ整理!N6>5,データ整理!N6-5,0)","v":1610.94724},{"$f":"O7+IF(データ整理!O6>5,データ整理!O6-5,0)","v":1752.5483999999992},{"$f":"P7+IF(データ整理!P6>5,データ整理!P6-5,0)","v":1666.1664600000004},{"$f":"Q7+IF(データ整理!Q6>5,データ整理!Q6-5,0)","v":1632.8847699999999},{"$f":"R7+IF(データ整理!R6>5,データ整理!R6-5,0)","v":1553.1792399999997},{"$f":"S7+IF(データ整理!S6>5,データ整理!S6-5,0)","v":1645.0766100000001},{"$f":"T7+IF(データ整理!T6>5,データ整理!T6-5,0)","v":1534.0321499999998},{"$f":"U7+IF(データ整理!U6>5,データ整理!U6-5,0)","v":1515.6160399999999},null,null,null,"2018-04-05",{"$f":"Z7+IF(データ整理!Z6>5,データ整理!Z6-5,0)","v":1515.6160399999999},{"$f":"AA7+IF(データ整理!AA6>5,データ整理!AA6-5,0)","v":1540.0098200000002}]
["2014-04-06",{"$f":"B8+IF(データ整理!B7>5,データ整理!B7-5,0)","v":1722.3869900000007},{"$f":"C8+IF(データ整理!C7>5,データ整理!C7-5,0)","v":1753.2596499999997},{"$f":"D8+IF(データ整理!D7>5,データ整理!D7-5,0)","v":1534.6838800000003},{"$f":"E8+IF(データ整理!E7>5,データ整理!E7-5,0)","v":1532.4388199999996},{"$f":"F8+IF(データ整理!F7>5,データ整理!F7-5,0)","v":1513.9942899999985},{"$f":"G8+IF(データ整理!G7>5,データ整理!G7-5,0)","v":1669.7001500000003},{"$f":"H8+IF(データ整理!H7>5,データ整理!H7-5,0)","v":1657.0960499999997},{"$f":"I8+IF(データ整理!I7>5,データ整理!I7-5,0)","v":1682.4760799999997},{"$f":"J8+IF(データ整理!J7>5,データ整理!J7-5,0)","v":1555.7405899999997},{"$f":"K8+IF(データ整理!K7>5,データ整理!K7-5,0)","v":1573.4270799999999},{"$f":"L8+IF(データ整理!L7>5,データ整理!L7-5,0)","v":1540.08195},{"$f":"M8+IF(データ整理!M7>5,データ整理!M7-5,0)","v":1776.9363499999999},{"$f":"N8+IF(データ整理!N7>5,データ整理!N7-5,0)","v":1610.94724},{"$f":"O8+IF(データ整理!O7>5,データ整理!O7-5,0)","v":1752.5483999999992},{"$f":"P8+IF(データ整理!P7>5,データ整理!P7-5,0)","v":1666.1664600000004},{"$f":"Q8+IF(データ整理!Q7>5,データ整理!Q7-5,0)","v":1632.8847699999999},{"$f":"R8+IF(データ整理!R7>5,データ整理!R7-5,0)","v":1553.1792399999997},{"$f":"S8+IF(データ整理!S7>5,データ整理!S7-5,0)","v":1645.0766100000001},{"$f":"T8+IF(データ整理!T7>5,データ整理!T7-5,0)","v":1534.0321499999998},{"$f":"U8+IF(データ整理!U7>5,データ整理!U7-5,0)","v":1515.6160399999999},null,null,null,"2018-04-06",{"$f":"Z8+IF(データ整理!Z7>5,データ整理!Z7-5,0)","v":1515.6160399999999},{"$f":"AA8+IF(データ整理!AA7>5,データ整理!AA7-5,0)","v":1540.0098200000002}]
["2014-04-07",{"$f":"B9+IF(データ整理!B8>5,データ整理!B8-5,0)","v":1722.3869900000007},{"$f":"C9+IF(データ整理!C8>5,データ整理!C8-5,0)","v":1753.2596499999997},{"$f":"D9+IF(データ整理!D8>5,データ整理!D8-5,0)","v":1534.6838800000003},{"$f":"E9+IF(データ整理!E8>5,データ整理!E8-5,0)","v":1532.4388199999996},{"$f":"F9+IF(データ整理!F8>5,データ整理!F8-5,0)","v":1513.9942899999985},{"$f":"G9+IF(データ整理!G8>5,データ整理!G8-5,0)","v":1669.7001500000003},{"$f":"H9+IF(データ整理!H8>5,データ整理!H8-5,0)","v":1657.0960499999997},{"$f":"I9+IF(データ整理!I8>5,データ整理!I8-5,0)","v":1682.4760799999997},{"$f":"J9+IF(データ整理!J8>5,データ整理!J8-5,0)","v":1555.7405899999997},{"$f":"K9+IF(データ整理!K8>5,データ整理!K8-5,0)","v":1573.4270799999999},{"$f":"L9+IF(データ整理!L8>5,データ整理!L8-5,0)","v":1540.08195},{"$f":"M9+IF(データ整理!M8>5,データ整理!M8-5,0)","v":1776.9363499999999},{"$f":"N9+IF(データ整理!N8>5,データ整理!N8-5,0)","v":1610.94724},{"$f":"O9+IF(データ整理!O8>5,データ整理!O8-5,0)","v":1752.5483999999992},{"$f":"P9+IF(データ整理!P8>5,データ整理!P8-5,0)","v":1666.1664600000004},{"$f":"Q9+IF(データ整理!Q8>5,データ整理!Q8-5,0)","v":1632.8847699999999},{"$f":"R9+IF(データ整理!R8>5,データ整理!R8-5,0)","v":1553.1792399999997},{"$f":"S9+IF(データ整理!S8>5,データ整理!S8-5,0)","v":1645.0766100000001},{"$f":"T9+IF(データ整理!T8>5,データ整理!T8-5,0)","v":1532.2753199999997},{"$f":"U9+IF(データ整理!U8>5,データ整理!U8-5,0)","v":1515.6160399999999},null,null,null,"2018-04-07",{"$f":"Z9+IF(データ整理!Z8>5,データ整理!Z8-5,0)","v":1515.6160399999999},{"$f":"AA9+IF(データ整理!AA8>5,データ整理!AA8-5,0)","v":1540.0098200000002}]
["2014-04-08",{"$f":"B10+IF(データ整理!B9>5,データ整理!B9-5,0)","v":1722.3869900000007},{"$f":"C10+IF(データ整理!C9>5,データ整理!C9-5,0)","v":1753.2596499999997},{"$f":"D10+IF(データ整理!D9>5,データ整理!D9-5,0)","v":1534.6838800000003},{"$f":"E10+IF(データ整理!E9>5,データ整理!E9-5,0)","v":1532.4388199999996},{"$f":"F10+IF(データ整理!F9>5,データ整理!F9-5,0)","v":1513.9942899999985},{"$f":"G10+IF(データ整理!G9>5,データ整理!G9-5,0)","v":1669.7001500000003},{"$f":"H10+IF(データ整理!H9>5,データ整理!H9-5,0)","v":1657.0960499999997},{"$f":"I10+IF(データ整理!I9>5,データ整理!I9-5,0)","v":1682.4760799999997},{"$f":"J10+IF(データ整理!J9>5,データ整理!J9-5,0)","v":1555.7405899999997},{"$f":"K10+IF(データ整理!K9>5,データ整理!K9-5,0)","v":1573.4270799999999},{"$f":"L10+IF(データ整理!L9>5,データ整理!L9-5,0)","v":1540.08195},{"$f":"M10+IF(データ整理!M9>5,データ整理!M9-5,0)","v":1776.9363499999999},{"$f":"N10+IF(データ整理!N9>5,データ整理!N9-5,0)","v":1609.3434},{"$f":"O10+IF(データ整理!O9>5,データ整理!O9-5,0)","v":1752.5483999999992},{"$f":"P10+IF(データ整理!P9>5,データ整理!P9-5,0)","v":1666.1664600000004},{"$f":"Q10+IF(データ整理!Q9>5,データ整理!Q9-5,0)","v":1632.8847699999999},{"$f":"R10+IF(データ整理!R9>5,データ整理!R9-5,0)","v":1553.1792399999997},{"$f":"S10+IF(データ整理!S9>5,データ整理!S9-5,0)","v":1645.0766100000001},{"$f":"T10+IF(データ整理!T9>5,データ整理!T9-5,0)","v":1532.2753199999997},{"$f":"U10+IF(データ整理!U9>5,データ整理!U9-5,0)","v":1515.6160399999999},null,null,null,"2018-04-08",{"$f":"Z10+IF(データ整理!Z9>5,データ整理!Z9-5,0)","v":1515.6160399999999},{"$f":"AA10+IF(データ整理!AA9>5,データ整理!AA9-5,0)","v":1540.0098200000002}]
["2014-04-09",{"$f":"B11+IF(データ整理!B10>5,データ整理!B10-5,0)","v":1722.3869900000007},{"$f":"C11+IF(データ整理!C10>5,データ整理!C10-5,0)","v":1753.2596499999997},{"$f":"D11+IF(データ整理!D10>5,データ整理!D10-5,0)","v":1534.6838800000003},{"$f":"E11+IF(データ整理!E10>5,データ整理!E10-5,0)","v":1532.4388199999996},{"$f":"F11+IF(データ整理!F10>5,データ整理!F10-5,0)","v":1513.9942899999985},{"$f":"G11+IF(データ整理!G10>5,データ整理!G10-5,0)","v":1669.7001500000003},{"$f":"H11+IF(データ整理!H10>5,データ整理!H10-5,0)","v":1657.0960499999997},{"$f":"I11+IF(データ整理!I10>5,データ整理!I10-5,0)","v":1682.4760799999997},{"$f":"J11+IF(データ整理!J10>5,データ整理!J10-5,0)","v":1555.7405899999997},{"$f":"K11+IF(データ整理!K10>5,データ整理!K10-5,0)","v":1573.4270799999999},{"$f":"L11+IF(データ整理!L10>5,データ整理!L10-5,0)","v":1540.08195},{"$f":"M11+IF(データ整理!M10>5,データ整理!M10-5,0)","v":1776.9363499999999},{"$f":"N11+IF(データ整理!N10>5,データ整理!N10-5,0)","v":1609.3434},{"$f":"O11+IF(データ整理!O10>5,データ整理!O10-5,0)","v":1752.5483999999992},{"$f":"P11+IF(データ整理!P10>5,データ整理!P10-5,0)","v":1666.1664600000004},{"$f":"Q11+IF(データ整理!Q10>5,データ整理!Q10-5,0)","v":1632.8847699999999},{"$f":"R11+IF(データ整理!R10>5,データ整理!R10-5,0)","v":1553.1792399999997},{"$f":"S11+IF(データ整理!S10>5,データ整理!S10-5,0)","v":1645.0766100000001},{"$f":"T11+IF(データ整理!T10>5,データ整理!T10-5,0)","v":1532.2753199999997},{"$f":"U11+IF(データ整理!U10>5,データ整理!U10-5,0)","v":1515.6160399999999},null,null,null,"2018-04-09",{"$f":"Z11+IF(データ整理!Z10>5,データ整理!Z10-5,0)","v":1515.6160399999999},{"$f":"AA11+IF(データ整理!AA10>5,データ整理!AA10-5,0)","v":1540.0098200000002}]
["2014-04-10",{"$f":"B12+IF(データ整理!B11>5,データ整理!B11-5,0)","v":1722.3869900000007},{"$f":"C12+IF(データ整理!C11>5,データ整理!C11-5,0)","v":1753.2596499999997},{"$f":"D12+IF(データ整理!D11>5,データ整理!D11-5,0)","v":1533.8484000000003},{"$f":"E12+IF(データ整理!E11>5,データ整理!E11-5,0)","v":1532.4388199999996},{"$f":"F12+IF(データ整理!F11>5,データ整理!F11-5,0)","v":1513.9942899999985},{"$f":"G12+IF(データ整理!G11>5,データ整理!G11-5,0)","v":1669.7001500000003},{"$f":"H12+IF(データ整理!H11>5,データ整理!H11-5,0)","v":1657.0960499999997},{"$f":"I12+IF(データ整理!I11>5,データ整理!I11-5,0)","v":1682.4760799999997},{"$f":"J12+IF(データ整理!J11>5,データ整理!J11-5,0)","v":1555.7405899999997},{"$f":"K12+IF(データ整理!K11>5,データ整理!K11-5,0)","v":1573.4270799999999},{"$f":"L12+IF(データ整理!L11>5,データ整理!L11-5,0)","v":1540.08195},{"$f":"M12+IF(データ整理!M11>5,データ整理!M11-5,0)","v":1776.9363499999999},{"$f":"N12+IF(データ整理!N11>5,データ整理!N11-5,0)","v":1609.3434},{"$f":"O12+IF(データ整理!O11>5,データ整理!O11-5,0)","v":1752.5483999999992},{"$f":"P12+IF(データ整理!P11>5,データ整理!P11-5,0)","v":1666.1664600000004},{"$f":"Q12+IF(データ整理!Q11>5,データ整理!Q11-5,0)","v":1632.8847699999999},{"$f":"R12+IF(データ整理!R11>5,データ整理!R11-5,0)","v":1553.1792399999997},{"$f":"S12+IF(データ整理!S11>5,データ整理!S11-5,0)","v":1645.0766100000001},{"$f":"T12+IF(データ整理!T11>5,データ整理!T11-5,0)","v":1532.2753199999997},{"$f":"U12+IF(データ整理!U11>5,データ整理!U11-5,0)","v":1515.6160399999999},null,null,null,"2018-04-10",{"$f":"Z12+IF(データ整理!Z11>5,データ整理!Z11-5,0)","v":1515.6160399999999},{"$f":"AA12+IF(データ整理!AA11>5,データ整理!AA11-5,0)","v":1540.0098200000002}]
["2014-04-11",{"$f":"B13+IF(データ整理!B12>5,データ整理!B12-5,0)","v":1722.3869900000007},{"$f":"C13+IF(データ整理!C12>5,データ整理!C12-5,0)","v":1753.2596499999997},{"$f":"D13+IF(データ整理!D12>5,データ整理!D12-5,0)","v":1533.8484000000003},{"$f":"E13+IF(データ整理!E12>5,データ整理!E12-5,0)","v":1532.4388199999996},{"$f":"F13+IF(データ整理!F12>5,データ整理!F12-5,0)","v":1513.9942899999985},{"$f":"G13+IF(データ整理!G12>5,データ整理!G12-5,0)","v":1669.7001500000003},{"$f":"H13+IF(データ整理!H12>5,データ整理!H12-5,0)","v":1657.0960499999997},{"$f":"I13+IF(データ整理!I12>5,データ整理!I12-5,0)","v":1682.4760799999997},{"$f":"J13+IF(データ整理!J12>5,データ整理!J12-5,0)","v":1555.7405899999997},{"$f":"K13+IF(データ整理!K12>5,データ整理!K12-5,0)","v":1573.4270799999999},{"$f":"L13+IF(データ整理!L12>5,データ整理!L12-5,0)","v":1538.7143900000001},{"$f":"M13+IF(データ整理!M12>5,データ整理!M12-5,0)","v":1776.6839199999999},{"$f":"N13+IF(データ整理!N12>5,データ整理!N12-5,0)","v":1609.3434},{"$f":"O13+IF(データ整理!O12>5,データ整理!O12-5,0)","v":1752.5483999999992},{"$f":"P13+IF(データ整理!P12>5,データ整理!P12-5,0)","v":1666.1664600000004},{"$f":"Q13+IF(データ整理!Q12>5,データ整理!Q12-5,0)","v":1632.8847699999999},{"$f":"R13+IF(データ整理!R12>5,データ整理!R12-5,0)","v":1553.1792399999997},{"$f":"S13+IF(データ整理!S12>5,データ整理!S12-5,0)","v":1645.0766100000001},{"$f":"T13+IF(データ整理!T12>5,データ整理!T12-5,0)","v":1532.2753199999997},{"$f":"U13+IF(データ整理!U12>5,データ整理!U12-5,0)","v":1515.6160399999999},null,null,null,"2018-04-11",{"$f":"Z13+IF(データ整理!Z12>5,データ整理!Z12-5,0)","v":1515.6160399999999},{"$f":"AA13+IF(データ整理!AA12>5,データ整理!AA12-5,0)","v":1540.0098200000002}]
["2014-04-12",{"$f":"B14+IF(データ整理!B13>5,データ整理!B13-5,0)","v":1722.3869900000007},{"$f":"C14+IF(データ整理!C13>5,データ整理!C13-5,0)","v":1753.2596499999997},{"$f":"D14+IF(データ整理!D13>5,データ整理!D13-5,0)","v":1533.7332200000003},{"$f":"E14+IF(データ整理!E13>5,データ整理!E13-5,0)","v":1532.4388199999996},{"$f":"F14+IF(データ整理!F13>5,データ整理!F13-5,0)","v":1513.9942899999985},{"$f":"G14+IF(データ整理!G13>5,データ整理!G13-5,0)","v":1669.7001500000003},{"$f":"H14+IF(データ整理!H13>5,データ整理!H13-5,0)","v":1657.0960499999997},{"$f":"I14+IF(データ整理!I13>5,データ整理!I13-5,0)","v":1682.4760799999997},{"$f":"J14+IF(データ整理!J13>5,データ整理!J13-5,0)","v":1555.7405899999997},{"$f":"K14+IF(データ整理!K13>5,データ整理!K13-5,0)","v":1573.4270799999999},{"$f":"L14+IF(データ整理!L13>5,データ整理!L13-5,0)","v":1538.7143900000001},{"$f":"M14+IF(データ整理!M13>5,データ整理!M13-5,0)","v":1776.6839199999999},{"$f":"N14+IF(データ整理!N13>5,データ整理!N13-5,0)","v":1609.3434},{"$f":"O14+IF(データ整理!O13>5,データ整理!O13-5,0)","v":1752.1328399999993},{"$f":"P14+IF(データ整理!P13>5,データ整理!P13-5,0)","v":1666.1664600000004},{"$f":"Q14+IF(データ整理!Q13>5,データ整理!Q13-5,0)","v":1632.8847699999999},{"$f":"R14+IF(データ整理!R13>5,データ整理!R13-5,0)","v":1553.1792399999997},{"$f":"S14+IF(データ整理!S13>5,データ整理!S13-5,0)","v":1645.0766100000001},{"$f":"T14+IF(データ整理!T13>5,データ整理!T13-5,0)","v":1532.2753199999997},{"$f":"U14+IF(データ整理!U13>5,データ整理!U13-5,0)","v":1515.6160399999999},null,null,null,"2018-04-12",{"$f":"Z14+IF(データ整理!Z13>5,データ整理!Z13-5,0)","v":1515.6160399999999},{"$f":"AA14+IF(データ整理!AA13>5,データ整理!AA13-5,0)","v":1540.0098200000002}]
["2014-04-13",{"$f":"B15+IF(データ整理!B14>5,データ整理!B14-5,0)","v":1720.0303900000006},{"$f":"C15+IF(データ整理!C14>5,データ整理!C14-5,0)","v":1753.2596499999997},{"$f":"D15+IF(データ整理!D14>5,データ整理!D14-5,0)","v":1533.7332200000003},{"$f":"E15+IF(データ整理!E14>5,データ整理!E14-5,0)","v":1532.4388199999996},{"$f":"F15+IF(データ整理!F14>5,データ整理!F14-5,0)","v":1513.9942899999985},{"$f":"G15+IF(データ整理!G14>5,データ整理!G14-5,0)","v":1669.7001500000003},{"$f":"H15+IF(データ整理!H14>5,データ整理!H14-5,0)","v":1657.0960499999997},{"$f":"I15+IF(データ整理!I14>5,データ整理!I14-5,0)","v":1682.4760799999997},{"$f":"J15+IF(データ整理!J14>5,データ整理!J14-5,0)","v":1555.7405899999997},{"$f":"K15+IF(データ整理!K14>5,データ整理!K14-5,0)","v":1573.4270799999999},{"$f":"L15+IF(データ整理!L14>5,データ整理!L14-5,0)","v":1538.7143900000001},{"$f":"M15+IF(データ整理!M14>5,データ整理!M14-5,0)","v":1776.6839199999999},{"$f":"N15+IF(データ整理!N14>5,データ整理!N14-5,0)","v":1609.3434},{"$f":"O15+IF(データ整理!O14>5,データ整理!O14-5,0)","v":1752.1328399999993},{"$f":"P15+IF(データ整理!P14>5,データ整理!P14-5,0)","v":1666.1664600000004},{"$f":"Q15+IF(データ整理!Q14>5,データ整理!Q14-5,0)","v":1632.8847699999999},{"$f":"R15+IF(データ整理!R14>5,データ整理!R14-5,0)","v":1553.1792399999997},{"$f":"S15+IF(データ整理!S14>5,データ整理!S14-5,0)","v":1645.0766100000001},{"$f":"T15+IF(データ整理!T14>5,データ整理!T14-5,0)","v":1532.2753199999997},{"$f":"U15+IF(データ整理!U14>5,データ整理!U14-5,0)","v":1515.6160399999999},null,null,null,"2018-04-13",{"$f":"Z15+IF(データ整理!Z14>5,データ整理!Z14-5,0)","v":1515.6160399999999},{"$f":"AA15+IF(データ整理!AA14>5,データ整理!AA14-5,0)","v":1540.0098200000002}]
["2014-04-14",{"$f":"B16+IF(データ整理!B15>5,データ整理!B15-5,0)","v":1720.0303900000006},{"$f":"C16+IF(データ整理!C15>5,データ整理!C15-5,0)","v":1753.2596499999997},{"$f":"D16+IF(データ整理!D15>5,データ整理!D15-5,0)","v":1533.7332200000003},{"$f":"E16+IF(データ整理!E15>5,データ整理!E15-5,0)","v":1532.4388199999996},{"$f":"F16+IF(データ整理!F15>5,データ整理!F15-5,0)","v":1513.9942899999985},{"$f":"G16+IF(データ整理!G15>5,データ整理!G15-5,0)","v":1669.7001500000003},{"$f":"H16+IF(データ整理!H15>5,データ整理!H15-5,0)","v":1657.0960499999997},{"$f":"I16+IF(データ整理!I15>5,データ整理!I15-5,0)","v":1682.4760799999997},{"$f":"J16+IF(データ整理!J15>5,データ整理!J15-5,0)","v":1555.7405899999997},{"$f":"K16+IF(データ整理!K15>5,データ整理!K15-5,0)","v":1573.4270799999999},{"$f":"L16+IF(データ整理!L15>5,データ整理!L15-5,0)","v":1537.2798},{"$f":"M16+IF(データ整理!M15>5,データ整理!M15-5,0)","v":1776.6839199999999},{"$f":"N16+IF(データ整理!N15>5,データ整理!N15-5,0)","v":1609.3434},{"$f":"O16+IF(データ整理!O15>5,データ整理!O15-5,0)","v":1752.1328399999993},{"$f":"P16+IF(データ整理!P15>5,データ整理!P15-5,0)","v":1666.1664600000004},{"$f":"Q16+IF(データ整理!Q15>5,データ整理!Q15-5,0)","v":1632.8847699999999},{"$f":"R16+IF(データ整理!R15>5,データ整理!R15-5,0)","v":1553.1792399999997},{"$f":"S16+IF(データ整理!S15>5,データ整理!S15-5,0)","v":1645.0766100000001},{"$f":"T16+IF(データ整理!T15>5,データ整理!T15-5,0)","v":1532.2753199999997},{"$f":"U16+IF(データ整理!U15>5,データ整理!U15-5,0)","v":1515.6160399999999},null,null,null,"2018-04-14",{"$f":"Z16+IF(データ整理!Z15>5,データ整理!Z15-5,0)","v":1515.6160399999999},{"$f":"AA16+IF(データ整理!AA15>5,データ整理!AA15-5,0)","v":1540.0098200000002}]
["2014-04-15",{"$f":"B17+IF(データ整理!B16>5,データ整理!B16-5,0)","v":1720.0303900000006},{"$f":"C17+IF(データ整理!C16>5,データ整理!C16-5,0)","v":1753.2596499999997},{"$f":"D17+IF(データ整理!D16>5,データ整理!D16-5,0)","v":1533.0309100000004},{"$f":"E17+IF(データ整理!E16>5,データ整理!E16-5,0)","v":1532.4388199999996},{"$f":"F17+IF(データ整理!F16>5,データ整理!F16-5,0)","v":1513.9942899999985},{"$f":"G17+IF(データ整理!G16>5,データ整理!G16-5,0)","v":1669.7001500000003},{"$f":"H17+IF(データ整理!H16>5,データ整理!H16-5,0)","v":1657.0960499999997},{"$f":"I17+IF(データ整理!I16>5,データ整理!I16-5,0)","v":1682.4760799999997},{"$f":"J17+IF(データ整理!J16>5,データ整理!J16-5,0)","v":1555.7405899999997},{"$f":"K17+IF(データ整理!K16>5,データ整理!K16-5,0)","v":1573.4270799999999},{"$f":"L17+IF(データ整理!L16>5,データ整理!L16-5,0)","v":1537.2798},{"$f":"M17+IF(データ整理!M16>5,データ整理!M16-5,0)","v":1776.6839199999999},{"$f":"N17+IF(データ整理!N16>5,データ整理!N16-5,0)","v":1609.3434},{"$f":"O17+IF(データ整理!O16>5,データ整理!O16-5,0)","v":1752.1328399999993},{"$f":"P17+IF(データ整理!P16>5,データ整理!P16-5,0)","v":1666.1664600000004},{"$f":"Q17+IF(データ整理!Q16>5,データ整理!Q16-5,0)","v":1632.8847699999999},{"$f":"R17+IF(データ整理!R16>5,データ整理!R16-5,0)","v":1553.1792399999997},{"$f":"S17+IF(データ整理!S16>5,データ整理!S16-5,0)","v":1645.0766100000001},{"$f":"T17+IF(データ整理!T16>5,データ整理!T16-5,0)","v":1530.7295899999997},{"$f":"U17+IF(データ整理!U16>5,データ整理!U16-5,0)","v":1515.6160399999999},null,null,null,"2018-04-15",{"$f":"Z17+IF(データ整理!Z16>5,データ整理!Z16-5,0)","v":1515.6160399999999},{"$f":"AA17+IF(データ整理!AA16>5,データ整理!AA16-5,0)","v":1540.0098200000002}]
["2014-04-16",{"$f":"B18+IF(データ整理!B17>5,データ整理!B17-5,0)","v":1720.0303900000006},{"$f":"C18+IF(データ整理!C17>5,データ整理!C17-5,0)","v":1753.2596499999997},{"$f":"D18+IF(データ整理!D17>5,データ整理!D17-5,0)","v":1533.0309100000004},{"$f":"E18+IF(データ整理!E17>5,データ整理!E17-5,0)","v":1530.0797599999996},{"$f":"F18+IF(データ整理!F17>5,データ整理!F17-5,0)","v":1513.9942899999985},{"$f":"G18+IF(データ整理!G17>5,データ整理!G17-5,0)","v":1669.7001500000003},{"$f":"H18+IF(データ整理!H17>5,データ整理!H17-5,0)","v":1657.0960499999997},{"$f":"I18+IF(データ整理!I17>5,データ整理!I17-5,0)","v":1682.4760799999997},{"$f":"J18+IF(データ整理!J17>5,データ整理!J17-5,0)","v":1555.7405899999997},{"$f":"K18+IF(データ整理!K17>5,データ整理!K17-5,0)","v":1573.4270799999999},{"$f":"L18+IF(データ整理!L17>5,データ整理!L17-5,0)","v":1537.2798},{"$f":"M18+IF(データ整理!M17>5,データ整理!M17-5,0)","v":1776.6839199999999},{"$f":"N18+IF(データ整理!N17>5,データ整理!N17-5,0)","v":1608.1892499999999},{"$f":"O18+IF(データ整理!O17>5,データ整理!O17-5,0)","v":1752.1328399999993},{"$f":"P18+IF(データ整理!P17>5,データ整理!P17-5,0)","v":1666.1664600000004},{"$f":"Q18+IF(データ整理!Q17>5,データ整理!Q17-5,0)","v":1632.8847699999999},{"$f":"R18+IF(データ整理!R17>5,データ整理!R17-5,0)","v":1553.1792399999997},{"$f":"S18+IF(データ整理!S17>5,データ整理!S17-5,0)","v":1645.0766100000001},{"$f":"T18+IF(データ整理!T17>5,データ整理!T17-5,0)","v":1526.0085799999997},{"$f":"U18+IF(データ整理!U17>5,データ整理!U17-5,0)","v":1515.6160399999999},null,null,null,"2018-04-16",{"$f":"Z18+IF(データ整理!Z17>5,データ整理!Z17-5,0)","v":1515.6160399999999},{"$f":"AA18+IF(データ整理!AA17>5,データ整理!AA17-5,0)","v":1540.0098200000002}]
["2014-04-17",{"$f":"B19+IF(データ整理!B18>5,データ整理!B18-5,0)","v":1720.0303900000006},{"$f":"C19+IF(データ整理!C18>5,データ整理!C18-5,0)","v":1753.2596499999997},{"$f":"D19+IF(データ整理!D18>5,データ整理!D18-5,0)","v":1533.0246300000003},{"$f":"E19+IF(データ整理!E18>5,データ整理!E18-5,0)","v":1527.2541899999997},{"$f":"F19+IF(データ整理!F18>5,データ整理!F18-5,0)","v":1512.8394199999984},{"$f":"G19+IF(データ整理!G18>5,データ整理!G18-5,0)","v":1669.7001500000003},{"$f":"H19+IF(データ整理!H18>5,データ整理!H18-5,0)","v":1657.0960499999997},{"$f":"I19+IF(データ整理!I18>5,データ整理!I18-5,0)","v":1682.4760799999997},{"$f":"J19+IF(データ整理!J18>5,データ整理!J18-5,0)","v":1555.7405899999997},{"$f":"K19+IF(データ整理!K18>5,データ整理!K18-5,0)","v":1573.4270799999999},{"$f":"L19+IF(データ整理!L18>5,データ整理!L18-5,0)","v":1537.2798},{"$f":"M19+IF(データ整理!M18>5,データ整理!M18-5,0)","v":1776.6839199999999},{"$f":"N19+IF(データ整理!N18>5,データ整理!N18-5,0)","v":1608.1892499999999},{"$f":"O19+IF(データ整理!O18>5,データ整理!O18-5,0)","v":1752.1328399999993},{"$f":"P19+IF(データ整理!P18>5,データ整理!P18-5,0)","v":1666.1664600000004},{"$f":"Q19+IF(データ整理!Q18>5,データ整理!Q18-5,0)","v":1632.8847699999999},{"$f":"R19+IF(データ整理!R18>5,データ整理!R18-5,0)","v":1553.1792399999997},{"$f":"S19+IF(データ整理!S18>5,データ整理!S18-5,0)","v":1645.0766100000001},{"$f":"T19+IF(データ整理!T18>5,データ整理!T18-5,0)","v":1525.1210199999998},{"$f":"U19+IF(データ整理!U18>5,データ整理!U18-5,0)","v":1515.6160399999999},null,null,null,"2018-04-17",{"$f":"Z19+IF(データ整理!Z18>5,データ整理!Z18-5,0)","v":1515.6160399999999},{"$f":"AA19+IF(データ整理!AA18>5,データ整理!AA18-5,0)","v":1540.0098200000002}]
["2014-04-18",{"$f":"B20+IF(データ整理!B19>5,データ整理!B19-5,0)","v":1720.0303900000006},{"$f":"C20+IF(データ整理!C19>5,データ整理!C19-5,0)","v":1753.2596499999997},{"$f":"D20+IF(データ整理!D19>5,データ整理!D19-5,0)","v":1532.9275300000004},{"$f":"E20+IF(データ整理!E19>5,データ整理!E19-5,0)","v":1524.4026799999997},{"$f":"F20+IF(データ整理!F19>5,データ整理!F19-5,0)","v":1508.1038799999985},{"$f":"G20+IF(データ整理!G19>5,データ整理!G19-5,0)","v":1669.7001500000003},{"$f":"H20+IF(データ整理!H19>5,データ整理!H19-5,0)","v":1657.0960499999997},{"$f":"I20+IF(データ整理!I19>5,データ整理!I19-5,0)","v":1682.4760799999997},{"$f":"J20+IF(データ整理!J19>5,データ整理!J19-5,0)","v":1555.7405899999997},{"$f":"K20+IF(データ整理!K19>5,データ整理!K19-5,0)","v":1573.4270799999999},{"$f":"L20+IF(データ整理!L19>5,データ整理!L19-5,0)","v":1537.2798},{"$f":"M20+IF(データ整理!M19>5,データ整理!M19-5,0)","v":1776.6839199999999},{"$f":"N20+IF(データ整理!N19>5,データ整理!N19-5,0)","v":1608.1892499999999},{"$f":"O20+IF(データ整理!O19>5,データ整理!O19-5,0)","v":1752.1328399999993},{"$f":"P20+IF(データ整理!P19>5,データ整理!P19-5,0)","v":1666.1664600000004},{"$f":"Q20+IF(データ整理!Q19>5,データ整理!Q19-5,0)","v":1632.8847699999999},{"$f":"R20+IF(データ整理!R19>5,データ整理!R19-5,0)","v":1553.1792399999997},{"$f":"S20+IF(データ整理!S19>5,データ整理!S19-5,0)","v":1645.0766100000001},{"$f":"T20+IF(データ整理!T19>5,データ整理!T19-5,0)","v":1525.1210199999998},{"$f":"U20+IF(データ整理!U19>5,データ整理!U19-5,0)","v":1515.6160399999999},null,null,null,"2018-04-18",{"$f":"Z20+IF(データ整理!Z19>5,データ整理!Z19-5,0)","v":1515.6160399999999},{"$f":"AA20+IF(データ整理!AA19>5,データ整理!AA19-5,0)","v":1540.0098200000002}]
["2014-04-19",{"$f":"B21+IF(データ整理!B20>5,データ整理!B20-5,0)","v":1720.0303900000006},{"$f":"C21+IF(データ整理!C20>5,データ整理!C20-5,0)","v":1753.2596499999997},{"$f":"D21+IF(データ整理!D20>5,データ整理!D20-5,0)","v":1530.8112900000003},{"$f":"E21+IF(データ整理!E20>5,データ整理!E20-5,0)","v":1524.4026799999997},{"$f":"F21+IF(データ整理!F20>5,データ整理!F20-5,0)","v":1507.5095399999984},{"$f":"G21+IF(データ整理!G20>5,データ整理!G20-5,0)","v":1669.7001500000003},{"$f":"H21+IF(データ整理!H20>5,データ整理!H20-5,0)","v":1657.0960499999997},{"$f":"I21+IF(データ整理!I20>5,データ整理!I20-5,0)","v":1682.4760799999997},{"$f":"J21+IF(データ整理!J20>5,データ整理!J20-5,0)","v":1555.7405899999997},{"$f":"K21+IF(データ整理!K20>5,データ整理!K20-5,0)","v":1573.26929},{"$f":"L21+IF(データ整理!L20>5,データ整理!L20-5,0)","v":1537.2798},{"$f":"M21+IF(データ整理!M20>5,データ整理!M20-5,0)","v":1776.6839199999999},{"$f":"N21+IF(データ整理!N20>5,データ整理!N20-5,0)","v":1608.1892499999999},{"$f":"O21+IF(データ整理!O20>5,データ整理!O20-5,0)","v":1752.1328399999993},{"$f":"P21+IF(データ整理!P20>5,データ整理!P20-5,0)","v":1666.1664600000004},{"$f":"Q21+IF(データ整理!Q20>5,データ整理!Q20-5,0)","v":1632.8847699999999},{"$f":"R21+IF(データ整理!R20>5,データ整理!R20-5,0)","v":1553.1792399999997},{"$f":"S21+IF(データ整理!S20>5,データ整理!S20-5,0)","v":1645.0766100000001},{"$f":"T21+IF(データ整理!T20>5,データ整理!T20-5,0)","v":1525.1210199999998},{"$f":"U21+IF(データ整理!U20>5,データ整理!U20-5,0)","v":1515.6160399999999},null,null,null,"2018-04-19",{"$f":"Z21+IF(データ整理!Z20>5,データ整理!Z20-5,0)","v":1515.6160399999999},{"$f":"AA21+IF(データ整理!AA20>5,データ整理!AA20-5,0)","v":1540.0098200000002}]
["2014-04-20",{"$f":"B22+IF(データ整理!B21>5,データ整理!B21-5,0)","v":1718.4815900000006},{"$f":"C22+IF(データ整理!C21>5,データ整理!C21-5,0)","v":1753.2596499999997},{"$f":"D22+IF(データ整理!D21>5,データ整理!D21-5,0)","v":1526.8123800000003},{"$f":"E22+IF(データ整理!E21>5,データ整理!E21-5,0)","v":1524.4026799999997},{"$f":"F22+IF(データ整理!F21>5,データ整理!F21-5,0)","v":1507.5095399999984},{"$f":"G22+IF(データ整理!G21>5,データ整理!G21-5,0)","v":1668.3928500000004},{"$f":"H22+IF(データ整理!H21>5,データ整理!H21-5,0)","v":1657.0960499999997},{"$f":"I22+IF(データ整理!I21>5,データ整理!I21-5,0)","v":1682.4760799999997},{"$f":"J22+IF(データ整理!J21>5,データ整理!J21-5,0)","v":1555.7405899999997},{"$f":"K22+IF(データ整理!K21>5,データ整理!K21-5,0)","v":1571.1372699999999},{"$f":"L22+IF(データ整理!L21>5,データ整理!L21-5,0)","v":1537.2798},{"$f":"M22+IF(データ整理!M21>5,データ整理!M21-5,0)","v":1776.6839199999999},{"$f":"N22+IF(データ整理!N21>5,データ整理!N21-5,0)","v":1608.1892499999999},{"$f":"O22+IF(データ整理!O21>5,データ整理!O21-5,0)","v":1752.1328399999993},{"$f":"P22+IF(データ整理!P21>5,データ整理!P21-5,0)","v":1666.1664600000004},{"$f":"Q22+IF(データ整理!Q21>5,データ整理!Q21-5,0)","v":1632.8847699999999},{"$f":"R22+IF(データ整理!R21>5,データ整理!R21-5,0)","v":1553.1792399999997},{"$f":"S22+IF(データ整理!S21>5,データ整理!S21-5,0)","v":1645.0766100000001},{"$f":"T22+IF(データ整理!T21>5,データ整理!T21-5,0)","v":1525.1210199999998},{"$f":"U22+IF(データ整理!U21>5,データ整理!U21-5,0)","v":1515.6160399999999},null,null,null,"2018-04-20",{"$f":"Z22+IF(データ整理!Z21>5,データ整理!Z21-5,0)","v":1515.6160399999999},{"$f":"AA22+IF(データ整理!AA21>5,データ整理!AA21-5,0)","v":1540.0098200000002}]
["2014-04-21",{"$f":"B23+IF(データ整理!B22>5,データ整理!B22-5,0)","v":1718.4815900000006},{"$f":"C23+IF(データ整理!C22>5,データ整理!C22-5,0)","v":1753.2596499999997},{"$f":"D23+IF(データ整理!D22>5,データ整理!D22-5,0)","v":1526.8123800000003},{"$f":"E23+IF(データ整理!E22>5,データ整理!E22-5,0)","v":1521.7826999999997},{"$f":"F23+IF(データ整理!F22>5,データ整理!F22-5,0)","v":1507.5095399999984},{"$f":"G23+IF(データ整理!G22>5,データ整理!G22-5,0)","v":1668.3928500000004},{"$f":"H23+IF(データ整理!H22>5,データ整理!H22-5,0)","v":1657.0960499999997},{"$f":"I23+IF(データ整理!I22>5,データ整理!I22-5,0)","v":1682.4760799999997},{"$f":"J23+IF(データ整理!J22>5,データ整理!J22-5,0)","v":1555.7405899999997},{"$f":"K23+IF(データ整理!K22>5,データ整理!K22-5,0)","v":1568.94787},{"$f":"L23+IF(データ整理!L22>5,データ整理!L22-5,0)","v":1537.2798},{"$f":"M23+IF(データ整理!M22>5,データ整理!M22-5,0)","v":1776.6839199999999},{"$f":"N23+IF(データ整理!N22>5,データ整理!N22-5,0)","v":1608.1892499999999},{"$f":"O23+IF(データ整理!O22>5,データ整理!O22-5,0)","v":1752.1328399999993},{"$f":"P23+IF(データ整理!P22>5,データ整理!P22-5,0)","v":1666.1664600000004},{"$f":"Q23+IF(データ整理!Q22>5,データ整理!Q22-5,0)","v":1632.8847699999999},{"$f":"R23+IF(データ整理!R22>5,データ整理!R22-5,0)","v":1553.1792399999997},{"$f":"S23+IF(データ整理!S22>5,データ整理!S22-5,0)","v":1645.0766100000001},{"$f":"T23+IF(データ整理!T22>5,データ整理!T22-5,0)","v":1525.1210199999998},{"$f":"U23+IF(データ整理!U22>5,データ整理!U22-5,0)","v":1514.8185099999998},null,null,null,"2018-04-21",{"$f":"Z23+IF(データ整理!Z22>5,データ整理!Z22-5,0)","v":1514.8185099999998},{"$f":"AA23+IF(データ整理!AA22>5,データ整理!AA22-5,0)","v":1540.0098200000002}]
["2014-04-22",{"$f":"B24+IF(データ整理!B23>5,データ整理!B23-5,0)","v":1718.4815900000006},{"$f":"C24+IF(データ整理!C23>5,データ整理!C23-5,0)","v":1753.2596499999997},{"$f":"D24+IF(データ整理!D23>5,データ整理!D23-5,0)","v":1526.8123800000003},{"$f":"E24+IF(データ整理!E23>5,データ整理!E23-5,0)","v":1517.8884299999997},{"$f":"F24+IF(データ整理!F23>5,データ整理!F23-5,0)","v":1507.5095399999984},{"$f":"G24+IF(データ整理!G23>5,データ整理!G23-5,0)","v":1668.3928500000004},{"$f":"H24+IF(データ整理!H23>5,データ整理!H23-5,0)","v":1657.0960499999997},{"$f":"I24+IF(データ整理!I23>5,データ整理!I23-5,0)","v":1682.4760799999997},{"$f":"J24+IF(データ整理!J23>5,データ整理!J23-5,0)","v":1555.2503599999995},{"$f":"K24+IF(データ整理!K23>5,データ整理!K23-5,0)","v":1566.0931},{"$f":"L24+IF(データ整理!L23>5,データ整理!L23-5,0)","v":1537.2798},{"$f":"M24+IF(データ整理!M23>5,データ整理!M23-5,0)","v":1776.6839199999999},{"$f":"N24+IF(データ整理!N23>5,データ整理!N23-5,0)","v":1608.1892499999999},{"$f":"O24+IF(データ整理!O23>5,データ整理!O23-5,0)","v":1752.1328399999993},{"$f":"P24+IF(データ整理!P23>5,データ整理!P23-5,0)","v":1666.1664600000004},{"$f":"Q24+IF(データ整理!Q23>5,データ整理!Q23-5,0)","v":1632.8847699999999},{"$f":"R24+IF(データ整理!R23>5,データ整理!R23-5,0)","v":1553.1792399999997},{"$f":"S24+IF(データ整理!S23>5,データ整理!S23-5,0)","v":1642.96244},{"$f":"T24+IF(データ整理!T23>5,データ整理!T23-5,0)","v":1525.1210199999998},{"$f":"U24+IF(データ整理!U23>5,データ整理!U23-5,0)","v":1512.0339899999999},null,null,null,"2018-04-22",{"$f":"Z24+IF(データ整理!Z23>5,データ整理!Z23-5,0)","v":1512.0339899999999},{"$f":"AA24+IF(データ整理!AA23>5,データ整理!AA23-5,0)","v":1540.0098200000002}]
["2014-04-23",{"$f":"B25+IF(データ整理!B24>5,データ整理!B24-5,0)","v":1718.4815900000006},{"$f":"C25+IF(データ整理!C24>5,データ整理!C24-5,0)","v":1752.9224099999997},{"$f":"D25+IF(データ整理!D24>5,データ整理!D24-5,0)","v":1526.8123800000003},{"$f":"E25+IF(データ整理!E24>5,データ整理!E24-5,0)","v":1512.2446299999997},{"$f":"F25+IF(データ整理!F24>5,データ整理!F24-5,0)","v":1507.5095399999984},{"$f":"G25+IF(データ整理!G24>5,データ整理!G24-5,0)","v":1668.3928500000004},{"$f":"H25+IF(データ整理!H24>5,データ整理!H24-5,0)","v":1657.0960499999997},{"$f":"I25+IF(データ整理!I24>5,データ整理!I24-5,0)","v":1682.4760799999997},{"$f":"J25+IF(データ整理!J24>5,データ整理!J24-5,0)","v":1555.2503599999995},{"$f":"K25+IF(データ整理!K24>5,データ整理!K24-5,0)","v":1563.3191900000002},{"$f":"L25+IF(データ整理!L24>5,データ整理!L24-5,0)","v":1537.2798},{"$f":"M25+IF(データ整理!M24>5,データ整理!M24-5,0)","v":1776.6839199999999},{"$f":"N25+IF(データ整理!N24>5,データ整理!N24-5,0)","v":1608.1892499999999},{"$f":"O25+IF(データ整理!O24>5,データ整理!O24-5,0)","v":1752.1328399999993},{"$f":"P25+IF(データ整理!P24>5,データ整理!P24-5,0)","v":1666.1664600000004},{"$f":"Q25+IF(データ整理!Q24>5,データ整理!Q24-5,0)","v":1632.8847699999999},{"$f":"R25+IF(データ整理!R24>5,データ整理!R24-5,0)","v":1553.1792399999997},{"$f":"S25+IF(データ整理!S24>5,データ整理!S24-5,0)","v":1642.7163600000001},{"$f":"T25+IF(データ整理!T24>5,データ整理!T24-5,0)","v":1525.1210199999998},{"$f":"U25+IF(データ整理!U24>5,データ整理!U24-5,0)","v":1512.0339899999999},null,null,null,"2018-04-23",{"$f":"Z25+IF(データ整理!Z24>5,データ整理!Z24-5,0)","v":1512.0339899999999},{"$f":"AA25+IF(データ整理!AA24>5,データ整理!AA24-5,0)","v":1540.0098200000002}]
["2014-04-24",{"$f":"B26+IF(データ整理!B25>5,データ整理!B25-5,0)","v":1717.1088600000005},{"$f":"C26+IF(データ整理!C25>5,データ整理!C25-5,0)","v":1752.9224099999997},{"$f":"D26+IF(データ整理!D25>5,データ整理!D25-5,0)","v":1526.8123800000003},{"$f":"E26+IF(データ整理!E25>5,データ整理!E25-5,0)","v":1505.4652299999998},{"$f":"F26+IF(データ整理!F25>5,データ整理!F25-5,0)","v":1506.3111899999985},{"$f":"G26+IF(データ整理!G25>5,データ整理!G25-5,0)","v":1668.3928500000004},{"$f":"H26+IF(データ整理!H25>5,データ整理!H25-5,0)","v":1657.0960499999997},{"$f":"I26+IF(データ整理!I25>5,データ整理!I25-5,0)","v":1682.4760799999997},{"$f":"J26+IF(データ整理!J25>5,データ整理!J25-5,0)","v":1555.2503599999995},{"$f":"K26+IF(データ整理!K25>5,データ整理!K25-5,0)","v":1559.9143600000002},{"$f":"L26+IF(データ整理!L25>5,データ整理!L25-5,0)","v":1537.2798},{"$f":"M26+IF(データ整理!M25>5,データ整理!M25-5,0)","v":1776.6839199999999},{"$f":"N26+IF(データ整理!N25>5,データ整理!N25-5,0)","v":1608.1892499999999},{"$f":"O26+IF(データ整理!O25>5,データ整理!O25-5,0)","v":1751.6023099999993},{"$f":"P26+IF(データ整理!P25>5,データ整理!P25-5,0)","v":1666.1664600000004},{"$f":"Q26+IF(データ整理!Q25>5,データ整理!Q25-5,0)","v":1632.8847699999999},{"$f":"R26+IF(データ整理!R25>5,データ整理!R25-5,0)","v":1551.5058099999997},{"$f":"S26+IF(データ整理!S25>5,データ整理!S25-5,0)","v":1642.7163600000001},{"$f":"T26+IF(データ整理!T25>5,データ整理!T25-5,0)","v":1525.1210199999998},{"$f":"U26+IF(データ整理!U25>5,データ整理!U25-5,0)","v":1512.0339899999999},null,null,null,"2018-04-24",{"$f":"Z26+IF(データ整理!Z25>5,データ整理!Z25-5,0)","v":1512.0339899999999},{"$f":"AA26+IF(データ整理!AA25>5,データ整理!AA25-5,0)","v":1540.0098200000002}]
["2014-04-25",{"$f":"B27+IF(データ整理!B26>5,データ整理!B26-5,0)","v":1716.2321800000004},{"$f":"C27+IF(データ整理!C26>5,データ整理!C26-5,0)","v":1752.9224099999997},{"$f":"D27+IF(データ整理!D26>5,データ整理!D26-5,0)","v":1526.8123800000003},{"$f":"E27+IF(データ整理!E26>5,データ整理!E26-5,0)","v":1499.7928299999999},{"$f":"F27+IF(データ整理!F26>5,データ整理!F26-5,0)","v":1506.3111899999985},{"$f":"G27+IF(データ整理!G26>5,データ整理!G26-5,0)","v":1668.3928500000004},{"$f":"H27+IF(データ整理!H26>5,データ整理!H26-5,0)","v":1657.0960499999997},{"$f":"I27+IF(データ整理!I26>5,データ整理!I26-5,0)","v":1682.4760799999997},{"$f":"J27+IF(データ整理!J26>5,データ整理!J26-5,0)","v":1554.9157999999995},{"$f":"K27+IF(データ整理!K26>5,データ整理!K26-5,0)","v":1556.2941300000002},{"$f":"L27+IF(データ整理!L26>5,データ整理!L26-5,0)","v":1537.2798},{"$f":"M27+IF(データ整理!M26>5,データ整理!M26-5,0)","v":1776.6839199999999},{"$f":"N27+IF(データ整理!N26>5,データ整理!N26-5,0)","v":1608.1892499999999},{"$f":"O27+IF(データ整理!O26>5,データ整理!O26-5,0)","v":1751.6023099999993},{"$f":"P27+IF(データ整理!P26>5,データ整理!P26-5,0)","v":1666.1365100000003},{"$f":"Q27+IF(データ整理!Q26>5,データ整理!Q26-5,0)","v":1631.4166399999999},{"$f":"R27+IF(データ整理!R26>5,データ整理!R26-5,0)","v":1550.1620699999996},{"$f":"S27+IF(データ整理!S26>5,データ整理!S26-5,0)","v":1642.7163600000001},{"$f":"T27+IF(データ整理!T26>5,データ整理!T26-5,0)","v":1525.1210199999998},{"$f":"U27+IF(データ整理!U26>5,データ整理!U26-5,0)","v":1512.0339899999999},null,null,null,"2018-04-25",{"$f":"Z27+IF(データ整理!Z26>5,データ整理!Z26-5,0)","v":1512.0339899999999},{"$f":"AA27+IF(データ整理!AA26>5,データ整理!AA26-5,0)","v":1540.0098200000002}]
["2014-04-26",{"$f":"B28+IF(データ整理!B27>5,データ整理!B27-5,0)","v":1714.7620100000004},{"$f":"C28+IF(データ整理!C27>5,データ整理!C27-5,0)","v":1752.9224099999997},{"$f":"D28+IF(データ整理!D27>5,データ整理!D27-5,0)","v":1526.8123800000003},{"$f":"E28+IF(データ整理!E27>5,データ整理!E27-5,0)","v":1499.6649899999998},{"$f":"F28+IF(データ整理!F27>5,データ整理!F27-5,0)","v":1504.8814899999986},{"$f":"G28+IF(データ整理!G27>5,データ整理!G27-5,0)","v":1668.3928500000004},{"$f":"H28+IF(データ整理!H27>5,データ整理!H27-5,0)","v":1657.0960499999997},{"$f":"I28+IF(データ整理!I27>5,データ整理!I27-5,0)","v":1682.4760799999997},{"$f":"J28+IF(データ整理!J27>5,データ整理!J27-5,0)","v":1554.3858899999996},{"$f":"K28+IF(データ整理!K27>5,データ整理!K27-5,0)","v":1556.2941300000002},{"$f":"L28+IF(データ整理!L27>5,データ整理!L27-5,0)","v":1537.2798},{"$f":"M28+IF(データ整理!M27>5,データ整理!M27-5,0)","v":1776.6839199999999},{"$f":"N28+IF(データ整理!N27>5,データ整理!N27-5,0)","v":1608.1892499999999},{"$f":"O28+IF(データ整理!O27>5,データ整理!O27-5,0)","v":1750.4868499999993},{"$f":"P28+IF(データ整理!P27>5,データ整理!P27-5,0)","v":1666.1365100000003},{"$f":"Q28+IF(データ整理!Q27>5,データ整理!Q27-5,0)","v":1629.50684},{"$f":"R28+IF(データ整理!R27>5,データ整理!R27-5,0)","v":1548.7865899999997},{"$f":"S28+IF(データ整理!S27>5,データ整理!S27-5,0)","v":1642.7163600000001},{"$f":"T28+IF(データ整理!T27>5,データ整理!T27-5,0)","v":1523.1831399999999},{"$f":"U28+IF(データ整理!U27>5,データ整理!U27-5,0)","v":1511.52252},null,null,null,"2018-04-26",{"$f":"Z28+IF(データ整理!Z27>5,データ整理!Z27-5,0)","v":1511.52252},{"$f":"AA28+IF(データ整理!AA27>5,データ整理!AA27-5,0)","v":1540.0098200000002}]
["2014-04-27",{"$f":"B29+IF(データ整理!B28>5,データ整理!B28-5,0)","v":1713.3627800000004},{"$f":"C29+IF(データ整理!C28>5,データ整理!C28-5,0)","v":1752.9224099999997},{"$f":"D29+IF(データ整理!D28>5,データ整理!D28-5,0)","v":1526.8123800000003},{"$f":"E29+IF(データ整理!E28>5,データ整理!E28-5,0)","v":1499.6649899999998},{"$f":"F29+IF(データ整理!F28>5,データ整理!F28-5,0)","v":1504.8779899999986},{"$f":"G29+IF(データ整理!G28>5,データ整理!G28-5,0)","v":1668.3928500000004},{"$f":"H29+IF(データ整理!H28>5,データ整理!H28-5,0)","v":1655.7523099999996},{"$f":"I29+IF(データ整理!I28>5,データ整理!I28-5,0)","v":1682.4760799999997},{"$f":"J29+IF(データ整理!J28>5,データ整理!J28-5,0)","v":1554.3858899999996},{"$f":"K29+IF(データ整理!K28>5,データ整理!K28-5,0)","v":1556.2941300000002},{"$f":"L29+IF(データ整理!L28>5,データ整理!L28-5,0)","v":1537.2798},{"$f":"M29+IF(データ整理!M28>5,データ整理!M28-5,0)","v":1776.6839199999999},{"$f":"N29+IF(データ整理!N28>5,データ整理!N28-5,0)","v":1608.1892499999999},{"$f":"O29+IF(データ整理!O28>5,データ整理!O28-5,0)","v":1747.0217399999992},{"$f":"P29+IF(データ整理!P28>5,データ整理!P28-5,0)","v":1666.1365100000003},{"$f":"Q29+IF(データ整理!Q28>5,データ整理!Q28-5,0)","v":1627.42695},{"$f":"R29+IF(データ整理!R28>5,データ整理!R28-5,0)","v":1543.5481899999997},{"$f":"S29+IF(データ整理!S28>5,データ整理!S28-5,0)","v":1642.7163600000001},{"$f":"T29+IF(データ整理!T28>5,データ整理!T28-5,0)","v":1521.9958599999998},{"$f":"U29+IF(データ整理!U28>5,データ整理!U28-5,0)","v":1511.32438},null,null,null,"2018-04-27",{"$f":"Z29+IF(データ整理!Z28>5,データ整理!Z28-5,0)","v":1511.32438},{"$f":"AA29+IF(データ整理!AA28>5,データ整理!AA28-5,0)","v":1540.0098200000002}]
["2014-04-28",{"$f":"B30+IF(データ整理!B29>5,データ整理!B29-5,0)","v":1712.9174500000004},{"$f":"C30+IF(データ整理!C29>5,データ整理!C29-5,0)","v":1752.9224099999997},{"$f":"D30+IF(データ整理!D29>5,データ整理!D29-5,0)","v":1525.2928800000002},{"$f":"E30+IF(データ整理!E29>5,データ整理!E29-5,0)","v":1499.4478799999997},{"$f":"F30+IF(データ整理!F29>5,データ整理!F29-5,0)","v":1503.2966999999985},{"$f":"G30+IF(データ整理!G29>5,データ整理!G29-5,0)","v":1667.3944600000004},{"$f":"H30+IF(データ整理!H29>5,データ整理!H29-5,0)","v":1653.4434999999996},{"$f":"I30+IF(データ整理!I29>5,データ整理!I29-5,0)","v":1682.4760799999997},{"$f":"J30+IF(データ整理!J29>5,データ整理!J29-5,0)","v":1554.3858899999996},{"$f":"K30+IF(データ整理!K29>5,データ整理!K29-5,0)","v":1556.2941300000002},{"$f":"L30+IF(データ整理!L29>5,データ整理!L29-5,0)","v":1537.2798},{"$f":"M30+IF(データ整理!M29>5,データ整理!M29-5,0)","v":1776.6839199999999},{"$f":"N30+IF(データ整理!N29>5,データ整理!N29-5,0)","v":1607.4944599999999},{"$f":"O30+IF(データ整理!O29>5,データ整理!O29-5,0)","v":1743.7575199999992},{"$f":"P30+IF(データ整理!P29>5,データ整理!P29-5,0)","v":1666.1365100000003},{"$f":"Q30+IF(データ整理!Q29>5,データ整理!Q29-5,0)","v":1623.5074999999999},{"$f":"R30+IF(データ整理!R29>5,データ整理!R29-5,0)","v":1538.3792899999999},{"$f":"S30+IF(データ整理!S29>5,データ整理!S29-5,0)","v":1642.7163600000001},{"$f":"T30+IF(データ整理!T29>5,データ整理!T29-5,0)","v":1521.9958599999998},{"$f":"U30+IF(データ整理!U29>5,データ整理!U29-5,0)","v":1511.32438},null,null,null,"2018-04-28",{"$f":"Z30+IF(データ整理!Z29>5,データ整理!Z29-5,0)","v":1511.32438},{"$f":"AA30+IF(データ整理!AA29>5,データ整理!AA29-5,0)","v":1540.0098200000002}]
["2014-04-29",{"$f":"B31+IF(データ整理!B30>5,データ整理!B30-5,0)","v":1712.9174500000004},{"$f":"C31+IF(データ整理!C30>5,データ整理!C30-5,0)","v":1752.9224099999997},{"$f":"D31+IF(データ整理!D30>5,データ整理!D30-5,0)","v":1523.1861300000003},{"$f":"E31+IF(データ整理!E30>5,データ整理!E30-5,0)","v":1498.1112599999997},{"$f":"F31+IF(データ整理!F30>5,データ整理!F30-5,0)","v":1500.3142199999986},{"$f":"G31+IF(データ整理!G30>5,データ整理!G30-5,0)","v":1667.3944600000004},{"$f":"H31+IF(データ整理!H30>5,データ整理!H30-5,0)","v":1650.6490599999997},{"$f":"I31+IF(データ整理!I30>5,データ整理!I30-5,0)","v":1682.4760799999997},{"$f":"J31+IF(データ整理!J30>5,データ整理!J30-5,0)","v":1552.2823499999995},{"$f":"K31+IF(データ整理!K30>5,データ整理!K30-5,0)","v":1556.2941300000002},{"$f":"L31+IF(データ整理!L30>5,データ整理!L30-5,0)","v":1537.2798},{"$f":"M31+IF(データ整理!M30>5,データ整理!M30-5,0)","v":1776.6839199999999},{"$f":"N31+IF(データ整理!N30>5,データ整理!N30-5,0)","v":1607.4944599999999},{"$f":"O31+IF(データ整理!O30>5,データ整理!O30-5,0)","v":1742.2676199999992},{"$f":"P31+IF(データ整理!P30>5,データ整理!P30-5,0)","v":1666.1365100000003},{"$f":"Q31+IF(データ整理!Q30>5,データ整理!Q30-5,0)","v":1623.5074999999999},{"$f":"R31+IF(データ整理!R30>5,データ整理!R30-5,0)","v":1535.9300299999998},{"$f":"S31+IF(データ整理!S30>5,データ整理!S30-5,0)","v":1642.7163600000001},{"$f":"T31+IF(データ整理!T30>5,データ整理!T30-5,0)","v":1521.9958599999998},{"$f":"U31+IF(データ整理!U30>5,データ整理!U30-5,0)","v":1511.32438},null,null,null,"2018-04-29",{"$f":"Z31+IF(データ整理!Z30>5,データ整理!Z30-5,0)","v":1511.32438},{"$f":"AA31+IF(データ整理!AA30>5,データ整理!AA30-5,0)","v":1540.0098200000002}]
["2014-04-30",{"$f":"B32+IF(データ整理!B31>5,データ整理!B31-5,0)","v":1712.9174500000004},{"$f":"C32+IF(データ整理!C31>5,データ整理!C31-5,0)","v":1752.9224099999997},{"$f":"D32+IF(データ整理!D31>5,データ整理!D31-5,0)","v":1522.6361800000002},{"$f":"E32+IF(データ整理!E31>5,データ整理!E31-5,0)","v":1495.1359099999997},{"$f":"F32+IF(データ整理!F31>5,データ整理!F31-5,0)","v":1500.3142199999986},{"$f":"G32+IF(データ整理!G31>5,データ整理!G31-5,0)","v":1666.8853600000004},{"$f":"H32+IF(データ整理!H31>5,データ整理!H31-5,0)","v":1649.6809999999998},{"$f":"I32+IF(データ整理!I31>5,データ整理!I31-5,0)","v":1682.4760799999997},{"$f":"J32+IF(データ整理!J31>5,データ整理!J31-5,0)","v":1552.2823499999995},{"$f":"K32+IF(データ整理!K31>5,データ整理!K31-5,0)","v":1555.7982700000002},{"$f":"L32+IF(データ整理!L31>5,データ整理!L31-5,0)","v":1537.2798},{"$f":"M32+IF(データ整理!M31>5,データ整理!M31-5,0)","v":1776.6839199999999},{"$f":"N32+IF(データ整理!N31>5,データ整理!N31-5,0)","v":1607.4944599999999},{"$f":"O32+IF(データ整理!O31>5,データ整理!O31-5,0)","v":1739.7500899999991},{"$f":"P32+IF(データ整理!P31>5,データ整理!P31-5,0)","v":1666.1365100000003},{"$f":"Q32+IF(データ整理!Q31>5,データ整理!Q31-5,0)","v":1623.5074999999999},{"$f":"R32+IF(データ整理!R31>5,データ整理!R31-5,0)","v":1531.4759299999998},{"$f":"S32+IF(データ整理!S31>5,データ整理!S31-5,0)","v":1642.7163600000001},{"$f":"T32+IF(データ整理!T31>5,データ整理!T31-5,0)","v":1521.8590799999997},{"$f":"U32+IF(データ整理!U31>5,データ整理!U31-5,0)","v":1507.4312},null,null,null,"2018-04-30",{"$f":"Z32+IF(データ整理!Z31>5,データ整理!Z31-5,0)","v":1507.4312},{"$f":"AA32+IF(データ整理!AA31>5,データ整理!AA31-5,0)","v":1540.0098200000002}]
["2014-05-01",{"$f":"B33+IF(データ整理!B32>5,データ整理!B32-5,0)","v":1712.9174500000004},{"$f":"C33+IF(データ整理!C32>5,データ整理!C32-5,0)","v":1752.9224099999997},{"$f":"D33+IF(データ整理!D32>5,データ整理!D32-5,0)","v":1522.6361800000002},{"$f":"E33+IF(データ整理!E32>5,データ整理!E32-5,0)","v":1493.0968299999997},{"$f":"F33+IF(データ整理!F32>5,データ整理!F32-5,0)","v":1500.3142199999986},{"$f":"G33+IF(データ整理!G32>5,データ整理!G32-5,0)","v":1665.9095100000004},{"$f":"H33+IF(データ整理!H32>5,データ整理!H32-5,0)","v":1649.6809999999998},{"$f":"I33+IF(データ整理!I32>5,データ整理!I32-5,0)","v":1682.4760799999997},{"$f":"J33+IF(データ整理!J32>5,データ整理!J32-5,0)","v":1552.2823499999995},{"$f":"K33+IF(データ整理!K32>5,データ整理!K32-5,0)","v":1553.5266600000002},{"$f":"L33+IF(データ整理!L32>5,データ整理!L32-5,0)","v":1532.0415},{"$f":"M33+IF(データ整理!M32>5,データ整理!M32-5,0)","v":1776.6839199999999},{"$f":"N33+IF(データ整理!N32>5,データ整理!N32-5,0)","v":1605.1160699999998},{"$f":"O33+IF(データ整理!O32>5,データ整理!O32-5,0)","v":1737.1140699999992},{"$f":"P33+IF(データ整理!P32>5,データ整理!P32-5,0)","v":1666.1365100000003},{"$f":"Q33+IF(データ整理!Q32>5,データ整理!Q32-5,0)","v":1622.10645},{"$f":"R33+IF(データ整理!R32>5,データ整理!R32-5,0)","v":1524.2593299999999},{"$f":"S33+IF(データ整理!S32>5,データ整理!S32-5,0)","v":1642.7163600000001},{"$f":"T33+IF(データ整理!T32>5,データ整理!T32-5,0)","v":1521.8590799999997},{"$f":"U33+IF(データ整理!U32>5,データ整理!U32-5,0)","v":1502.56889},null,null,null,"2018-05-01",{"$f":"Z33+IF(データ整理!Z32>5,データ整理!Z32-5,0)","v":1502.56889},{"$f":"AA33+IF(データ整理!AA32>5,データ整理!AA32-5,0)","v":1539.8332400000002}]
["2014-05-02",{"$f":"B34+IF(データ整理!B33>5,データ整理!B33-5,0)","v":1710.3244000000004},{"$f":"C34+IF(データ整理!C33>5,データ整理!C33-5,0)","v":1752.9224099999997},{"$f":"D34+IF(データ整理!D33>5,データ整理!D33-5,0)","v":1522.6361800000002},{"$f":"E34+IF(データ整理!E33>5,データ整理!E33-5,0)","v":1491.9772899999998},{"$f":"F34+IF(データ整理!F33>5,データ整理!F33-5,0)","v":1500.3142199999986},{"$f":"G34+IF(データ整理!G33>5,データ整理!G33-5,0)","v":1665.9095100000004},{"$f":"H34+IF(データ整理!H33>5,データ整理!H33-5,0)","v":1649.6809999999998},{"$f":"I34+IF(データ整理!I33>5,データ整理!I33-5,0)","v":1682.4760799999997},{"$f":"J34+IF(データ整理!J33>5,データ整理!J33-5,0)","v":1551.5891099999994},{"$f":"K34+IF(データ整理!K33>5,データ整理!K33-5,0)","v":1544.9713600000002},{"$f":"L34+IF(データ整理!L33>5,データ整理!L33-5,0)","v":1529.1758300000001},{"$f":"M34+IF(データ整理!M33>5,データ整理!M33-5,0)","v":1776.6839199999999},{"$f":"N34+IF(データ整理!N33>5,データ整理!N33-5,0)","v":1605.1160699999998},{"$f":"O34+IF(データ整理!O33>5,データ整理!O33-5,0)","v":1731.8714699999991},{"$f":"P34+IF(データ整理!P33>5,データ整理!P33-5,0)","v":1666.1365100000003},{"$f":"Q34+IF(データ整理!Q33>5,データ整理!Q33-5,0)","v":1619.1819800000001},{"$f":"R34+IF(データ整理!R33>5,データ整理!R33-5,0)","v":1518.6396299999999},{"$f":"S34+IF(データ整理!S33>5,データ整理!S33-5,0)","v":1642.7163600000001},{"$f":"T34+IF(データ整理!T33>5,データ整理!T33-5,0)","v":1521.8590799999997},{"$f":"U34+IF(データ整理!U33>5,データ整理!U33-5,0)","v":1501.3138200000001},null,null,null,"2018-05-02",{"$f":"Z34+IF(データ整理!Z33>5,データ整理!Z33-5,0)","v":1501.3138200000001},{"$f":"AA34+IF(データ整理!AA33>5,データ整理!AA33-5,0)","v":1539.4564100000002}]
["2014-05-03",{"$f":"B35+IF(データ整理!B34>5,データ整理!B34-5,0)","v":1709.7065400000004},{"$f":"C35+IF(データ整理!C34>5,データ整理!C34-5,0)","v":1751.5181499999997},{"$f":"D35+IF(データ整理!D34>5,データ整理!D34-5,0)","v":1522.6361800000002},{"$f":"E35+IF(データ整理!E34>5,データ整理!E34-5,0)","v":1490.9328899999998},{"$f":"F35+IF(データ整理!F34>5,データ整理!F34-5,0)","v":1493.8928199999987},{"$f":"G35+IF(データ整理!G34>5,データ整理!G34-5,0)","v":1665.8145600000005},{"$f":"H35+IF(データ整理!H34>5,データ整理!H34-5,0)","v":1649.2310699999998},{"$f":"I35+IF(データ整理!I34>5,データ整理!I34-5,0)","v":1682.4760799999997},{"$f":"J35+IF(データ整理!J34>5,データ整理!J34-5,0)","v":1550.9917599999994},{"$f":"K35+IF(データ整理!K34>5,データ整理!K34-5,0)","v":1537.5561600000003},{"$f":"L35+IF(データ整理!L34>5,データ整理!L34-5,0)","v":1526.2760000000001},{"$f":"M35+IF(データ整理!M34>5,データ整理!M34-5,0)","v":1775.6526199999998},{"$f":"N35+IF(データ整理!N34>5,データ整理!N34-5,0)","v":1605.1160699999998},{"$f":"O35+IF(データ整理!O34>5,データ整理!O34-5,0)","v":1727.3916399999991},{"$f":"P35+IF(データ整理!P34>5,データ整理!P34-5,0)","v":1666.1365100000003},{"$f":"Q35+IF(データ整理!Q34>5,データ整理!Q34-5,0)","v":1616.94902},{"$f":"R35+IF(データ整理!R34>5,データ整理!R34-5,0)","v":1513.7219599999999},{"$f":"S35+IF(データ整理!S34>5,データ整理!S34-5,0)","v":1642.7163600000001},{"$f":"T35+IF(データ整理!T34>5,データ整理!T34-5,0)","v":1520.9662899999996},{"$f":"U35+IF(データ整理!U34>5,データ整理!U34-5,0)","v":1501.0279800000001},null,null,null,"2018-05-03",{"$f":"Z35+IF(データ整理!Z34>5,データ整理!Z34-5,0)","v":1501.0279800000001},{"$f":"AA35+IF(データ整理!AA34>5,データ整理!AA34-5,0)","v":1538.8798300000003}]
["2014-05-04",{"$f":"B36+IF(データ整理!B35>5,データ整理!B35-5,0)","v":1708.0149400000003},{"$f":"C36+IF(データ整理!C35>5,データ整理!C35-5,0)","v":1749.7263399999997},{"$f":"D36+IF(データ整理!D35>5,データ整理!D35-5,0)","v":1522.6361800000002},{"$f":"E36+IF(データ整理!E35>5,データ整理!E35-5,0)","v":1487.1049399999997},{"$f":"F36+IF(データ整理!F35>5,データ整理!F35-5,0)","v":1489.5281099999986},{"$f":"G36+IF(データ整理!G35>5,データ整理!G35-5,0)","v":1665.8145600000005},{"$f":"H36+IF(データ整理!H35>5,データ整理!H35-5,0)","v":1647.8690899999999},{"$f":"I36+IF(データ整理!I35>5,データ整理!I35-5,0)","v":1682.4760799999997},{"$f":"J36+IF(データ整理!J35>5,データ整理!J35-5,0)","v":1549.8600999999994},{"$f":"K36+IF(データ整理!K35>5,データ整理!K35-5,0)","v":1532.8159600000004},{"$f":"L36+IF(データ整理!L35>5,データ整理!L35-5,0)","v":1519.8024},{"$f":"M36+IF(データ整理!M35>5,データ整理!M35-5,0)","v":1773.2571499999999},{"$f":"N36+IF(データ整理!N35>5,データ整理!N35-5,0)","v":1605.1160699999998},{"$f":"O36+IF(データ整理!O35>5,データ整理!O35-5,0)","v":1724.088279999999},{"$f":"P36+IF(データ整理!P35>5,データ整理!P35-5,0)","v":1666.1365100000003},{"$f":"Q36+IF(データ整理!Q35>5,データ整理!Q35-5,0)","v":1614.5206000000001},{"$f":"R36+IF(データ整理!R35>5,データ整理!R35-5,0)","v":1506.9446599999999},{"$f":"S36+IF(データ整理!S35>5,データ整理!S35-5,0)","v":1637.7935600000001},{"$f":"T36+IF(データ整理!T35>5,データ整理!T35-5,0)","v":1515.8505899999996},{"$f":"U36+IF(データ整理!U35>5,データ整理!U35-5,0)","v":1500.6872100000001},null,null,null,"2018-05-04",{"$f":"Z36+IF(データ整理!Z35>5,データ整理!Z35-5,0)","v":1500.6872100000001},{"$f":"AA36+IF(データ整理!AA35>5,データ整理!AA35-5,0)","v":1538.1054300000003}]
["2014-05-05",{"$f":"B37+IF(データ整理!B36>5,データ整理!B36-5,0)","v":1707.2612000000001},{"$f":"C37+IF(データ整理!C36>5,データ整理!C36-5,0)","v":1747.8312199999998},{"$f":"D37+IF(データ整理!D36>5,データ整理!D36-5,0)","v":1522.6361800000002},{"$f":"E37+IF(データ整理!E36>5,データ整理!E36-5,0)","v":1484.7526799999998},{"$f":"F37+IF(データ整理!F36>5,データ整理!F36-5,0)","v":1488.4839399999987},{"$f":"G37+IF(データ整理!G36>5,データ整理!G36-5,0)","v":1665.4423000000004},{"$f":"H37+IF(データ整理!H36>5,データ整理!H36-5,0)","v":1647.8690899999999},{"$f":"I37+IF(データ整理!I36>5,データ整理!I36-5,0)","v":1681.6950299999996},{"$f":"J37+IF(データ整理!J36>5,データ整理!J36-5,0)","v":1546.6067899999994},{"$f":"K37+IF(データ整理!K36>5,データ整理!K36-5,0)","v":1527.9915700000004},{"$f":"L37+IF(データ整理!L36>5,データ整理!L36-5,0)","v":1513.191},{"$f":"M37+IF(データ整理!M36>5,データ整理!M36-5,0)","v":1770.8184699999999},{"$f":"N37+IF(データ整理!N36>5,データ整理!N36-5,0)","v":1605.1160699999998},{"$f":"O37+IF(データ整理!O36>5,データ整理!O36-5,0)","v":1719.8944199999989},{"$f":"P37+IF(データ整理!P36>5,データ整理!P36-5,0)","v":1666.1365100000003},{"$f":"Q37+IF(データ整理!Q36>5,データ整理!Q36-5,0)","v":1614.5206000000001},{"$f":"R37+IF(データ整理!R36>5,データ整理!R36-5,0)","v":1499.3314599999999},{"$f":"S37+IF(データ整理!S36>5,データ整理!S36-5,0)","v":1636.1908100000001},{"$f":"T37+IF(データ整理!T36>5,データ整理!T36-5,0)","v":1510.4852899999996},{"$f":"U37+IF(データ整理!U36>5,データ整理!U36-5,0)","v":1499.72307},null,null,null,"2018-05-05",{"$f":"Z37+IF(データ整理!Z36>5,データ整理!Z36-5,0)","v":1499.72307},{"$f":"AA37+IF(データ整理!AA36>5,データ整理!AA36-5,0)","v":1537.1353900000004}]
["2014-05-06",{"$f":"B38+IF(データ整理!B37>5,データ整理!B37-5,0)","v":1707.2612000000001},{"$f":"C38+IF(データ整理!C37>5,データ整理!C37-5,0)","v":1746.4707399999998},{"$f":"D38+IF(データ整理!D37>5,データ整理!D37-5,0)","v":1522.5325200000002},{"$f":"E38+IF(データ整理!E37>5,データ整理!E37-5,0)","v":1482.0724999999998},{"$f":"F38+IF(データ整理!F37>5,データ整理!F37-5,0)","v":1488.4839399999987},{"$f":"G38+IF(データ整理!G37>5,データ整理!G37-5,0)","v":1664.2990400000003},{"$f":"H38+IF(データ整理!H37>5,データ整理!H37-5,0)","v":1647.8690899999999},{"$f":"I38+IF(データ整理!I37>5,データ整理!I37-5,0)","v":1681.6950299999996},{"$f":"J38+IF(データ整理!J37>5,データ整理!J37-5,0)","v":1545.3335999999993},{"$f":"K38+IF(データ整理!K37>5,データ整理!K37-5,0)","v":1521.4772700000003},{"$f":"L38+IF(データ整理!L37>5,データ整理!L37-5,0)","v":1510.2019700000001},{"$f":"M38+IF(データ整理!M37>5,データ整理!M37-5,0)","v":1769.0606499999999},{"$f":"N38+IF(データ整理!N37>5,データ整理!N37-5,0)","v":1605.1160699999998},{"$f":"O38+IF(データ整理!O37>5,データ整理!O37-5,0)","v":1718.483989999999},{"$f":"P38+IF(データ整理!P37>5,データ整理!P37-5,0)","v":1666.1365100000003},{"$f":"Q38+IF(データ整理!Q37>5,データ整理!Q37-5,0)","v":1612.2505100000001},{"$f":"R38+IF(データ整理!R37>5,データ整理!R37-5,0)","v":1493.4883599999998},{"$f":"S38+IF(データ整理!S37>5,データ整理!S37-5,0)","v":1635.6482600000002},{"$f":"T38+IF(データ整理!T37>5,データ整理!T37-5,0)","v":1504.8669899999995},{"$f":"U38+IF(データ整理!U37>5,データ整理!U37-5,0)","v":1499.72307},null,null,null,"2018-05-06",{"$f":"Z38+IF(データ整理!Z37>5,データ整理!Z37-5,0)","v":1499.72307},{"$f":"AA38+IF(データ整理!AA37>5,データ整理!AA37-5,0)","v":1535.9689700000004}]
["2014-05-07",{"$f":"B39+IF(データ整理!B38>5,データ整理!B38-5,0)","v":1707.2193600000001},{"$f":"C39+IF(データ整理!C38>5,データ整理!C38-5,0)","v":1744.0659999999998},{"$f":"D39+IF(データ整理!D38>5,データ整理!D38-5,0)","v":1521.2717600000003},{"$f":"E39+IF(データ整理!E38>5,データ整理!E38-5,0)","v":1481.1975099999997},{"$f":"F39+IF(データ整理!F38>5,データ整理!F38-5,0)","v":1485.4959599999986},{"$f":"G39+IF(データ整理!G38>5,データ整理!G38-5,0)","v":1661.1607700000004},{"$f":"H39+IF(データ整理!H38>5,データ整理!H38-5,0)","v":1647.8690899999999},{"$f":"I39+IF(データ整理!I38>5,データ整理!I38-5,0)","v":1679.6542299999996},{"$f":"J39+IF(データ整理!J38>5,データ整理!J38-5,0)","v":1541.3504799999992},{"$f":"K39+IF(データ整理!K38>5,データ整理!K38-5,0)","v":1517.5315700000003},{"$f":"L39+IF(データ整理!L38>5,データ整理!L38-5,0)","v":1506.4203600000001},{"$f":"M39+IF(データ整理!M38>5,データ整理!M38-5,0)","v":1767.9537599999999},{"$f":"N39+IF(データ整理!N38>5,データ整理!N38-5,0)","v":1603.3427699999997},{"$f":"O39+IF(データ整理!O38>5,データ整理!O38-5,0)","v":1714.6714699999991},{"$f":"P39+IF(データ整理!P38>5,データ整理!P38-5,0)","v":1666.1365100000003},{"$f":"Q39+IF(データ整理!Q38>5,データ整理!Q38-5,0)","v":1610.0295000000001},{"$f":"R39+IF(データ整理!R38>5,データ整理!R38-5,0)","v":1486.7658599999997},{"$f":"S39+IF(データ整理!S38>5,データ整理!S38-5,0)","v":1634.5656300000001},{"$f":"T39+IF(データ整理!T38>5,データ整理!T38-5,0)","v":1502.6911799999996},{"$f":"U39+IF(データ整理!U38>5,データ整理!U38-5,0)","v":1499.72307},null,null,null,"2018-05-07",{"$f":"Z39+IF(データ整理!Z38>5,データ整理!Z38-5,0)","v":1499.72307},{"$f":"AA39+IF(データ整理!AA38>5,データ整理!AA38-5,0)","v":1534.6059700000003}]
["2014-05-08",{"$f":"B40+IF(データ整理!B39>5,データ整理!B39-5,0)","v":1707.0405800000001},{"$f":"C40+IF(データ整理!C39>5,データ整理!C39-5,0)","v":1740.6230599999999},{"$f":"D40+IF(データ整理!D39>5,データ整理!D39-5,0)","v":1518.7188700000004},{"$f":"E40+IF(データ整理!E39>5,データ整理!E39-5,0)","v":1477.8989699999997},{"$f":"F40+IF(データ整理!F39>5,データ整理!F39-5,0)","v":1483.4945599999985},{"$f":"G40+IF(データ整理!G39>5,データ整理!G39-5,0)","v":1659.5007200000005},{"$f":"H40+IF(データ整理!H39>5,データ整理!H39-5,0)","v":1647.8690899999999},{"$f":"I40+IF(データ整理!I39>5,データ整理!I39-5,0)","v":1679.6542299999996},{"$f":"J40+IF(データ整理!J39>5,データ整理!J39-5,0)","v":1541.3504799999992},{"$f":"K40+IF(データ整理!K39>5,データ整理!K39-5,0)","v":1514.3838700000003},{"$f":"L40+IF(データ整理!L39>5,データ整理!L39-5,0)","v":1498.8176600000002},{"$f":"M40+IF(データ整理!M39>5,データ整理!M39-5,0)","v":1767.9537599999999},{"$f":"N40+IF(データ整理!N39>5,データ整理!N39-5,0)","v":1598.4512899999997},{"$f":"O40+IF(データ整理!O39>5,データ整理!O39-5,0)","v":1712.5072899999991},{"$f":"P40+IF(データ整理!P39>5,データ整理!P39-5,0)","v":1666.1365100000003},{"$f":"Q40+IF(データ整理!Q39>5,データ整理!Q39-5,0)","v":1607.6805900000002},{"$f":"R40+IF(データ整理!R39>5,データ整理!R39-5,0)","v":1481.8231899999998},{"$f":"S40+IF(データ整理!S39>5,データ整理!S39-5,0)","v":1633.3792600000002},{"$f":"T40+IF(データ整理!T39>5,データ整理!T39-5,0)","v":1501.2988099999995},{"$f":"U40+IF(データ整理!U39>5,データ整理!U39-5,0)","v":1499.72307},null,null,null,"2018-05-08",{"$f":"Z40+IF(データ整理!Z39>5,データ整理!Z39-5,0)","v":1499.72307},{"$f":"AA40+IF(データ整理!AA39>5,データ整理!AA39-5,0)","v":1533.0431500000002}]
["2014-05-09",{"$f":"B41+IF(データ整理!B40>5,データ整理!B40-5,0)","v":1706.05305},{"$f":"C41+IF(データ整理!C40>5,データ整理!C40-5,0)","v":1739.2079099999999},{"$f":"D41+IF(データ整理!D40>5,データ整理!D40-5,0)","v":1518.1058600000003},{"$f":"E41+IF(データ整理!E40>5,データ整理!E40-5,0)","v":1473.1419499999997},{"$f":"F41+IF(データ整理!F40>5,データ整理!F40-5,0)","v":1483.4945599999985},{"$f":"G41+IF(データ整理!G40>5,データ整理!G40-5,0)","v":1657.1059900000005},{"$f":"H41+IF(データ整理!H40>5,データ整理!H40-5,0)","v":1647.8690899999999},{"$f":"I41+IF(データ整理!I40>5,データ整理!I40-5,0)","v":1678.8019699999998},{"$f":"J41+IF(データ整理!J40>5,データ整理!J40-5,0)","v":1541.3504799999992},{"$f":"K41+IF(データ整理!K40>5,データ整理!K40-5,0)","v":1513.3023900000003},{"$f":"L41+IF(データ整理!L40>5,データ整理!L40-5,0)","v":1494.9271100000001},{"$f":"M41+IF(データ整理!M40>5,データ整理!M40-5,0)","v":1767.9537599999999},{"$f":"N41+IF(データ整理!N40>5,データ整理!N40-5,0)","v":1597.7953499999996},{"$f":"O41+IF(データ整理!O40>5,データ整理!O40-5,0)","v":1710.031459999999},{"$f":"P41+IF(データ整理!P40>5,データ整理!P40-5,0)","v":1666.1365100000003},{"$f":"Q41+IF(データ整理!Q40>5,データ整理!Q40-5,0)","v":1604.4475500000001},{"$f":"R41+IF(データ整理!R40>5,データ整理!R40-5,0)","v":1478.7729499999998},{"$f":"S41+IF(データ整理!S40>5,データ整理!S40-5,0)","v":1631.1297100000002},{"$f":"T41+IF(データ整理!T40>5,データ整理!T40-5,0)","v":1501.2988099999995},{"$f":"U41+IF(データ整理!U40>5,データ整理!U40-5,0)","v":1499.72307},null,null,null,"2018-05-09",{"$f":"Z41+IF(データ整理!Z40>5,データ整理!Z40-5,0)","v":1499.72307},{"$f":"AA41+IF(データ整理!AA40>5,データ整理!AA40-5,0)","v":1531.2755100000002}]
["2014-05-10",{"$f":"B42+IF(データ整理!B41>5,データ整理!B41-5,0)","v":1704.53792},{"$f":"C42+IF(データ整理!C41>5,データ整理!C41-5,0)","v":1736.4183899999998},{"$f":"D42+IF(データ整理!D41>5,データ整理!D41-5,0)","v":1517.1534900000004},{"$f":"E42+IF(データ整理!E41>5,データ整理!E41-5,0)","v":1467.2930499999998},{"$f":"F42+IF(データ整理!F41>5,データ整理!F41-5,0)","v":1483.4945599999985},{"$f":"G42+IF(データ整理!G41>5,データ整理!G41-5,0)","v":1651.3653900000004},{"$f":"H42+IF(データ整理!H41>5,データ整理!H41-5,0)","v":1647.8690899999999},{"$f":"I42+IF(データ整理!I41>5,データ整理!I41-5,0)","v":1676.0592499999998},{"$f":"J42+IF(データ整理!J41>5,データ整理!J41-5,0)","v":1539.1319299999991},{"$f":"K42+IF(データ整理!K41>5,データ整理!K41-5,0)","v":1513.3023900000003},{"$f":"L42+IF(データ整理!L41>5,データ整理!L41-5,0)","v":1490.1914000000002},{"$f":"M42+IF(データ整理!M41>5,データ整理!M41-5,0)","v":1767.9537599999999},{"$f":"N42+IF(データ整理!N41>5,データ整理!N41-5,0)","v":1597.7953499999996},{"$f":"O42+IF(データ整理!O41>5,データ整理!O41-5,0)","v":1708.565239999999},{"$f":"P42+IF(データ整理!P41>5,データ整理!P41-5,0)","v":1666.1365100000003},{"$f":"Q42+IF(データ整理!Q41>5,データ整理!Q41-5,0)","v":1603.4417800000001},{"$f":"R42+IF(データ整理!R41>5,データ整理!R41-5,0)","v":1477.7219899999998},{"$f":"S42+IF(データ整理!S41>5,データ整理!S41-5,0)","v":1628.9615200000001},{"$f":"T42+IF(データ整理!T41>5,データ整理!T41-5,0)","v":1498.3856999999996},{"$f":"U42+IF(データ整理!U41>5,データ整理!U41-5,0)","v":1499.72307},null,null,null,"2018-05-10",{"$f":"Z42+IF(データ整理!Z41>5,データ整理!Z41-5,0)","v":1499.72307},{"$f":"AA42+IF(データ整理!AA41>5,データ整理!AA41-5,0)","v":1529.2979100000002}]
["2014-05-11",{"$f":"B43+IF(データ整理!B42>5,データ整理!B42-5,0)","v":1703.81801},{"$f":"C43+IF(データ整理!C42>5,データ整理!C42-5,0)","v":1734.2644599999999},{"$f":"D43+IF(データ整理!D42>5,データ整理!D42-5,0)","v":1517.1534900000004},{"$f":"E43+IF(データ整理!E42>5,データ整理!E42-5,0)","v":1460.3702499999997},{"$f":"F43+IF(データ整理!F42>5,データ整理!F42-5,0)","v":1483.4945599999985},{"$f":"G43+IF(データ整理!G42>5,データ整理!G42-5,0)","v":1643.9180900000003},{"$f":"H43+IF(データ整理!H42>5,データ整理!H42-5,0)","v":1647.8690899999999},{"$f":"I43+IF(データ整理!I42>5,データ整理!I42-5,0)","v":1673.2520799999998},{"$f":"J43+IF(データ整理!J42>5,データ整理!J42-5,0)","v":1536.4031999999991},{"$f":"K43+IF(データ整理!K42>5,データ整理!K42-5,0)","v":1513.3023900000003},{"$f":"L43+IF(データ整理!L42>5,データ整理!L42-5,0)","v":1485.9021600000001},{"$f":"M43+IF(データ整理!M42>5,データ整理!M42-5,0)","v":1767.9537599999999},{"$f":"N43+IF(データ整理!N42>5,データ整理!N42-5,0)","v":1597.7953499999996},{"$f":"O43+IF(データ整理!O42>5,データ整理!O42-5,0)","v":1708.565239999999},{"$f":"P43+IF(データ整理!P42>5,データ整理!P42-5,0)","v":1664.9696100000003},{"$f":"Q43+IF(データ整理!Q42>5,データ整理!Q42-5,0)","v":1600.6831400000001},{"$f":"R43+IF(データ整理!R42>5,データ整理!R42-5,0)","v":1476.3568799999998},{"$f":"S43+IF(データ整理!S42>5,データ整理!S42-5,0)","v":1625.0899100000001},{"$f":"T43+IF(データ整理!T42>5,データ整理!T42-5,0)","v":1492.4589999999996},{"$f":"U43+IF(データ整理!U42>5,データ整理!U42-5,0)","v":1499.28963},null,null,null,"2018-05-11",{"$f":"Z43+IF(データ整理!Z42>5,データ整理!Z42-5,0)","v":1499.28963},{"$f":"AA43+IF(データ整理!AA42>5,データ整理!AA42-5,0)","v":1527.1048700000001}]
["2014-05-12",{"$f":"B44+IF(データ整理!B43>5,データ整理!B43-5,0)","v":1703.6226199999999},{"$f":"C44+IF(データ整理!C43>5,データ整理!C43-5,0)","v":1732.2951799999998},{"$f":"D44+IF(データ整理!D43>5,データ整理!D43-5,0)","v":1516.9987300000005},{"$f":"E44+IF(データ整理!E43>5,データ整理!E43-5,0)","v":1454.3877499999996},{"$f":"F44+IF(データ整理!F43>5,データ整理!F43-5,0)","v":1483.4945599999985},{"$f":"G44+IF(データ整理!G43>5,データ整理!G43-5,0)","v":1639.9075300000004},{"$f":"H44+IF(データ整理!H43>5,データ整理!H43-5,0)","v":1647.8690899999999},{"$f":"I44+IF(データ整理!I43>5,データ整理!I43-5,0)","v":1670.9689799999996},{"$f":"J44+IF(データ整理!J43>5,データ整理!J43-5,0)","v":1535.882259999999},{"$f":"K44+IF(データ整理!K43>5,データ整理!K43-5,0)","v":1513.3023900000003},{"$f":"L44+IF(データ整理!L43>5,データ整理!L43-5,0)","v":1481.9341200000001},{"$f":"M44+IF(データ整理!M43>5,データ整理!M43-5,0)","v":1767.9537599999999},{"$f":"N44+IF(データ整理!N43>5,データ整理!N43-5,0)","v":1597.7953499999996},{"$f":"O44+IF(データ整理!O43>5,データ整理!O43-5,0)","v":1708.565239999999},{"$f":"P44+IF(データ整理!P43>5,データ整理!P43-5,0)","v":1664.9696100000003},{"$f":"Q44+IF(データ整理!Q43>5,データ整理!Q43-5,0)","v":1595.7459100000001},{"$f":"R44+IF(データ整理!R43>5,データ整理!R43-5,0)","v":1471.1002799999999},{"$f":"S44+IF(データ整理!S43>5,データ整理!S43-5,0)","v":1622.7964600000003},{"$f":"T44+IF(データ整理!T43>5,データ整理!T43-5,0)","v":1487.6642699999995},{"$f":"U44+IF(データ整理!U43>5,データ整理!U43-5,0)","v":1497.5517500000001},null,null,null,"2018-05-12",{"$f":"Z44+IF(データ整理!Z43>5,データ整理!Z43-5,0)","v":1497.5517500000001},{"$f":"AA44+IF(データ整理!AA43>5,データ整理!AA43-5,0)","v":1524.6899500000002}]
["2014-05-13",{"$f":"B45+IF(データ整理!B44>5,データ整理!B44-5,0)","v":1703.0084999999999},{"$f":"C45+IF(データ整理!C44>5,データ整理!C44-5,0)","v":1729.0374999999999},{"$f":"D45+IF(データ整理!D44>5,データ整理!D44-5,0)","v":1511.6248300000004},{"$f":"E45+IF(データ整理!E44>5,データ整理!E44-5,0)","v":1448.7680499999997},{"$f":"F45+IF(データ整理!F44>5,データ整理!F44-5,0)","v":1480.5897699999985},{"$f":"G45+IF(データ整理!G44>5,データ整理!G44-5,0)","v":1634.0374300000003},{"$f":"H45+IF(データ整理!H44>5,データ整理!H44-5,0)","v":1647.8690899999999},{"$f":"I45+IF(データ整理!I44>5,データ整理!I44-5,0)","v":1669.0585699999997},{"$f":"J45+IF(データ整理!J44>5,データ整理!J44-5,0)","v":1534.073449999999},{"$f":"K45+IF(データ整理!K44>5,データ整理!K44-5,0)","v":1513.3023900000003},{"$f":"L45+IF(データ整理!L44>5,データ整理!L44-5,0)","v":1477.0178300000002},{"$f":"M45+IF(データ整理!M44>5,データ整理!M44-5,0)","v":1767.9537599999999},{"$f":"N45+IF(データ整理!N44>5,データ整理!N44-5,0)","v":1595.1936799999996},{"$f":"O45+IF(データ整理!O44>5,データ整理!O44-5,0)","v":1708.565239999999},{"$f":"P45+IF(データ整理!P44>5,データ整理!P44-5,0)","v":1664.9696100000003},{"$f":"Q45+IF(データ整理!Q44>5,データ整理!Q44-5,0)","v":1588.4553100000001},{"$f":"R45+IF(データ整理!R44>5,データ整理!R44-5,0)","v":1463.5435799999998},{"$f":"S45+IF(データ整理!S44>5,データ整理!S44-5,0)","v":1622.0393300000003},{"$f":"T45+IF(データ整理!T44>5,データ整理!T44-5,0)","v":1482.9643299999996},{"$f":"U45+IF(データ整理!U44>5,データ整理!U44-5,0)","v":1492.2217500000002},null,null,null,"2018-05-13",{"$f":"Z45+IF(データ整理!Z44>5,データ整理!Z44-5,0)","v":1492.2217500000002},{"$f":"AA45+IF(データ整理!AA44>5,データ整理!AA44-5,0)","v":1522.0430500000002}]
["2014-05-14",{"$f":"B46+IF(データ整理!B45>5,データ整理!B45-5,0)","v":1702.9204599999998},{"$f":"C46+IF(データ整理!C45>5,データ整理!C45-5,0)","v":1724.7708599999999},{"$f":"D46+IF(データ整理!D45>5,データ整理!D45-5,0)","v":1503.8949300000004},{"$f":"E46+IF(データ整理!E45>5,データ整理!E45-5,0)","v":1445.0590399999996},{"$f":"F46+IF(データ整理!F45>5,データ整理!F45-5,0)","v":1475.3548699999985},{"$f":"G46+IF(データ整理!G45>5,データ整理!G45-5,0)","v":1629.3191200000003},{"$f":"H46+IF(データ整理!H45>5,データ整理!H45-5,0)","v":1647.8690899999999},{"$f":"I46+IF(データ整理!I45>5,データ整理!I45-5,0)","v":1666.7551399999998},{"$f":"J46+IF(データ整理!J45>5,データ整理!J45-5,0)","v":1534.073449999999},{"$f":"K46+IF(データ整理!K45>5,データ整理!K45-5,0)","v":1512.8591000000004},{"$f":"L46+IF(データ整理!L45>5,データ整理!L45-5,0)","v":1474.0242400000002},{"$f":"M46+IF(データ整理!M45>5,データ整理!M45-5,0)","v":1767.9537599999999},{"$f":"N46+IF(データ整理!N45>5,データ整理!N45-5,0)","v":1594.4782599999996},{"$f":"O46+IF(データ整理!O45>5,データ整理!O45-5,0)","v":1707.817559999999},{"$f":"P46+IF(データ整理!P45>5,データ整理!P45-5,0)","v":1664.9696100000003},{"$f":"Q46+IF(データ整理!Q45>5,データ整理!Q45-5,0)","v":1582.2920100000001},{"$f":"R46+IF(データ整理!R45>5,データ整理!R45-5,0)","v":1458.4713799999997},{"$f":"S46+IF(データ整理!S45>5,データ整理!S45-5,0)","v":1616.4195300000003},{"$f":"T46+IF(データ整理!T45>5,データ整理!T45-5,0)","v":1478.3285999999996},{"$f":"U46+IF(データ整理!U45>5,データ整理!U45-5,0)","v":1490.4533500000002},null,null,null,"2018-05-14",{"$f":"Z46+IF(データ整理!Z45>5,データ整理!Z45-5,0)","v":1490.4533500000002},{"$f":"AA46+IF(データ整理!AA45>5,データ整理!AA45-5,0)","v":1519.1542800000002}]
["2014-05-15",{"$f":"B47+IF(データ整理!B46>5,データ整理!B46-5,0)","v":1702.9204599999998},{"$f":"C47+IF(データ整理!C46>5,データ整理!C46-5,0)","v":1720.5628599999998},{"$f":"D47+IF(データ整理!D46>5,データ整理!D46-5,0)","v":1495.0705300000004},{"$f":"E47+IF(データ整理!E46>5,データ整理!E46-5,0)","v":1442.2143899999996},{"$f":"F47+IF(データ整理!F46>5,データ整理!F46-5,0)","v":1471.7681099999986},{"$f":"G47+IF(データ整理!G46>5,データ整理!G46-5,0)","v":1621.8664200000003},{"$f":"H47+IF(データ整理!H46>5,データ整理!H46-5,0)","v":1647.69245},{"$f":"I47+IF(データ整理!I46>5,データ整理!I46-5,0)","v":1664.3249999999998},{"$f":"J47+IF(データ整理!J46>5,データ整理!J46-5,0)","v":1532.218169999999},{"$f":"K47+IF(データ整理!K46>5,データ整理!K46-5,0)","v":1511.4270000000004},{"$f":"L47+IF(データ整理!L46>5,データ整理!L46-5,0)","v":1474.0242400000002},{"$f":"M47+IF(データ整理!M46>5,データ整理!M46-5,0)","v":1767.9537599999999},{"$f":"N47+IF(データ整理!N46>5,データ整理!N46-5,0)","v":1594.4782599999996},{"$f":"O47+IF(データ整理!O46>5,データ整理!O46-5,0)","v":1704.9686399999991},{"$f":"P47+IF(データ整理!P46>5,データ整理!P46-5,0)","v":1664.9696100000003},{"$f":"Q47+IF(データ整理!Q46>5,データ整理!Q46-5,0)","v":1576.2446100000002},{"$f":"R47+IF(データ整理!R46>5,データ整理!R46-5,0)","v":1458.4713799999997},{"$f":"S47+IF(データ整理!S46>5,データ整理!S46-5,0)","v":1611.9236600000004},{"$f":"T47+IF(データ整理!T46>5,データ整理!T46-5,0)","v":1474.8394399999995},{"$f":"U47+IF(データ整理!U46>5,データ整理!U46-5,0)","v":1488.0470200000002},null,null,null,"2018-05-15",{"$f":"Z47+IF(データ整理!Z46>5,データ整理!Z46-5,0)","v":1488.0470200000002},{"$f":"AA47+IF(データ整理!AA46>5,データ整理!AA46-5,0)","v":1516.0174700000002}]
["2014-05-16",{"$f":"B48+IF(データ整理!B47>5,データ整理!B47-5,0)","v":1702.9204599999998},{"$f":"C48+IF(データ整理!C47>5,データ整理!C47-5,0)","v":1717.2772799999998},{"$f":"D48+IF(データ整理!D47>5,データ整理!D47-5,0)","v":1485.1483300000004},{"$f":"E48+IF(データ整理!E47>5,データ整理!E47-5,0)","v":1437.2891999999997},{"$f":"F48+IF(データ整理!F47>5,データ整理!F47-5,0)","v":1469.1517499999986},{"$f":"G48+IF(データ整理!G47>5,データ整理!G47-5,0)","v":1612.7227200000002},{"$f":"H48+IF(データ整理!H47>5,データ整理!H47-5,0)","v":1647.69245},{"$f":"I48+IF(データ整理!I47>5,データ整理!I47-5,0)","v":1659.1986999999999},{"$f":"J48+IF(データ整理!J47>5,データ整理!J47-5,0)","v":1528.5598799999989},{"$f":"K48+IF(データ整理!K47>5,データ整理!K47-5,0)","v":1508.8417300000003},{"$f":"L48+IF(データ整理!L47>5,データ整理!L47-5,0)","v":1474.0242400000002},{"$f":"M48+IF(データ整理!M47>5,データ整理!M47-5,0)","v":1766.2235999999998},{"$f":"N48+IF(データ整理!N47>5,データ整理!N47-5,0)","v":1594.4782599999996},{"$f":"O48+IF(データ整理!O47>5,データ整理!O47-5,0)","v":1703.2182999999991},{"$f":"P48+IF(データ整理!P47>5,データ整理!P47-5,0)","v":1664.9696100000003},{"$f":"Q48+IF(データ整理!Q47>5,データ整理!Q47-5,0)","v":1570.7251100000001},{"$f":"R48+IF(データ整理!R47>5,データ整理!R47-5,0)","v":1457.3701299999998},{"$f":"S48+IF(データ整理!S47>5,データ整理!S47-5,0)","v":1606.7798600000003},{"$f":"T48+IF(データ整理!T47>5,データ整理!T47-5,0)","v":1473.2956399999996},{"$f":"U48+IF(データ整理!U47>5,データ整理!U47-5,0)","v":1482.5979200000002},null,null,null,"2018-05-16",{"$f":"Z48+IF(データ整理!Z47>5,データ整理!Z47-5,0)","v":1482.5979200000002},{"$f":"AA48+IF(データ整理!AA47>5,データ整理!AA47-5,0)","v":1512.6294100000002}]
["2014-05-17",{"$f":"B49+IF(データ整理!B48>5,データ整理!B48-5,0)","v":1702.9204599999998},{"$f":"C49+IF(データ整理!C48>5,データ整理!C48-5,0)","v":1714.5200699999998},{"$f":"D49+IF(データ整理!D48>5,データ整理!D48-5,0)","v":1479.6592300000004},{"$f":"E49+IF(データ整理!E48>5,データ整理!E48-5,0)","v":1431.9792999999997},{"$f":"F49+IF(データ整理!F48>5,データ整理!F48-5,0)","v":1467.6492099999987},{"$f":"G49+IF(データ整理!G48>5,データ整理!G48-5,0)","v":1608.0267800000001},{"$f":"H49+IF(データ整理!H48>5,データ整理!H48-5,0)","v":1646.60508},{"$f":"I49+IF(データ整理!I48>5,データ整理!I48-5,0)","v":1653.2351999999998},{"$f":"J49+IF(データ整理!J48>5,データ整理!J48-5,0)","v":1523.1054799999988},{"$f":"K49+IF(データ整理!K48>5,データ整理!K48-5,0)","v":1503.6305300000004},{"$f":"L49+IF(データ整理!L48>5,データ整理!L48-5,0)","v":1470.5827700000002},{"$f":"M49+IF(データ整理!M48>5,データ整理!M48-5,0)","v":1762.4093599999999},{"$f":"N49+IF(データ整理!N48>5,データ整理!N48-5,0)","v":1591.2545999999995},{"$f":"O49+IF(データ整理!O48>5,データ整理!O48-5,0)","v":1700.7152499999991},{"$f":"P49+IF(データ整理!P48>5,データ整理!P48-5,0)","v":1664.6247900000003},{"$f":"Q49+IF(データ整理!Q48>5,データ整理!Q48-5,0)","v":1570.7251100000001},{"$f":"R49+IF(データ整理!R48>5,データ整理!R48-5,0)","v":1455.1704799999998},{"$f":"S49+IF(データ整理!S48>5,データ整理!S48-5,0)","v":1599.0609600000003},{"$f":"T49+IF(データ整理!T48>5,データ整理!T48-5,0)","v":1470.0134799999996},{"$f":"U49+IF(データ整理!U48>5,データ整理!U48-5,0)","v":1475.0534200000002},null,null,null,"2018-05-17",{"$f":"Z49+IF(データ整理!Z48>5,データ整理!Z48-5,0)","v":1475.0534200000002},{"$f":"AA49+IF(データ整理!AA48>5,データ整理!AA48-5,0)","v":1508.9924500000002}]
["2014-05-18",{"$f":"B50+IF(データ整理!B49>5,データ整理!B49-5,0)","v":1701.8804399999999},{"$f":"C50+IF(データ整理!C49>5,データ整理!C49-5,0)","v":1710.4418399999997},{"$f":"D50+IF(データ整理!D49>5,データ整理!D49-5,0)","v":1475.0660500000004},{"$f":"E50+IF(データ整理!E49>5,データ整理!E49-5,0)","v":1425.6897999999997},{"$f":"F50+IF(データ整理!F49>5,データ整理!F49-5,0)","v":1464.7619799999986},{"$f":"G50+IF(データ整理!G49>5,データ整理!G49-5,0)","v":1602.5830800000001},{"$f":"H50+IF(データ整理!H49>5,データ整理!H49-5,0)","v":1644.8136500000001},{"$f":"I50+IF(データ整理!I49>5,データ整理!I49-5,0)","v":1646.7282999999998},{"$f":"J50+IF(データ整理!J49>5,データ整理!J49-5,0)","v":1516.8629799999987},{"$f":"K50+IF(データ整理!K49>5,データ整理!K49-5,0)","v":1499.7492100000004},{"$f":"L50+IF(データ整理!L49>5,データ整理!L49-5,0)","v":1464.5115700000001},{"$f":"M50+IF(データ整理!M49>5,データ整理!M49-5,0)","v":1758.01244},{"$f":"N50+IF(データ整理!N49>5,データ整理!N49-5,0)","v":1589.3935499999995},{"$f":"O50+IF(データ整理!O49>5,データ整理!O49-5,0)","v":1698.2984199999992},{"$f":"P50+IF(データ整理!P49>5,データ整理!P49-5,0)","v":1663.1681600000004},{"$f":"Q50+IF(データ整理!Q49>5,データ整理!Q49-5,0)","v":1570.7251100000001},{"$f":"R50+IF(データ整理!R49>5,データ整理!R49-5,0)","v":1453.1130999999998},{"$f":"S50+IF(データ整理!S49>5,データ整理!S49-5,0)","v":1591.1547600000004},{"$f":"T50+IF(データ整理!T49>5,データ整理!T49-5,0)","v":1464.6124799999996},{"$f":"U50+IF(データ整理!U49>5,データ整理!U49-5,0)","v":1469.3134200000002},null,null,null,"2018-05-18",{"$f":"Z50+IF(データ整理!Z49>5,データ整理!Z49-5,0)","v":1469.3134200000002},{"$f":"AA50+IF(データ整理!AA49>5,データ整理!AA49-5,0)","v":1505.1128500000002}]
["2014-05-19",{"$f":"B51+IF(データ整理!B50>5,データ整理!B50-5,0)","v":1701.57268},{"$f":"C51+IF(データ整理!C50>5,データ整理!C50-5,0)","v":1704.7870399999997},{"$f":"D51+IF(データ整理!D50>5,データ整理!D50-5,0)","v":1465.2875500000005},{"$f":"E51+IF(データ整理!E50>5,データ整理!E50-5,0)","v":1419.2414999999996},{"$f":"F51+IF(データ整理!F50>5,データ整理!F50-5,0)","v":1459.6891799999987},{"$f":"G51+IF(データ整理!G50>5,データ整理!G50-5,0)","v":1597.9111700000001},{"$f":"H51+IF(データ整理!H50>5,データ整理!H50-5,0)","v":1643.51287},{"$f":"I51+IF(データ整理!I50>5,データ整理!I50-5,0)","v":1639.3056999999997},{"$f":"J51+IF(データ整理!J50>5,データ整理!J50-5,0)","v":1512.9450699999989},{"$f":"K51+IF(データ整理!K50>5,データ整理!K50-5,0)","v":1494.4923100000003},{"$f":"L51+IF(データ整理!L50>5,データ整理!L50-5,0)","v":1459.34247},{"$f":"M51+IF(データ整理!M50>5,データ整理!M50-5,0)","v":1753.4989499999999},{"$f":"N51+IF(データ整理!N50>5,データ整理!N50-5,0)","v":1584.8019799999995},{"$f":"O51+IF(データ整理!O50>5,データ整理!O50-5,0)","v":1695.9400999999991},{"$f":"P51+IF(データ整理!P50>5,データ整理!P50-5,0)","v":1661.1227100000003},{"$f":"Q51+IF(データ整理!Q50>5,データ整理!Q50-5,0)","v":1570.7251100000001},{"$f":"R51+IF(データ整理!R50>5,データ整理!R50-5,0)","v":1448.1798599999997},{"$f":"S51+IF(データ整理!S50>5,データ整理!S50-5,0)","v":1584.2940600000004},{"$f":"T51+IF(データ整理!T50>5,データ整理!T50-5,0)","v":1456.8805799999996},{"$f":"U51+IF(データ整理!U50>5,データ整理!U50-5,0)","v":1466.4394000000002},null,null,null,"2018-05-19",{"$f":"Z51+IF(データ整理!Z50>5,データ整理!Z50-5,0)","v":1466.4394000000002},{"$f":"AA51+IF(データ整理!AA50>5,データ整理!AA50-5,0)","v":1500.9978600000002}]
["2014-05-20",{"$f":"B52+IF(データ整理!B51>5,データ整理!B51-5,0)","v":1699.7633900000001},{"$f":"C52+IF(データ整理!C51>5,データ整理!C51-5,0)","v":1696.9640399999996},{"$f":"D52+IF(データ整理!D51>5,データ整理!D51-5,0)","v":1457.1049500000004},{"$f":"E52+IF(データ整理!E51>5,データ整理!E51-5,0)","v":1411.9010999999996},{"$f":"F52+IF(データ整理!F51>5,データ整理!F51-5,0)","v":1453.0702799999988},{"$f":"G52+IF(データ整理!G51>5,データ整理!G51-5,0)","v":1591.1600700000001},{"$f":"H52+IF(データ整理!H51>5,データ整理!H51-5,0)","v":1642.46976},{"$f":"I52+IF(データ整理!I51>5,データ整理!I51-5,0)","v":1630.9457999999997},{"$f":"J52+IF(データ整理!J51>5,データ整理!J51-5,0)","v":1512.9450699999989},{"$f":"K52+IF(データ整理!K51>5,データ整理!K51-5,0)","v":1486.3853100000003},{"$f":"L52+IF(データ整理!L51>5,データ整理!L51-5,0)","v":1451.6164699999999},{"$f":"M52+IF(データ整理!M51>5,データ整理!M51-5,0)","v":1747.4916499999999},{"$f":"N52+IF(データ整理!N51>5,データ整理!N51-5,0)","v":1578.9758799999995},{"$f":"O52+IF(データ整理!O51>5,データ整理!O51-5,0)","v":1693.8380699999991},{"$f":"P52+IF(データ整理!P51>5,データ整理!P51-5,0)","v":1659.0287800000003},{"$f":"Q52+IF(データ整理!Q51>5,データ整理!Q51-5,0)","v":1568.5482000000002},{"$f":"R52+IF(データ整理!R51>5,データ整理!R51-5,0)","v":1445.3270099999997},{"$f":"S52+IF(データ整理!S51>5,データ整理!S51-5,0)","v":1576.2355600000003},{"$f":"T52+IF(データ整理!T51>5,データ整理!T51-5,0)","v":1446.5030799999995},{"$f":"U52+IF(データ整理!U51>5,データ整理!U51-5,0)","v":1463.8795000000002},null,null,null,"2018-05-20",{"$f":"Z52+IF(データ整理!Z51>5,データ整理!Z51-5,0)","v":1463.8795000000002},{"$f":"AA52+IF(データ整理!AA51>5,データ整理!AA51-5,0)","v":1496.6574000000003}]
["2014-05-21",{"$f":"B53+IF(データ整理!B52>5,データ整理!B52-5,0)","v":1694.0830900000001},{"$f":"C53+IF(データ整理!C52>5,データ整理!C52-5,0)","v":1689.0016399999997},{"$f":"D53+IF(データ整理!D52>5,データ整理!D52-5,0)","v":1451.5402500000005},{"$f":"E53+IF(データ整理!E52>5,データ整理!E52-5,0)","v":1406.0037999999995},{"$f":"F53+IF(データ整理!F52>5,データ整理!F52-5,0)","v":1446.8236799999988},{"$f":"G53+IF(データ整理!G52>5,データ整理!G52-5,0)","v":1579.8744700000002},{"$f":"H53+IF(データ整理!H52>5,データ整理!H52-5,0)","v":1638.32808},{"$f":"I53+IF(データ整理!I52>5,データ整理!I52-5,0)","v":1625.1272999999997},{"$f":"J53+IF(データ整理!J52>5,データ整理!J52-5,0)","v":1511.9559299999989},{"$f":"K53+IF(データ整理!K52>5,データ整理!K52-5,0)","v":1478.7474100000004},{"$f":"L53+IF(データ整理!L52>5,データ整理!L52-5,0)","v":1444.6674699999999},{"$f":"M53+IF(データ整理!M52>5,データ整理!M52-5,0)","v":1745.11454},{"$f":"N53+IF(データ整理!N52>5,データ整理!N52-5,0)","v":1574.5824099999995},{"$f":"O53+IF(データ整理!O52>5,データ整理!O52-5,0)","v":1689.403389999999},{"$f":"P53+IF(データ整理!P52>5,データ整理!P52-5,0)","v":1656.2985000000003},{"$f":"Q53+IF(データ整理!Q52>5,データ整理!Q52-5,0)","v":1564.1401900000001},{"$f":"R53+IF(データ整理!R52>5,データ整理!R52-5,0)","v":1440.4475799999998},{"$f":"S53+IF(データ整理!S52>5,データ整理!S52-5,0)","v":1566.5627600000003},{"$f":"T53+IF(データ整理!T52>5,データ整理!T52-5,0)","v":1437.4060799999995},{"$f":"U53+IF(データ整理!U52>5,データ整理!U52-5,0)","v":1461.1346700000001},null,null,null,"2018-05-21",{"$f":"Z53+IF(データ整理!Z52>5,データ整理!Z52-5,0)","v":1461.1346700000001},{"$f":"AA53+IF(データ整理!AA52>5,データ整理!AA52-5,0)","v":1492.1034800000002}]
["2014-05-22",{"$f":"B54+IF(データ整理!B53>5,データ整理!B53-5,0)","v":1688.97279},{"$f":"C54+IF(データ整理!C53>5,データ整理!C53-5,0)","v":1681.6156399999998},{"$f":"D54+IF(データ整理!D53>5,データ整理!D53-5,0)","v":1447.0474500000005},{"$f":"E54+IF(データ整理!E53>5,データ整理!E53-5,0)","v":1400.9377999999995},{"$f":"F54+IF(データ整理!F53>5,データ整理!F53-5,0)","v":1442.9069299999987},{"$f":"G54+IF(データ整理!G53>5,データ整理!G53-5,0)","v":1575.1799900000001},{"$f":"H54+IF(データ整理!H53>5,データ整理!H53-5,0)","v":1631.4678799999999},{"$f":"I54+IF(データ整理!I53>5,データ整理!I53-5,0)","v":1619.6195999999998},{"$f":"J54+IF(データ整理!J53>5,データ整理!J53-5,0)","v":1507.1480499999989},{"$f":"K54+IF(データ整理!K53>5,データ整理!K53-5,0)","v":1474.5633500000004},{"$f":"L54+IF(データ整理!L53>5,データ整理!L53-5,0)","v":1435.5454699999998},{"$f":"M54+IF(データ整理!M53>5,データ整理!M53-5,0)","v":1741.0039200000001},{"$f":"N54+IF(データ整理!N53>5,データ整理!N53-5,0)","v":1570.0077499999995},{"$f":"O54+IF(データ整理!O53>5,データ整理!O53-5,0)","v":1682.995889999999},{"$f":"P54+IF(データ整理!P53>5,データ整理!P53-5,0)","v":1653.1908100000003},{"$f":"Q54+IF(データ整理!Q53>5,データ整理!Q53-5,0)","v":1558.51639},{"$f":"R54+IF(データ整理!R53>5,データ整理!R53-5,0)","v":1437.1982899999998},{"$f":"S54+IF(データ整理!S53>5,データ整理!S53-5,0)","v":1555.8929600000004},{"$f":"T54+IF(データ整理!T53>5,データ整理!T53-5,0)","v":1429.6193799999994},{"$f":"U54+IF(データ整理!U53>5,データ整理!U53-5,0)","v":1455.6814700000002},null,null,null,"2018-05-22",{"$f":"Z54+IF(データ整理!Z53>5,データ整理!Z53-5,0)","v":1455.6814700000002},{"$f":"AA54+IF(データ整理!AA53>5,データ整理!AA53-5,0)","v":1487.3515300000001}]
["2014-05-23",{"$f":"B55+IF(データ整理!B54>5,データ整理!B54-5,0)","v":1678.18119},{"$f":"C55+IF(データ整理!C54>5,データ整理!C54-5,0)","v":1675.5496399999997},{"$f":"D55+IF(データ整理!D54>5,データ整理!D54-5,0)","v":1442.1062700000004},{"$f":"E55+IF(データ整理!E54>5,データ整理!E54-5,0)","v":1393.9019999999994},{"$f":"F55+IF(データ整理!F54>5,データ整理!F54-5,0)","v":1439.6485099999989},{"$f":"G55+IF(データ整理!G54>5,データ整理!G54-5,0)","v":1571.8447200000001},{"$f":"H55+IF(データ整理!H54>5,データ整理!H54-5,0)","v":1624.6991799999998},{"$f":"I55+IF(データ整理!I54>5,データ整理!I54-5,0)","v":1614.3565999999998},{"$f":"J55+IF(データ整理!J54>5,データ整理!J54-5,0)","v":1496.7682499999989},{"$f":"K55+IF(データ整理!K54>5,データ整理!K54-5,0)","v":1467.6207500000003},{"$f":"L55+IF(データ整理!L54>5,データ整理!L54-5,0)","v":1426.9509699999999},{"$f":"M55+IF(データ整理!M54>5,データ整理!M54-5,0)","v":1735.3777200000002},{"$f":"N55+IF(データ整理!N54>5,データ整理!N54-5,0)","v":1568.1875999999995},{"$f":"O55+IF(データ整理!O54>5,データ整理!O54-5,0)","v":1673.8760899999991},{"$f":"P55+IF(データ整理!P54>5,データ整理!P54-5,0)","v":1650.3375200000003},{"$f":"Q55+IF(データ整理!Q54>5,データ整理!Q54-5,0)","v":1558.4425000000001},{"$f":"R55+IF(データ整理!R54>5,データ整理!R54-5,0)","v":1431.4425899999999},{"$f":"S55+IF(データ整理!S54>5,データ整理!S54-5,0)","v":1545.5854600000005},{"$f":"T55+IF(データ整理!T54>5,データ整理!T54-5,0)","v":1422.9564799999994},{"$f":"U55+IF(データ整理!U54>5,データ整理!U54-5,0)","v":1447.2639700000002},null,null,null,"2018-05-23",{"$f":"Z55+IF(データ整理!Z54>5,データ整理!Z54-5,0)","v":1447.2639700000002},{"$f":"AA55+IF(データ整理!AA54>5,データ整理!AA54-5,0)","v":1482.4151900000002}]
["2014-05-24",{"$f":"B56+IF(データ整理!B55>5,データ整理!B55-5,0)","v":1671.56799},{"$f":"C56+IF(データ整理!C55>5,データ整理!C55-5,0)","v":1667.6017399999998},{"$f":"D56+IF(データ整理!D55>5,データ整理!D55-5,0)","v":1437.4844800000005},{"$f":"E56+IF(データ整理!E55>5,データ整理!E55-5,0)","v":1386.7576999999994},{"$f":"F56+IF(データ整理!F55>5,データ整理!F55-5,0)","v":1434.0189099999989},{"$f":"G56+IF(データ整理!G55>5,データ整理!G55-5,0)","v":1565.1771200000001},{"$f":"H56+IF(データ整理!H55>5,データ整理!H55-5,0)","v":1621.6138399999998},{"$f":"I56+IF(データ整理!I55>5,データ整理!I55-5,0)","v":1609.4593299999999},{"$f":"J56+IF(データ整理!J55>5,データ整理!J55-5,0)","v":1492.0280799999989},{"$f":"K56+IF(データ整理!K55>5,データ整理!K55-5,0)","v":1462.4740500000003},{"$f":"L56+IF(データ整理!L55>5,データ整理!L55-5,0)","v":1419.6366699999999},{"$f":"M56+IF(データ整理!M55>5,データ整理!M55-5,0)","v":1727.6998200000003},{"$f":"N56+IF(データ整理!N55>5,データ整理!N55-5,0)","v":1568.1875999999995},{"$f":"O56+IF(データ整理!O55>5,データ整理!O55-5,0)","v":1666.195189999999},{"$f":"P56+IF(データ整理!P55>5,データ整理!P55-5,0)","v":1650.0714800000003},{"$f":"Q56+IF(データ整理!Q55>5,データ整理!Q55-5,0)","v":1555.2423800000001},{"$f":"R56+IF(データ整理!R55>5,データ整理!R55-5,0)","v":1424.3376899999998},{"$f":"S56+IF(データ整理!S55>5,データ整理!S55-5,0)","v":1536.7860600000004},{"$f":"T56+IF(データ整理!T55>5,データ整理!T55-5,0)","v":1417.4614799999995},{"$f":"U56+IF(データ整理!U55>5,データ整理!U55-5,0)","v":1437.8166700000002},null,null,null,"2018-05-24",{"$f":"Z56+IF(データ整理!Z55>5,データ整理!Z55-5,0)","v":1437.8166700000002},{"$f":"AA56+IF(データ整理!AA55>5,データ整理!AA55-5,0)","v":1477.3049900000001}]
["2014-05-25",{"$f":"B57+IF(データ整理!B56>5,データ整理!B56-5,0)","v":1666.8515400000001},{"$f":"C57+IF(データ整理!C56>5,データ整理!C56-5,0)","v":1660.3045399999999},{"$f":"D57+IF(データ整理!D56>5,データ整理!D56-5,0)","v":1430.3579800000005},{"$f":"E57+IF(データ整理!E56>5,データ整理!E56-5,0)","v":1380.6292999999994},{"$f":"F57+IF(データ整理!F56>5,データ整理!F56-5,0)","v":1426.5304099999989},{"$f":"G57+IF(データ整理!G56>5,データ整理!G56-5,0)","v":1558.2736200000002},{"$f":"H57+IF(データ整理!H56>5,データ整理!H56-5,0)","v":1620.1515999999997},{"$f":"I57+IF(データ整理!I56>5,データ整理!I56-5,0)","v":1608.1351199999999},{"$f":"J57+IF(データ整理!J56>5,データ整理!J56-5,0)","v":1490.010129999999},{"$f":"K57+IF(データ整理!K56>5,データ整理!K56-5,0)","v":1454.8624500000003},{"$f":"L57+IF(データ整理!L56>5,データ整理!L56-5,0)","v":1414.1197699999998},{"$f":"M57+IF(データ整理!M56>5,データ整理!M56-5,0)","v":1720.3985200000002},{"$f":"N57+IF(データ整理!N56>5,データ整理!N56-5,0)","v":1564.8147399999996},{"$f":"O57+IF(データ整理!O56>5,データ整理!O56-5,0)","v":1657.692289999999},{"$f":"P57+IF(データ整理!P56>5,データ整理!P56-5,0)","v":1647.9791700000003},{"$f":"Q57+IF(データ整理!Q56>5,データ整理!Q56-5,0)","v":1551.0725200000002},{"$f":"R57+IF(データ整理!R56>5,データ整理!R56-5,0)","v":1419.5334599999999},{"$f":"S57+IF(データ整理!S56>5,データ整理!S56-5,0)","v":1528.0214600000004},{"$f":"T57+IF(データ整理!T56>5,データ整理!T56-5,0)","v":1411.8868799999996},{"$f":"U57+IF(データ整理!U56>5,データ整理!U56-5,0)","v":1431.3724700000002},null,null,null,"2018-05-25",{"$f":"Z57+IF(データ整理!Z56>5,データ整理!Z56-5,0)","v":1431.3724700000002},{"$f":"AA57+IF(データ整理!AA56>5,データ整理!AA56-5,0)","v":1472.0266900000001}]
["2014-05-26",{"$f":"B58+IF(データ整理!B57>5,データ整理!B57-5,0)","v":1662.6307200000001},{"$f":"C58+IF(データ整理!C57>5,データ整理!C57-5,0)","v":1651.5827399999998},{"$f":"D58+IF(データ整理!D57>5,データ整理!D57-5,0)","v":1424.3769800000005},{"$f":"E58+IF(データ整理!E57>5,データ整理!E57-5,0)","v":1377.2325699999994},{"$f":"F58+IF(データ整理!F57>5,データ整理!F57-5,0)","v":1419.164109999999},{"$f":"G58+IF(データ整理!G57>5,データ整理!G57-5,0)","v":1553.5508500000001},{"$f":"H58+IF(データ整理!H57>5,データ整理!H57-5,0)","v":1618.0431299999998},{"$f":"I58+IF(データ整理!I57>5,データ整理!I57-5,0)","v":1605.80881},{"$f":"J58+IF(データ整理!J57>5,データ整理!J57-5,0)","v":1487.471469999999},{"$f":"K58+IF(データ整理!K57>5,データ整理!K57-5,0)","v":1447.0419500000003},{"$f":"L58+IF(データ整理!L57>5,データ整理!L57-5,0)","v":1410.2520399999999},{"$f":"M58+IF(データ整理!M57>5,データ整理!M57-5,0)","v":1716.8052500000001},{"$f":"N58+IF(データ整理!N57>5,データ整理!N57-5,0)","v":1559.3417399999996},{"$f":"O58+IF(データ整理!O57>5,データ整理!O57-5,0)","v":1648.6782899999992},{"$f":"P58+IF(データ整理!P57>5,データ整理!P57-5,0)","v":1644.9091100000003},{"$f":"Q58+IF(データ整理!Q57>5,データ整理!Q57-5,0)","v":1547.8563300000001},{"$f":"R58+IF(データ整理!R57>5,データ整理!R57-5,0)","v":1414.4738599999998},{"$f":"S58+IF(データ整理!S57>5,データ整理!S57-5,0)","v":1518.8820600000004},{"$f":"T58+IF(データ整理!T57>5,データ整理!T57-5,0)","v":1404.3371799999995},{"$f":"U58+IF(データ整理!U57>5,データ整理!U57-5,0)","v":1427.4018300000002},null,null,null,"2018-05-26",{"$f":"Z58+IF(データ整理!Z57>5,データ整理!Z57-5,0)","v":1427.4018300000002},{"$f":"AA58+IF(データ整理!AA57>5,データ整理!AA57-5,0)","v":1466.5811900000001}]
["2014-05-27",{"$f":"B59+IF(データ整理!B58>5,データ整理!B58-5,0)","v":1657.4451200000001},{"$f":"C59+IF(データ整理!C58>5,データ整理!C58-5,0)","v":1641.2518399999999},{"$f":"D59+IF(データ整理!D58>5,データ整理!D58-5,0)","v":1419.3501800000004},{"$f":"E59+IF(データ整理!E58>5,データ整理!E58-5,0)","v":1374.2207299999995},{"$f":"F59+IF(データ整理!F58>5,データ整理!F58-5,0)","v":1411.0215099999991},{"$f":"G59+IF(データ整理!G58>5,データ整理!G58-5,0)","v":1545.1030500000002},{"$f":"H59+IF(データ整理!H58>5,データ整理!H58-5,0)","v":1615.3955599999997},{"$f":"I59+IF(データ整理!I58>5,データ整理!I58-5,0)","v":1599.92031},{"$f":"J59+IF(データ整理!J58>5,データ整理!J58-5,0)","v":1484.3577199999991},{"$f":"K59+IF(データ整理!K58>5,データ整理!K58-5,0)","v":1440.1294500000004},{"$f":"L59+IF(データ整理!L58>5,データ整理!L58-5,0)","v":1404.6448399999999},{"$f":"M59+IF(データ整理!M58>5,データ整理!M58-5,0)","v":1715.92507},{"$f":"N59+IF(データ整理!N58>5,データ整理!N58-5,0)","v":1553.0592399999996},{"$f":"O59+IF(データ整理!O58>5,データ整理!O58-5,0)","v":1644.5438999999992},{"$f":"P59+IF(データ整理!P58>5,データ整理!P58-5,0)","v":1638.7792100000004},{"$f":"Q59+IF(データ整理!Q58>5,データ整理!Q58-5,0)","v":1543.12257},{"$f":"R59+IF(データ整理!R58>5,データ整理!R58-5,0)","v":1410.0996299999999},{"$f":"S59+IF(データ整理!S58>5,データ整理!S58-5,0)","v":1507.9308600000004},{"$f":"T59+IF(データ整理!T58>5,データ整理!T58-5,0)","v":1396.5644799999995},{"$f":"U59+IF(データ整理!U58>5,データ整理!U58-5,0)","v":1424.8294100000003},null,null,null,"2018-05-27",{"$f":"Z59+IF(データ整理!Z58>5,データ整理!Z58-5,0)","v":1424.8294100000003},{"$f":"AA59+IF(データ整理!AA58>5,データ整理!AA58-5,0)","v":1460.96819}]
["2014-05-28",{"$f":"B60+IF(データ整理!B59>5,データ整理!B59-5,0)","v":1652.5089300000002},{"$f":"C60+IF(データ整理!C59>5,データ整理!C59-5,0)","v":1628.8232399999999},{"$f":"D60+IF(データ整理!D59>5,データ整理!D59-5,0)","v":1414.7463100000004},{"$f":"E60+IF(データ整理!E59>5,データ整理!E59-5,0)","v":1368.3148299999996},{"$f":"F60+IF(データ整理!F59>5,データ整理!F59-5,0)","v":1404.8693099999991},{"$f":"G60+IF(データ整理!G59>5,データ整理!G59-5,0)","v":1533.4181500000002},{"$f":"H60+IF(データ整理!H59>5,データ整理!H59-5,0)","v":1612.0286699999997},{"$f":"I60+IF(データ整理!I59>5,データ整理!I59-5,0)","v":1589.4181100000001},{"$f":"J60+IF(データ整理!J59>5,データ整理!J59-5,0)","v":1484.269489999999},{"$f":"K60+IF(データ整理!K59>5,データ整理!K59-5,0)","v":1437.7045300000004},{"$f":"L60+IF(データ整理!L59>5,データ整理!L59-5,0)","v":1399.0064399999999},{"$f":"M60+IF(データ整理!M59>5,データ整理!M59-5,0)","v":1715.92507},{"$f":"N60+IF(データ整理!N59>5,データ整理!N59-5,0)","v":1545.0998399999996},{"$f":"O60+IF(データ整理!O59>5,データ整理!O59-5,0)","v":1643.5200999999993},{"$f":"P60+IF(データ整理!P59>5,データ整理!P59-5,0)","v":1628.5789100000004},{"$f":"Q60+IF(データ整理!Q59>5,データ整理!Q59-5,0)","v":1534.20587},{"$f":"R60+IF(データ整理!R59>5,データ整理!R59-5,0)","v":1404.9866299999999},{"$f":"S60+IF(データ整理!S59>5,データ整理!S59-5,0)","v":1500.3770600000005},{"$f":"T60+IF(データ整理!T59>5,データ整理!T59-5,0)","v":1390.6250799999996},{"$f":"U60+IF(データ整理!U59>5,データ整理!U59-5,0)","v":1421.0128100000002},null,null,null,"2018-05-28",{"$f":"Z60+IF(データ整理!Z59>5,データ整理!Z59-5,0)","v":1421.0128100000002},{"$f":"AA60+IF(データ整理!AA59>5,データ整理!AA59-5,0)","v":1455.1871900000001}]
["2014-05-29",{"$f":"B61+IF(データ整理!B60>5,データ整理!B60-5,0)","v":1647.3110300000003},{"$f":"C61+IF(データ整理!C60>5,データ整理!C60-5,0)","v":1619.66714},{"$f":"D61+IF(データ整理!D60>5,データ整理!D60-5,0)","v":1408.2490100000005},{"$f":"E61+IF(データ整理!E60>5,データ整理!E60-5,0)","v":1359.6959299999996},{"$f":"F61+IF(データ整理!F60>5,データ整理!F60-5,0)","v":1395.1880099999992},{"$f":"G61+IF(データ整理!G60>5,データ整理!G60-5,0)","v":1520.6798500000002},{"$f":"H61+IF(データ整理!H60>5,データ整理!H60-5,0)","v":1604.9587699999997},{"$f":"I61+IF(データ整理!I60>5,データ整理!I60-5,0)","v":1581.7550100000001},{"$f":"J61+IF(データ整理!J60>5,データ整理!J60-5,0)","v":1481.6984099999991},{"$f":"K61+IF(データ整理!K60>5,データ整理!K60-5,0)","v":1434.9807000000005},{"$f":"L61+IF(データ整理!L60>5,データ整理!L60-5,0)","v":1394.29107},{"$f":"M61+IF(データ整理!M60>5,データ整理!M60-5,0)","v":1715.92507},{"$f":"N61+IF(データ整理!N60>5,データ整理!N60-5,0)","v":1536.0057399999996},{"$f":"O61+IF(データ整理!O60>5,データ整理!O60-5,0)","v":1639.1595699999993},{"$f":"P61+IF(データ整理!P60>5,データ整理!P60-5,0)","v":1617.7540100000003},{"$f":"Q61+IF(データ整理!Q60>5,データ整理!Q60-5,0)","v":1524.20667},{"$f":"R61+IF(データ整理!R60>5,データ整理!R60-5,0)","v":1396.9369299999998},{"$f":"S61+IF(データ整理!S60>5,データ整理!S60-5,0)","v":1493.8832600000005},{"$f":"T61+IF(データ整理!T60>5,データ整理!T60-5,0)","v":1383.6845799999996},{"$f":"U61+IF(データ整理!U60>5,データ整理!U60-5,0)","v":1415.9395100000002},null,null,null,"2018-05-29",{"$f":"Z61+IF(データ整理!Z60>5,データ整理!Z60-5,0)","v":1415.9395100000002},{"$f":"AA61+IF(データ整理!AA60>5,データ整理!AA60-5,0)","v":1449.2348900000002}]
["2014-05-30",{"$f":"B62+IF(データ整理!B61>5,データ整理!B61-5,0)","v":1643.3364600000002},{"$f":"C62+IF(データ整理!C61>5,データ整理!C61-5,0)","v":1610.98334},{"$f":"D62+IF(データ整理!D61>5,データ整理!D61-5,0)","v":1398.6316100000004},{"$f":"E62+IF(データ整理!E61>5,データ整理!E61-5,0)","v":1350.2214299999996},{"$f":"F62+IF(データ整理!F61>5,データ整理!F61-5,0)","v":1384.7915099999991},{"$f":"G62+IF(データ整理!G61>5,データ整理!G61-5,0)","v":1510.4756500000003},{"$f":"H62+IF(データ整理!H61>5,データ整理!H61-5,0)","v":1596.6123699999998},{"$f":"I62+IF(データ整理!I61>5,データ整理!I61-5,0)","v":1574.7774100000001},{"$f":"J62+IF(データ整理!J61>5,データ整理!J61-5,0)","v":1476.603409999999},{"$f":"K62+IF(データ整理!K61>5,データ整理!K61-5,0)","v":1431.7665200000006},{"$f":"L62+IF(データ整理!L61>5,データ整理!L61-5,0)","v":1387.57097},{"$f":"M62+IF(データ整理!M61>5,データ整理!M61-5,0)","v":1713.5112300000001},{"$f":"N62+IF(データ整理!N61>5,データ整理!N61-5,0)","v":1529.2768399999995},{"$f":"O62+IF(データ整理!O61>5,データ整理!O61-5,0)","v":1633.7481699999994},{"$f":"P62+IF(データ整理!P61>5,データ整理!P61-5,0)","v":1606.7123100000003},{"$f":"Q62+IF(データ整理!Q61>5,データ整理!Q61-5,0)","v":1511.2126700000001},{"$f":"R62+IF(データ整理!R61>5,データ整理!R61-5,0)","v":1385.6941299999999},{"$f":"S62+IF(データ整理!S61>5,データ整理!S61-5,0)","v":1488.4472600000006},{"$f":"T62+IF(データ整理!T61>5,データ整理!T61-5,0)","v":1374.4017799999997},{"$f":"U62+IF(データ整理!U61>5,データ整理!U61-5,0)","v":1408.7812100000001},null,null,null,"2018-05-30",{"$f":"Z62+IF(データ整理!Z61>5,データ整理!Z61-5,0)","v":1408.7812100000001},{"$f":"AA62+IF(データ整理!AA61>5,データ整理!AA61-5,0)","v":1443.1060900000002}]
["2014-05-31",{"$f":"B63+IF(データ整理!B62>5,データ整理!B62-5,0)","v":1637.2179600000002},{"$f":"C63+IF(データ整理!C62>5,データ整理!C62-5,0)","v":1603.4224400000001},{"$f":"D63+IF(データ整理!D62>5,データ整理!D62-5,0)","v":1388.2906100000005},{"$f":"E63+IF(データ整理!E62>5,データ整理!E62-5,0)","v":1339.7333299999996},{"$f":"F63+IF(データ整理!F62>5,データ整理!F62-5,0)","v":1371.0786099999991},{"$f":"G63+IF(データ整理!G62>5,データ整理!G62-5,0)","v":1501.1614500000003},{"$f":"H63+IF(データ整理!H62>5,データ整理!H62-5,0)","v":1586.9950699999999},{"$f":"I63+IF(データ整理!I62>5,データ整理!I62-5,0)","v":1566.8449100000003},{"$f":"J63+IF(データ整理!J62>5,データ整理!J62-5,0)","v":1469.064509999999},{"$f":"K63+IF(データ整理!K62>5,データ整理!K62-5,0)","v":1429.6703200000006},{"$f":"L63+IF(データ整理!L62>5,データ整理!L62-5,0)","v":1379.2897700000001},{"$f":"M63+IF(データ整理!M62>5,データ整理!M62-5,0)","v":1709.73146},{"$f":"N63+IF(データ整理!N62>5,データ整理!N62-5,0)","v":1524.8797999999995},{"$f":"O63+IF(データ整理!O62>5,データ整理!O62-5,0)","v":1627.6991699999994},{"$f":"P63+IF(データ整理!P62>5,データ整理!P62-5,0)","v":1596.7432100000003},{"$f":"Q63+IF(データ整理!Q62>5,データ整理!Q62-5,0)","v":1500.0784700000002},{"$f":"R63+IF(データ整理!R62>5,データ整理!R62-5,0)","v":1373.3482299999998},{"$f":"S63+IF(データ整理!S62>5,データ整理!S62-5,0)","v":1481.4375600000005},{"$f":"T63+IF(データ整理!T62>5,データ整理!T62-5,0)","v":1364.6670799999997},{"$f":"U63+IF(データ整理!U62>5,データ整理!U62-5,0)","v":1397.9031100000002},null,null,null,"2018-05-31",{"$f":"Z63+IF(データ整理!Z62>5,データ整理!Z62-5,0)","v":1397.9031100000002},{"$f":"AA63+IF(データ整理!AA62>5,データ整理!AA62-5,0)","v":1436.7923900000003}]
["2014-06-01",{"$f":"B64+IF(データ整理!B63>5,データ整理!B63-5,0)","v":1626.5928600000002},{"$f":"C64+IF(データ整理!C63>5,データ整理!C63-5,0)","v":1596.65344},{"$f":"D64+IF(データ整理!D63>5,データ整理!D63-5,0)","v":1381.1438100000005},{"$f":"E64+IF(データ整理!E63>5,データ整理!E63-5,0)","v":1332.0365299999996},{"$f":"F64+IF(データ整理!F63>5,データ整理!F63-5,0)","v":1361.0993099999992},{"$f":"G64+IF(データ整理!G63>5,データ整理!G63-5,0)","v":1494.8974500000004},{"$f":"H64+IF(データ整理!H63>5,データ整理!H63-5,0)","v":1576.97027},{"$f":"I64+IF(データ整理!I63>5,データ整理!I63-5,0)","v":1562.6172600000002},{"$f":"J64+IF(データ整理!J63>5,データ整理!J63-5,0)","v":1462.8052099999991},{"$f":"K64+IF(データ整理!K63>5,データ整理!K63-5,0)","v":1425.1836200000007},{"$f":"L64+IF(データ整理!L63>5,データ整理!L63-5,0)","v":1373.58627},{"$f":"M64+IF(データ整理!M63>5,データ整理!M63-5,0)","v":1703.8886600000001},{"$f":"N64+IF(データ整理!N63>5,データ整理!N63-5,0)","v":1521.9834999999994},{"$f":"O64+IF(データ整理!O63>5,データ整理!O63-5,0)","v":1621.3699699999995},{"$f":"P64+IF(データ整理!P63>5,データ整理!P63-5,0)","v":1586.3941100000004},{"$f":"Q64+IF(データ整理!Q63>5,データ整理!Q63-5,0)","v":1489.0304700000002},{"$f":"R64+IF(データ整理!R63>5,データ整理!R63-5,0)","v":1365.7726299999999},{"$f":"S64+IF(データ整理!S63>5,データ整理!S63-5,0)","v":1473.3412600000006},{"$f":"T64+IF(データ整理!T63>5,データ整理!T63-5,0)","v":1357.2930799999997},{"$f":"U64+IF(データ整理!U63>5,データ整理!U63-5,0)","v":1388.8439100000003},null,null,null,"2018-06-01",{"$f":"Z64+IF(データ整理!Z63>5,データ整理!Z63-5,0)","v":1388.8439100000003},{"$f":"AA64+IF(データ整理!AA63>5,データ整理!AA63-5,0)","v":1430.2870900000003}]
["2014-06-02",{"$f":"B65+IF(データ整理!B64>5,データ整理!B64-5,0)","v":1616.3341600000001},{"$f":"C65+IF(データ整理!C64>5,データ整理!C64-5,0)","v":1590.1222400000001},{"$f":"D65+IF(データ整理!D64>5,データ整理!D64-5,0)","v":1375.2597100000005},{"$f":"E65+IF(データ整理!E64>5,データ整理!E64-5,0)","v":1323.8343299999997},{"$f":"F65+IF(データ整理!F64>5,データ整理!F64-5,0)","v":1352.7371099999991},{"$f":"G65+IF(データ整理!G64>5,データ整理!G64-5,0)","v":1486.9678500000005},{"$f":"H65+IF(データ整理!H64>5,データ整理!H64-5,0)","v":1569.58277},{"$f":"I65+IF(データ整理!I64>5,データ整理!I64-5,0)","v":1558.1833600000002},{"$f":"J65+IF(データ整理!J64>5,データ整理!J64-5,0)","v":1456.4564099999991},{"$f":"K65+IF(データ整理!K64>5,データ整理!K64-5,0)","v":1421.7268200000008},{"$f":"L65+IF(データ整理!L64>5,データ整理!L64-5,0)","v":1367.54647},{"$f":"M65+IF(データ整理!M64>5,データ整理!M64-5,0)","v":1699.6444100000001},{"$f":"N65+IF(データ整理!N64>5,データ整理!N64-5,0)","v":1517.4030499999994},{"$f":"O65+IF(データ整理!O64>5,データ整理!O64-5,0)","v":1614.0175699999995},{"$f":"P65+IF(データ整理!P64>5,データ整理!P64-5,0)","v":1575.3291100000004},{"$f":"Q65+IF(データ整理!Q64>5,データ整理!Q64-5,0)","v":1480.0017700000001},{"$f":"R65+IF(データ整理!R64>5,データ整理!R64-5,0)","v":1355.7347299999999},{"$f":"S65+IF(データ整理!S64>5,データ整理!S64-5,0)","v":1470.8883300000007},{"$f":"T65+IF(データ整理!T64>5,データ整理!T64-5,0)","v":1353.0769099999998},{"$f":"U65+IF(データ整理!U64>5,データ整理!U64-5,0)","v":1381.9317100000003},null,null,null,"2018-06-02",{"$f":"Z65+IF(データ整理!Z64>5,データ整理!Z64-5,0)","v":1381.9317100000003},{"$f":"AA65+IF(データ整理!AA64>5,データ整理!AA64-5,0)","v":1423.5854900000002}]
["2014-06-03",{"$f":"B66+IF(データ整理!B65>5,データ整理!B65-5,0)","v":1606.4738600000001},{"$f":"C66+IF(データ整理!C65>5,データ整理!C65-5,0)","v":1585.3423700000001},{"$f":"D66+IF(データ整理!D65>5,データ整理!D65-5,0)","v":1369.2777100000005},{"$f":"E66+IF(データ整理!E65>5,データ整理!E65-5,0)","v":1319.9528199999997},{"$f":"F66+IF(データ整理!F65>5,データ整理!F65-5,0)","v":1347.0087099999992},{"$f":"G66+IF(データ整理!G65>5,データ整理!G65-5,0)","v":1480.5488500000004},{"$f":"H66+IF(データ整理!H65>5,データ整理!H65-5,0)","v":1557.9860699999999},{"$f":"I66+IF(データ整理!I65>5,データ整理!I65-5,0)","v":1554.9852500000002},{"$f":"J66+IF(データ整理!J65>5,データ整理!J65-5,0)","v":1449.843509999999},{"$f":"K66+IF(データ整理!K65>5,データ整理!K65-5,0)","v":1415.9047200000007},{"$f":"L66+IF(データ整理!L65>5,データ整理!L65-5,0)","v":1362.73612},{"$f":"M66+IF(データ整理!M65>5,データ整理!M65-5,0)","v":1694.3338100000001},{"$f":"N66+IF(データ整理!N65>5,データ整理!N65-5,0)","v":1512.5353899999996},{"$f":"O66+IF(データ整理!O65>5,データ整理!O65-5,0)","v":1607.4319699999996},{"$f":"P66+IF(データ整理!P65>5,データ整理!P65-5,0)","v":1568.0586100000003},{"$f":"Q66+IF(データ整理!Q65>5,データ整理!Q65-5,0)","v":1468.5777700000001},{"$f":"R66+IF(データ整理!R65>5,データ整理!R65-5,0)","v":1347.43273},{"$f":"S66+IF(データ整理!S65>5,データ整理!S65-5,0)","v":1470.1443500000007},{"$f":"T66+IF(データ整理!T65>5,データ整理!T65-5,0)","v":1350.8663599999998},{"$f":"U66+IF(データ整理!U65>5,データ整理!U65-5,0)","v":1374.0359100000003},null,null,null,"2018-06-03",{"$f":"Z66+IF(データ整理!Z65>5,データ整理!Z65-5,0)","v":1374.0359100000003},{"$f":"AA66+IF(データ整理!AA65>5,データ整理!AA65-5,0)","v":1416.6864900000003}]
["2014-06-04",{"$f":"B67+IF(データ整理!B66>5,データ整理!B66-5,0)","v":1598.8511600000002},{"$f":"C67+IF(データ整理!C66>5,データ整理!C66-5,0)","v":1580.0160700000001},{"$f":"D67+IF(データ整理!D66>5,データ整理!D66-5,0)","v":1363.5771100000006},{"$f":"E67+IF(データ整理!E66>5,データ整理!E66-5,0)","v":1314.0397199999998},{"$f":"F67+IF(データ整理!F66>5,データ整理!F66-5,0)","v":1336.5875099999992},{"$f":"G67+IF(データ整理!G66>5,データ整理!G66-5,0)","v":1473.1467500000003},{"$f":"H67+IF(データ整理!H66>5,データ整理!H66-5,0)","v":1549.19607},{"$f":"I67+IF(データ整理!I66>5,データ整理!I66-5,0)","v":1550.6477000000002},{"$f":"J67+IF(データ整理!J66>5,データ整理!J66-5,0)","v":1441.425909999999},{"$f":"K67+IF(データ整理!K66>5,データ整理!K66-5,0)","v":1408.2515200000007},{"$f":"L67+IF(データ整理!L66>5,データ整理!L66-5,0)","v":1353.3261199999999},{"$f":"M67+IF(データ整理!M66>5,データ整理!M66-5,0)","v":1690.0689400000001},{"$f":"N67+IF(データ整理!N66>5,データ整理!N66-5,0)","v":1505.5152899999996},{"$f":"O67+IF(データ整理!O66>5,データ整理!O66-5,0)","v":1599.1231699999996},{"$f":"P67+IF(データ整理!P66>5,データ整理!P66-5,0)","v":1564.4455200000002},{"$f":"Q67+IF(データ整理!Q66>5,データ整理!Q66-5,0)","v":1454.3632700000001},{"$f":"R67+IF(データ整理!R66>5,データ整理!R66-5,0)","v":1341.30593},{"$f":"S67+IF(データ整理!S66>5,データ整理!S66-5,0)","v":1468.7532400000007},{"$f":"T67+IF(データ整理!T66>5,データ整理!T66-5,0)","v":1350.8663599999998},{"$f":"U67+IF(データ整理!U66>5,データ整理!U66-5,0)","v":1362.7153100000003},null,null,null,"2018-06-04",{"$f":"Z67+IF(データ整理!Z66>5,データ整理!Z66-5,0)","v":1362.7153100000003},{"$f":"AA67+IF(データ整理!AA66>5,データ整理!AA66-5,0)","v":1409.5933900000002}]
["2014-06-05",{"$f":"B68+IF(データ整理!B67>5,データ整理!B67-5,0)","v":1588.0559600000001},{"$f":"C68+IF(データ整理!C67>5,データ整理!C67-5,0)","v":1574.9120700000001},{"$f":"D68+IF(データ整理!D67>5,データ整理!D67-5,0)","v":1356.6306100000006},{"$f":"E68+IF(データ整理!E67>5,データ整理!E67-5,0)","v":1307.1700199999998},{"$f":"F68+IF(データ整理!F67>5,データ整理!F67-5,0)","v":1331.6730399999992},{"$f":"G68+IF(データ整理!G67>5,データ整理!G67-5,0)","v":1463.1389500000002},{"$f":"H68+IF(データ整理!H67>5,データ整理!H67-5,0)","v":1541.61527},{"$f":"I68+IF(データ整理!I67>5,データ整理!I67-5,0)","v":1543.4478000000001},{"$f":"J68+IF(データ整理!J67>5,データ整理!J67-5,0)","v":1431.493909999999},{"$f":"K68+IF(データ整理!K67>5,データ整理!K67-5,0)","v":1398.3290200000008},{"$f":"L68+IF(データ整理!L67>5,データ整理!L67-5,0)","v":1343.79892},{"$f":"M68+IF(データ整理!M67>5,データ整理!M67-5,0)","v":1684.9879400000002},{"$f":"N68+IF(データ整理!N67>5,データ整理!N67-5,0)","v":1497.5823899999996},{"$f":"O68+IF(データ整理!O67>5,データ整理!O67-5,0)","v":1589.8785699999996},{"$f":"P68+IF(データ整理!P67>5,データ整理!P67-5,0)","v":1558.4099200000003},{"$f":"Q68+IF(データ整理!Q67>5,データ整理!Q67-5,0)","v":1438.99407},{"$f":"R68+IF(データ整理!R67>5,データ整理!R67-5,0)","v":1337.52684},{"$f":"S68+IF(データ整理!S67>5,データ整理!S67-5,0)","v":1468.6703700000007},{"$f":"T68+IF(データ整理!T67>5,データ整理!T67-5,0)","v":1350.8329299999998},{"$f":"U68+IF(データ整理!U67>5,データ整理!U67-5,0)","v":1350.5573100000004},null,null,null,"2018-06-05",{"$f":"Z68+IF(データ整理!Z67>5,データ整理!Z67-5,0)","v":1350.5573100000004},{"$f":"AA68+IF(データ整理!AA67>5,データ整理!AA67-5,0)","v":1402.3088900000002}]
["2014-06-06",{"$f":"B69+IF(データ整理!B68>5,データ整理!B68-5,0)","v":1579.3949600000001},{"$f":"C69+IF(データ整理!C68>5,データ整理!C68-5,0)","v":1567.2806700000001},{"$f":"D69+IF(データ整理!D68>5,データ整理!D68-5,0)","v":1345.4097100000006},{"$f":"E69+IF(データ整理!E68>5,データ整理!E68-5,0)","v":1300.2394199999999},{"$f":"F69+IF(データ整理!F68>5,データ整理!F68-5,0)","v":1326.5762399999992},{"$f":"G69+IF(データ整理!G68>5,データ整理!G68-5,0)","v":1456.1563500000002},{"$f":"H69+IF(データ整理!H68>5,データ整理!H68-5,0)","v":1535.92617},{"$f":"I69+IF(データ整理!I68>5,データ整理!I68-5,0)","v":1535.9391000000001},{"$f":"J69+IF(データ整理!J68>5,データ整理!J68-5,0)","v":1420.0598099999991},{"$f":"K69+IF(データ整理!K68>5,データ整理!K68-5,0)","v":1387.6415200000008},{"$f":"L69+IF(データ整理!L68>5,データ整理!L68-5,0)","v":1334.36132},{"$f":"M69+IF(データ整理!M68>5,データ整理!M68-5,0)","v":1678.4422400000003},{"$f":"N69+IF(データ整理!N68>5,データ整理!N68-5,0)","v":1489.9130899999996},{"$f":"O69+IF(データ整理!O68>5,データ整理!O68-5,0)","v":1580.4297699999997},{"$f":"P69+IF(データ整理!P68>5,データ整理!P68-5,0)","v":1551.1863200000003},{"$f":"Q69+IF(データ整理!Q68>5,データ整理!Q68-5,0)","v":1424.18887},{"$f":"R69+IF(データ整理!R68>5,データ整理!R68-5,0)","v":1335.9218000000001},{"$f":"S69+IF(データ整理!S68>5,データ整理!S68-5,0)","v":1464.9265900000007},{"$f":"T69+IF(データ整理!T68>5,データ整理!T68-5,0)","v":1346.8170599999999},{"$f":"U69+IF(データ整理!U68>5,データ整理!U68-5,0)","v":1337.6707100000003},null,null,null,{"$f":"Y67+1","v":"2018-06-06"},{"$f":"Z69+IF(データ整理!Z68>5,データ整理!Z68-5,0)","v":1337.6707100000003},{"$f":"AA69+IF(データ整理!AA68>5,データ整理!AA68-5,0)","v":1394.8355900000001}]
["2014-06-07",{"$f":"B70+IF(データ整理!B69>5,データ整理!B69-5,0)","v":1572.6608600000002},{"$f":"C70+IF(データ整理!C69>5,データ整理!C69-5,0)","v":1559.8142700000001},{"$f":"D70+IF(データ整理!D69>5,データ整理!D69-5,0)","v":1331.2801100000006},{"$f":"E70+IF(データ整理!E69>5,データ整理!E69-5,0)","v":1290.1885199999999},{"$f":"F70+IF(データ整理!F69>5,データ整理!F69-5,0)","v":1319.5706399999992},{"$f":"G70+IF(データ整理!G69>5,データ整理!G69-5,0)","v":1446.0030500000003},{"$f":"H70+IF(データ整理!H69>5,データ整理!H69-5,0)","v":1530.76667},{"$f":"I70+IF(データ整理!I69>5,データ整理!I69-5,0)","v":1528.415},{"$f":"J70+IF(データ整理!J69>5,データ整理!J69-5,0)","v":1407.0911099999992},{"$f":"K70+IF(データ整理!K69>5,データ整理!K69-5,0)","v":1379.8392200000008},{"$f":"L70+IF(データ整理!L69>5,データ整理!L69-5,0)","v":1324.1823199999999},{"$f":"M70+IF(データ整理!M69>5,データ整理!M69-5,0)","v":1669.8692400000002},{"$f":"N70+IF(データ整理!N69>5,データ整理!N69-5,0)","v":1481.6720899999996},{"$f":"O70+IF(データ整理!O69>5,データ整理!O69-5,0)","v":1571.7479699999997},{"$f":"P70+IF(データ整理!P69>5,データ整理!P69-5,0)","v":1543.0597200000002},{"$f":"Q70+IF(データ整理!Q69>5,データ整理!Q69-5,0)","v":1412.16317},{"$f":"R70+IF(データ整理!R69>5,データ整理!R69-5,0)","v":1334.79845},{"$f":"S70+IF(データ整理!S69>5,データ整理!S69-5,0)","v":1458.5146900000007},{"$f":"T70+IF(データ整理!T69>5,データ整理!T69-5,0)","v":1340.7089599999999},{"$f":"U70+IF(データ整理!U69>5,データ整理!U69-5,0)","v":1324.8975100000002},null,null,null,"2018-06-07",{"$f":"Z70+IF(データ整理!Z69>5,データ整理!Z69-5,0)","v":1324.8975100000002},{"$f":"AA70+IF(データ整理!AA69>5,データ整理!AA69-5,0)","v":1387.17659}]
["2014-06-08",{"$f":"B71+IF(データ整理!B70>5,データ整理!B70-5,0)","v":1566.2027600000001},{"$f":"C71+IF(データ整理!C70>5,データ整理!C70-5,0)","v":1555.1098900000002},{"$f":"D71+IF(データ整理!D70>5,データ整理!D70-5,0)","v":1319.6021100000005},{"$f":"E71+IF(データ整理!E70>5,データ整理!E70-5,0)","v":1277.9027199999998},{"$f":"F71+IF(データ整理!F70>5,データ整理!F70-5,0)","v":1311.6596399999992},{"$f":"G71+IF(データ整理!G70>5,データ整理!G70-5,0)","v":1437.1164500000002},{"$f":"H71+IF(データ整理!H70>5,データ整理!H70-5,0)","v":1522.8302699999999},{"$f":"I71+IF(データ整理!I70>5,データ整理!I70-5,0)","v":1519.6621},{"$f":"J71+IF(データ整理!J70>5,データ整理!J70-5,0)","v":1396.1291099999992},{"$f":"K71+IF(データ整理!K70>5,データ整理!K70-5,0)","v":1372.2460200000007},{"$f":"L71+IF(データ整理!L70>5,データ整理!L70-5,0)","v":1315.9357199999999},{"$f":"M71+IF(データ整理!M70>5,データ整理!M70-5,0)","v":1659.2554400000001},{"$f":"N71+IF(データ整理!N70>5,データ整理!N70-5,0)","v":1471.5908899999995},{"$f":"O71+IF(データ整理!O70>5,データ整理!O70-5,0)","v":1562.3886699999996},{"$f":"P71+IF(データ整理!P70>5,データ整理!P70-5,0)","v":1533.7449200000001},{"$f":"Q71+IF(データ整理!Q70>5,データ整理!Q70-5,0)","v":1400.17857},{"$f":"R71+IF(データ整理!R70>5,データ整理!R70-5,0)","v":1331.9894899999999},{"$f":"S71+IF(データ整理!S70>5,データ整理!S70-5,0)","v":1449.3765900000008},{"$f":"T71+IF(データ整理!T70>5,データ整理!T70-5,0)","v":1333.3307599999998},{"$f":"U71+IF(データ整理!U70>5,データ整理!U70-5,0)","v":1313.5022100000003},null,null,null,"2018-06-08",{"$f":"Z71+IF(データ整理!Z70>5,データ整理!Z70-5,0)","v":1313.5022100000003},{"$f":"AA71+IF(データ整理!AA70>5,データ整理!AA70-5,0)","v":1379.3373900000001}]
["2014-06-09",{"$f":"B72+IF(データ整理!B71>5,データ整理!B71-5,0)","v":1559.2381600000001},{"$f":"C72+IF(データ整理!C71>5,データ整理!C71-5,0)","v":1552.3245200000001},{"$f":"D72+IF(データ整理!D71>5,データ整理!D71-5,0)","v":1308.9627100000005},{"$f":"E72+IF(データ整理!E71>5,データ整理!E71-5,0)","v":1263.6550199999999},{"$f":"F72+IF(データ整理!F71>5,データ整理!F71-5,0)","v":1302.9682399999992},{"$f":"G72+IF(データ整理!G71>5,データ整理!G71-5,0)","v":1429.7056500000001},{"$f":"H72+IF(データ整理!H71>5,データ整理!H71-5,0)","v":1511.4373699999999},{"$f":"I72+IF(データ整理!I71>5,データ整理!I71-5,0)","v":1514.3323},{"$f":"J72+IF(データ整理!J71>5,データ整理!J71-5,0)","v":1384.0971099999992},{"$f":"K72+IF(データ整理!K71>5,データ整理!K71-5,0)","v":1363.4272200000007},{"$f":"L72+IF(データ整理!L71>5,データ整理!L71-5,0)","v":1306.89382},{"$f":"M72+IF(データ整理!M71>5,データ整理!M71-5,0)","v":1648.6492400000002},{"$f":"N72+IF(データ整理!N71>5,データ整理!N71-5,0)","v":1459.6124899999995},{"$f":"O72+IF(データ整理!O71>5,データ整理!O71-5,0)","v":1551.6186699999996},{"$f":"P72+IF(データ整理!P71>5,データ整理!P71-5,0)","v":1522.9349200000001},{"$f":"Q72+IF(データ整理!Q71>5,データ整理!Q71-5,0)","v":1389.23407},{"$f":"R72+IF(データ整理!R71>5,データ整理!R71-5,0)","v":1324.7224899999999},{"$f":"S72+IF(データ整理!S71>5,データ整理!S71-5,0)","v":1442.1116900000009},{"$f":"T72+IF(データ整理!T71>5,データ整理!T71-5,0)","v":1325.3333599999999},{"$f":"U72+IF(データ整理!U71>5,データ整理!U71-5,0)","v":1309.7164000000002},null,null,null,"2018-06-09",{"$f":"Z72+IF(データ整理!Z71>5,データ整理!Z71-5,0)","v":1309.7164000000002},{"$f":"AA72+IF(データ整理!AA71>5,データ整理!AA71-5,0)","v":1371.3283900000001}]
["2014-06-10",{"$f":"B73+IF(データ整理!B72>5,データ整理!B72-5,0)","v":1551.3790600000002},{"$f":"C73+IF(データ整理!C72>5,データ整理!C72-5,0)","v":1548.2050900000002},{"$f":"D73+IF(データ整理!D72>5,データ整理!D72-5,0)","v":1298.3215100000004},{"$f":"E73+IF(データ整理!E72>5,データ整理!E72-5,0)","v":1256.9062199999998},{"$f":"F73+IF(データ整理!F72>5,データ整理!F72-5,0)","v":1293.4191399999993},{"$f":"G73+IF(データ整理!G72>5,データ整理!G72-5,0)","v":1422.11275},{"$f":"H73+IF(データ整理!H72>5,データ整理!H72-5,0)","v":1499.9428699999999},{"$f":"I73+IF(データ整理!I72>5,データ整理!I72-5,0)","v":1506.2433000000001},{"$f":"J73+IF(データ整理!J72>5,データ整理!J72-5,0)","v":1371.7590099999993},{"$f":"K73+IF(データ整理!K72>5,データ整理!K72-5,0)","v":1352.8326200000008},{"$f":"L73+IF(データ整理!L72>5,データ整理!L72-5,0)","v":1298.6190200000001},{"$f":"M73+IF(データ整理!M72>5,データ整理!M72-5,0)","v":1639.3128400000003},{"$f":"N73+IF(データ整理!N72>5,データ整理!N72-5,0)","v":1448.6665899999996},{"$f":"O73+IF(データ整理!O72>5,データ整理!O72-5,0)","v":1540.1550699999996},{"$f":"P73+IF(データ整理!P72>5,データ整理!P72-5,0)","v":1512.49692},{"$f":"Q73+IF(データ整理!Q72>5,データ整理!Q72-5,0)","v":1377.0162700000001},{"$f":"R73+IF(データ整理!R72>5,データ整理!R72-5,0)","v":1316.4082899999999},{"$f":"S73+IF(データ整理!S72>5,データ整理!S72-5,0)","v":1432.4765900000009},{"$f":"T73+IF(データ整理!T72>5,データ整理!T72-5,0)","v":1314.2480599999999},{"$f":"U73+IF(データ整理!U72>5,データ整理!U72-5,0)","v":1308.1132100000002},null,null,null,"2018-06-10",{"$f":"Z73+IF(データ整理!Z72>5,データ整理!Z72-5,0)","v":1308.1132100000002},{"$f":"AA73+IF(データ整理!AA72>5,データ整理!AA72-5,0)","v":1363.1617900000001}]
["2014-06-11",{"$f":"B74+IF(データ整理!B73>5,データ整理!B73-5,0)","v":1540.9958600000002},{"$f":"C74+IF(データ整理!C73>5,データ整理!C73-5,0)","v":1544.3869800000002},{"$f":"D74+IF(データ整理!D73>5,データ整理!D73-5,0)","v":1292.7528100000004},{"$f":"E74+IF(データ整理!E73>5,データ整理!E73-5,0)","v":1253.7521699999998},{"$f":"F74+IF(データ整理!F73>5,データ整理!F73-5,0)","v":1282.6109399999993},{"$f":"G74+IF(データ整理!G73>5,データ整理!G73-5,0)","v":1414.36825},{"$f":"H74+IF(データ整理!H73>5,データ整理!H73-5,0)","v":1486.62907},{"$f":"I74+IF(データ整理!I73>5,データ整理!I73-5,0)","v":1500.3412000000001},{"$f":"J74+IF(データ整理!J73>5,データ整理!J73-5,0)","v":1360.4171099999994},{"$f":"K74+IF(データ整理!K73>5,データ整理!K73-5,0)","v":1343.0567200000007},{"$f":"L74+IF(データ整理!L73>5,データ整理!L73-5,0)","v":1287.4377200000001},{"$f":"M74+IF(データ整理!M73>5,データ整理!M73-5,0)","v":1628.6280400000003},{"$f":"N74+IF(データ整理!N73>5,データ整理!N73-5,0)","v":1437.9700899999996},{"$f":"O74+IF(データ整理!O73>5,データ整理!O73-5,0)","v":1529.9596699999995},{"$f":"P74+IF(データ整理!P73>5,データ整理!P73-5,0)","v":1500.0979200000002},{"$f":"Q74+IF(データ整理!Q73>5,データ整理!Q73-5,0)","v":1363.9971700000001},{"$f":"R74+IF(データ整理!R73>5,データ整理!R73-5,0)","v":1309.9016899999999},{"$f":"S74+IF(データ整理!S73>5,データ整理!S73-5,0)","v":1425.4838900000009},{"$f":"T74+IF(データ整理!T73>5,データ整理!T73-5,0)","v":1306.4627599999999},{"$f":"U74+IF(データ整理!U73>5,データ整理!U73-5,0)","v":1303.9148700000003},null,null,null,"2018-06-11",{"$f":"Z74+IF(データ整理!Z73>5,データ整理!Z73-5,0)","v":1303.9148700000003},{"$f":"AA74+IF(データ整理!AA73>5,データ整理!AA73-5,0)","v":1354.84789}]
["2014-06-12",{"$f":"B75+IF(データ整理!B74>5,データ整理!B74-5,0)","v":1532.0883600000002},{"$f":"C75+IF(データ整理!C74>5,データ整理!C74-5,0)","v":1537.9687800000002},{"$f":"D75+IF(データ整理!D74>5,データ整理!D74-5,0)","v":1287.9054000000003},{"$f":"E75+IF(データ整理!E74>5,データ整理!E74-5,0)","v":1249.2178599999997},{"$f":"F75+IF(データ整理!F74>5,データ整理!F74-5,0)","v":1271.5424399999993},{"$f":"G75+IF(データ整理!G74>5,データ整理!G74-5,0)","v":1404.8098500000001},{"$f":"H75+IF(データ整理!H74>5,データ整理!H74-5,0)","v":1473.5151699999999},{"$f":"I75+IF(データ整理!I74>5,データ整理!I74-5,0)","v":1492.3848},{"$f":"J75+IF(データ整理!J74>5,データ整理!J74-5,0)","v":1348.2926099999995},{"$f":"K75+IF(データ整理!K74>5,データ整理!K74-5,0)","v":1334.4315200000008},{"$f":"L75+IF(データ整理!L74>5,データ整理!L74-5,0)","v":1279.3362200000001},{"$f":"M75+IF(データ整理!M74>5,データ整理!M74-5,0)","v":1618.2168400000003},{"$f":"N75+IF(データ整理!N74>5,データ整理!N74-5,0)","v":1427.2831899999996},{"$f":"O75+IF(データ整理!O74>5,データ整理!O74-5,0)","v":1525.4402899999995},{"$f":"P75+IF(データ整理!P74>5,データ整理!P74-5,0)","v":1486.1319200000003},{"$f":"Q75+IF(データ整理!Q74>5,データ整理!Q74-5,0)","v":1350.66507},{"$f":"R75+IF(データ整理!R74>5,データ整理!R74-5,0)","v":1303.9208899999999},{"$f":"S75+IF(データ整理!S74>5,データ整理!S74-5,0)","v":1417.6011900000008},{"$f":"T75+IF(データ整理!T74>5,データ整理!T74-5,0)","v":1304.23622},{"$f":"U75+IF(データ整理!U74>5,データ整理!U74-5,0)","v":1296.7990700000003},null,null,null,"2018-06-12",{"$f":"Z75+IF(データ整理!Z74>5,データ整理!Z74-5,0)","v":1296.7990700000003},{"$f":"AA75+IF(データ整理!AA74>5,データ整理!AA74-5,0)","v":1346.3952899999999}]
["2014-06-13",{"$f":"B76+IF(データ整理!B75>5,データ整理!B75-5,0)","v":1520.6063600000002},{"$f":"C76+IF(データ整理!C75>5,データ整理!C75-5,0)","v":1530.0019800000002},{"$f":"D76+IF(データ整理!D75>5,データ整理!D75-5,0)","v":1284.7974000000004},{"$f":"E76+IF(データ整理!E75>5,データ整理!E75-5,0)","v":1243.2214599999998},{"$f":"F76+IF(データ整理!F75>5,データ整理!F75-5,0)","v":1259.0454399999992},{"$f":"G76+IF(データ整理!G75>5,データ整理!G75-5,0)","v":1397.3105500000001},{"$f":"H76+IF(データ整理!H75>5,データ整理!H75-5,0)","v":1466.8157699999999},{"$f":"I76+IF(データ整理!I75>5,データ整理!I75-5,0)","v":1483.1704},{"$f":"J76+IF(データ整理!J75>5,データ整理!J75-5,0)","v":1335.5189099999996},{"$f":"K76+IF(データ整理!K75>5,データ整理!K75-5,0)","v":1327.9484200000009},{"$f":"L76+IF(データ整理!L75>5,データ整理!L75-5,0)","v":1269.0324200000002},{"$f":"M76+IF(データ整理!M75>5,データ整理!M75-5,0)","v":1606.9252400000003},{"$f":"N76+IF(データ整理!N75>5,データ整理!N75-5,0)","v":1418.1759899999997},{"$f":"O76+IF(データ整理!O75>5,データ整理!O75-5,0)","v":1520.6866899999995},{"$f":"P76+IF(データ整理!P75>5,データ整理!P75-5,0)","v":1471.9338200000002},{"$f":"Q76+IF(データ整理!Q75>5,データ整理!Q75-5,0)","v":1338.8785700000001},{"$f":"R76+IF(データ整理!R75>5,データ整理!R75-5,0)","v":1295.6281899999999},{"$f":"S76+IF(データ整理!S75>5,データ整理!S75-5,0)","v":1407.9871900000007},{"$f":"T76+IF(データ整理!T75>5,データ整理!T75-5,0)","v":1301.1156599999999},{"$f":"U76+IF(データ整理!U75>5,データ整理!U75-5,0)","v":1293.8738500000002},null,null,null,"2018-06-13",{"$f":"Z76+IF(データ整理!Z75>5,データ整理!Z75-5,0)","v":1293.8738500000002},{"$f":"AA76+IF(データ整理!AA75>5,データ整理!AA75-5,0)","v":1337.80909}]
["2014-06-14",{"$f":"B77+IF(データ整理!B76>5,データ整理!B76-5,0)","v":1507.6540600000003},{"$f":"C77+IF(データ整理!C76>5,データ整理!C76-5,0)","v":1520.0499800000002},{"$f":"D77+IF(データ整理!D76>5,データ整理!D76-5,0)","v":1281.2692500000003},{"$f":"E77+IF(データ整理!E76>5,データ整理!E76-5,0)","v":1236.1168599999999},{"$f":"F77+IF(データ整理!F76>5,データ整理!F76-5,0)","v":1248.3593399999993},{"$f":"G77+IF(データ整理!G76>5,データ整理!G76-5,0)","v":1389.5716500000001},{"$f":"H77+IF(データ整理!H76>5,データ整理!H76-5,0)","v":1457.47407},{"$f":"I77+IF(データ整理!I76>5,データ整理!I76-5,0)","v":1473.7117000000001},{"$f":"J77+IF(データ整理!J76>5,データ整理!J76-5,0)","v":1322.0463099999995},{"$f":"K77+IF(データ整理!K76>5,データ整理!K76-5,0)","v":1322.1633200000008},{"$f":"L77+IF(データ整理!L76>5,データ整理!L76-5,0)","v":1261.0649200000003},{"$f":"M77+IF(データ整理!M76>5,データ整理!M76-5,0)","v":1593.3229400000002},{"$f":"N77+IF(データ整理!N76>5,データ整理!N76-5,0)","v":1410.5343899999998},{"$f":"O77+IF(データ整理!O76>5,データ整理!O76-5,0)","v":1514.8601899999996},{"$f":"P77+IF(データ整理!P76>5,データ整理!P76-5,0)","v":1457.9052200000001},{"$f":"Q77+IF(データ整理!Q76>5,データ整理!Q76-5,0)","v":1328.99847},{"$f":"R77+IF(データ整理!R76>5,データ整理!R76-5,0)","v":1286.2725899999998},{"$f":"S77+IF(データ整理!S76>5,データ整理!S76-5,0)","v":1399.4267900000007},{"$f":"T77+IF(データ整理!T76>5,データ整理!T76-5,0)","v":1295.6717599999999},{"$f":"U77+IF(データ整理!U76>5,データ整理!U76-5,0)","v":1292.4799800000001},null,null,null,"2018-06-14",{"$f":"Z77+IF(データ整理!Z76>5,データ整理!Z76-5,0)","v":1292.4799800000001},{"$f":"AA77+IF(データ整理!AA76>5,データ整理!AA76-5,0)","v":1329.09329}]
["2014-06-15",{"$f":"B78+IF(データ整理!B77>5,データ整理!B77-5,0)","v":1495.6274600000004},{"$f":"C78+IF(データ整理!C77>5,データ整理!C77-5,0)","v":1511.8595800000003},{"$f":"D78+IF(データ整理!D77>5,データ整理!D77-5,0)","v":1278.0402200000003},{"$f":"E78+IF(データ整理!E77>5,データ整理!E77-5,0)","v":1227.9548599999998},{"$f":"F78+IF(データ整理!F77>5,データ整理!F77-5,0)","v":1241.5772399999994},{"$f":"G78+IF(データ整理!G77>5,データ整理!G77-5,0)","v":1380.5832500000001},{"$f":"H78+IF(データ整理!H77>5,データ整理!H77-5,0)","v":1446.2006699999999},{"$f":"I78+IF(データ整理!I77>5,データ整理!I77-5,0)","v":1462.4754},{"$f":"J78+IF(データ整理!J77>5,データ整理!J77-5,0)","v":1308.5649099999996},{"$f":"K78+IF(データ整理!K77>5,データ整理!K77-5,0)","v":1317.4293700000007},{"$f":"L78+IF(データ整理!L77>5,データ整理!L77-5,0)","v":1256.9165500000001},{"$f":"M78+IF(データ整理!M77>5,データ整理!M77-5,0)","v":1580.4502400000003},{"$f":"N78+IF(データ整理!N77>5,データ整理!N77-5,0)","v":1403.7203899999997},{"$f":"O78+IF(データ整理!O77>5,データ整理!O77-5,0)","v":1508.3879899999997},{"$f":"P78+IF(データ整理!P77>5,データ整理!P77-5,0)","v":1443.7521200000001},{"$f":"Q78+IF(データ整理!Q77>5,データ整理!Q77-5,0)","v":1322.68667},{"$f":"R78+IF(データ整理!R77>5,データ整理!R77-5,0)","v":1277.0276899999999},{"$f":"S78+IF(データ整理!S77>5,データ整理!S77-5,0)","v":1391.4424900000006},{"$f":"T78+IF(データ整理!T77>5,データ整理!T77-5,0)","v":1287.2880599999999},{"$f":"U78+IF(データ整理!U77>5,データ整理!U77-5,0)","v":1291.5337400000001},null,null,null,"2018-06-15",{"$f":"Z78+IF(データ整理!Z77>5,データ整理!Z77-5,0)","v":1291.5337400000001},{"$f":"AA78+IF(データ整理!AA77>5,データ整理!AA77-5,0)","v":1320.2494899999999}]
["2014-06-16",{"$f":"B79+IF(データ整理!B78>5,データ整理!B78-5,0)","v":1481.7736600000003},{"$f":"C79+IF(データ整理!C78>5,データ整理!C78-5,0)","v":1503.0416800000003},{"$f":"D79+IF(データ整理!D78>5,データ整理!D78-5,0)","v":1271.6870200000003},{"$f":"E79+IF(データ整理!E78>5,データ整理!E78-5,0)","v":1219.6908599999999},{"$f":"F79+IF(データ整理!F78>5,データ整理!F78-5,0)","v":1234.2967399999993},{"$f":"G79+IF(データ整理!G78>5,データ整理!G78-5,0)","v":1373.7556500000001},{"$f":"H79+IF(データ整理!H78>5,データ整理!H78-5,0)","v":1433.00127},{"$f":"I79+IF(データ整理!I78>5,データ整理!I78-5,0)","v":1450.0840000000001},{"$f":"J79+IF(データ整理!J78>5,データ整理!J78-5,0)","v":1298.0981099999997},{"$f":"K79+IF(データ整理!K78>5,データ整理!K78-5,0)","v":1312.3760700000007},{"$f":"L79+IF(データ整理!L78>5,データ整理!L78-5,0)","v":1251.8829500000002},{"$f":"M79+IF(データ整理!M78>5,データ整理!M78-5,0)","v":1566.7844400000004},{"$f":"N79+IF(データ整理!N78>5,データ整理!N78-5,0)","v":1396.6667899999998},{"$f":"O79+IF(データ整理!O78>5,データ整理!O78-5,0)","v":1499.4688899999996},{"$f":"P79+IF(データ整理!P78>5,データ整理!P78-5,0)","v":1429.55962},{"$f":"Q79+IF(データ整理!Q78>5,データ整理!Q78-5,0)","v":1314.81107},{"$f":"R79+IF(データ整理!R78>5,データ整理!R78-5,0)","v":1267.0025899999998},{"$f":"S79+IF(データ整理!S78>5,データ整理!S78-5,0)","v":1381.8886900000007},{"$f":"T79+IF(データ整理!T78>5,データ整理!T78-5,0)","v":1280.2549599999998},{"$f":"U79+IF(データ整理!U78>5,データ整理!U78-5,0)","v":1289.4863300000002},null,null,null,"2018-06-16",{"$f":"Z79+IF(データ整理!Z78>5,データ整理!Z78-5,0)","v":1289.4863300000002},{"$f":"AA79+IF(データ整理!AA78>5,データ整理!AA78-5,0)","v":1311.28079}]
["2014-06-17",{"$f":"B80+IF(データ整理!B79>5,データ整理!B79-5,0)","v":1469.0396600000004},{"$f":"C80+IF(データ整理!C79>5,データ整理!C79-5,0)","v":1492.3804800000003},{"$f":"D80+IF(データ整理!D79>5,データ整理!D79-5,0)","v":1262.9094200000004},{"$f":"E80+IF(データ整理!E79>5,データ整理!E79-5,0)","v":1208.6686599999998},{"$f":"F80+IF(データ整理!F79>5,データ整理!F79-5,0)","v":1223.8003399999993},{"$f":"G80+IF(データ整理!G79>5,データ整理!G79-5,0)","v":1367.0364500000001},{"$f":"H80+IF(データ整理!H79>5,データ整理!H79-5,0)","v":1420.2769699999999},{"$f":"I80+IF(データ整理!I79>5,データ整理!I79-5,0)","v":1438.0173},{"$f":"J80+IF(データ整理!J79>5,データ整理!J79-5,0)","v":1288.4051099999997},{"$f":"K80+IF(データ整理!K79>5,データ整理!K79-5,0)","v":1305.7939700000006},{"$f":"L80+IF(データ整理!L79>5,データ整理!L79-5,0)","v":1246.3522500000001},{"$f":"M80+IF(データ整理!M79>5,データ整理!M79-5,0)","v":1554.8486400000004},{"$f":"N80+IF(データ整理!N79>5,データ整理!N79-5,0)","v":1388.4640899999997},{"$f":"O80+IF(データ整理!O79>5,データ整理!O79-5,0)","v":1490.4037899999996},{"$f":"P80+IF(データ整理!P79>5,データ整理!P79-5,0)","v":1417.1006199999999},{"$f":"Q80+IF(データ整理!Q79>5,データ整理!Q79-5,0)","v":1306.50757},{"$f":"R80+IF(データ整理!R79>5,データ整理!R79-5,0)","v":1254.9831899999999},{"$f":"S80+IF(データ整理!S79>5,データ整理!S79-5,0)","v":1372.8330900000008},{"$f":"T80+IF(データ整理!T79>5,データ整理!T79-5,0)","v":1272.1393599999997},{"$f":"U80+IF(データ整理!U79>5,データ整理!U79-5,0)","v":1283.8888300000001},null,null,null,"2018-06-17",{"$f":"Z80+IF(データ整理!Z79>5,データ整理!Z79-5,0)","v":1283.8888300000001},{"$f":"AA80+IF(データ整理!AA79>5,データ整理!AA79-5,0)","v":1302.1880900000001}]
["2014-06-18",{"$f":"B81+IF(データ整理!B80>5,データ整理!B80-5,0)","v":1459.1864600000004},{"$f":"C81+IF(データ整理!C80>5,データ整理!C80-5,0)","v":1480.5863800000002},{"$f":"D81+IF(データ整理!D80>5,データ整理!D80-5,0)","v":1253.0662200000004},{"$f":"E81+IF(データ整理!E80>5,データ整理!E80-5,0)","v":1198.8869599999998},{"$f":"F81+IF(データ整理!F80>5,データ整理!F80-5,0)","v":1210.7935399999994},{"$f":"G81+IF(データ整理!G80>5,データ整理!G80-5,0)","v":1357.76045},{"$f":"H81+IF(データ整理!H80>5,データ整理!H80-5,0)","v":1409.1674699999999},{"$f":"I81+IF(データ整理!I80>5,データ整理!I80-5,0)","v":1425.7821999999999},{"$f":"J81+IF(データ整理!J80>5,データ整理!J80-5,0)","v":1277.6110099999996},{"$f":"K81+IF(データ整理!K80>5,データ整理!K80-5,0)","v":1297.1042700000007},{"$f":"L81+IF(データ整理!L80>5,データ整理!L80-5,0)","v":1239.9660500000002},{"$f":"M81+IF(データ整理!M80>5,データ整理!M80-5,0)","v":1545.2077400000003},{"$f":"N81+IF(データ整理!N80>5,データ整理!N80-5,0)","v":1377.7122899999997},{"$f":"O81+IF(データ整理!O80>5,データ整理!O80-5,0)","v":1481.1302899999996},{"$f":"P81+IF(データ整理!P80>5,データ整理!P80-5,0)","v":1404.62922},{"$f":"Q81+IF(データ整理!Q80>5,データ整理!Q80-5,0)","v":1297.4533699999999},{"$f":"R81+IF(データ整理!R80>5,データ整理!R80-5,0)","v":1242.3110899999999},{"$f":"S81+IF(データ整理!S80>5,データ整理!S80-5,0)","v":1364.5807900000007},{"$f":"T81+IF(データ整理!T80>5,データ整理!T80-5,0)","v":1264.2307599999997},{"$f":"U81+IF(データ整理!U80>5,データ整理!U80-5,0)","v":1277.7788300000002},null,null,null,"2018-06-18",{"$f":"Z81+IF(データ整理!Z80>5,データ整理!Z80-5,0)","v":1277.7788300000002},{"$f":"AA81+IF(データ整理!AA80>5,データ整理!AA80-5,0)","v":1292.9676900000002}]
["2014-06-19",{"$f":"B82+IF(データ整理!B81>5,データ整理!B81-5,0)","v":1451.1460600000003},{"$f":"C82+IF(データ整理!C81>5,データ整理!C81-5,0)","v":1468.7683800000002},{"$f":"D82+IF(データ整理!D81>5,データ整理!D81-5,0)","v":1241.4739200000004},{"$f":"E82+IF(データ整理!E81>5,データ整理!E81-5,0)","v":1187.6220599999999},{"$f":"F82+IF(データ整理!F81>5,データ整理!F81-5,0)","v":1199.1246399999995},{"$f":"G82+IF(データ整理!G81>5,データ整理!G81-5,0)","v":1346.2264499999999},{"$f":"H82+IF(データ整理!H81>5,データ整理!H81-5,0)","v":1398.6252699999998},{"$f":"I82+IF(データ整理!I81>5,データ整理!I81-5,0)","v":1412.3851},{"$f":"J82+IF(データ整理!J81>5,データ整理!J81-5,0)","v":1269.6591099999996},{"$f":"K82+IF(データ整理!K81>5,データ整理!K81-5,0)","v":1285.6318700000006},{"$f":"L82+IF(データ整理!L81>5,データ整理!L81-5,0)","v":1232.2204500000003},{"$f":"M82+IF(データ整理!M81>5,データ整理!M81-5,0)","v":1532.4359400000003},{"$f":"N82+IF(データ整理!N81>5,データ整理!N81-5,0)","v":1368.0316899999998},{"$f":"O82+IF(データ整理!O81>5,データ整理!O81-5,0)","v":1470.8529899999996},{"$f":"P82+IF(データ整理!P81>5,データ整理!P81-5,0)","v":1393.8406199999999},{"$f":"Q82+IF(データ整理!Q81>5,データ整理!Q81-5,0)","v":1287.9960699999999},{"$f":"R82+IF(データ整理!R81>5,データ整理!R81-5,0)","v":1229.27449},{"$f":"S82+IF(データ整理!S81>5,データ整理!S81-5,0)","v":1357.0183900000006},{"$f":"T82+IF(データ整理!T81>5,データ整理!T81-5,0)","v":1252.8034599999996},{"$f":"U82+IF(データ整理!U81>5,データ整理!U81-5,0)","v":1270.6065300000002},null,null,null,"2018-06-19",{"$f":"Z82+IF(データ整理!Z81>5,データ整理!Z81-5,0)","v":1270.6065300000002},{"$f":"AA82+IF(データ整理!AA81>5,データ整理!AA81-5,0)","v":1283.6135900000002}]
["2014-06-20",{"$f":"B83+IF(データ整理!B82>5,データ整理!B82-5,0)","v":1445.5102600000002},{"$f":"C83+IF(データ整理!C82>5,データ整理!C82-5,0)","v":1460.9014800000002},{"$f":"D83+IF(データ整理!D82>5,データ整理!D82-5,0)","v":1233.3341200000004},{"$f":"E83+IF(データ整理!E82>5,データ整理!E82-5,0)","v":1179.4213599999998},{"$f":"F83+IF(データ整理!F82>5,データ整理!F82-5,0)","v":1184.9591399999995},{"$f":"G83+IF(データ整理!G82>5,データ整理!G82-5,0)","v":1333.27045},{"$f":"H83+IF(データ整理!H82>5,データ整理!H82-5,0)","v":1386.7009699999999},{"$f":"I83+IF(データ整理!I82>5,データ整理!I82-5,0)","v":1403.4848999999999},{"$f":"J83+IF(データ整理!J82>5,データ整理!J82-5,0)","v":1261.7932099999996},{"$f":"K83+IF(データ整理!K82>5,データ整理!K82-5,0)","v":1273.3293700000006},{"$f":"L83+IF(データ整理!L82>5,データ整理!L82-5,0)","v":1223.9596500000002},{"$f":"M83+IF(データ整理!M82>5,データ整理!M82-5,0)","v":1517.8317400000003},{"$f":"N83+IF(データ整理!N82>5,データ整理!N82-5,0)","v":1356.7790899999998},{"$f":"O83+IF(データ整理!O82>5,データ整理!O82-5,0)","v":1459.4309899999996},{"$f":"P83+IF(データ整理!P82>5,データ整理!P82-5,0)","v":1382.4203199999999},{"$f":"Q83+IF(データ整理!Q82>5,データ整理!Q82-5,0)","v":1278.1857699999998},{"$f":"R83+IF(データ整理!R82>5,データ整理!R82-5,0)","v":1217.33719},{"$f":"S83+IF(データ整理!S82>5,データ整理!S82-5,0)","v":1346.9488900000006},{"$f":"T83+IF(データ整理!T82>5,データ整理!T82-5,0)","v":1241.7920599999995},{"$f":"U83+IF(データ整理!U82>5,データ整理!U82-5,0)","v":1258.6432300000004},null,null,null,"2018-06-20",{"$f":"Z83+IF(データ整理!Z82>5,データ整理!Z82-5,0)","v":1258.6432300000004},{"$f":"AA83+IF(データ整理!AA82>5,データ整理!AA82-5,0)","v":1274.1231900000002}]
["2014-06-21",{"$f":"B84+IF(データ整理!B83>5,データ整理!B83-5,0)","v":1440.2882600000003},{"$f":"C84+IF(データ整理!C83>5,データ整理!C83-5,0)","v":1449.1661800000002},{"$f":"D84+IF(データ整理!D83>5,データ整理!D83-5,0)","v":1230.1740100000004},{"$f":"E84+IF(データ整理!E83>5,データ整理!E83-5,0)","v":1172.5822599999999},{"$f":"F84+IF(データ整理!F83>5,データ整理!F83-5,0)","v":1171.0277399999995},{"$f":"G84+IF(データ整理!G83>5,データ整理!G83-5,0)","v":1317.6367499999999},{"$f":"H84+IF(データ整理!H83>5,データ整理!H83-5,0)","v":1373.9354699999999},{"$f":"I84+IF(データ整理!I83>5,データ整理!I83-5,0)","v":1394.557},{"$f":"J84+IF(データ整理!J83>5,データ整理!J83-5,0)","v":1252.0709099999997},{"$f":"K84+IF(データ整理!K83>5,データ整理!K83-5,0)","v":1263.0528700000007},{"$f":"L84+IF(データ整理!L83>5,データ整理!L83-5,0)","v":1215.2055500000001},{"$f":"M84+IF(データ整理!M83>5,データ整理!M83-5,0)","v":1504.2066400000003},{"$f":"N84+IF(データ整理!N83>5,データ整理!N83-5,0)","v":1346.0374899999997},{"$f":"O84+IF(データ整理!O83>5,データ整理!O83-5,0)","v":1451.0094899999997},{"$f":"P84+IF(データ整理!P83>5,データ整理!P83-5,0)","v":1374.9197199999999},{"$f":"Q84+IF(データ整理!Q83>5,データ整理!Q83-5,0)","v":1269.6418699999999},{"$f":"R84+IF(データ整理!R83>5,データ整理!R83-5,0)","v":1207.2884899999999},{"$f":"S84+IF(データ整理!S83>5,データ整理!S83-5,0)","v":1335.6367900000005},{"$f":"T84+IF(データ整理!T83>5,データ整理!T83-5,0)","v":1230.9846599999996},{"$f":"U84+IF(データ整理!U83>5,データ整理!U83-5,0)","v":1246.5728300000003},null,null,null,"2018-06-21",{"$f":"Z84+IF(データ整理!Z83>5,データ整理!Z83-5,0)","v":1246.5728300000003},{"$f":"AA84+IF(データ整理!AA83>5,データ整理!AA83-5,0)","v":1264.4945900000002}]
["2014-06-22",{"$f":"B85+IF(データ整理!B84>5,データ整理!B84-5,0)","v":1432.2245600000003},{"$f":"C85+IF(データ整理!C84>5,データ整理!C84-5,0)","v":1437.7742800000001},{"$f":"D85+IF(データ整理!D84>5,データ整理!D84-5,0)","v":1227.0188700000003},{"$f":"E85+IF(データ整理!E84>5,データ整理!E84-5,0)","v":1170.0811299999998},{"$f":"F85+IF(データ整理!F84>5,データ整理!F84-5,0)","v":1157.1324399999996},{"$f":"G85+IF(データ整理!G84>5,データ整理!G84-5,0)","v":1302.9241499999998},{"$f":"H85+IF(データ整理!H84>5,データ整理!H84-5,0)","v":1359.6294699999999},{"$f":"I85+IF(データ整理!I84>5,データ整理!I84-5,0)","v":1385.6881000000001},{"$f":"J85+IF(データ整理!J84>5,データ整理!J84-5,0)","v":1240.9807099999996},{"$f":"K85+IF(データ整理!K84>5,データ整理!K84-5,0)","v":1257.3137700000007},{"$f":"L85+IF(データ整理!L84>5,データ整理!L84-5,0)","v":1203.0572500000001},{"$f":"M85+IF(データ整理!M84>5,データ整理!M84-5,0)","v":1490.5376400000002},{"$f":"N85+IF(データ整理!N84>5,データ整理!N84-5,0)","v":1332.0549899999996},{"$f":"O85+IF(データ整理!O84>5,データ整理!O84-5,0)","v":1445.0948899999996},{"$f":"P85+IF(データ整理!P84>5,データ整理!P84-5,0)","v":1366.8074199999999},{"$f":"Q85+IF(データ整理!Q84>5,データ整理!Q84-5,0)","v":1261.7371699999999},{"$f":"R85+IF(データ整理!R84>5,データ整理!R84-5,0)","v":1197.0159899999999},{"$f":"S85+IF(データ整理!S84>5,データ整理!S84-5,0)","v":1322.2321900000004},{"$f":"T85+IF(データ整理!T84>5,データ整理!T84-5,0)","v":1217.9855599999996},{"$f":"U85+IF(データ整理!U84>5,データ整理!U84-5,0)","v":1235.0636300000003},null,null,null,"2018-06-22",{"$f":"Z85+IF(データ整理!Z84>5,データ整理!Z84-5,0)","v":1235.0636300000003},{"$f":"AA85+IF(データ整理!AA84>5,データ整理!AA84-5,0)","v":1254.7266900000002}]
["2014-06-23",{"$f":"B86+IF(データ整理!B85>5,データ整理!B85-5,0)","v":1419.8474600000004},{"$f":"C86+IF(データ整理!C85>5,データ整理!C85-5,0)","v":1425.3001800000002},{"$f":"D86+IF(データ整理!D85>5,データ整理!D85-5,0)","v":1221.1956700000003},{"$f":"E86+IF(データ整理!E85>5,データ整理!E85-5,0)","v":1166.4358099999997},{"$f":"F86+IF(データ整理!F85>5,データ整理!F85-5,0)","v":1143.9043399999996},{"$f":"G86+IF(データ整理!G85>5,データ整理!G85-5,0)","v":1291.1036499999998},{"$f":"H86+IF(データ整理!H85>5,データ整理!H85-5,0)","v":1343.8021699999999},{"$f":"I86+IF(データ整理!I85>5,データ整理!I85-5,0)","v":1375.1276},{"$f":"J86+IF(データ整理!J85>5,データ整理!J85-5,0)","v":1227.8880099999997},{"$f":"K86+IF(データ整理!K85>5,データ整理!K85-5,0)","v":1248.8884700000006},{"$f":"L86+IF(データ整理!L85>5,データ整理!L85-5,0)","v":1189.1351500000001},{"$f":"M86+IF(データ整理!M85>5,データ整理!M85-5,0)","v":1475.8258400000002},{"$f":"N86+IF(データ整理!N85>5,データ整理!N85-5,0)","v":1320.2767899999997},{"$f":"O86+IF(データ整理!O85>5,データ整理!O85-5,0)","v":1438.3931899999995},{"$f":"P86+IF(データ整理!P85>5,データ整理!P85-5,0)","v":1358.9024199999999},{"$f":"Q86+IF(データ整理!Q85>5,データ整理!Q85-5,0)","v":1253.4162699999999},{"$f":"R86+IF(データ整理!R85>5,データ整理!R85-5,0)","v":1188.2763899999998},{"$f":"S86+IF(データ整理!S85>5,データ整理!S85-5,0)","v":1310.3747900000003},{"$f":"T86+IF(データ整理!T85>5,データ整理!T85-5,0)","v":1208.2751599999997},{"$f":"U86+IF(データ整理!U85>5,データ整理!U85-5,0)","v":1225.5222300000003},null,null,null,"2018-06-23",{"$f":"Z86+IF(データ整理!Z85>5,データ整理!Z85-5,0)","v":1225.5222300000003},{"$f":"AA86+IF(データ整理!AA85>5,データ整理!AA85-5,0)","v":1244.8192900000001}]
["2014-06-24",{"$f":"B87+IF(データ整理!B86>5,データ整理!B86-5,0)","v":1407.6095600000003},{"$f":"C87+IF(データ整理!C86>5,データ整理!C86-5,0)","v":1413.5228800000002},{"$f":"D87+IF(データ整理!D86>5,データ整理!D86-5,0)","v":1212.1386700000003},{"$f":"E87+IF(データ整理!E86>5,データ整理!E86-5,0)","v":1163.4625499999997},{"$f":"F87+IF(データ整理!F86>5,データ整理!F86-5,0)","v":1130.0278399999995},{"$f":"G87+IF(データ整理!G86>5,データ整理!G86-5,0)","v":1280.6204499999999},{"$f":"H87+IF(データ整理!H86>5,データ整理!H86-5,0)","v":1327.33977},{"$f":"I87+IF(データ整理!I86>5,データ整理!I86-5,0)","v":1365.4418000000001},{"$f":"J87+IF(データ整理!J86>5,データ整理!J86-5,0)","v":1217.1815099999997},{"$f":"K87+IF(データ整理!K86>5,データ整理!K86-5,0)","v":1240.1525700000007},{"$f":"L87+IF(データ整理!L86>5,データ整理!L86-5,0)","v":1176.80915},{"$f":"M87+IF(データ整理!M86>5,データ整理!M86-5,0)","v":1461.8381400000003},{"$f":"N87+IF(データ整理!N86>5,データ整理!N86-5,0)","v":1313.3950899999998},{"$f":"O87+IF(データ整理!O86>5,データ整理!O86-5,0)","v":1430.5198899999996},{"$f":"P87+IF(データ整理!P86>5,データ整理!P86-5,0)","v":1348.5712199999998},{"$f":"Q87+IF(データ整理!Q86>5,データ整理!Q86-5,0)","v":1244.8288700000001},{"$f":"R87+IF(データ整理!R86>5,データ整理!R86-5,0)","v":1181.8573899999997},{"$f":"S87+IF(データ整理!S86>5,データ整理!S86-5,0)","v":1298.6766900000002},{"$f":"T87+IF(データ整理!T86>5,データ整理!T86-5,0)","v":1198.7099599999997},{"$f":"U87+IF(データ整理!U86>5,データ整理!U86-5,0)","v":1213.5884300000002},null,null,null,"2018-06-24",{"$f":"Z87+IF(データ整理!Z86>5,データ整理!Z86-5,0)","v":1213.5884300000002},{"$f":"AA87+IF(データ整理!AA86>5,データ整理!AA86-5,0)","v":1234.7748900000001}]
["2014-06-25",{"$f":"B88+IF(データ整理!B87>5,データ整理!B87-5,0)","v":1398.4912600000002},{"$f":"C88+IF(データ整理!C87>5,データ整理!C87-5,0)","v":1402.4285800000002},{"$f":"D88+IF(データ整理!D87>5,データ整理!D87-5,0)","v":1201.8563700000002},{"$f":"E88+IF(データ整理!E87>5,データ整理!E87-5,0)","v":1161.7170899999996},{"$f":"F88+IF(データ整理!F87>5,データ整理!F87-5,0)","v":1116.9702399999994},{"$f":"G88+IF(データ整理!G87>5,データ整理!G87-5,0)","v":1268.9385499999999},{"$f":"H88+IF(データ整理!H87>5,データ整理!H87-5,0)","v":1314.8731700000001},{"$f":"I88+IF(データ整理!I87>5,データ整理!I87-5,0)","v":1355.4267},{"$f":"J88+IF(データ整理!J87>5,データ整理!J87-5,0)","v":1207.2849099999996},{"$f":"K88+IF(データ整理!K87>5,データ整理!K87-5,0)","v":1231.8300700000007},{"$f":"L88+IF(データ整理!L87>5,データ整理!L87-5,0)","v":1164.0777500000002},{"$f":"M88+IF(データ整理!M87>5,データ整理!M87-5,0)","v":1450.6967400000003},{"$f":"N88+IF(データ整理!N87>5,データ整理!N87-5,0)","v":1310.1855399999997},{"$f":"O88+IF(データ整理!O87>5,データ整理!O87-5,0)","v":1420.8813899999996},{"$f":"P88+IF(データ整理!P87>5,データ整理!P87-5,0)","v":1338.0740199999998},{"$f":"Q88+IF(データ整理!Q87>5,データ整理!Q87-5,0)","v":1235.2007700000001},{"$f":"R88+IF(データ整理!R87>5,データ整理!R87-5,0)","v":1173.2358899999997},{"$f":"S88+IF(データ整理!S87>5,データ整理!S87-5,0)","v":1288.2549900000001},{"$f":"T88+IF(データ整理!T87>5,データ整理!T87-5,0)","v":1188.5200599999996},{"$f":"U88+IF(データ整理!U87>5,データ整理!U87-5,0)","v":1205.4411300000002},null,null,null,"2018-06-25",{"$f":"Z88+IF(データ整理!Z87>5,データ整理!Z87-5,0)","v":1205.4411300000002},{"$f":"AA88+IF(データ整理!AA87>5,データ整理!AA87-5,0)","v":1224.5954900000002}]
["2014-06-26",{"$f":"B89+IF(データ整理!B88>5,データ整理!B88-5,0)","v":1390.5160600000002},{"$f":"C89+IF(データ整理!C88>5,データ整理!C88-5,0)","v":1391.2108800000003},{"$f":"D89+IF(データ整理!D88>5,データ整理!D88-5,0)","v":1188.9562700000001},{"$f":"E89+IF(データ整理!E88>5,データ整理!E88-5,0)","v":1158.2197499999997},{"$f":"F89+IF(データ整理!F88>5,データ整理!F88-5,0)","v":1105.0089399999995},{"$f":"G89+IF(データ整理!G88>5,データ整理!G88-5,0)","v":1257.1607499999998},{"$f":"H89+IF(データ整理!H88>5,データ整理!H88-5,0)","v":1302.6046700000002},{"$f":"I89+IF(データ整理!I88>5,データ整理!I88-5,0)","v":1345.8915999999999},{"$f":"J89+IF(データ整理!J88>5,データ整理!J88-5,0)","v":1197.4584099999997},{"$f":"K89+IF(データ整理!K88>5,データ整理!K88-5,0)","v":1224.6604700000007},{"$f":"L89+IF(データ整理!L88>5,データ整理!L88-5,0)","v":1149.7451500000002},{"$f":"M89+IF(データ整理!M88>5,データ整理!M88-5,0)","v":1437.4503400000003},{"$f":"N89+IF(データ整理!N88>5,データ整理!N88-5,0)","v":1306.3325499999996},{"$f":"O89+IF(データ整理!O88>5,データ整理!O88-5,0)","v":1411.5242899999996},{"$f":"P89+IF(データ整理!P88>5,データ整理!P88-5,0)","v":1326.5099199999997},{"$f":"Q89+IF(データ整理!Q88>5,データ整理!Q88-5,0)","v":1223.3117700000003},{"$f":"R89+IF(データ整理!R88>5,データ整理!R88-5,0)","v":1164.5531899999996},{"$f":"S89+IF(データ整理!S88>5,データ整理!S88-5,0)","v":1281.9969900000001},{"$f":"T89+IF(データ整理!T88>5,データ整理!T88-5,0)","v":1181.0226599999996},{"$f":"U89+IF(データ整理!U88>5,データ整理!U88-5,0)","v":1199.6189300000001},null,null,null,"2018-06-26",{"$f":"Z89+IF(データ整理!Z88>5,データ整理!Z88-5,0)","v":1199.6189300000001},{"$f":"AA89+IF(データ整理!AA88>5,データ整理!AA88-5,0)","v":1214.2837900000002}]
["2014-06-27",{"$f":"B90+IF(データ整理!B89>5,データ整理!B89-5,0)","v":1380.4891600000001},{"$f":"C90+IF(データ整理!C89>5,データ整理!C89-5,0)","v":1379.7562800000003},{"$f":"D90+IF(データ整理!D89>5,データ整理!D89-5,0)","v":1174.8455700000002},{"$f":"E90+IF(データ整理!E89>5,データ整理!E89-5,0)","v":1151.4984499999998},{"$f":"F90+IF(データ整理!F89>5,データ整理!F89-5,0)","v":1092.9496399999996},{"$f":"G90+IF(データ整理!G89>5,データ整理!G89-5,0)","v":1244.0265499999998},{"$f":"H90+IF(データ整理!H89>5,データ整理!H89-5,0)","v":1288.4256700000001},{"$f":"I90+IF(データ整理!I89>5,データ整理!I89-5,0)","v":1333.6368},{"$f":"J90+IF(データ整理!J89>5,データ整理!J89-5,0)","v":1186.5407099999998},{"$f":"K90+IF(データ整理!K89>5,データ整理!K89-5,0)","v":1216.8612700000008},{"$f":"L90+IF(データ整理!L89>5,データ整理!L89-5,0)","v":1135.3477500000001},{"$f":"M90+IF(データ整理!M89>5,データ整理!M89-5,0)","v":1423.0620400000003},{"$f":"N90+IF(データ整理!N89>5,データ整理!N89-5,0)","v":1299.3287499999997},{"$f":"O90+IF(データ整理!O89>5,データ整理!O89-5,0)","v":1400.7695899999997},{"$f":"P90+IF(データ整理!P89>5,データ整理!P89-5,0)","v":1318.1691199999998},{"$f":"Q90+IF(データ整理!Q89>5,データ整理!Q89-5,0)","v":1210.7545700000003},{"$f":"R90+IF(データ整理!R89>5,データ整理!R89-5,0)","v":1157.3874899999996},{"$f":"S90+IF(データ整理!S89>5,データ整理!S89-5,0)","v":1277.0240000000001},{"$f":"T90+IF(データ整理!T89>5,データ整理!T89-5,0)","v":1176.6450099999997},{"$f":"U90+IF(データ整理!U89>5,データ整理!U89-5,0)","v":1191.1523300000001},null,null,null,"2018-06-27",{"$f":"Z90+IF(データ整理!Z89>5,データ整理!Z89-5,0)","v":1191.1523300000001},{"$f":"AA90+IF(データ整理!AA89>5,データ整理!AA89-5,0)","v":1203.8435900000002}]
["2014-06-28",{"$f":"B91+IF(データ整理!B90>5,データ整理!B90-5,0)","v":1368.4218600000002},{"$f":"C91+IF(データ整理!C90>5,データ整理!C90-5,0)","v":1368.6689800000004},{"$f":"D91+IF(データ整理!D90>5,データ整理!D90-5,0)","v":1159.7626700000001},{"$f":"E91+IF(データ整理!E90>5,データ整理!E90-5,0)","v":1143.3983499999997},{"$f":"F91+IF(データ整理!F90>5,データ整理!F90-5,0)","v":1081.1160399999997},{"$f":"G91+IF(データ整理!G90>5,データ整理!G90-5,0)","v":1229.8703499999999},{"$f":"H91+IF(データ整理!H90>5,データ整理!H90-5,0)","v":1276.01667},{"$f":"I91+IF(データ整理!I90>5,データ整理!I90-5,0)","v":1320.9213},{"$f":"J91+IF(データ整理!J90>5,データ整理!J90-5,0)","v":1175.9384099999997},{"$f":"K91+IF(データ整理!K90>5,データ整理!K90-5,0)","v":1208.1159700000007},{"$f":"L91+IF(データ整理!L90>5,データ整理!L90-5,0)","v":1123.4229500000001},{"$f":"M91+IF(データ整理!M90>5,データ整理!M90-5,0)","v":1407.2933400000002},{"$f":"N91+IF(データ整理!N90>5,データ整理!N90-5,0)","v":1289.5724499999997},{"$f":"O91+IF(データ整理!O90>5,データ整理!O90-5,0)","v":1389.1299899999997},{"$f":"P91+IF(データ整理!P90>5,データ整理!P90-5,0)","v":1312.3607199999999},{"$f":"Q91+IF(データ整理!Q90>5,データ整理!Q90-5,0)","v":1196.6128700000004},{"$f":"R91+IF(データ整理!R90>5,データ整理!R90-5,0)","v":1152.8698299999996},{"$f":"S91+IF(データ整理!S90>5,データ整理!S90-5,0)","v":1269.9643000000001},{"$f":"T91+IF(データ整理!T90>5,データ整理!T90-5,0)","v":1170.1296099999997},{"$f":"U91+IF(データ整理!U90>5,データ整理!U90-5,0)","v":1181.4386300000001},null,null,null,"2018-06-28",{"$f":"Z91+IF(データ整理!Z90>5,データ整理!Z90-5,0)","v":1181.4386300000001},{"$f":"AA91+IF(データ整理!AA90>5,データ整理!AA90-5,0)","v":1193.2776900000001}]
["2014-06-29",{"$f":"B92+IF(データ整理!B91>5,データ整理!B91-5,0)","v":1355.3870600000002},{"$f":"C92+IF(データ整理!C91>5,データ整理!C91-5,0)","v":1357.7925800000003},{"$f":"D92+IF(データ整理!D91>5,データ整理!D91-5,0)","v":1146.20587},{"$f":"E92+IF(データ整理!E91>5,データ整理!E91-5,0)","v":1132.3160499999997},{"$f":"F92+IF(データ整理!F91>5,データ整理!F91-5,0)","v":1070.7450399999996},{"$f":"G92+IF(データ整理!G91>5,データ整理!G91-5,0)","v":1216.1664499999999},{"$f":"H92+IF(データ整理!H91>5,データ整理!H91-5,0)","v":1264.16787},{"$f":"I92+IF(データ整理!I91>5,データ整理!I91-5,0)","v":1306.9640999999999},{"$f":"J92+IF(データ整理!J91>5,データ整理!J91-5,0)","v":1164.4974099999997},{"$f":"K92+IF(データ整理!K91>5,データ整理!K91-5,0)","v":1197.2658700000006},{"$f":"L92+IF(データ整理!L91>5,データ整理!L91-5,0)","v":1113.7709500000001},{"$f":"M92+IF(データ整理!M91>5,データ整理!M91-5,0)","v":1389.9835400000002},{"$f":"N92+IF(データ整理!N91>5,データ整理!N91-5,0)","v":1276.8898499999996},{"$f":"O92+IF(データ整理!O91>5,データ整理!O91-5,0)","v":1377.5069899999996},{"$f":"P92+IF(データ整理!P91>5,データ整理!P91-5,0)","v":1305.7007199999998},{"$f":"Q92+IF(データ整理!Q91>5,データ整理!Q91-5,0)","v":1181.8055700000004},{"$f":"R92+IF(データ整理!R91>5,データ整理!R91-5,0)","v":1146.8088299999997},{"$f":"S92+IF(データ整理!S91>5,データ整理!S91-5,0)","v":1258.7135000000001},{"$f":"T92+IF(データ整理!T91>5,データ整理!T91-5,0)","v":1160.4584099999997},{"$f":"U92+IF(データ整理!U91>5,データ整理!U91-5,0)","v":1171.1134300000001},null,null,null,"2018-06-29",{"$f":"Z92+IF(データ整理!Z91>5,データ整理!Z91-5,0)","v":1171.1134300000001},{"$f":"AA92+IF(データ整理!AA91>5,データ整理!AA91-5,0)","v":1182.5837900000001}]
["2014-06-30",{"$f":"B93+IF(データ整理!B92>5,データ整理!B92-5,0)","v":1341.5586600000001},{"$f":"C93+IF(データ整理!C92>5,データ整理!C92-5,0)","v":1347.4612800000002},{"$f":"D93+IF(データ整理!D92>5,データ整理!D92-5,0)","v":1133.0606700000001},{"$f":"E93+IF(データ整理!E92>5,データ整理!E92-5,0)","v":1120.2633499999997},{"$f":"F93+IF(データ整理!F92>5,データ整理!F92-5,0)","v":1064.7211399999997},{"$f":"G93+IF(データ整理!G92>5,データ整理!G92-5,0)","v":1202.3234499999999},{"$f":"H93+IF(データ整理!H92>5,データ整理!H92-5,0)","v":1253.67347},{"$f":"I93+IF(データ整理!I92>5,データ整理!I92-5,0)","v":1297.6659},{"$f":"J93+IF(データ整理!J92>5,データ整理!J92-5,0)","v":1155.9338099999998},{"$f":"K93+IF(データ整理!K92>5,データ整理!K92-5,0)","v":1188.3372700000007},{"$f":"L93+IF(データ整理!L92>5,データ整理!L92-5,0)","v":1100.25675},{"$f":"M93+IF(データ整理!M92>5,データ整理!M92-5,0)","v":1372.1181400000003},{"$f":"N93+IF(データ整理!N92>5,データ整理!N92-5,0)","v":1264.3575499999995},{"$f":"O93+IF(データ整理!O92>5,データ整理!O92-5,0)","v":1364.3346899999997},{"$f":"P93+IF(データ整理!P92>5,データ整理!P92-5,0)","v":1296.5461199999997},{"$f":"Q93+IF(データ整理!Q92>5,データ整理!Q92-5,0)","v":1167.5507700000005},{"$f":"R93+IF(データ整理!R92>5,データ整理!R92-5,0)","v":1139.3650299999997},{"$f":"S93+IF(データ整理!S92>5,データ整理!S92-5,0)","v":1246.941},{"$f":"T93+IF(データ整理!T92>5,データ整理!T92-5,0)","v":1150.5949099999998},{"$f":"U93+IF(データ整理!U92>5,データ整理!U92-5,0)","v":1157.7974300000001},null,null,null,"2018-06-30",{"$f":"Z93+IF(データ整理!Z92>5,データ整理!Z92-5,0)","v":1157.7974300000001},{"$f":"AA93+IF(データ整理!AA92>5,データ整理!AA92-5,0)","v":1171.7605900000001}]
["2014-07-01",{"$f":"B94+IF(データ整理!B93>5,データ整理!B93-5,0)","v":1329.0295600000002},{"$f":"C94+IF(データ整理!C93>5,データ整理!C93-5,0)","v":1334.0286800000001},{"$f":"D94+IF(データ整理!D93>5,データ整理!D93-5,0)","v":1121.00107},{"$f":"E94+IF(データ整理!E93>5,データ整理!E93-5,0)","v":1107.2765499999998},{"$f":"F94+IF(データ整理!F93>5,データ整理!F93-5,0)","v":1058.8938399999997},{"$f":"G94+IF(データ整理!G93>5,データ整理!G93-5,0)","v":1191.0507499999999},{"$f":"H94+IF(データ整理!H93>5,データ整理!H93-5,0)","v":1245.4710700000001},{"$f":"I94+IF(データ整理!I93>5,データ整理!I93-5,0)","v":1286.8361},{"$f":"J94+IF(データ整理!J93>5,データ整理!J93-5,0)","v":1149.4810099999997},{"$f":"K94+IF(データ整理!K93>5,データ整理!K93-5,0)","v":1179.2513700000006},{"$f":"L94+IF(データ整理!L93>5,データ整理!L93-5,0)","v":1089.06855},{"$f":"M94+IF(データ整理!M93>5,データ整理!M93-5,0)","v":1355.4418400000002},{"$f":"N94+IF(データ整理!N93>5,データ整理!N93-5,0)","v":1252.3512499999995},{"$f":"O94+IF(データ整理!O93>5,データ整理!O93-5,0)","v":1349.7031899999997},{"$f":"P94+IF(データ整理!P93>5,データ整理!P93-5,0)","v":1285.9742199999998},{"$f":"Q94+IF(データ整理!Q93>5,データ整理!Q93-5,0)","v":1154.5714700000005},{"$f":"R94+IF(データ整理!R93>5,データ整理!R93-5,0)","v":1130.5056299999997},{"$f":"S94+IF(データ整理!S93>5,データ整理!S93-5,0)","v":1234.0566000000001},{"$f":"T94+IF(データ整理!T93>5,データ整理!T93-5,0)","v":1137.1343099999999},{"$f":"U94+IF(データ整理!U93>5,データ整理!U93-5,0)","v":1144.32323},null,null,null,"2018-07-01",{"$f":"Z94+IF(データ整理!Z93>5,データ整理!Z93-5,0)","v":1144.32323},{"$f":"AA94+IF(データ整理!AA93>5,データ整理!AA93-5,0)","v":1160.8092900000001}]
["2014-07-02",{"$f":"B95+IF(データ整理!B94>5,データ整理!B94-5,0)","v":1321.6526600000002},{"$f":"C95+IF(データ整理!C94>5,データ整理!C94-5,0)","v":1320.5336800000002},{"$f":"D95+IF(データ整理!D94>5,データ整理!D94-5,0)","v":1111.84717},{"$f":"E95+IF(データ整理!E94>5,データ整理!E94-5,0)","v":1093.4120499999999},{"$f":"F95+IF(データ整理!F94>5,データ整理!F94-5,0)","v":1050.0799399999996},{"$f":"G95+IF(データ整理!G94>5,データ整理!G94-5,0)","v":1184.2538499999998},{"$f":"H95+IF(データ整理!H94>5,データ整理!H94-5,0)","v":1234.68217},{"$f":"I95+IF(データ整理!I94>5,データ整理!I94-5,0)","v":1275.7763},{"$f":"J95+IF(データ整理!J94>5,データ整理!J94-5,0)","v":1142.4475099999997},{"$f":"K95+IF(データ整理!K94>5,データ整理!K94-5,0)","v":1169.2497700000006},{"$f":"L95+IF(データ整理!L94>5,データ整理!L94-5,0)","v":1078.2526499999999},{"$f":"M95+IF(データ整理!M94>5,データ整理!M94-5,0)","v":1339.5446400000001},{"$f":"N95+IF(データ整理!N94>5,データ整理!N94-5,0)","v":1238.8152499999994},{"$f":"O95+IF(データ整理!O94>5,データ整理!O94-5,0)","v":1335.0579899999998},{"$f":"P95+IF(データ整理!P94>5,データ整理!P94-5,0)","v":1272.7250199999999},{"$f":"Q95+IF(データ整理!Q94>5,データ整理!Q94-5,0)","v":1142.1090700000007},{"$f":"R95+IF(データ整理!R94>5,データ整理!R94-5,0)","v":1120.7307299999998},{"$f":"S95+IF(データ整理!S94>5,データ整理!S94-5,0)","v":1221.0056000000002},{"$f":"T95+IF(データ整理!T94>5,データ整理!T94-5,0)","v":1123.89661},{"$f":"U95+IF(データ整理!U94>5,データ整理!U94-5,0)","v":1130.31313},null,null,null,"2018-07-02",{"$f":"Z95+IF(データ整理!Z94>5,データ整理!Z94-5,0)","v":1130.31313},{"$f":"AA95+IF(データ整理!AA94>5,データ整理!AA94-5,0)","v":1149.73269}]
["2014-07-03",{"$f":"B96+IF(データ整理!B95>5,データ整理!B95-5,0)","v":1311.1817600000002},{"$f":"C96+IF(データ整理!C95>5,データ整理!C95-5,0)","v":1306.2794800000001},{"$f":"D96+IF(データ整理!D95>5,データ整理!D95-5,0)","v":1102.3822700000001},{"$f":"E96+IF(データ整理!E95>5,データ整理!E95-5,0)","v":1079.30125},{"$f":"F96+IF(データ整理!F95>5,データ整理!F95-5,0)","v":1040.2779399999997},{"$f":"G96+IF(データ整理!G95>5,データ整理!G95-5,0)","v":1174.1003499999999},{"$f":"H96+IF(データ整理!H95>5,データ整理!H95-5,0)","v":1221.3949700000001},{"$f":"I96+IF(データ整理!I95>5,データ整理!I95-5,0)","v":1263.2551000000001},{"$f":"J96+IF(データ整理!J95>5,データ整理!J95-5,0)","v":1132.6673099999998},{"$f":"K96+IF(データ整理!K95>5,データ整理!K95-5,0)","v":1157.9516700000006},{"$f":"L96+IF(データ整理!L95>5,データ整理!L95-5,0)","v":1066.09195},{"$f":"M96+IF(データ整理!M95>5,データ整理!M95-5,0)","v":1322.7272400000002},{"$f":"N96+IF(データ整理!N95>5,データ整理!N95-5,0)","v":1225.3160499999994},{"$f":"O96+IF(データ整理!O95>5,データ整理!O95-5,0)","v":1322.6039899999998},{"$f":"P96+IF(データ整理!P95>5,データ整理!P95-5,0)","v":1256.9591199999998},{"$f":"Q96+IF(データ整理!Q95>5,データ整理!Q95-5,0)","v":1128.2444700000005},{"$f":"R96+IF(データ整理!R95>5,データ整理!R95-5,0)","v":1110.4504299999999},{"$f":"S96+IF(データ整理!S95>5,データ整理!S95-5,0)","v":1208.5483000000002},{"$f":"T96+IF(データ整理!T95>5,データ整理!T95-5,0)","v":1111.87231},{"$f":"U96+IF(データ整理!U95>5,データ整理!U95-5,0)","v":1115.5208299999999},null,null,null,"2018-07-03",{"$f":"Z96+IF(データ整理!Z95>5,データ整理!Z95-5,0)","v":1115.5208299999999},{"$f":"AA96+IF(データ整理!AA95>5,データ整理!AA95-5,0)","v":1138.53289}]
["2014-07-04",{"$f":"B97+IF(データ整理!B96>5,データ整理!B96-5,0)","v":1298.5221600000002},{"$f":"C97+IF(データ整理!C96>5,データ整理!C96-5,0)","v":1292.6980800000001},{"$f":"D97+IF(データ整理!D96>5,データ整理!D96-5,0)","v":1091.36707},{"$f":"E97+IF(データ整理!E96>5,データ整理!E96-5,0)","v":1065.33025},{"$f":"F97+IF(データ整理!F96>5,データ整理!F96-5,0)","v":1029.0512399999998},{"$f":"G97+IF(データ整理!G96>5,データ整理!G96-5,0)","v":1162.65155},{"$f":"H97+IF(データ整理!H96>5,データ整理!H96-5,0)","v":1208.7234700000001},{"$f":"I97+IF(データ整理!I96>5,データ整理!I96-5,0)","v":1249.7383},{"$f":"J97+IF(データ整理!J96>5,データ整理!J96-5,0)","v":1119.8797099999997},{"$f":"K97+IF(データ整理!K96>5,データ整理!K96-5,0)","v":1144.5914700000005},{"$f":"L97+IF(データ整理!L96>5,データ整理!L96-5,0)","v":1055.0243499999999},{"$f":"M97+IF(データ整理!M96>5,データ整理!M96-5,0)","v":1306.8206400000001},{"$f":"N97+IF(データ整理!N96>5,データ整理!N96-5,0)","v":1210.7594499999996},{"$f":"O97+IF(データ整理!O96>5,データ整理!O96-5,0)","v":1308.0634899999998},{"$f":"P97+IF(データ整理!P96>5,データ整理!P96-5,0)","v":1243.0638199999999},{"$f":"Q97+IF(データ整理!Q96>5,データ整理!Q96-5,0)","v":1113.5825700000005},{"$f":"R97+IF(データ整理!R96>5,データ整理!R96-5,0)","v":1101.81783},{"$f":"S97+IF(データ整理!S96>5,データ整理!S96-5,0)","v":1197.6641000000002},{"$f":"T97+IF(データ整理!T96>5,データ整理!T96-5,0)","v":1100.7225100000001},{"$f":"U97+IF(データ整理!U96>5,データ整理!U96-5,0)","v":1102.01433},null,null,null,"2018-07-04",{"$f":"Z97+IF(データ整理!Z96>5,データ整理!Z96-5,0)","v":1102.01433},{"$f":"AA97+IF(データ整理!AA96>5,データ整理!AA96-5,0)","v":1127.21109}]
["2014-07-05",{"$f":"B98+IF(データ整理!B97>5,データ整理!B97-5,0)","v":1289.4297600000002},{"$f":"C98+IF(データ整理!C97>5,データ整理!C97-5,0)","v":1278.80088},{"$f":"D98+IF(データ整理!D97>5,データ整理!D97-5,0)","v":1077.4762700000001},{"$f":"E98+IF(データ整理!E97>5,データ整理!E97-5,0)","v":1051.00405},{"$f":"F98+IF(データ整理!F97>5,データ整理!F97-5,0)","v":1018.0780399999998},{"$f":"G98+IF(データ整理!G97>5,データ整理!G97-5,0)","v":1151.7881500000001},{"$f":"H98+IF(データ整理!H97>5,データ整理!H97-5,0)","v":1195.5986700000001},{"$f":"I98+IF(データ整理!I97>5,データ整理!I97-5,0)","v":1236.5214000000001},{"$f":"J98+IF(データ整理!J97>5,データ整理!J97-5,0)","v":1105.9184099999998},{"$f":"K98+IF(データ整理!K97>5,データ整理!K97-5,0)","v":1129.9785700000004},{"$f":"L98+IF(データ整理!L97>5,データ整理!L97-5,0)","v":1043.45605},{"$f":"M98+IF(データ整理!M97>5,データ整理!M97-5,0)","v":1290.8758400000002},{"$f":"N98+IF(データ整理!N97>5,データ整理!N97-5,0)","v":1197.3592499999995},{"$f":"O98+IF(データ整理!O97>5,データ整理!O97-5,0)","v":1294.1834899999997},{"$f":"P98+IF(データ整理!P97>5,データ整理!P97-5,0)","v":1227.5662199999999},{"$f":"Q98+IF(データ整理!Q97>5,データ整理!Q97-5,0)","v":1101.5963700000004},{"$f":"R98+IF(データ整理!R97>5,データ整理!R97-5,0)","v":1094.15113},{"$f":"S98+IF(データ整理!S97>5,データ整理!S97-5,0)","v":1191.5525000000002},{"$f":"T98+IF(データ整理!T97>5,データ整理!T97-5,0)","v":1087.79881},{"$f":"U98+IF(データ整理!U97>5,データ整理!U97-5,0)","v":1094.8770299999999},null,null,null,"2018-07-05",{"$f":"Z98+IF(データ整理!Z97>5,データ整理!Z97-5,0)","v":1094.8770299999999},{"$f":"AA98+IF(データ整理!AA97>5,データ整理!AA97-5,0)","v":1115.7677900000001}]
["2014-07-06",{"$f":"B99+IF(データ整理!B98>5,データ整理!B98-5,0)","v":1279.6717600000002},{"$f":"C99+IF(データ整理!C98>5,データ整理!C98-5,0)","v":1265.69578},{"$f":"D99+IF(データ整理!D98>5,データ整理!D98-5,0)","v":1064.2968700000001},{"$f":"E99+IF(データ整理!E98>5,データ整理!E98-5,0)","v":1038.1793500000001},{"$f":"F99+IF(データ整理!F98>5,データ整理!F98-5,0)","v":1005.5058399999998},{"$f":"G99+IF(データ整理!G98>5,データ整理!G98-5,0)","v":1142.1177500000001},{"$f":"H99+IF(データ整理!H98>5,データ整理!H98-5,0)","v":1185.32347},{"$f":"I99+IF(データ整理!I98>5,データ整理!I98-5,0)","v":1222.2925},{"$f":"J99+IF(データ整理!J98>5,データ整理!J98-5,0)","v":1092.7417099999998},{"$f":"K99+IF(データ整理!K98>5,データ整理!K98-5,0)","v":1113.6104700000005},{"$f":"L99+IF(データ整理!L98>5,データ整理!L98-5,0)","v":1031.05855},{"$f":"M99+IF(データ整理!M98>5,データ整理!M98-5,0)","v":1275.8172400000001},{"$f":"N99+IF(データ整理!N98>5,データ整理!N98-5,0)","v":1185.7079499999995},{"$f":"O99+IF(データ整理!O98>5,データ整理!O98-5,0)","v":1280.2448899999997},{"$f":"P99+IF(データ整理!P98>5,データ整理!P98-5,0)","v":1211.7161199999998},{"$f":"Q99+IF(データ整理!Q98>5,データ整理!Q98-5,0)","v":1090.5982700000004},{"$f":"R99+IF(データ整理!R98>5,データ整理!R98-5,0)","v":1085.8615299999999},{"$f":"S99+IF(データ整理!S98>5,データ整理!S98-5,0)","v":1182.1612000000002},{"$f":"T99+IF(データ整理!T98>5,データ整理!T98-5,0)","v":1074.28801},{"$f":"U99+IF(データ整理!U98>5,データ整理!U98-5,0)","v":1091.76442},null,null,null,"2018-07-06",{"$f":"Z99+IF(データ整理!Z98>5,データ整理!Z98-5,0)","v":1091.76442},{"$f":"AA99+IF(データ整理!AA98>5,データ整理!AA98-5,0)","v":1104.20479}]
["2014-07-07",{"$f":"B100+IF(データ整理!B99>5,データ整理!B99-5,0)","v":1268.7303600000002},{"$f":"C100+IF(データ整理!C99>5,データ整理!C99-5,0)","v":1252.21018},{"$f":"D100+IF(データ整理!D99>5,データ整理!D99-5,0)","v":1056.1288700000002},{"$f":"E100+IF(データ整理!E99>5,データ整理!E99-5,0)","v":1025.8751500000001},{"$f":"F100+IF(データ整理!F99>5,データ整理!F99-5,0)","v":994.20313999999985},{"$f":"G100+IF(データ整理!G99>5,データ整理!G99-5,0)","v":1131.5641500000002},{"$f":"H100+IF(データ整理!H99>5,データ整理!H99-5,0)","v":1177.62237},{"$f":"I100+IF(データ整理!I99>5,データ整理!I99-5,0)","v":1210.2357999999999},{"$f":"J100+IF(データ整理!J99>5,データ整理!J99-5,0)","v":1081.6490099999999},{"$f":"K100+IF(データ整理!K99>5,データ整理!K99-5,0)","v":1096.1760700000004},{"$f":"L100+IF(データ整理!L99>5,データ整理!L99-5,0)","v":1018.5515499999999},{"$f":"M100+IF(データ整理!M99>5,データ整理!M99-5,0)","v":1262.7284400000001},{"$f":"N100+IF(データ整理!N99>5,データ整理!N99-5,0)","v":1173.5445499999996},{"$f":"O100+IF(データ整理!O99>5,データ整理!O99-5,0)","v":1266.8017899999998},{"$f":"P100+IF(データ整理!P99>5,データ整理!P99-5,0)","v":1195.4786199999999},{"$f":"Q100+IF(データ整理!Q99>5,データ整理!Q99-5,0)","v":1080.2421700000004},{"$f":"R100+IF(データ整理!R99>5,データ整理!R99-5,0)","v":1074.4740299999999},{"$f":"S100+IF(データ整理!S99>5,データ整理!S99-5,0)","v":1170.9098000000001},{"$f":"T100+IF(データ整理!T99>5,データ整理!T99-5,0)","v":1060.61841},{"$f":"U100+IF(データ整理!U99>5,データ整理!U99-5,0)","v":1086.8278399999999},null,null,null,"2018-07-07",{"$f":"Z100+IF(データ整理!Z99>5,データ整理!Z99-5,0)","v":1086.8278399999999},{"$f":"AA100+IF(データ整理!AA99>5,データ整理!AA99-5,0)","v":1092.52719}]
["2014-07-08",{"$f":"B101+IF(データ整理!B100>5,データ整理!B100-5,0)","v":1255.4011600000003},{"$f":"C101+IF(データ整理!C100>5,データ整理!C100-5,0)","v":1238.36258},{"$f":"D101+IF(データ整理!D100>5,データ整理!D100-5,0)","v":1047.1416700000002},{"$f":"E101+IF(データ整理!E100>5,データ整理!E100-5,0)","v":1013.6385500000001},{"$f":"F101+IF(データ整理!F100>5,データ整理!F100-5,0)","v":981.58403999999985},{"$f":"G101+IF(データ整理!G100>5,データ整理!G100-5,0)","v":1119.7974500000003},{"$f":"H101+IF(データ整理!H100>5,データ整理!H100-5,0)","v":1169.8891700000001},{"$f":"I101+IF(データ整理!I100>5,データ整理!I100-5,0)","v":1197.3027999999999},{"$f":"J101+IF(データ整理!J100>5,データ整理!J100-5,0)","v":1070.0793099999999},{"$f":"K101+IF(データ整理!K100>5,データ整理!K100-5,0)","v":1079.9123700000005},{"$f":"L101+IF(データ整理!L100>5,データ整理!L100-5,0)","v":1004.1602499999999},{"$f":"M101+IF(データ整理!M100>5,データ整理!M100-5,0)","v":1249.36914},{"$f":"N101+IF(データ整理!N100>5,データ整理!N100-5,0)","v":1158.1769499999996},{"$f":"O101+IF(データ整理!O100>5,データ整理!O100-5,0)","v":1254.1179899999997},{"$f":"P101+IF(データ整理!P100>5,データ整理!P100-5,0)","v":1181.1364199999998},{"$f":"Q101+IF(データ整理!Q100>5,データ整理!Q100-5,0)","v":1066.2493700000005},{"$f":"R101+IF(データ整理!R100>5,データ整理!R100-5,0)","v":1067.1305299999999},{"$f":"S101+IF(データ整理!S100>5,データ整理!S100-5,0)","v":1159.8831000000002},{"$f":"T101+IF(データ整理!T100>5,データ整理!T100-5,0)","v":1045.0581099999999},{"$f":"U101+IF(データ整理!U100>5,データ整理!U100-5,0)","v":1081.17174},null,null,null,"2018-07-08",{"$f":"Z101+IF(データ整理!Z100>5,データ整理!Z100-5,0)","v":1081.17174},{"$f":"AA101+IF(データ整理!AA100>5,データ整理!AA100-5,0)","v":1080.7433900000001}]
["2014-07-09",{"$f":"B102+IF(データ整理!B101>5,データ整理!B101-5,0)","v":1242.5122600000004},{"$f":"C102+IF(データ整理!C101>5,データ整理!C101-5,0)","v":1224.51088},{"$f":"D102+IF(データ整理!D101>5,データ整理!D101-5,0)","v":1038.4592700000003},{"$f":"E102+IF(データ整理!E101>5,データ整理!E101-5,0)","v":1002.4238500000001},{"$f":"F102+IF(データ整理!F101>5,データ整理!F101-5,0)","v":969.14113999999984},{"$f":"G102+IF(データ整理!G101>5,データ整理!G101-5,0)","v":1105.7630500000002},{"$f":"H102+IF(データ整理!H101>5,データ整理!H101-5,0)","v":1160.8806700000002},{"$f":"I102+IF(データ整理!I101>5,データ整理!I101-5,0)","v":1182.8105},{"$f":"J102+IF(データ整理!J101>5,データ整理!J101-5,0)","v":1058.7914099999998},{"$f":"K102+IF(データ整理!K101>5,データ整理!K101-5,0)","v":1063.4442700000004},{"$f":"L102+IF(データ整理!L101>5,データ整理!L101-5,0)","v":992.16184999999996},{"$f":"M102+IF(データ整理!M101>5,データ整理!M101-5,0)","v":1237.3216400000001},{"$f":"N102+IF(データ整理!N101>5,データ整理!N101-5,0)","v":1143.5981499999996},{"$f":"O102+IF(データ整理!O101>5,データ整理!O101-5,0)","v":1241.9049899999998},{"$f":"P102+IF(データ整理!P101>5,データ整理!P101-5,0)","v":1164.4237199999998},{"$f":"Q102+IF(データ整理!Q101>5,データ整理!Q101-5,0)","v":1052.8312700000004},{"$f":"R102+IF(データ整理!R101>5,データ整理!R101-5,0)","v":1060.6761299999998},{"$f":"S102+IF(データ整理!S101>5,データ整理!S101-5,0)","v":1147.7069000000001},{"$f":"T102+IF(データ整理!T101>5,データ整理!T101-5,0)","v":1030.06501},{"$f":"U102+IF(データ整理!U101>5,データ整理!U101-5,0)","v":1071.03124},null,null,null,"2018-07-09",{"$f":"Z102+IF(データ整理!Z101>5,データ整理!Z101-5,0)","v":1071.03124},{"$f":"AA102+IF(データ整理!AA101>5,データ整理!AA101-5,0)","v":1068.8593900000001}]
["2014-07-10",{"$f":"B103+IF(データ整理!B102>5,データ整理!B102-5,0)","v":1229.8132600000004},{"$f":"C103+IF(データ整理!C102>5,データ整理!C102-5,0)","v":1212.62618},{"$f":"D103+IF(データ整理!D102>5,データ整理!D102-5,0)","v":1025.8283700000002},{"$f":"E103+IF(データ整理!E102>5,データ整理!E102-5,0)","v":992.04425000000015},{"$f":"F103+IF(データ整理!F102>5,データ整理!F102-5,0)","v":956.57263999999986},{"$f":"G103+IF(データ整理!G102>5,データ整理!G102-5,0)","v":1093.6546500000002},{"$f":"H103+IF(データ整理!H102>5,データ整理!H102-5,0)","v":1150.0899700000002},{"$f":"I103+IF(データ整理!I102>5,データ整理!I102-5,0)","v":1167.7523000000001},{"$f":"J103+IF(データ整理!J102>5,データ整理!J102-5,0)","v":1049.7665099999999},{"$f":"K103+IF(データ整理!K102>5,データ整理!K102-5,0)","v":1049.2207700000004},{"$f":"L103+IF(データ整理!L102>5,データ整理!L102-5,0)","v":980.03774999999996},{"$f":"M103+IF(データ整理!M102>5,データ整理!M102-5,0)","v":1223.5005400000002},{"$f":"N103+IF(データ整理!N102>5,データ整理!N102-5,0)","v":1128.6865499999997},{"$f":"O103+IF(データ整理!O102>5,データ整理!O102-5,0)","v":1230.8152899999998},{"$f":"P103+IF(データ整理!P102>5,データ整理!P102-5,0)","v":1147.8918199999998},{"$f":"Q103+IF(データ整理!Q102>5,データ整理!Q102-5,0)","v":1038.5039700000004},{"$f":"R103+IF(データ整理!R102>5,データ整理!R102-5,0)","v":1052.3597299999999},{"$f":"S103+IF(データ整理!S102>5,データ整理!S102-5,0)","v":1135.2845000000002},{"$f":"T103+IF(データ整理!T102>5,データ整理!T102-5,0)","v":1013.2875100000001},{"$f":"U103+IF(データ整理!U102>5,データ整理!U102-5,0)","v":1059.40894},null,null,null,"2018-07-10",{"$f":"Z103+IF(データ整理!Z102>5,データ整理!Z102-5,0)","v":1059.40894},{"$f":"AA103+IF(データ整理!AA102>5,データ整理!AA102-5,0)","v":1056.87699}]
["2014-07-11",{"$f":"B104+IF(データ整理!B103>5,データ整理!B103-5,0)","v":1217.1628600000004},{"$f":"C104+IF(データ整理!C103>5,データ整理!C103-5,0)","v":1200.72498},{"$f":"D104+IF(データ整理!D103>5,データ整理!D103-5,0)","v":1011.9433700000001},{"$f":"E104+IF(データ整理!E103>5,データ整理!E103-5,0)","v":982.23415000000011},{"$f":"F104+IF(データ整理!F103>5,データ整理!F103-5,0)","v":946.35773999999981},{"$f":"G104+IF(データ整理!G103>5,データ整理!G103-5,0)","v":1082.7510500000001},{"$f":"H104+IF(データ整理!H103>5,データ整理!H103-5,0)","v":1138.5750700000003},{"$f":"I104+IF(データ整理!I103>5,データ整理!I103-5,0)","v":1153.2512000000002},{"$f":"J104+IF(データ整理!J103>5,データ整理!J103-5,0)","v":1042.2488099999998},{"$f":"K104+IF(データ整理!K103>5,データ整理!K103-5,0)","v":1034.9492700000003},{"$f":"L104+IF(データ整理!L103>5,データ整理!L103-5,0)","v":973.87135000000001},{"$f":"M104+IF(データ整理!M103>5,データ整理!M103-5,0)","v":1210.6989400000002},{"$f":"N104+IF(データ整理!N103>5,データ整理!N103-5,0)","v":1114.3446499999998},{"$f":"O104+IF(データ整理!O103>5,データ整理!O103-5,0)","v":1219.4346899999998},{"$f":"P104+IF(データ整理!P103>5,データ整理!P103-5,0)","v":1133.2599199999997},{"$f":"Q104+IF(データ整理!Q103>5,データ整理!Q103-5,0)","v":1026.3449700000003},{"$f":"R104+IF(データ整理!R103>5,データ整理!R103-5,0)","v":1041.6460299999999},{"$f":"S104+IF(データ整理!S103>5,データ整理!S103-5,0)","v":1123.9848000000002},{"$f":"T104+IF(データ整理!T103>5,データ整理!T103-5,0)","v":995.20381000000009},{"$f":"U104+IF(データ整理!U103>5,データ整理!U103-5,0)","v":1045.7245399999999},null,null,null,"2018-07-11",{"$f":"Z104+IF(データ整理!Z103>5,データ整理!Z103-5,0)","v":1045.7245399999999},{"$f":"AA104+IF(データ整理!AA103>5,データ整理!AA103-5,0)","v":1044.7955899999999}]
["2014-07-12",{"$f":"B105+IF(データ整理!B104>5,データ整理!B104-5,0)","v":1203.6793600000003},{"$f":"C105+IF(データ整理!C104>5,データ整理!C104-5,0)","v":1186.3005799999999},{"$f":"D105+IF(データ整理!D104>5,データ整理!D104-5,0)","v":996.26047000000005},{"$f":"E105+IF(データ整理!E104>5,データ整理!E104-5,0)","v":973.97865000000013},{"$f":"F105+IF(データ整理!F104>5,データ整理!F104-5,0)","v":933.19023999999979},{"$f":"G105+IF(データ整理!G104>5,データ整理!G104-5,0)","v":1074.7755500000001},{"$f":"H105+IF(データ整理!H104>5,データ整理!H104-5,0)","v":1127.8534700000002},{"$f":"I105+IF(データ整理!I104>5,データ整理!I104-5,0)","v":1136.6750000000002},{"$f":"J105+IF(データ整理!J104>5,データ整理!J104-5,0)","v":1035.0510099999999},{"$f":"K105+IF(データ整理!K104>5,データ整理!K104-5,0)","v":1022.3834700000002},{"$f":"L105+IF(データ整理!L104>5,データ整理!L104-5,0)","v":966.15535},{"$f":"M105+IF(データ整理!M104>5,データ整理!M104-5,0)","v":1197.1299400000003},{"$f":"N105+IF(データ整理!N104>5,データ整理!N104-5,0)","v":1098.4983499999998},{"$f":"O105+IF(データ整理!O104>5,データ整理!O104-5,0)","v":1207.6924899999999},{"$f":"P105+IF(データ整理!P104>5,データ整理!P104-5,0)","v":1118.5147199999997},{"$f":"Q105+IF(データ整理!Q104>5,データ整理!Q104-5,0)","v":1012.4857700000003},{"$f":"R105+IF(データ整理!R104>5,データ整理!R104-5,0)","v":1027.2521299999999},{"$f":"S105+IF(データ整理!S104>5,データ整理!S104-5,0)","v":1113.0254000000002},{"$f":"T105+IF(データ整理!T104>5,データ整理!T104-5,0)","v":977.64521000000013},{"$f":"U105+IF(データ整理!U104>5,データ整理!U104-5,0)","v":1032.9519399999999},null,null,null,"2018-07-12",{"$f":"Z105+IF(データ整理!Z104>5,データ整理!Z104-5,0)","v":1032.9519399999999},{"$f":"AA105+IF(データ整理!AA104>5,データ整理!AA104-5,0)","v":1032.61419}]
["2014-07-13",{"$f":"B106+IF(データ整理!B105>5,データ整理!B105-5,0)","v":1188.7775600000002},{"$f":"C106+IF(データ整理!C105>5,データ整理!C105-5,0)","v":1169.9562799999999},{"$f":"D106+IF(データ整理!D105>5,データ整理!D105-5,0)","v":979.64457000000004},{"$f":"E106+IF(データ整理!E105>5,データ整理!E105-5,0)","v":965.07145000000014},{"$f":"F106+IF(データ整理!F105>5,データ整理!F105-5,0)","v":919.47853999999984},{"$f":"G106+IF(データ整理!G105>5,データ整理!G105-5,0)","v":1065.5980500000001},{"$f":"H106+IF(データ整理!H105>5,データ整理!H105-5,0)","v":1115.1307700000002},{"$f":"I106+IF(データ整理!I105>5,データ整理!I105-5,0)","v":1122.7350000000001},{"$f":"J106+IF(データ整理!J105>5,データ整理!J105-5,0)","v":1027.8136099999999},{"$f":"K106+IF(データ整理!K105>5,データ整理!K105-5,0)","v":1010.0120700000002},{"$f":"L106+IF(データ整理!L105>5,データ整理!L105-5,0)","v":954.67165},{"$f":"M106+IF(データ整理!M105>5,データ整理!M105-5,0)","v":1188.8550400000004},{"$f":"N106+IF(データ整理!N105>5,データ整理!N105-5,0)","v":1083.3093499999998},{"$f":"O106+IF(データ整理!O105>5,データ整理!O105-5,0)","v":1198.56709},{"$f":"P106+IF(データ整理!P105>5,データ整理!P105-5,0)","v":1104.1755199999998},{"$f":"Q106+IF(データ整理!Q105>5,データ整理!Q105-5,0)","v":1001.4964700000004},{"$f":"R106+IF(データ整理!R105>5,データ整理!R105-5,0)","v":1012.6580299999998},{"$f":"S106+IF(データ整理!S105>5,データ整理!S105-5,0)","v":1100.7910000000002},{"$f":"T106+IF(データ整理!T105>5,データ整理!T105-5,0)","v":961.56251000000009},{"$f":"U106+IF(データ整理!U105>5,データ整理!U105-5,0)","v":1019.9591399999999},null,null,null,"2018-07-13",{"$f":"Z106+IF(データ整理!Z105>5,データ整理!Z105-5,0)","v":1019.9591399999999},{"$f":"AA106+IF(データ整理!AA105>5,データ整理!AA105-5,0)","v":1020.3316900000001}]
["2014-07-14",{"$f":"B107+IF(データ整理!B106>5,データ整理!B106-5,0)","v":1172.9898600000001},{"$f":"C107+IF(データ整理!C106>5,データ整理!C106-5,0)","v":1154.9139799999998},{"$f":"D107+IF(データ整理!D106>5,データ整理!D106-5,0)","v":963.23716999999999},{"$f":"E107+IF(データ整理!E106>5,データ整理!E106-5,0)","v":950.91045000000008},{"$f":"F107+IF(データ整理!F106>5,データ整理!F106-5,0)","v":910.4465399999998},{"$f":"G107+IF(データ整理!G106>5,データ整理!G106-5,0)","v":1054.40365},{"$f":"H107+IF(データ整理!H106>5,データ整理!H106-5,0)","v":1101.6201700000001},{"$f":"I107+IF(データ整理!I106>5,データ整理!I106-5,0)","v":1107.1063000000001},{"$f":"J107+IF(データ整理!J106>5,データ整理!J106-5,0)","v":1018.30931},{"$f":"K107+IF(データ整理!K106>5,データ整理!K106-5,0)","v":998.24337000000025},{"$f":"L107+IF(データ整理!L106>5,データ整理!L106-5,0)","v":944.37525000000005},{"$f":"M107+IF(データ整理!M106>5,データ整理!M106-5,0)","v":1178.9303400000003},{"$f":"N107+IF(データ整理!N106>5,データ整理!N106-5,0)","v":1068.0558499999997},{"$f":"O107+IF(データ整理!O106>5,データ整理!O106-5,0)","v":1191.43039},{"$f":"P107+IF(データ整理!P106>5,データ整理!P106-5,0)","v":1090.5170199999998},{"$f":"Q107+IF(データ整理!Q106>5,データ整理!Q106-5,0)","v":987.87667000000033},{"$f":"R107+IF(データ整理!R106>5,データ整理!R106-5,0)","v":999.99042999999983},{"$f":"S107+IF(データ整理!S106>5,データ整理!S106-5,0)","v":1086.9598000000001},{"$f":"T107+IF(データ整理!T106>5,データ整理!T106-5,0)","v":945.05021000000011},{"$f":"U107+IF(データ整理!U106>5,データ整理!U106-5,0)","v":1005.9012399999999},null,null,null,"2018-07-14",{"$f":"Z107+IF(データ整理!Z106>5,データ整理!Z106-5,0)","v":1005.9012399999999},{"$f":"AA107+IF(データ整理!AA106>5,データ整理!AA106-5,0)","v":1007.9472900000001}]
["2014-07-15",{"$f":"B108+IF(データ整理!B107>5,データ整理!B107-5,0)","v":1157.8257600000002},{"$f":"C108+IF(データ整理!C107>5,データ整理!C107-5,0)","v":1137.7148799999998},{"$f":"D108+IF(データ整理!D107>5,データ整理!D107-5,0)","v":947.44277},{"$f":"E108+IF(データ整理!E107>5,データ整理!E107-5,0)","v":935.26505000000009},{"$f":"F108+IF(データ整理!F107>5,データ整理!F107-5,0)","v":903.43573999999978},{"$f":"G108+IF(データ整理!G107>5,データ整理!G107-5,0)","v":1042.4294499999999},{"$f":"H108+IF(データ整理!H107>5,データ整理!H107-5,0)","v":1087.2887700000001},{"$f":"I108+IF(データ整理!I107>5,データ整理!I107-5,0)","v":1092.0368000000001},{"$f":"J108+IF(データ整理!J107>5,データ整理!J107-5,0)","v":1007.45831},{"$f":"K108+IF(データ整理!K107>5,データ整理!K107-5,0)","v":984.06057000000021},{"$f":"L108+IF(データ整理!L107>5,データ整理!L107-5,0)","v":932.63915000000009},{"$f":"M108+IF(データ整理!M107>5,データ整理!M107-5,0)","v":1166.6281400000003},{"$f":"N108+IF(データ整理!N107>5,データ整理!N107-5,0)","v":1056.6193499999997},{"$f":"O108+IF(データ整理!O107>5,データ整理!O107-5,0)","v":1183.55639},{"$f":"P108+IF(データ整理!P107>5,データ整理!P107-5,0)","v":1076.6425199999999},{"$f":"Q108+IF(データ整理!Q107>5,データ整理!Q107-5,0)","v":973.26597000000038},{"$f":"R108+IF(データ整理!R107>5,データ整理!R107-5,0)","v":983.79042999999979},{"$f":"S108+IF(データ整理!S107>5,データ整理!S107-5,0)","v":1072.9333000000001},{"$f":"T108+IF(データ整理!T107>5,データ整理!T107-5,0)","v":928.22501000000011},{"$f":"U108+IF(データ整理!U107>5,データ整理!U107-5,0)","v":990.36983999999995},null,null,null,"2018-07-15",{"$f":"Z108+IF(データ整理!Z107>5,データ整理!Z107-5,0)","v":990.36983999999995},{"$f":"AA108+IF(データ整理!AA107>5,データ整理!AA107-5,0)","v":995.45869000000005}]
["2014-07-16",{"$f":"B109+IF(データ整理!B108>5,データ整理!B108-5,0)","v":1139.6640600000001},{"$f":"C109+IF(データ整理!C108>5,データ整理!C108-5,0)","v":1123.0918799999997},{"$f":"D109+IF(データ整理!D108>5,データ整理!D108-5,0)","v":932.05397000000005},{"$f":"E109+IF(データ整理!E108>5,データ整理!E108-5,0)","v":922.25165000000004},{"$f":"F109+IF(データ整理!F108>5,データ整理!F108-5,0)","v":895.7812399999998},{"$f":"G109+IF(データ整理!G108>5,データ整理!G108-5,0)","v":1028.7896499999999},{"$f":"H109+IF(データ整理!H108>5,データ整理!H108-5,0)","v":1073.8902700000001},{"$f":"I109+IF(データ整理!I108>5,データ整理!I108-5,0)","v":1078.3712},{"$f":"J109+IF(データ整理!J108>5,データ整理!J108-5,0)","v":994.63481000000002},{"$f":"K109+IF(データ整理!K108>5,データ整理!K108-5,0)","v":970.07267000000024},{"$f":"L109+IF(データ整理!L108>5,データ整理!L108-5,0)","v":920.00345000000004},{"$f":"M109+IF(データ整理!M108>5,データ整理!M108-5,0)","v":1153.0410400000003},{"$f":"N109+IF(データ整理!N108>5,データ整理!N108-5,0)","v":1045.9880499999997},{"$f":"O109+IF(データ整理!O108>5,データ整理!O108-5,0)","v":1173.9871900000001},{"$f":"P109+IF(データ整理!P108>5,データ整理!P108-5,0)","v":1061.6604199999999},{"$f":"Q109+IF(データ整理!Q108>5,データ整理!Q108-5,0)","v":957.99527000000035},{"$f":"R109+IF(データ整理!R108>5,データ整理!R108-5,0)","v":975.62742999999978},{"$f":"S109+IF(データ整理!S108>5,データ整理!S108-5,0)","v":1060.7187000000001},{"$f":"T109+IF(データ整理!T108>5,データ整理!T108-5,0)","v":910.89071000000013},{"$f":"U109+IF(データ整理!U108>5,データ整理!U108-5,0)","v":977.36303999999996},null,null,null,"2018-07-16",{"$f":"Z109+IF(データ整理!Z108>5,データ整理!Z108-5,0)","v":977.36303999999996},{"$f":"AA109+IF(データ整理!AA108>5,データ整理!AA108-5,0)","v":982.86009000000001}]
["2014-07-17",{"$f":"B110+IF(データ整理!B109>5,データ整理!B109-5,0)","v":1121.0106600000001},{"$f":"C110+IF(データ整理!C109>5,データ整理!C109-5,0)","v":1108.5596799999996},{"$f":"D110+IF(データ整理!D109>5,データ整理!D109-5,0)","v":919.06857000000002},{"$f":"E110+IF(データ整理!E109>5,データ整理!E109-5,0)","v":908.69655},{"$f":"F110+IF(データ整理!F109>5,データ整理!F109-5,0)","v":887.33253999999977},{"$f":"G110+IF(データ整理!G109>5,データ整理!G109-5,0)","v":1013.0957499999998},{"$f":"H110+IF(データ整理!H109>5,データ整理!H109-5,0)","v":1059.0786700000001},{"$f":"I110+IF(データ整理!I109>5,データ整理!I109-5,0)","v":1063.9657999999999},{"$f":"J110+IF(データ整理!J109>5,データ整理!J109-5,0)","v":980.94380999999998},{"$f":"K110+IF(データ整理!K109>5,データ整理!K109-5,0)","v":957.2263700000002},{"$f":"L110+IF(データ整理!L109>5,データ整理!L109-5,0)","v":910.97175000000004},{"$f":"M110+IF(データ整理!M109>5,データ整理!M109-5,0)","v":1137.2598400000004},{"$f":"N110+IF(データ整理!N109>5,データ整理!N109-5,0)","v":1033.2782499999996},{"$f":"O110+IF(データ整理!O109>5,データ整理!O109-5,0)","v":1162.15329},{"$f":"P110+IF(データ整理!P109>5,データ整理!P109-5,0)","v":1047.40202},{"$f":"Q110+IF(データ整理!Q109>5,データ整理!Q109-5,0)","v":941.56117000000029},{"$f":"R110+IF(データ整理!R109>5,データ整理!R109-5,0)","v":968.47642999999982},{"$f":"S110+IF(データ整理!S109>5,データ整理!S109-5,0)","v":1048.3953000000001},{"$f":"T110+IF(データ整理!T109>5,データ整理!T109-5,0)","v":895.27311000000009},{"$f":"U110+IF(データ整理!U109>5,データ整理!U109-5,0)","v":966.49423999999999},null,null,null,"2018-07-17",{"$f":"Z110+IF(データ整理!Z109>5,データ整理!Z109-5,0)","v":966.49423999999999},{"$f":"AA110+IF(データ整理!AA109>5,データ整理!AA109-5,0)","v":970.14378999999997}]
["2014-07-18",{"$f":"B111+IF(データ整理!B110>5,データ整理!B110-5,0)","v":1107.2075600000001},{"$f":"C111+IF(データ整理!C110>5,データ整理!C110-5,0)","v":1094.6896799999997},{"$f":"D111+IF(データ整理!D110>5,データ整理!D110-5,0)","v":905.92156999999997},{"$f":"E111+IF(データ整理!E110>5,データ整理!E110-5,0)","v":896.25225},{"$f":"F111+IF(データ整理!F110>5,データ整理!F110-5,0)","v":877.49243999999976},{"$f":"G111+IF(データ整理!G110>5,データ整理!G110-5,0)","v":996.92194999999981},{"$f":"H111+IF(データ整理!H110>5,データ整理!H110-5,0)","v":1043.8423700000001},{"$f":"I111+IF(データ整理!I110>5,データ整理!I110-5,0)","v":1050.5032999999999},{"$f":"J111+IF(データ整理!J110>5,データ整理!J110-5,0)","v":969.22520999999995},{"$f":"K111+IF(データ整理!K110>5,データ整理!K110-5,0)","v":947.12717000000021},{"$f":"L111+IF(データ整理!L110>5,データ整理!L110-5,0)","v":902.47735},{"$f":"M111+IF(データ整理!M110>5,データ整理!M110-5,0)","v":1121.2702400000003},{"$f":"N111+IF(データ整理!N110>5,データ整理!N110-5,0)","v":1019.6542499999997},{"$f":"O111+IF(データ整理!O110>5,データ整理!O110-5,0)","v":1149.7996900000001},{"$f":"P111+IF(データ整理!P110>5,データ整理!P110-5,0)","v":1033.76502},{"$f":"Q111+IF(データ整理!Q110>5,データ整理!Q110-5,0)","v":925.59637000000032},{"$f":"R111+IF(データ整理!R110>5,データ整理!R110-5,0)","v":958.17612999999983},{"$f":"S111+IF(データ整理!S110>5,データ整理!S110-5,0)","v":1034.8492000000001},{"$f":"T111+IF(データ整理!T110>5,データ整理!T110-5,0)","v":885.17771000000005},{"$f":"U111+IF(データ整理!U110>5,データ整理!U110-5,0)","v":955.18223999999998},null,null,null,"2018-07-18",{"$f":"Z111+IF(データ整理!Z110>5,データ整理!Z110-5,0)","v":955.18223999999998},{"$f":"AA111+IF(データ整理!AA110>5,データ整理!AA110-5,0)","v":957.30338999999992}]
["2014-07-19",{"$f":"B112+IF(データ整理!B111>5,データ整理!B111-5,0)","v":1096.0417600000001},{"$f":"C112+IF(データ整理!C111>5,データ整理!C111-5,0)","v":1085.2113799999997},{"$f":"D112+IF(データ整理!D111>5,データ整理!D111-5,0)","v":892.07767000000001},{"$f":"E112+IF(データ整理!E111>5,データ整理!E111-5,0)","v":881.21344999999997},{"$f":"F112+IF(データ整理!F111>5,データ整理!F111-5,0)","v":865.72833999999978},{"$f":"G112+IF(データ整理!G111>5,データ整理!G111-5,0)","v":982.80164999999977},{"$f":"H112+IF(データ整理!H111>5,データ整理!H111-5,0)","v":1029.1004700000001},{"$f":"I112+IF(データ整理!I111>5,データ整理!I111-5,0)","v":1038.1555999999998},{"$f":"J112+IF(データ整理!J111>5,データ整理!J111-5,0)","v":956.78390999999999},{"$f":"K112+IF(データ整理!K111>5,データ整理!K111-5,0)","v":936.73857000000021},{"$f":"L112+IF(データ整理!L111>5,データ整理!L111-5,0)","v":891.81375000000003},{"$f":"M112+IF(データ整理!M111>5,データ整理!M111-5,0)","v":1105.2269400000002},{"$f":"N112+IF(データ整理!N111>5,データ整理!N111-5,0)","v":1005.0247499999997},{"$f":"O112+IF(データ整理!O111>5,データ整理!O111-5,0)","v":1136.31439},{"$f":"P112+IF(データ整理!P111>5,データ整理!P111-5,0)","v":1020.34222},{"$f":"Q112+IF(データ整理!Q111>5,データ整理!Q111-5,0)","v":910.14587000000029},{"$f":"R112+IF(データ整理!R111>5,データ整理!R111-5,0)","v":945.13942999999983},{"$f":"S112+IF(データ整理!S111>5,データ整理!S111-5,0)","v":1022.1511000000002},{"$f":"T112+IF(データ整理!T111>5,データ整理!T111-5,0)","v":874.29741000000001},{"$f":"U112+IF(データ整理!U111>5,データ整理!U111-5,0)","v":942.77753999999993},null,null,null,"2018-07-19",{"$f":"Z112+IF(データ整理!Z111>5,データ整理!Z111-5,0)","v":942.77753999999993},{"$f":"AA112+IF(データ整理!AA111>5,データ整理!AA111-5,0)","v":944.33408999999995}]
["2014-07-20",{"$f":"B113+IF(データ整理!B112>5,データ整理!B112-5,0)","v":1081.6248600000001},{"$f":"C113+IF(データ整理!C112>5,データ整理!C112-5,0)","v":1074.8528799999997},{"$f":"D113+IF(データ整理!D112>5,データ整理!D112-5,0)","v":877.93736999999999},{"$f":"E113+IF(データ整理!E112>5,データ整理!E112-5,0)","v":864.22915},{"$f":"F113+IF(データ整理!F112>5,データ整理!F112-5,0)","v":855.17493999999976},{"$f":"G113+IF(データ整理!G112>5,データ整理!G112-5,0)","v":968.02324999999973},{"$f":"H113+IF(データ整理!H112>5,データ整理!H112-5,0)","v":1016.6145700000001},{"$f":"I113+IF(データ整理!I112>5,データ整理!I112-5,0)","v":1024.8780999999999},{"$f":"J113+IF(データ整理!J112>5,データ整理!J112-5,0)","v":944.00491},{"$f":"K113+IF(データ整理!K112>5,データ整理!K112-5,0)","v":925.03267000000017},{"$f":"L113+IF(データ整理!L112>5,データ整理!L112-5,0)","v":883.96024999999997},{"$f":"M113+IF(データ整理!M112>5,データ整理!M112-5,0)","v":1089.6545400000002},{"$f":"N113+IF(データ整理!N112>5,データ整理!N112-5,0)","v":991.21804999999972},{"$f":"O113+IF(データ整理!O112>5,データ整理!O112-5,0)","v":1128.2630899999999},{"$f":"P113+IF(データ整理!P112>5,データ整理!P112-5,0)","v":1007.44012},{"$f":"Q113+IF(データ整理!Q112>5,データ整理!Q112-5,0)","v":894.72337000000027},{"$f":"R113+IF(データ整理!R112>5,データ整理!R112-5,0)","v":930.2650299999998},{"$f":"S113+IF(データ整理!S112>5,データ整理!S112-5,0)","v":1010.7144000000002},{"$f":"T113+IF(データ整理!T112>5,データ整理!T112-5,0)","v":860.53530999999998},{"$f":"U113+IF(データ整理!U112>5,データ整理!U112-5,0)","v":928.29223999999988},null,null,null,"2018-07-20",{"$f":"Z113+IF(データ整理!Z112>5,データ整理!Z112-5,0)","v":928.29223999999988},{"$f":"AA113+IF(データ整理!AA112>5,データ整理!AA112-5,0)","v":931.23128999999994}]
["2014-07-21",{"$f":"B114+IF(データ整理!B113>5,データ整理!B113-5,0)","v":1066.6953600000002},{"$f":"C114+IF(データ整理!C113>5,データ整理!C113-5,0)","v":1061.3416799999998},{"$f":"D114+IF(データ整理!D113>5,データ整理!D113-5,0)","v":865.05196999999998},{"$f":"E114+IF(データ整理!E113>5,データ整理!E113-5,0)","v":849.76544999999999},{"$f":"F114+IF(データ整理!F113>5,データ整理!F113-5,0)","v":843.84953999999982},{"$f":"G114+IF(データ整理!G113>5,データ整理!G113-5,0)","v":953.07474999999977},{"$f":"H114+IF(データ整理!H113>5,データ整理!H113-5,0)","v":1005.01007},{"$f":"I114+IF(データ整理!I113>5,データ整理!I113-5,0)","v":1012.4292999999999},{"$f":"J114+IF(データ整理!J113>5,データ整理!J113-5,0)","v":930.78360999999995},{"$f":"K114+IF(データ整理!K113>5,データ整理!K113-5,0)","v":913.13607000000013},{"$f":"L114+IF(データ整理!L113>5,データ整理!L113-5,0)","v":876.38934999999992},{"$f":"M114+IF(データ整理!M113>5,データ整理!M113-5,0)","v":1074.1964400000002},{"$f":"N114+IF(データ整理!N113>5,データ整理!N113-5,0)","v":982.58214999999973},{"$f":"O114+IF(データ整理!O113>5,データ整理!O113-5,0)","v":1119.0601899999999},{"$f":"P114+IF(データ整理!P113>5,データ整理!P113-5,0)","v":994.10111999999992},{"$f":"Q114+IF(データ整理!Q113>5,データ整理!Q113-5,0)","v":880.21957000000032},{"$f":"R114+IF(データ整理!R113>5,データ整理!R113-5,0)","v":915.98022999999978},{"$f":"S114+IF(データ整理!S113>5,データ整理!S113-5,0)","v":998.48300000000017},{"$f":"T114+IF(データ整理!T113>5,データ整理!T113-5,0)","v":846.08901000000003},{"$f":"U114+IF(データ整理!U113>5,データ整理!U113-5,0)","v":911.65623999999991},null,null,null,"2018-07-21",{"$f":"Z114+IF(データ整理!Z113>5,データ整理!Z113-5,0)","v":911.65623999999991},{"$f":"AA114+IF(データ整理!AA113>5,データ整理!AA113-5,0)","v":917.98958999999991}]
["2014-07-22",{"$f":"B115+IF(データ整理!B114>5,データ整理!B114-5,0)","v":1051.7383600000001},{"$f":"C115+IF(データ整理!C114>5,データ整理!C114-5,0)","v":1047.9395799999998},{"$f":"D115+IF(データ整理!D114>5,データ整理!D114-5,0)","v":850.23356999999999},{"$f":"E115+IF(データ整理!E114>5,データ整理!E114-5,0)","v":835.05454999999995},{"$f":"F115+IF(データ整理!F114>5,データ整理!F114-5,0)","v":833.04153999999983},{"$f":"G115+IF(データ整理!G114>5,データ整理!G114-5,0)","v":941.18114999999977},{"$f":"H115+IF(データ整理!H114>5,データ整理!H114-5,0)","v":991.65917000000002},{"$f":"I115+IF(データ整理!I114>5,データ整理!I114-5,0)","v":1000.4875999999999},{"$f":"J115+IF(データ整理!J114>5,データ整理!J114-5,0)","v":916.1389099999999},{"$f":"K115+IF(データ整理!K114>5,データ整理!K114-5,0)","v":900.54267000000016},{"$f":"L115+IF(データ整理!L114>5,データ整理!L114-5,0)","v":867.24844999999993},{"$f":"M115+IF(データ整理!M114>5,データ整理!M114-5,0)","v":1058.0773400000003},{"$f":"N115+IF(データ整理!N114>5,データ整理!N114-5,0)","v":972.88074999999969},{"$f":"O115+IF(データ整理!O114>5,データ整理!O114-5,0)","v":1108.41229},{"$f":"P115+IF(データ整理!P114>5,データ整理!P114-5,0)","v":979.99041999999997},{"$f":"Q115+IF(データ整理!Q114>5,データ整理!Q114-5,0)","v":865.73077000000035},{"$f":"R115+IF(データ整理!R114>5,データ整理!R114-5,0)","v":901.03082999999981},{"$f":"S115+IF(データ整理!S114>5,データ整理!S114-5,0)","v":985.06830000000014},{"$f":"T115+IF(データ整理!T114>5,データ整理!T114-5,0)","v":827.33600999999999},{"$f":"U115+IF(データ整理!U114>5,データ整理!U114-5,0)","v":896.5344399999999},null,null,null,"2018-07-22",{"$f":"Z115+IF(データ整理!Z114>5,データ整理!Z114-5,0)","v":896.5344399999999},{"$f":"AA115+IF(データ整理!AA114>5,データ整理!AA114-5,0)","v":904.60658999999987}]
["2014-07-23",{"$f":"B116+IF(データ整理!B115>5,データ整理!B115-5,0)","v":1035.8694600000001},{"$f":"C116+IF(データ整理!C115>5,データ整理!C115-5,0)","v":1030.0151799999996},{"$f":"D116+IF(データ整理!D115>5,データ整理!D115-5,0)","v":833.65716999999995},{"$f":"E116+IF(データ整理!E115>5,データ整理!E115-5,0)","v":822.57245},{"$f":"F116+IF(データ整理!F115>5,データ整理!F115-5,0)","v":822.55123999999978},{"$f":"G116+IF(データ整理!G115>5,データ整理!G115-5,0)","v":929.92554999999982},{"$f":"H116+IF(データ整理!H115>5,データ整理!H115-5,0)","v":977.99097000000006},{"$f":"I116+IF(データ整理!I115>5,データ整理!I115-5,0)","v":989.19769999999994},{"$f":"J116+IF(データ整理!J115>5,データ整理!J115-5,0)","v":900.41720999999984},{"$f":"K116+IF(データ整理!K115>5,データ整理!K115-5,0)","v":888.00137000000018},{"$f":"L116+IF(データ整理!L115>5,データ整理!L115-5,0)","v":858.79684999999995},{"$f":"M116+IF(データ整理!M115>5,データ整理!M115-5,0)","v":1042.8612400000002},{"$f":"N116+IF(データ整理!N115>5,データ整理!N115-5,0)","v":960.58104999999966},{"$f":"O116+IF(データ整理!O115>5,データ整理!O115-5,0)","v":1096.5967900000001},{"$f":"P116+IF(データ整理!P115>5,データ整理!P115-5,0)","v":965.11792000000003},{"$f":"Q116+IF(データ整理!Q115>5,データ整理!Q115-5,0)","v":850.18797000000029},{"$f":"R116+IF(データ整理!R115>5,データ整理!R115-5,0)","v":886.16242999999986},{"$f":"S116+IF(データ整理!S115>5,データ整理!S115-5,0)","v":971.39980000000014},{"$f":"T116+IF(データ整理!T115>5,データ整理!T115-5,0)","v":811.36441000000002},{"$f":"U116+IF(データ整理!U115>5,データ整理!U115-5,0)","v":883.52693999999985},null,null,null,"2018-07-23",{"$f":"Z116+IF(データ整理!Z115>5,データ整理!Z115-5,0)","v":883.52693999999985},{"$f":"AA116+IF(データ整理!AA115>5,データ整理!AA115-5,0)","v":891.08028999999988}]
["2014-07-24",{"$f":"B117+IF(データ整理!B116>5,データ整理!B116-5,0)","v":1018.8453600000001},{"$f":"C117+IF(データ整理!C116>5,データ整理!C116-5,0)","v":1013.2561799999997},{"$f":"D117+IF(データ整理!D116>5,データ整理!D116-5,0)","v":818.79057},{"$f":"E117+IF(データ整理!E116>5,データ整理!E116-5,0)","v":812.44295},{"$f":"F117+IF(データ整理!F116>5,データ整理!F116-5,0)","v":810.60133999999982},{"$f":"G117+IF(データ整理!G116>5,データ整理!G116-5,0)","v":913.91584999999986},{"$f":"H117+IF(データ整理!H116>5,データ整理!H116-5,0)","v":965.97707000000003},{"$f":"I117+IF(データ整理!I116>5,データ整理!I116-5,0)","v":977.14579999999989},{"$f":"J117+IF(データ整理!J116>5,データ整理!J116-5,0)","v":886.8082099999998},{"$f":"K117+IF(データ整理!K116>5,データ整理!K116-5,0)","v":874.69077000000016},{"$f":"L117+IF(データ整理!L116>5,データ整理!L116-5,0)","v":847.26024999999993},{"$f":"M117+IF(データ整理!M116>5,データ整理!M116-5,0)","v":1028.7955400000001},{"$f":"N117+IF(データ整理!N116>5,データ整理!N116-5,0)","v":948.26634999999965},{"$f":"O117+IF(データ整理!O116>5,データ整理!O116-5,0)","v":1083.38859},{"$f":"P117+IF(データ整理!P116>5,データ整理!P116-5,0)","v":948.50642000000005},{"$f":"Q117+IF(データ整理!Q116>5,データ整理!Q116-5,0)","v":834.71207000000027},{"$f":"R117+IF(データ整理!R116>5,データ整理!R116-5,0)","v":869.28432999999984},{"$f":"S117+IF(データ整理!S116>5,データ整理!S116-5,0)","v":956.91070000000013},{"$f":"T117+IF(データ整理!T116>5,データ整理!T116-5,0)","v":797.16101000000003},{"$f":"U117+IF(データ整理!U116>5,データ整理!U116-5,0)","v":871.51293999999984},null,null,null,"2018-07-24",{"$f":"Z117+IF(データ整理!Z116>5,データ整理!Z116-5,0)","v":871.51293999999984},{"$f":"AA117+IF(データ整理!AA116>5,データ整理!AA116-5,0)","v":877.41108999999983}]
["2014-07-25",{"$f":"B118+IF(データ整理!B117>5,データ整理!B117-5,0)","v":1002.4892600000002},{"$f":"C118+IF(データ整理!C117>5,データ整理!C117-5,0)","v":995.34127999999976},{"$f":"D118+IF(データ整理!D117>5,データ整理!D117-5,0)","v":804.08686999999998},{"$f":"E118+IF(データ整理!E117>5,データ整理!E117-5,0)","v":801.51755000000003},{"$f":"F118+IF(データ整理!F117>5,データ整理!F117-5,0)","v":800.02613999999983},{"$f":"G118+IF(データ整理!G117>5,データ整理!G117-5,0)","v":893.83624999999984},{"$f":"H118+IF(データ整理!H117>5,データ整理!H117-5,0)","v":952.01026999999999},{"$f":"I118+IF(データ整理!I117>5,データ整理!I117-5,0)","v":963.91609999999991},{"$f":"J118+IF(データ整理!J117>5,データ整理!J117-5,0)","v":874.19790999999975},{"$f":"K118+IF(データ整理!K117>5,データ整理!K117-5,0)","v":859.98437000000013},{"$f":"L118+IF(データ整理!L117>5,データ整理!L117-5,0)","v":832.20854999999995},{"$f":"M118+IF(データ整理!M117>5,データ整理!M117-5,0)","v":1015.0196400000001},{"$f":"N118+IF(データ整理!N117>5,データ整理!N117-5,0)","v":933.80424999999968},{"$f":"O118+IF(データ整理!O117>5,データ整理!O117-5,0)","v":1069.0683899999999},{"$f":"P118+IF(データ整理!P117>5,データ整理!P117-5,0)","v":931.19272000000001},{"$f":"Q118+IF(データ整理!Q117>5,データ整理!Q117-5,0)","v":818.29297000000031},{"$f":"R118+IF(データ整理!R117>5,データ整理!R117-5,0)","v":853.07442999999989},{"$f":"S118+IF(データ整理!S117>5,データ整理!S117-5,0)","v":941.70860000000016},{"$f":"T118+IF(データ整理!T117>5,データ整理!T117-5,0)","v":784.22651000000008},{"$f":"U118+IF(データ整理!U117>5,データ整理!U117-5,0)","v":858.27043999999989},null,null,null,"2018-07-25",{"$f":"Z118+IF(データ整理!Z117>5,データ整理!Z117-5,0)","v":858.27043999999989},{"$f":"AA118+IF(データ整理!AA117>5,データ整理!AA117-5,0)","v":863.60238999999979}]
["2014-07-26",{"$f":"B119+IF(データ整理!B118>5,データ整理!B118-5,0)","v":987.22356000000013},{"$f":"C119+IF(データ整理!C118>5,データ整理!C118-5,0)","v":979.90227999999979},{"$f":"D119+IF(データ整理!D118>5,データ整理!D118-5,0)","v":790.59627},{"$f":"E119+IF(データ整理!E118>5,データ整理!E118-5,0)","v":787.75515000000007},{"$f":"F119+IF(データ整理!F118>5,データ整理!F118-5,0)","v":790.0570399999998},{"$f":"G119+IF(データ整理!G118>5,データ整理!G118-5,0)","v":877.44044999999983},{"$f":"H119+IF(データ整理!H118>5,データ整理!H118-5,0)","v":937.85096999999996},{"$f":"I119+IF(データ整理!I118>5,データ整理!I118-5,0)","v":951.53739999999993},{"$f":"J119+IF(データ整理!J118>5,データ整理!J118-5,0)","v":861.15090999999973},{"$f":"K119+IF(データ整理!K118>5,データ整理!K118-5,0)","v":847.10317000000009},{"$f":"L119+IF(データ整理!L118>5,データ整理!L118-5,0)","v":818.06004999999993},{"$f":"M119+IF(データ整理!M118>5,データ整理!M118-5,0)","v":1001.3731400000001},{"$f":"N119+IF(データ整理!N118>5,データ整理!N118-5,0)","v":919.72184999999968},{"$f":"O119+IF(データ整理!O118>5,データ整理!O118-5,0)","v":1054.01999},{"$f":"P119+IF(データ整理!P118>5,データ整理!P118-5,0)","v":917.53172000000006},{"$f":"Q119+IF(データ整理!Q118>5,データ整理!Q118-5,0)","v":803.11307000000033},{"$f":"R119+IF(データ整理!R118>5,データ整理!R118-5,0)","v":836.81382999999994},{"$f":"S119+IF(データ整理!S118>5,データ整理!S118-5,0)","v":927.65250000000015},{"$f":"T119+IF(データ整理!T118>5,データ整理!T118-5,0)","v":771.57361000000003},{"$f":"U119+IF(データ整理!U118>5,データ整理!U118-5,0)","v":842.75893999999994},null,null,null,"2018-07-26",{"$f":"Z119+IF(データ整理!Z118>5,データ整理!Z118-5,0)","v":842.75893999999994},{"$f":"AA119+IF(データ整理!AA118>5,データ整理!AA118-5,0)","v":849.66008999999974}]
["2014-07-27",{"$f":"B120+IF(データ整理!B119>5,データ整理!B119-5,0)","v":971.86016000000018},{"$f":"C120+IF(データ整理!C119>5,データ整理!C119-5,0)","v":964.20837999999981},{"$f":"D120+IF(データ整理!D119>5,データ整理!D119-5,0)","v":777.35626999999999},{"$f":"E120+IF(データ整理!E119>5,データ整理!E119-5,0)","v":772.8845500000001},{"$f":"F120+IF(データ整理!F119>5,データ整理!F119-5,0)","v":779.66143999999986},{"$f":"G120+IF(データ整理!G119>5,データ整理!G119-5,0)","v":860.12794999999983},{"$f":"H120+IF(データ整理!H119>5,データ整理!H119-5,0)","v":921.97326999999996},{"$f":"I120+IF(データ整理!I119>5,データ整理!I119-5,0)","v":938.65949999999998},{"$f":"J120+IF(データ整理!J119>5,データ整理!J119-5,0)","v":847.82930999999974},{"$f":"K120+IF(データ整理!K119>5,データ整理!K119-5,0)","v":835.92587000000015},{"$f":"L120+IF(データ整理!L119>5,データ整理!L119-5,0)","v":803.50154999999995},{"$f":"M120+IF(データ整理!M119>5,データ整理!M119-5,0)","v":988.13824000000011},{"$f":"N120+IF(データ整理!N119>5,データ整理!N119-5,0)","v":905.37174999999968},{"$f":"O120+IF(データ整理!O119>5,データ整理!O119-5,0)","v":1036.8203900000001},{"$f":"P120+IF(データ整理!P119>5,データ整理!P119-5,0)","v":903.29542000000004},{"$f":"Q120+IF(データ整理!Q119>5,データ整理!Q119-5,0)","v":790.8518700000003},{"$f":"R120+IF(データ整理!R119>5,データ整理!R119-5,0)","v":820.37942999999996},{"$f":"S120+IF(データ整理!S119>5,データ整理!S119-5,0)","v":912.79570000000012},{"$f":"T120+IF(データ整理!T119>5,データ整理!T119-5,0)","v":759.48361},{"$f":"U120+IF(データ整理!U119>5,データ整理!U119-5,0)","v":824.79343999999992},null,null,null,"2018-07-27",{"$f":"Z120+IF(データ整理!Z119>5,データ整理!Z119-5,0)","v":824.79343999999992},{"$f":"AA120+IF(データ整理!AA119>5,データ整理!AA119-5,0)","v":835.59018999999978}]
["2014-07-28",{"$f":"B121+IF(データ整理!B120>5,データ整理!B120-5,0)","v":954.7169600000002},{"$f":"C121+IF(データ整理!C120>5,データ整理!C120-5,0)","v":948.61337999999978},{"$f":"D121+IF(データ整理!D120>5,データ整理!D120-5,0)","v":764.26356999999996},{"$f":"E121+IF(データ整理!E120>5,データ整理!E120-5,0)","v":761.44485000000009},{"$f":"F121+IF(データ整理!F120>5,データ整理!F120-5,0)","v":771.39863999999989},{"$f":"G121+IF(データ整理!G120>5,データ整理!G120-5,0)","v":845.33934999999985},{"$f":"H121+IF(データ整理!H120>5,データ整理!H120-5,0)","v":910.00236999999993},{"$f":"I121+IF(データ整理!I120>5,データ整理!I120-5,0)","v":924.71590000000003},{"$f":"J121+IF(データ整理!J120>5,データ整理!J120-5,0)","v":834.16760999999974},{"$f":"K121+IF(データ整理!K120>5,データ整理!K120-5,0)","v":823.75397000000009},{"$f":"L121+IF(データ整理!L120>5,データ整理!L120-5,0)","v":790.38194999999996},{"$f":"M121+IF(データ整理!M120>5,データ整理!M120-5,0)","v":972.41424000000006},{"$f":"N121+IF(データ整理!N120>5,データ整理!N120-5,0)","v":890.7593499999997},{"$f":"O121+IF(データ整理!O120>5,データ整理!O120-5,0)","v":1018.95519},{"$f":"P121+IF(データ整理!P120>5,データ整理!P120-5,0)","v":888.67601999999999},{"$f":"Q121+IF(データ整理!Q120>5,データ整理!Q120-5,0)","v":780.46967000000029},{"$f":"R121+IF(データ整理!R120>5,データ整理!R120-5,0)","v":803.42032999999992},{"$f":"S121+IF(データ整理!S120>5,データ整理!S120-5,0)","v":899.89410000000009},{"$f":"T121+IF(データ整理!T120>5,データ整理!T120-5,0)","v":747.63590999999997},{"$f":"U121+IF(データ整理!U120>5,データ整理!U120-5,0)","v":806.85293999999988},null,null,null,"2018-07-28",{"$f":"Z121+IF(データ整理!Z120>5,データ整理!Z120-5,0)","v":806.85293999999988},{"$f":"AA121+IF(データ整理!AA120>5,データ整理!AA120-5,0)","v":821.4007899999998}]
["2014-07-29",{"$f":"B122+IF(データ整理!B121>5,データ整理!B121-5,0)","v":936.8754600000002},{"$f":"C122+IF(データ整理!C121>5,データ整理!C121-5,0)","v":932.5856799999998},{"$f":"D122+IF(データ整理!D121>5,データ整理!D121-5,0)","v":751.59966999999995},{"$f":"E122+IF(データ整理!E121>5,データ整理!E121-5,0)","v":749.17225000000008},{"$f":"F122+IF(データ整理!F121>5,データ整理!F121-5,0)","v":761.56463999999994},{"$f":"G122+IF(データ整理!G121>5,データ整理!G121-5,0)","v":829.87944999999991},{"$f":"H122+IF(データ整理!H121>5,データ整理!H121-5,0)","v":897.76266999999996},{"$f":"I122+IF(データ整理!I121>5,データ整理!I121-5,0)","v":910.54050000000007},{"$f":"J122+IF(データ整理!J121>5,データ整理!J121-5,0)","v":822.79150999999979},{"$f":"K122+IF(データ整理!K121>5,データ整理!K121-5,0)","v":809.30357000000015},{"$f":"L122+IF(データ整理!L121>5,データ整理!L121-5,0)","v":776.75454999999999},{"$f":"M122+IF(データ整理!M121>5,データ整理!M121-5,0)","v":955.16294000000005},{"$f":"N122+IF(データ整理!N121>5,データ整理!N121-5,0)","v":874.28494999999975},{"$f":"O122+IF(データ整理!O121>5,データ整理!O121-5,0)","v":1001.39729},{"$f":"P122+IF(データ整理!P121>5,データ整理!P121-5,0)","v":872.87162000000001},{"$f":"Q122+IF(データ整理!Q121>5,データ整理!Q121-5,0)","v":768.24107000000026},{"$f":"R122+IF(データ整理!R121>5,データ整理!R121-5,0)","v":785.62372999999991},{"$f":"S122+IF(データ整理!S121>5,データ整理!S121-5,0)","v":884.9466000000001},{"$f":"T122+IF(データ整理!T121>5,データ整理!T121-5,0)","v":735.63970999999992},{"$f":"U122+IF(データ整理!U121>5,データ整理!U121-5,0)","v":788.37513999999987},null,null,null,"2018-07-29",{"$f":"Z122+IF(データ整理!Z121>5,データ整理!Z121-5,0)","v":788.37513999999987},{"$f":"AA122+IF(データ整理!AA121>5,データ整理!AA121-5,0)","v":807.10268999999982}]
["2014-07-30",{"$f":"B123+IF(データ整理!B122>5,データ整理!B122-5,0)","v":925.75566000000015},{"$f":"C123+IF(データ整理!C122>5,データ整理!C122-5,0)","v":917.2382799999998},{"$f":"D123+IF(データ整理!D122>5,データ整理!D122-5,0)","v":738.86316999999997},{"$f":"E123+IF(データ整理!E122>5,データ整理!E122-5,0)","v":734.48785000000009},{"$f":"F123+IF(データ整理!F122>5,データ整理!F122-5,0)","v":750.99613999999997},{"$f":"G123+IF(データ整理!G122>5,データ整理!G122-5,0)","v":812.0085499999999},{"$f":"H123+IF(データ整理!H122>5,データ整理!H122-5,0)","v":885.77746999999999},{"$f":"I123+IF(データ整理!I122>5,データ整理!I122-5,0)","v":895.89540000000011},{"$f":"J123+IF(データ整理!J122>5,データ整理!J122-5,0)","v":813.84970999999985},{"$f":"K123+IF(データ整理!K122>5,データ整理!K122-5,0)","v":794.70517000000018},{"$f":"L123+IF(データ整理!L122>5,データ整理!L122-5,0)","v":762.53785000000005},{"$f":"M123+IF(データ整理!M122>5,データ整理!M122-5,0)","v":940.12704000000008},{"$f":"N123+IF(データ整理!N122>5,データ整理!N122-5,0)","v":857.43054999999981},{"$f":"O123+IF(データ整理!O122>5,データ整理!O122-5,0)","v":985.42958999999996},{"$f":"P123+IF(データ整理!P122>5,データ整理!P122-5,0)","v":856.46262000000002},{"$f":"Q123+IF(データ整理!Q122>5,データ整理!Q122-5,0)","v":754.69667000000027},{"$f":"R123+IF(データ整理!R122>5,データ整理!R122-5,0)","v":768.35922999999991},{"$f":"S123+IF(データ整理!S122>5,データ整理!S122-5,0)","v":868.14400000000012},{"$f":"T123+IF(データ整理!T122>5,データ整理!T122-5,0)","v":723.24110999999994},{"$f":"U123+IF(データ整理!U122>5,データ整理!U122-5,0)","v":767.89823999999987},null,null,null,"2018-07-30",{"$f":"Z123+IF(データ整理!Z122>5,データ整理!Z122-5,0)","v":767.89823999999987},{"$f":"AA123+IF(データ整理!AA122>5,データ整理!AA122-5,0)","v":792.70918999999981}]
["2014-07-31",{"$f":"B124+IF(データ整理!B123>5,データ整理!B123-5,0)","v":912.33526000000018},{"$f":"C124+IF(データ整理!C123>5,データ整理!C123-5,0)","v":899.1404799999998},{"$f":"D124+IF(データ整理!D123>5,データ整理!D123-5,0)","v":727.54566999999997},{"$f":"E124+IF(データ整理!E123>5,データ整理!E123-5,0)","v":718.65555000000006},{"$f":"F124+IF(データ整理!F123>5,データ整理!F123-5,0)","v":742.01333999999997},{"$f":"G124+IF(データ整理!G123>5,データ整理!G123-5,0)","v":792.85124999999994},{"$f":"H124+IF(データ整理!H123>5,データ整理!H123-5,0)","v":868.97586999999999},{"$f":"I124+IF(データ整理!I123>5,データ整理!I123-5,0)","v":881.26670000000013},{"$f":"J124+IF(データ整理!J123>5,データ整理!J123-5,0)","v":802.81250999999986},{"$f":"K124+IF(データ整理!K123>5,データ整理!K123-5,0)","v":779.58457000000021},{"$f":"L124+IF(データ整理!L123>5,データ整理!L123-5,0)","v":748.82865000000004},{"$f":"M124+IF(データ整理!M123>5,データ整理!M123-5,0)","v":924.49494000000004},{"$f":"N124+IF(データ整理!N123>5,データ整理!N123-5,0)","v":844.64964999999984},{"$f":"O124+IF(データ整理!O123>5,データ整理!O123-5,0)","v":968.24428999999998},{"$f":"P124+IF(データ整理!P123>5,データ整理!P123-5,0)","v":840.23922000000005},{"$f":"Q124+IF(データ整理!Q123>5,データ整理!Q123-5,0)","v":740.29907000000026},{"$f":"R124+IF(データ整理!R123>5,データ整理!R123-5,0)","v":752.36302999999987},{"$f":"S124+IF(データ整理!S123>5,データ整理!S123-5,0)","v":850.67540000000008},{"$f":"T124+IF(データ整理!T123>5,データ整理!T123-5,0)","v":709.38800999999989},{"$f":"U124+IF(データ整理!U123>5,データ整理!U123-5,0)","v":748.35353999999984},null,null,null,"2018-07-31",{"$f":"Z124+IF(データ整理!Z123>5,データ整理!Z123-5,0)","v":748.35353999999984},{"$f":"AA124+IF(データ整理!AA123>5,データ整理!AA123-5,0)","v":778.23248999999976}]
["2014-08-01",{"$f":"B125+IF(データ整理!B124>5,データ整理!B124-5,0)","v":894.90256000000022},{"$f":"C125+IF(データ整理!C124>5,データ整理!C124-5,0)","v":879.35517999999979},{"$f":"D125+IF(データ整理!D124>5,データ整理!D124-5,0)","v":714.95217000000002},{"$f":"E125+IF(データ整理!E124>5,データ整理!E124-5,0)","v":703.07775000000004},{"$f":"F125+IF(データ整理!F124>5,データ整理!F124-5,0)","v":731.92653999999993},{"$f":"G125+IF(データ整理!G124>5,データ整理!G124-5,0)","v":773.00804999999991},{"$f":"H125+IF(データ整理!H124>5,データ整理!H124-5,0)","v":852.44547},{"$f":"I125+IF(データ整理!I124>5,データ整理!I124-5,0)","v":867.27850000000012},{"$f":"J125+IF(データ整理!J124>5,データ整理!J124-5,0)","v":790.23450999999989},{"$f":"K125+IF(データ整理!K124>5,データ整理!K124-5,0)","v":765.55867000000023},{"$f":"L125+IF(データ整理!L124>5,データ整理!L124-5,0)","v":734.69035000000008},{"$f":"M125+IF(データ整理!M124>5,データ整理!M124-5,0)","v":907.67574000000002},{"$f":"N125+IF(データ整理!N124>5,データ整理!N124-5,0)","v":831.38454999999988},{"$f":"O125+IF(データ整理!O124>5,データ整理!O124-5,0)","v":952.13878999999997},{"$f":"P125+IF(データ整理!P124>5,データ整理!P124-5,0)","v":824.11562000000004},{"$f":"Q125+IF(データ整理!Q124>5,データ整理!Q124-5,0)","v":726.21117000000027},{"$f":"R125+IF(データ整理!R124>5,データ整理!R124-5,0)","v":736.55542999999989},{"$f":"S125+IF(データ整理!S124>5,データ整理!S124-5,0)","v":832.48940000000005},{"$f":"T125+IF(データ整理!T124>5,データ整理!T124-5,0)","v":695.22640999999987},{"$f":"U125+IF(データ整理!U124>5,データ整理!U124-5,0)","v":728.55993999999987},null,null,null,"2018-08-01",{"$f":"Z125+IF(データ整理!Z124>5,データ整理!Z124-5,0)","v":728.55993999999987},{"$f":"AA125+IF(データ整理!AA124>5,データ整理!AA124-5,0)","v":763.68628999999976}]
["2014-08-02",{"$f":"B126+IF(データ整理!B125>5,データ整理!B125-5,0)","v":876.98946000000024},{"$f":"C126+IF(データ整理!C125>5,データ整理!C125-5,0)","v":859.0770799999998},{"$f":"D126+IF(データ整理!D125>5,データ整理!D125-5,0)","v":703.47037},{"$f":"E126+IF(データ整理!E125>5,データ整理!E125-5,0)","v":688.04385000000002},{"$f":"F126+IF(データ整理!F125>5,データ整理!F125-5,0)","v":719.99313999999993},{"$f":"G126+IF(データ整理!G125>5,データ整理!G125-5,0)","v":754.34804999999994},{"$f":"H126+IF(データ整理!H125>5,データ整理!H125-5,0)","v":834.30397000000005},{"$f":"I126+IF(データ整理!I125>5,データ整理!I125-5,0)","v":852.06760000000008},{"$f":"J126+IF(データ整理!J125>5,データ整理!J125-5,0)","v":776.76260999999988},{"$f":"K126+IF(データ整理!K125>5,データ整理!K125-5,0)","v":749.23557000000028},{"$f":"L126+IF(データ整理!L125>5,データ整理!L125-5,0)","v":719.93285000000003},{"$f":"M126+IF(データ整理!M125>5,データ整理!M125-5,0)","v":892.45644000000004},{"$f":"N126+IF(データ整理!N125>5,データ整理!N125-5,0)","v":817.58614999999986},{"$f":"O126+IF(データ整理!O125>5,データ整理!O125-5,0)","v":938.57148999999993},{"$f":"P126+IF(データ整理!P125>5,データ整理!P125-5,0)","v":811.60742000000005},{"$f":"Q126+IF(データ整理!Q125>5,データ整理!Q125-5,0)","v":709.3364700000003},{"$f":"R126+IF(データ整理!R125>5,データ整理!R125-5,0)","v":721.31452999999988},{"$f":"S126+IF(データ整理!S125>5,データ整理!S125-5,0)","v":815.75310000000002},{"$f":"T126+IF(データ整理!T125>5,データ整理!T125-5,0)","v":680.78740999999991},{"$f":"U126+IF(データ整理!U125>5,データ整理!U125-5,0)","v":712.56203999999991},null,null,null,"2018-08-02",{"$f":"Z126+IF(データ整理!Z125>5,データ整理!Z125-5,0)","v":712.56203999999991},{"$f":"AA126+IF(データ整理!AA125>5,データ整理!AA125-5,0)","v":749.08398999999974}]
["2014-08-03",{"$f":"B127+IF(データ整理!B126>5,データ整理!B126-5,0)","v":861.30786000000023},{"$f":"C127+IF(データ整理!C126>5,データ整理!C126-5,0)","v":841.93767999999977},{"$f":"D127+IF(データ整理!D126>5,データ整理!D126-5,0)","v":691.19326999999998},{"$f":"E127+IF(データ整理!E126>5,データ整理!E126-5,0)","v":676.15345000000002},{"$f":"F127+IF(データ整理!F126>5,データ整理!F126-5,0)","v":706.79693999999995},{"$f":"G127+IF(データ整理!G126>5,データ整理!G126-5,0)","v":736.80954999999994},{"$f":"H127+IF(データ整理!H126>5,データ整理!H126-5,0)","v":816.33807000000002},{"$f":"I127+IF(データ整理!I126>5,データ整理!I126-5,0)","v":836.96910000000014},{"$f":"J127+IF(データ整理!J126>5,データ整理!J126-5,0)","v":761.53670999999986},{"$f":"K127+IF(データ整理!K126>5,データ整理!K126-5,0)","v":734.38987000000031},{"$f":"L127+IF(データ整理!L126>5,データ整理!L126-5,0)","v":707.66084999999998},{"$f":"M127+IF(データ整理!M126>5,データ整理!M126-5,0)","v":877.73044000000004},{"$f":"N127+IF(データ整理!N126>5,データ整理!N126-5,0)","v":803.78224999999986},{"$f":"O127+IF(データ整理!O126>5,データ整理!O126-5,0)","v":927.06948999999997},{"$f":"P127+IF(データ整理!P126>5,データ整理!P126-5,0)","v":800.29392000000007},{"$f":"Q127+IF(データ整理!Q126>5,データ整理!Q126-5,0)","v":693.50307000000032},{"$f":"R127+IF(データ整理!R126>5,データ整理!R126-5,0)","v":707.15062999999986},{"$f":"S127+IF(データ整理!S126>5,データ整理!S126-5,0)","v":798.73580000000004},{"$f":"T127+IF(データ整理!T126>5,データ整理!T126-5,0)","v":666.82260999999994},{"$f":"U127+IF(データ整理!U126>5,データ整理!U126-5,0)","v":698.21903999999995},null,null,null,"2018-08-03",{"$f":"Z127+IF(データ整理!Z126>5,データ整理!Z126-5,0)","v":698.21903999999995},{"$f":"AA127+IF(データ整理!AA126>5,データ整理!AA126-5,0)","v":734.43798999999979}]
["2014-08-04",{"$f":"B128+IF(データ整理!B127>5,データ整理!B127-5,0)","v":842.61376000000018},{"$f":"C128+IF(データ整理!C127>5,データ整理!C127-5,0)","v":826.37587999999982},{"$f":"D128+IF(データ整理!D127>5,データ整理!D127-5,0)","v":680.75396999999998},{"$f":"E128+IF(データ整理!E127>5,データ整理!E127-5,0)","v":665.45965000000001},{"$f":"F128+IF(データ整理!F127>5,データ整理!F127-5,0)","v":693.28193999999996},{"$f":"G128+IF(データ整理!G127>5,データ整理!G127-5,0)","v":719.0547499999999},{"$f":"H128+IF(データ整理!H127>5,データ整理!H127-5,0)","v":798.84207000000004},{"$f":"I128+IF(データ整理!I127>5,データ整理!I127-5,0)","v":819.87430000000018},{"$f":"J128+IF(データ整理!J127>5,データ整理!J127-5,0)","v":746.97590999999989},{"$f":"K128+IF(データ整理!K127>5,データ整理!K127-5,0)","v":719.45757000000026},{"$f":"L128+IF(データ整理!L127>5,データ整理!L127-5,0)","v":694.94295},{"$f":"M128+IF(データ整理!M127>5,データ整理!M127-5,0)","v":863.10274000000004},{"$f":"N128+IF(データ整理!N127>5,データ整理!N127-5,0)","v":789.44664999999986},{"$f":"O128+IF(データ整理!O127>5,データ整理!O127-5,0)","v":913.99528999999995},{"$f":"P128+IF(データ整理!P127>5,データ整理!P127-5,0)","v":788.36332000000004},{"$f":"Q128+IF(データ整理!Q127>5,データ整理!Q127-5,0)","v":676.96627000000035},{"$f":"R128+IF(データ整理!R127>5,データ整理!R127-5,0)","v":692.07402999999988},{"$f":"S128+IF(データ整理!S127>5,データ整理!S127-5,0)","v":781.25620000000004},{"$f":"T128+IF(データ整理!T127>5,データ整理!T127-5,0)","v":652.68561},{"$f":"U128+IF(データ整理!U127>5,データ整理!U127-5,0)","v":685.23973999999998},null,null,null,"2018-08-04",{"$f":"Z128+IF(データ整理!Z127>5,データ整理!Z127-5,0)","v":685.23973999999998},{"$f":"AA128+IF(データ整理!AA127>5,データ整理!AA127-5,0)","v":719.76108999999974}]
["2014-08-05",{"$f":"B129+IF(データ整理!B128>5,データ整理!B128-5,0)","v":822.99576000000013},{"$f":"C129+IF(データ整理!C128>5,データ整理!C128-5,0)","v":809.77297999999985},{"$f":"D129+IF(データ整理!D128>5,データ整理!D128-5,0)","v":669.91436999999996},{"$f":"E129+IF(データ整理!E128>5,データ整理!E128-5,0)","v":650.48704999999995},{"$f":"F129+IF(データ整理!F128>5,データ整理!F128-5,0)","v":678.26343999999995},{"$f":"G129+IF(データ整理!G128>5,データ整理!G128-5,0)","v":701.36454999999989},{"$f":"H129+IF(データ整理!H128>5,データ整理!H128-5,0)","v":780.12697000000003},{"$f":"I129+IF(データ整理!I128>5,データ整理!I128-5,0)","v":804.90600000000018},{"$f":"J129+IF(データ整理!J128>5,データ整理!J128-5,0)","v":732.42670999999984},{"$f":"K129+IF(データ整理!K128>5,データ整理!K128-5,0)","v":705.68497000000025},{"$f":"L129+IF(データ整理!L128>5,データ整理!L128-5,0)","v":681.02954999999997},{"$f":"M129+IF(データ整理!M128>5,データ整理!M128-5,0)","v":848.08204000000001},{"$f":"N129+IF(データ整理!N128>5,データ整理!N128-5,0)","v":773.49834999999985},{"$f":"O129+IF(データ整理!O128>5,データ整理!O128-5,0)","v":900.00978999999995},{"$f":"P129+IF(データ整理!P128>5,データ整理!P128-5,0)","v":774.70512000000008},{"$f":"Q129+IF(データ整理!Q128>5,データ整理!Q128-5,0)","v":658.64117000000033},{"$f":"R129+IF(データ整理!R128>5,データ整理!R128-5,0)","v":673.71152999999993},{"$f":"S129+IF(データ整理!S128>5,データ整理!S128-5,0)","v":765.52750000000003},{"$f":"T129+IF(データ整理!T128>5,データ整理!T128-5,0)","v":638.31151},{"$f":"U129+IF(データ整理!U128>5,データ整理!U128-5,0)","v":673.80563999999993},null,null,null,"2018-08-05",{"$f":"Z129+IF(データ整理!Z128>5,データ整理!Z128-5,0)","v":673.80563999999993},{"$f":"AA129+IF(データ整理!AA128>5,データ整理!AA128-5,0)","v":705.06858999999974}]
["2014-08-06",{"$f":"B130+IF(データ整理!B129>5,データ整理!B129-5,0)","v":804.13066000000015},{"$f":"C130+IF(データ整理!C129>5,データ整理!C129-5,0)","v":794.40417999999988},{"$f":"D130+IF(データ整理!D129>5,データ整理!D129-5,0)","v":659.16926999999998},{"$f":"E130+IF(データ整理!E129>5,データ整理!E129-5,0)","v":634.70425},{"$f":"F130+IF(データ整理!F129>5,データ整理!F129-5,0)","v":662.82503999999994},{"$f":"G130+IF(データ整理!G129>5,データ整理!G129-5,0)","v":683.14574999999991},{"$f":"H130+IF(データ整理!H129>5,データ整理!H129-5,0)","v":762.51567},{"$f":"I130+IF(データ整理!I129>5,データ整理!I129-5,0)","v":789.09140000000014},{"$f":"J130+IF(データ整理!J129>5,データ整理!J129-5,0)","v":718.31840999999986},{"$f":"K130+IF(データ整理!K129>5,データ整理!K129-5,0)","v":691.6561700000002},{"$f":"L130+IF(データ整理!L129>5,データ整理!L129-5,0)","v":666.02165000000002},{"$f":"M130+IF(データ整理!M129>5,データ整理!M129-5,0)","v":831.24933999999996},{"$f":"N130+IF(データ整理!N129>5,データ整理!N129-5,0)","v":756.47294999999986},{"$f":"O130+IF(データ整理!O129>5,データ整理!O129-5,0)","v":886.57508999999993},{"$f":"P130+IF(データ整理!P129>5,データ整理!P129-5,0)","v":759.27892000000008},{"$f":"Q130+IF(データ整理!Q129>5,データ整理!Q129-5,0)","v":642.02857000000029},{"$f":"R130+IF(データ整理!R129>5,データ整理!R129-5,0)","v":656.8502299999999},{"$f":"S130+IF(データ整理!S129>5,データ整理!S129-5,0)","v":751.51100000000008},{"$f":"T130+IF(データ整理!T129>5,データ整理!T129-5,0)","v":623.80321000000004},{"$f":"U130+IF(データ整理!U129>5,データ整理!U129-5,0)","v":662.66683999999998},null,null,null,"2018-08-06",{"$f":"Z130+IF(データ整理!Z129>5,データ整理!Z129-5,0)","v":662.66683999999998},{"$f":"AA130+IF(データ整理!AA129>5,データ整理!AA129-5,0)","v":690.37578999999971}]
["2014-08-07",{"$f":"B131+IF(データ整理!B130>5,データ整理!B130-5,0)","v":788.08356000000015},{"$f":"C131+IF(データ整理!C130>5,データ整理!C130-5,0)","v":777.39577999999983},{"$f":"D131+IF(データ整理!D130>5,データ整理!D130-5,0)","v":647.65796999999998},{"$f":"E131+IF(データ整理!E130>5,データ整理!E130-5,0)","v":620.92925000000002},{"$f":"F131+IF(データ整理!F130>5,データ整理!F130-5,0)","v":648.22313999999994},{"$f":"G131+IF(データ整理!G130>5,データ整理!G130-5,0)","v":664.3921499999999},{"$f":"H131+IF(データ整理!H130>5,データ整理!H130-5,0)","v":745.89256999999998},{"$f":"I131+IF(データ整理!I130>5,データ整理!I130-5,0)","v":771.7283000000001},{"$f":"J131+IF(データ整理!J130>5,データ整理!J130-5,0)","v":703.83940999999982},{"$f":"K131+IF(データ整理!K130>5,データ整理!K130-5,0)","v":677.02067000000022},{"$f":"L131+IF(データ整理!L130>5,データ整理!L130-5,0)","v":651.00215000000003},{"$f":"M131+IF(データ整理!M130>5,データ整理!M130-5,0)","v":809.85903999999994},{"$f":"N131+IF(データ整理!N130>5,データ整理!N130-5,0)","v":738.25184999999988},{"$f":"O131+IF(データ整理!O130>5,データ整理!O130-5,0)","v":874.68518999999992},{"$f":"P131+IF(データ整理!P130>5,データ整理!P130-5,0)","v":741.44592000000011},{"$f":"Q131+IF(データ整理!Q130>5,データ整理!Q130-5,0)","v":626.37247000000025},{"$f":"R131+IF(データ整理!R130>5,データ整理!R130-5,0)","v":641.0146299999999},{"$f":"S131+IF(データ整理!S130>5,データ整理!S130-5,0)","v":738.50720000000013},{"$f":"T131+IF(データ整理!T130>5,データ整理!T130-5,0)","v":608.08121000000006},{"$f":"U131+IF(データ整理!U130>5,データ整理!U130-5,0)","v":651.18524000000002},null,null,null,"2018-08-07",{"$f":"Z131+IF(データ整理!Z130>5,データ整理!Z130-5,0)","v":651.18524000000002},{"$f":"AA131+IF(データ整理!AA130>5,データ整理!AA130-5,0)","v":675.69688999999971}]
["2014-08-08",{"$f":"B132+IF(データ整理!B131>5,データ整理!B131-5,0)","v":769.66886000000011},{"$f":"C132+IF(データ整理!C131>5,データ整理!C131-5,0)","v":760.79137999999989},{"$f":"D132+IF(データ整理!D131>5,データ整理!D131-5,0)","v":634.99086999999997},{"$f":"E132+IF(データ整理!E131>5,データ整理!E131-5,0)","v":608.34035000000006},{"$f":"F132+IF(データ整理!F131>5,データ整理!F131-5,0)","v":632.35083999999995},{"$f":"G132+IF(データ整理!G131>5,データ整理!G131-5,0)","v":646.66404999999986},{"$f":"H132+IF(データ整理!H131>5,データ整理!H131-5,0)","v":730.83347000000003},{"$f":"I132+IF(データ整理!I131>5,データ整理!I131-5,0)","v":754.52570000000014},{"$f":"J132+IF(データ整理!J131>5,データ整理!J131-5,0)","v":686.98170999999979},{"$f":"K132+IF(データ整理!K131>5,データ整理!K131-5,0)","v":662.03437000000019},{"$f":"L132+IF(データ整理!L131>5,データ整理!L131-5,0)","v":635.72585000000004},{"$f":"M132+IF(データ整理!M131>5,データ整理!M131-5,0)","v":791.83553999999992},{"$f":"N132+IF(データ整理!N131>5,データ整理!N131-5,0)","v":720.2644499999999},{"$f":"O132+IF(データ整理!O131>5,データ整理!O131-5,0)","v":864.81318999999996},{"$f":"P132+IF(データ整理!P131>5,データ整理!P131-5,0)","v":723.36652000000015},{"$f":"Q132+IF(データ整理!Q131>5,データ整理!Q131-5,0)","v":611.87387000000024},{"$f":"R132+IF(データ整理!R131>5,データ整理!R131-5,0)","v":626.27112999999986},{"$f":"S132+IF(データ整理!S131>5,データ整理!S131-5,0)","v":722.48870000000011},{"$f":"T132+IF(データ整理!T131>5,データ整理!T131-5,0)","v":593.54741000000001},{"$f":"U132+IF(データ整理!U131>5,データ整理!U131-5,0)","v":639.27714000000003},null,null,null,"2018-08-08",{"$f":"Z132+IF(データ整理!Z131>5,データ整理!Z131-5,0)","v":639.27714000000003},{"$f":"AA132+IF(データ整理!AA131>5,データ整理!AA131-5,0)","v":661.04448999999977}]
["2014-08-09",{"$f":"B133+IF(データ整理!B132>5,データ整理!B132-5,0)","v":749.84726000000012},{"$f":"C133+IF(データ整理!C132>5,データ整理!C132-5,0)","v":743.79897999999991},{"$f":"D133+IF(データ整理!D132>5,データ整理!D132-5,0)","v":622.47926999999993},{"$f":"E133+IF(データ整理!E132>5,データ整理!E132-5,0)","v":600.28345000000002},{"$f":"F133+IF(データ整理!F132>5,データ整理!F132-5,0)","v":617.44443999999999},{"$f":"G133+IF(データ整理!G132>5,データ整理!G132-5,0)","v":627.67174999999986},{"$f":"H133+IF(データ整理!H132>5,データ整理!H132-5,0)","v":715.84607000000005},{"$f":"I133+IF(データ整理!I132>5,データ整理!I132-5,0)","v":735.99360000000013},{"$f":"J133+IF(データ整理!J132>5,データ整理!J132-5,0)","v":669.93470999999977},{"$f":"K133+IF(データ整理!K132>5,データ整理!K132-5,0)","v":648.74877000000015},{"$f":"L133+IF(データ整理!L132>5,データ整理!L132-5,0)","v":620.31465000000003},{"$f":"M133+IF(データ整理!M132>5,データ整理!M132-5,0)","v":774.12043999999992},{"$f":"N133+IF(データ整理!N132>5,データ整理!N132-5,0)","v":702.84664999999984},{"$f":"O133+IF(データ整理!O132>5,データ整理!O132-5,0)","v":853.72568999999999},{"$f":"P133+IF(データ整理!P132>5,データ整理!P132-5,0)","v":705.96762000000012},{"$f":"Q133+IF(データ整理!Q132>5,データ整理!Q132-5,0)","v":597.56897000000026},{"$f":"R133+IF(データ整理!R132>5,データ整理!R132-5,0)","v":610.84482999999989},{"$f":"S133+IF(データ整理!S132>5,データ整理!S132-5,0)","v":704.58880000000011},{"$f":"T133+IF(データ整理!T132>5,データ整理!T132-5,0)","v":580.38521000000003},{"$f":"U133+IF(データ整理!U132>5,データ整理!U132-5,0)","v":625.91764000000001},null,null,null,{"$f":"Y131+1","v":"2018-08-09"},{"$f":"Z133+IF(データ整理!Z132>5,データ整理!Z132-5,0)","v":625.91764000000001},{"$f":"AA133+IF(データ整理!AA132>5,データ整理!AA132-5,0)","v":646.43058999999982}]
["2014-08-10",{"$f":"B134+IF(データ整理!B133>5,データ整理!B133-5,0)","v":730.0565600000001},{"$f":"C134+IF(データ整理!C133>5,データ整理!C133-5,0)","v":727.98127999999997},{"$f":"D134+IF(データ整理!D133>5,データ整理!D133-5,0)","v":609.79156999999998},{"$f":"E134+IF(データ整理!E133>5,データ整理!E133-5,0)","v":591.32105000000001},{"$f":"F134+IF(データ整理!F133>5,データ整理!F133-5,0)","v":603.10753999999997},{"$f":"G134+IF(データ整理!G133>5,データ整理!G133-5,0)","v":610.18804999999986},{"$f":"H134+IF(データ整理!H133>5,データ整理!H133-5,0)","v":701.05527000000006},{"$f":"I134+IF(データ整理!I133>5,データ整理!I133-5,0)","v":717.30460000000016},{"$f":"J134+IF(データ整理!J133>5,データ整理!J133-5,0)","v":652.90120999999976},{"$f":"K134+IF(データ整理!K133>5,データ整理!K133-5,0)","v":638.07457000000011},{"$f":"L134+IF(データ整理!L133>5,データ整理!L133-5,0)","v":604.83114999999998},{"$f":"M134+IF(データ整理!M133>5,データ整理!M133-5,0)","v":755.91463999999996},{"$f":"N134+IF(データ整理!N133>5,データ整理!N133-5,0)","v":685.16114999999979},{"$f":"O134+IF(データ整理!O133>5,データ整理!O133-5,0)","v":839.21069},{"$f":"P134+IF(データ整理!P133>5,データ整理!P133-5,0)","v":690.02972000000011},{"$f":"Q134+IF(データ整理!Q133>5,データ整理!Q133-5,0)","v":583.4637700000003},{"$f":"R134+IF(データ整理!R133>5,データ整理!R133-5,0)","v":595.00232999999992},{"$f":"S134+IF(データ整理!S133>5,データ整理!S133-5,0)","v":690.97670000000005},{"$f":"T134+IF(データ整理!T133>5,データ整理!T133-5,0)","v":568.49081000000001},{"$f":"U134+IF(データ整理!U133>5,データ整理!U133-5,0)","v":612.74163999999996},null,null,null,"2018-08-10",{"$f":"Z134+IF(データ整理!Z133>5,データ整理!Z133-5,0)","v":612.74163999999996},{"$f":"AA134+IF(データ整理!AA133>5,データ整理!AA133-5,0)","v":631.86448999999982}]
["2014-08-11",{"$f":"B135+IF(データ整理!B134>5,データ整理!B134-5,0)","v":710.95636000000013},{"$f":"C135+IF(データ整理!C134>5,データ整理!C134-5,0)","v":711.83447999999999},{"$f":"D135+IF(データ整理!D134>5,データ整理!D134-5,0)","v":595.76806999999997},{"$f":"E135+IF(データ整理!E134>5,データ整理!E134-5,0)","v":581.81484999999998},{"$f":"F135+IF(データ整理!F134>5,データ整理!F134-5,0)","v":590.33204000000001},{"$f":"G135+IF(データ整理!G134>5,データ整理!G134-5,0)","v":595.39164999999991},{"$f":"H135+IF(データ整理!H134>5,データ整理!H134-5,0)","v":685.35567000000003},{"$f":"I135+IF(データ整理!I134>5,データ整理!I134-5,0)","v":698.77040000000011},{"$f":"J135+IF(データ整理!J134>5,データ整理!J134-5,0)","v":636.79120999999975},{"$f":"K135+IF(データ整理!K134>5,データ整理!K134-5,0)","v":627.6556700000001},{"$f":"L135+IF(データ整理!L134>5,データ整理!L134-5,0)","v":588.52374999999995},{"$f":"M135+IF(データ整理!M134>5,データ整理!M134-5,0)","v":737.39233999999999},{"$f":"N135+IF(データ整理!N134>5,データ整理!N134-5,0)","v":666.39004999999975},{"$f":"O135+IF(データ整理!O134>5,データ整理!O134-5,0)","v":822.84559000000002},{"$f":"P135+IF(データ整理!P134>5,データ整理!P134-5,0)","v":674.56622000000016},{"$f":"Q135+IF(データ整理!Q134>5,データ整理!Q134-5,0)","v":569.13117000000034},{"$f":"R135+IF(データ整理!R134>5,データ整理!R134-5,0)","v":578.47642999999994},{"$f":"S135+IF(データ整理!S134>5,データ整理!S134-5,0)","v":678.92500000000007},{"$f":"T135+IF(データ整理!T134>5,データ整理!T134-5,0)","v":556.73971000000006},{"$f":"U135+IF(データ整理!U134>5,データ整理!U134-5,0)","v":598.70643999999993},null,null,null,"2018-08-11",{"$f":"Z135+IF(データ整理!Z134>5,データ整理!Z134-5,0)","v":598.70643999999993},{"$f":"AA135+IF(データ整理!AA134>5,データ整理!AA134-5,0)","v":617.35448999999983}]
["2014-08-12",{"$f":"B136+IF(データ整理!B135>5,データ整理!B135-5,0)","v":692.32596000000012},{"$f":"C136+IF(データ整理!C135>5,データ整理!C135-5,0)","v":696.95137999999997},{"$f":"D136+IF(データ整理!D135>5,データ整理!D135-5,0)","v":582.98146999999994},{"$f":"E136+IF(データ整理!E135>5,データ整理!E135-5,0)","v":571.43465000000003},{"$f":"F136+IF(データ整理!F135>5,データ整理!F135-5,0)","v":576.08834000000002},{"$f":"G136+IF(データ整理!G135>5,データ整理!G135-5,0)","v":581.79054999999994},{"$f":"H136+IF(データ整理!H135>5,データ整理!H135-5,0)","v":667.95357000000001},{"$f":"I136+IF(データ整理!I135>5,データ整理!I135-5,0)","v":681.09120000000007},{"$f":"J136+IF(データ整理!J135>5,データ整理!J135-5,0)","v":619.71460999999977},{"$f":"K136+IF(データ整理!K135>5,データ整理!K135-5,0)","v":614.89017000000013},{"$f":"L136+IF(データ整理!L135>5,データ整理!L135-5,0)","v":571.51675},{"$f":"M136+IF(データ整理!M135>5,データ整理!M135-5,0)","v":721.52153999999996},{"$f":"N136+IF(データ整理!N135>5,データ整理!N135-5,0)","v":648.04844999999978},{"$f":"O136+IF(データ整理!O135>5,データ整理!O135-5,0)","v":807.78918999999996},{"$f":"P136+IF(データ整理!P135>5,データ整理!P135-5,0)","v":659.27112000000011},{"$f":"Q136+IF(データ整理!Q135>5,データ整理!Q135-5,0)","v":553.77257000000031},{"$f":"R136+IF(データ整理!R135>5,データ整理!R135-5,0)","v":563.06542999999999},{"$f":"S136+IF(データ整理!S135>5,データ整理!S135-5,0)","v":665.01350000000002},{"$f":"T136+IF(データ整理!T135>5,データ整理!T135-5,0)","v":544.98881000000006},{"$f":"U136+IF(データ整理!U135>5,データ整理!U135-5,0)","v":585.79693999999995},null,null,null,"2018-08-12",{"$f":"Z136+IF(データ整理!Z135>5,データ整理!Z135-5,0)","v":585.79693999999995},{"$f":"AA136+IF(データ整理!AA135>5,データ整理!AA135-5,0)","v":602.91038999999978}]
["2014-08-13",{"$f":"B137+IF(データ整理!B136>5,データ整理!B136-5,0)","v":675.17756000000008},{"$f":"C137+IF(データ整理!C136>5,データ整理!C136-5,0)","v":683.79067999999995},{"$f":"D137+IF(データ整理!D136>5,データ整理!D136-5,0)","v":570.57446999999991},{"$f":"E137+IF(データ整理!E136>5,データ整理!E136-5,0)","v":561.36914999999999},{"$f":"F137+IF(データ整理!F136>5,データ整理!F136-5,0)","v":562.07983999999999},{"$f":"G137+IF(データ整理!G136>5,データ整理!G136-5,0)","v":567.85224999999991},{"$f":"H137+IF(データ整理!H136>5,データ整理!H136-5,0)","v":650.52557000000002},{"$f":"I137+IF(データ整理!I136>5,データ整理!I136-5,0)","v":663.76900000000012},{"$f":"J137+IF(データ整理!J136>5,データ整理!J136-5,0)","v":601.05630999999971},{"$f":"K137+IF(データ整理!K136>5,データ整理!K136-5,0)","v":599.78387000000009},{"$f":"L137+IF(データ整理!L136>5,データ整理!L136-5,0)","v":556.50154999999995},{"$f":"M137+IF(データ整理!M136>5,データ整理!M136-5,0)","v":705.62803999999994},{"$f":"N137+IF(データ整理!N136>5,データ整理!N136-5,0)","v":633.25024999999982},{"$f":"O137+IF(データ整理!O136>5,データ整理!O136-5,0)","v":792.24549000000002},{"$f":"P137+IF(データ整理!P136>5,データ整理!P136-5,0)","v":643.64522000000011},{"$f":"Q137+IF(データ整理!Q136>5,データ整理!Q136-5,0)","v":538.04587000000026},{"$f":"R137+IF(データ整理!R136>5,データ整理!R136-5,0)","v":548.67322999999999},{"$f":"S137+IF(データ整理!S136>5,データ整理!S136-5,0)","v":650.63030000000003},{"$f":"T137+IF(データ整理!T136>5,データ整理!T136-5,0)","v":535.58871000000011},{"$f":"U137+IF(データ整理!U136>5,データ整理!U136-5,0)","v":571.93493999999998},null,null,null,"2018-08-13",{"$f":"Z137+IF(データ整理!Z136>5,データ整理!Z136-5,0)","v":571.93493999999998},{"$f":"AA137+IF(データ整理!AA136>5,データ整理!AA136-5,0)","v":588.54248999999982}]
["2014-08-14",{"$f":"B138+IF(データ整理!B137>5,データ整理!B137-5,0)","v":658.59496000000013},{"$f":"C138+IF(データ整理!C137>5,データ整理!C137-5,0)","v":669.89377999999999},{"$f":"D138+IF(データ整理!D137>5,データ整理!D137-5,0)","v":557.56416999999988},{"$f":"E138+IF(データ整理!E137>5,データ整理!E137-5,0)","v":551.28795000000002},{"$f":"F138+IF(データ整理!F137>5,データ整理!F137-5,0)","v":549.91254000000004},{"$f":"G138+IF(データ整理!G137>5,データ整理!G137-5,0)","v":557.14194999999995},{"$f":"H138+IF(データ整理!H137>5,データ整理!H137-5,0)","v":633.01227000000006},{"$f":"I138+IF(データ整理!I137>5,データ整理!I137-5,0)","v":646.50630000000012},{"$f":"J138+IF(データ整理!J137>5,データ整理!J137-5,0)","v":583.22290999999973},{"$f":"K138+IF(データ整理!K137>5,データ整理!K137-5,0)","v":583.59287000000006},{"$f":"L138+IF(データ整理!L137>5,データ整理!L137-5,0)","v":542.27355},{"$f":"M138+IF(データ整理!M137>5,データ整理!M137-5,0)","v":689.42703999999992},{"$f":"N138+IF(データ整理!N137>5,データ整理!N137-5,0)","v":619.2725499999998},{"$f":"O138+IF(データ整理!O137>5,データ整理!O137-5,0)","v":778.25989000000004},{"$f":"P138+IF(データ整理!P137>5,データ整理!P137-5,0)","v":628.45832000000007},{"$f":"Q138+IF(データ整理!Q137>5,データ整理!Q137-5,0)","v":525.54817000000025},{"$f":"R138+IF(データ整理!R137>5,データ整理!R137-5,0)","v":533.70253000000002},{"$f":"S138+IF(データ整理!S137>5,データ整理!S137-5,0)","v":635.37260000000003},{"$f":"T138+IF(データ整理!T137>5,データ整理!T137-5,0)","v":525.25271000000009},{"$f":"U138+IF(データ整理!U137>5,データ整理!U137-5,0)","v":557.16174000000001},null,null,null,"2018-08-14",{"$f":"Z138+IF(データ整理!Z137>5,データ整理!Z137-5,0)","v":557.16174000000001},{"$f":"AA138+IF(データ整理!AA137>5,データ整理!AA137-5,0)","v":574.25808999999981}]
["2014-08-15",{"$f":"B139+IF(データ整理!B138>5,データ整理!B138-5,0)","v":640.73876000000007},{"$f":"C139+IF(データ整理!C138>5,データ整理!C138-5,0)","v":654.31057999999996},{"$f":"D139+IF(データ整理!D138>5,データ整理!D138-5,0)","v":543.57396999999992},{"$f":"E139+IF(データ整理!E138>5,データ整理!E138-5,0)","v":538.47104999999999},{"$f":"F139+IF(データ整理!F138>5,データ整理!F138-5,0)","v":538.10244},{"$f":"G139+IF(データ整理!G138>5,データ整理!G138-5,0)","v":545.43714999999997},{"$f":"H139+IF(データ整理!H138>5,データ整理!H138-5,0)","v":615.61507000000006},{"$f":"I139+IF(データ整理!I138>5,データ整理!I138-5,0)","v":629.86640000000011},{"$f":"J139+IF(データ整理!J138>5,データ整理!J138-5,0)","v":564.53430999999978},{"$f":"K139+IF(データ整理!K138>5,データ整理!K138-5,0)","v":568.19377000000009},{"$f":"L139+IF(データ整理!L138>5,データ整理!L138-5,0)","v":528.42004999999995},{"$f":"M139+IF(データ整理!M138>5,データ整理!M138-5,0)","v":673.64203999999995},{"$f":"N139+IF(データ整理!N138>5,データ整理!N138-5,0)","v":604.1058499999998},{"$f":"O139+IF(データ整理!O138>5,データ整理!O138-5,0)","v":765.4131900000001},{"$f":"P139+IF(データ整理!P138>5,データ整理!P138-5,0)","v":612.97732000000008},{"$f":"Q139+IF(データ整理!Q138>5,データ整理!Q138-5,0)","v":513.49977000000024},{"$f":"R139+IF(データ整理!R138>5,データ整理!R138-5,0)","v":518.93623000000002},{"$f":"S139+IF(データ整理!S138>5,データ整理!S138-5,0)","v":618.9144},{"$f":"T139+IF(データ整理!T138>5,データ整理!T138-5,0)","v":512.90011000000004},{"$f":"U139+IF(データ整理!U138>5,データ整理!U138-5,0)","v":543.88764000000003},null,null,null,"2018-08-15",{"$f":"Z139+IF(データ整理!Z138>5,データ整理!Z138-5,0)","v":543.88764000000003},{"$f":"AA139+IF(データ整理!AA138>5,データ整理!AA138-5,0)","v":560.06318999999985}]
["2014-08-16",{"$f":"B140+IF(データ整理!B139>5,データ整理!B139-5,0)","v":624.43776000000003},{"$f":"C140+IF(データ整理!C139>5,データ整理!C139-5,0)","v":638.85568000000001},{"$f":"D140+IF(データ整理!D139>5,データ整理!D139-5,0)","v":527.98516999999993},{"$f":"E140+IF(データ整理!E139>5,データ整理!E139-5,0)","v":526.17605000000003},{"$f":"F140+IF(データ整理!F139>5,データ整理!F139-5,0)","v":524.56804},{"$f":"G140+IF(データ整理!G139>5,データ整理!G139-5,0)","v":535.76694999999995},{"$f":"H140+IF(データ整理!H139>5,データ整理!H139-5,0)","v":599.29217000000006},{"$f":"I140+IF(データ整理!I139>5,データ整理!I139-5,0)","v":612.33100000000013},{"$f":"J140+IF(データ整理!J139>5,データ整理!J139-5,0)","v":545.73990999999978},{"$f":"K140+IF(データ整理!K139>5,データ整理!K139-5,0)","v":554.34947000000011},{"$f":"L140+IF(データ整理!L139>5,データ整理!L139-5,0)","v":514.62964999999997},{"$f":"M140+IF(データ整理!M139>5,データ整理!M139-5,0)","v":658.22654},{"$f":"N140+IF(データ整理!N139>5,データ整理!N139-5,0)","v":589.10524999999984},{"$f":"O140+IF(データ整理!O139>5,データ整理!O139-5,0)","v":753.08179000000007},{"$f":"P140+IF(データ整理!P139>5,データ整理!P139-5,0)","v":594.45992000000012},{"$f":"Q140+IF(データ整理!Q139>5,データ整理!Q139-5,0)","v":501.87577000000022},{"$f":"R140+IF(データ整理!R139>5,データ整理!R139-5,0)","v":504.19823000000008},{"$f":"S140+IF(データ整理!S139>5,データ整理!S139-5,0)","v":602.66150000000005},{"$f":"T140+IF(データ整理!T139>5,データ整理!T139-5,0)","v":500.19461000000001},{"$f":"U140+IF(データ整理!U139>5,データ整理!U139-5,0)","v":532.57094000000006},null,null,null,"2018-08-16",{"$f":"Z140+IF(データ整理!Z139>5,データ整理!Z139-5,0)","v":532.57094000000006},{"$f":"AA140+IF(データ整理!AA139>5,データ整理!AA139-5,0)","v":545.96318999999983}]
["2014-08-17",{"$f":"B141+IF(データ整理!B140>5,データ整理!B140-5,0)","v":606.75656000000004},{"$f":"C141+IF(データ整理!C140>5,データ整理!C140-5,0)","v":621.45848000000001},{"$f":"D141+IF(データ整理!D140>5,データ整理!D140-5,0)","v":511.42986999999988},{"$f":"E141+IF(データ整理!E140>5,データ整理!E140-5,0)","v":513.43205},{"$f":"F141+IF(データ整理!F140>5,データ整理!F140-5,0)","v":511.16814000000005},{"$f":"G141+IF(データ整理!G140>5,データ整理!G140-5,0)","v":526.62804999999992},{"$f":"H141+IF(データ整理!H140>5,データ整理!H140-5,0)","v":585.94277000000011},{"$f":"I141+IF(データ整理!I140>5,データ整理!I140-5,0)","v":594.83890000000008},{"$f":"J141+IF(データ整理!J140>5,データ整理!J140-5,0)","v":534.51780999999983},{"$f":"K141+IF(データ整理!K140>5,データ整理!K140-5,0)","v":543.14457000000016},{"$f":"L141+IF(データ整理!L140>5,データ整理!L140-5,0)","v":500.53454999999997},{"$f":"M141+IF(データ整理!M140>5,データ整理!M140-5,0)","v":640.80733999999995},{"$f":"N141+IF(データ整理!N140>5,データ整理!N140-5,0)","v":576.15064999999981},{"$f":"O141+IF(データ整理!O140>5,データ整理!O140-5,0)","v":738.88209000000006},{"$f":"P141+IF(データ整理!P140>5,データ整理!P140-5,0)","v":576.6380200000001},{"$f":"Q141+IF(データ整理!Q140>5,データ整理!Q140-5,0)","v":488.3794700000002},{"$f":"R141+IF(データ整理!R140>5,データ整理!R140-5,0)","v":490.0140300000001},{"$f":"S141+IF(データ整理!S140>5,データ整理!S140-5,0)","v":585.72390000000007},{"$f":"T141+IF(データ整理!T140>5,データ整理!T140-5,0)","v":488.40291000000002},{"$f":"U141+IF(データ整理!U140>5,データ整理!U140-5,0)","v":524.57474000000002},null,null,null,"2018-08-17",{"$f":"Z141+IF(データ整理!Z140>5,データ整理!Z140-5,0)","v":524.57474000000002},{"$f":"AA141+IF(データ整理!AA140>5,データ整理!AA140-5,0)","v":531.96398999999985}]
["2014-08-18",{"$f":"B142+IF(データ整理!B141>5,データ整理!B141-5,0)","v":587.49826000000007},{"$f":"C142+IF(データ整理!C141>5,データ整理!C141-5,0)","v":605.06108000000006},{"$f":"D142+IF(データ整理!D141>5,データ整理!D141-5,0)","v":497.44416999999987},{"$f":"E142+IF(データ整理!E141>5,データ整理!E141-5,0)","v":501.89624999999995},{"$f":"F142+IF(データ整理!F141>5,データ整理!F141-5,0)","v":497.75784000000004},{"$f":"G142+IF(データ整理!G141>5,データ整理!G141-5,0)","v":516.98654999999997},{"$f":"H142+IF(データ整理!H141>5,データ整理!H141-5,0)","v":571.12367000000006},{"$f":"I142+IF(データ整理!I141>5,データ整理!I141-5,0)","v":575.74610000000007},{"$f":"J142+IF(データ整理!J141>5,データ整理!J141-5,0)","v":523.39170999999988},{"$f":"K142+IF(データ整理!K141>5,データ整理!K141-5,0)","v":533.94307000000015},{"$f":"L142+IF(データ整理!L141>5,データ整理!L141-5,0)","v":488.28484999999995},{"$f":"M142+IF(データ整理!M141>5,データ整理!M141-5,0)","v":625.73473999999999},{"$f":"N142+IF(データ整理!N141>5,データ整理!N141-5,0)","v":562.77894999999978},{"$f":"O142+IF(データ整理!O141>5,データ整理!O141-5,0)","v":725.39139000000011},{"$f":"P142+IF(データ整理!P141>5,データ整理!P141-5,0)","v":559.14622000000008},{"$f":"Q142+IF(データ整理!Q141>5,データ整理!Q141-5,0)","v":474.24157000000019},{"$f":"R142+IF(データ整理!R141>5,データ整理!R141-5,0)","v":477.17363000000012},{"$f":"S142+IF(データ整理!S141>5,データ整理!S141-5,0)","v":571.13860000000011},{"$f":"T142+IF(データ整理!T141>5,データ整理!T141-5,0)","v":475.96621000000005},{"$f":"U142+IF(データ整理!U141>5,データ整理!U141-5,0)","v":517.57524000000001},null,null,null,"2018-08-18",{"$f":"Z142+IF(データ整理!Z141>5,データ整理!Z141-5,0)","v":517.57524000000001},{"$f":"AA142+IF(データ整理!AA141>5,データ整理!AA141-5,0)","v":518.07128999999986}]
["2014-08-19",{"$f":"B143+IF(データ整理!B142>5,データ整理!B142-5,0)","v":574.47936000000004},{"$f":"C143+IF(データ整理!C142>5,データ整理!C142-5,0)","v":590.62358000000006},{"$f":"D143+IF(データ整理!D142>5,データ整理!D142-5,0)","v":486.39086999999989},{"$f":"E143+IF(データ整理!E142>5,データ整理!E142-5,0)","v":488.60284999999993},{"$f":"F143+IF(データ整理!F142>5,データ整理!F142-5,0)","v":484.26884000000007},{"$f":"G143+IF(データ整理!G142>5,データ整理!G142-5,0)","v":504.26534999999996},{"$f":"H143+IF(データ整理!H142>5,データ整理!H142-5,0)","v":554.54047000000003},{"$f":"I143+IF(データ整理!I142>5,データ整理!I142-5,0)","v":559.60680000000002},{"$f":"J143+IF(データ整理!J142>5,データ整理!J142-5,0)","v":511.21080999999992},{"$f":"K143+IF(データ整理!K142>5,データ整理!K142-5,0)","v":522.97897000000012},{"$f":"L143+IF(データ整理!L142>5,データ整理!L142-5,0)","v":474.80264999999997},{"$f":"M143+IF(データ整理!M142>5,データ整理!M142-5,0)","v":611.65624000000003},{"$f":"N143+IF(データ整理!N142>5,データ整理!N142-5,0)","v":550.26334999999983},{"$f":"O143+IF(データ整理!O142>5,データ整理!O142-5,0)","v":710.87709000000007},{"$f":"P143+IF(データ整理!P142>5,データ整理!P142-5,0)","v":540.71072000000004},{"$f":"Q143+IF(データ整理!Q142>5,データ整理!Q142-5,0)","v":458.95427000000018},{"$f":"R143+IF(データ整理!R142>5,データ整理!R142-5,0)","v":466.99693000000013},{"$f":"S143+IF(データ整理!S142>5,データ整理!S142-5,0)","v":555.03020000000015},{"$f":"T143+IF(データ整理!T142>5,データ整理!T142-5,0)","v":462.63131000000004},{"$f":"U143+IF(データ整理!U142>5,データ整理!U142-5,0)","v":509.11573999999996},null,null,null,"2018-08-19",{"$f":"Z143+IF(データ整理!Z142>5,データ整理!Z142-5,0)","v":509.11573999999996},{"$f":"AA143+IF(データ整理!AA142>5,データ整理!AA142-5,0)","v":504.2914899999999}]
["2014-08-20",{"$f":"B144+IF(データ整理!B143>5,データ整理!B143-5,0)","v":559.05036000000007},{"$f":"C144+IF(データ整理!C143>5,データ整理!C143-5,0)","v":575.59028000000001},{"$f":"D144+IF(データ整理!D143>5,データ整理!D143-5,0)","v":474.11066999999991},{"$f":"E144+IF(データ整理!E143>5,データ整理!E143-5,0)","v":476.35534999999993},{"$f":"F144+IF(データ整理!F143>5,データ整理!F143-5,0)","v":471.49894000000006},{"$f":"G144+IF(データ整理!G143>5,データ整理!G143-5,0)","v":490.21814999999998},{"$f":"H144+IF(データ整理!H143>5,データ整理!H143-5,0)","v":538.40227000000004},{"$f":"I144+IF(データ整理!I143>5,データ整理!I143-5,0)","v":545.12180000000001},{"$f":"J144+IF(データ整理!J143>5,データ整理!J143-5,0)","v":498.36310999999995},{"$f":"K144+IF(データ整理!K143>5,データ整理!K143-5,0)","v":512.28127000000006},{"$f":"L144+IF(データ整理!L143>5,データ整理!L143-5,0)","v":462.45065},{"$f":"M144+IF(データ整理!M143>5,データ整理!M143-5,0)","v":597.67574000000002},{"$f":"N144+IF(データ整理!N143>5,データ整理!N143-5,0)","v":537.19604999999979},{"$f":"O144+IF(データ整理!O143>5,データ整理!O143-5,0)","v":694.51179000000002},{"$f":"P144+IF(データ整理!P143>5,データ整理!P143-5,0)","v":523.49982},{"$f":"Q144+IF(データ整理!Q143>5,データ整理!Q143-5,0)","v":445.48447000000016},{"$f":"R144+IF(データ整理!R143>5,データ整理!R143-5,0)","v":457.31543000000011},{"$f":"S144+IF(データ整理!S143>5,データ整理!S143-5,0)","v":539.5436000000002},{"$f":"T144+IF(データ整理!T143>5,データ整理!T143-5,0)","v":449.05121000000003},{"$f":"U144+IF(データ整理!U143>5,データ整理!U143-5,0)","v":498.91043999999994},null,null,null,"2018-08-20",{"$f":"Z144+IF(データ整理!Z143>5,データ整理!Z143-5,0)","v":498.91043999999994},{"$f":"AA144+IF(データ整理!AA143>5,データ整理!AA143-5,0)","v":490.6297899999999}]
["2014-08-21",{"$f":"B145+IF(データ整理!B144>5,データ整理!B144-5,0)","v":541.43916000000002},{"$f":"C145+IF(データ整理!C144>5,データ整理!C144-5,0)","v":560.83087999999998},{"$f":"D145+IF(データ整理!D144>5,データ整理!D144-5,0)","v":462.13736999999992},{"$f":"E145+IF(データ整理!E144>5,データ整理!E144-5,0)","v":466.91414999999995},{"$f":"F145+IF(データ整理!F144>5,データ整理!F144-5,0)","v":458.57684000000006},{"$f":"G145+IF(データ整理!G144>5,データ整理!G144-5,0)","v":481.66204999999997},{"$f":"H145+IF(データ整理!H144>5,データ整理!H144-5,0)","v":525.19337000000007},{"$f":"I145+IF(データ整理!I144>5,データ整理!I144-5,0)","v":529.35040000000004},{"$f":"J145+IF(データ整理!J144>5,データ整理!J144-5,0)","v":482.63690999999994},{"$f":"K145+IF(データ整理!K144>5,データ整理!K144-5,0)","v":503.38227000000006},{"$f":"L145+IF(データ整理!L144>5,データ整理!L144-5,0)","v":448.24225000000001},{"$f":"M145+IF(データ整理!M144>5,データ整理!M144-5,0)","v":582.41494},{"$f":"N145+IF(データ整理!N144>5,データ整理!N144-5,0)","v":525.18134999999984},{"$f":"O145+IF(データ整理!O144>5,データ整理!O144-5,0)","v":677.33409000000006},{"$f":"P145+IF(データ整理!P144>5,データ整理!P144-5,0)","v":508.64422000000002},{"$f":"Q145+IF(データ整理!Q144>5,データ整理!Q144-5,0)","v":431.83217000000013},{"$f":"R145+IF(データ整理!R144>5,データ整理!R144-5,0)","v":446.39373000000012},{"$f":"S145+IF(データ整理!S144>5,データ整理!S144-5,0)","v":524.75610000000017},{"$f":"T145+IF(データ整理!T144>5,データ整理!T144-5,0)","v":436.12591000000003},{"$f":"U145+IF(データ整理!U144>5,データ整理!U144-5,0)","v":484.30423999999994},null,null,null,"2018-08-21",{"$f":"Z145+IF(データ整理!Z144>5,データ整理!Z144-5,0)","v":484.30423999999994},{"$f":"AA145+IF(データ整理!AA144>5,データ整理!AA144-5,0)","v":477.08658999999989}]
["2014-08-22",{"$f":"B146+IF(データ整理!B145>5,データ整理!B145-5,0)","v":523.77546000000007},{"$f":"C146+IF(データ整理!C145>5,データ整理!C145-5,0)","v":544.04887999999994},{"$f":"D146+IF(データ整理!D145>5,データ整理!D145-5,0)","v":449.14766999999995},{"$f":"E146+IF(データ整理!E145>5,データ整理!E145-5,0)","v":460.14904999999993},{"$f":"F146+IF(データ整理!F145>5,データ整理!F145-5,0)","v":443.92454000000004},{"$f":"G146+IF(データ整理!G145>5,データ整理!G145-5,0)","v":475.21834999999999},{"$f":"H146+IF(データ整理!H145>5,データ整理!H145-5,0)","v":512.93857000000003},{"$f":"I146+IF(データ整理!I145>5,データ整理!I145-5,0)","v":509.9504},{"$f":"J146+IF(データ整理!J145>5,データ整理!J145-5,0)","v":466.30220999999995},{"$f":"K146+IF(データ整理!K145>5,データ整理!K145-5,0)","v":496.23237000000006},{"$f":"L146+IF(データ整理!L145>5,データ整理!L145-5,0)","v":432.87535000000003},{"$f":"M146+IF(データ整理!M145>5,データ整理!M145-5,0)","v":566.12383999999997},{"$f":"N146+IF(データ整理!N145>5,データ整理!N145-5,0)","v":512.31654999999989},{"$f":"O146+IF(データ整理!O145>5,データ整理!O145-5,0)","v":658.30669},{"$f":"P146+IF(データ整理!P145>5,データ整理!P145-5,0)","v":494.62932000000001},{"$f":"Q146+IF(データ整理!Q145>5,データ整理!Q145-5,0)","v":417.63637000000011},{"$f":"R146+IF(データ整理!R145>5,データ整理!R145-5,0)","v":433.83813000000009},{"$f":"S146+IF(データ整理!S145>5,データ整理!S145-5,0)","v":508.38610000000017},{"$f":"T146+IF(データ整理!T145>5,データ整理!T145-5,0)","v":421.30021000000005},{"$f":"U146+IF(データ整理!U145>5,データ整理!U145-5,0)","v":470.58023999999995},null,null,null,"2018-08-22",{"$f":"Z146+IF(データ整理!Z145>5,データ整理!Z145-5,0)","v":470.58023999999995},{"$f":"AA146+IF(データ整理!AA145>5,データ整理!AA145-5,0)","v":463.65868999999986}]
["2014-08-23",{"$f":"B147+IF(データ整理!B146>5,データ整理!B146-5,0)","v":506.36016000000012},{"$f":"C147+IF(データ整理!C146>5,データ整理!C146-5,0)","v":527.00817999999992},{"$f":"D147+IF(データ整理!D146>5,データ整理!D146-5,0)","v":435.86396999999994},{"$f":"E147+IF(データ整理!E146>5,データ整理!E146-5,0)","v":452.75554999999991},{"$f":"F147+IF(データ整理!F146>5,データ整理!F146-5,0)","v":428.69884000000002},{"$f":"G147+IF(データ整理!G146>5,データ整理!G146-5,0)","v":465.66624999999999},{"$f":"H147+IF(データ整理!H146>5,データ整理!H146-5,0)","v":500.46527000000003},{"$f":"I147+IF(データ整理!I146>5,データ整理!I146-5,0)","v":493.1343},{"$f":"J147+IF(データ整理!J146>5,データ整理!J146-5,0)","v":452.07840999999996},{"$f":"K147+IF(データ整理!K146>5,データ整理!K146-5,0)","v":489.77237000000008},{"$f":"L147+IF(データ整理!L146>5,データ整理!L146-5,0)","v":419.23105000000004},{"$f":"M147+IF(データ整理!M146>5,データ整理!M146-5,0)","v":549.47093999999993},{"$f":"N147+IF(データ整理!N146>5,データ整理!N146-5,0)","v":499.03694999999993},{"$f":"O147+IF(データ整理!O146>5,データ整理!O146-5,0)","v":639.22279000000003},{"$f":"P147+IF(データ整理!P146>5,データ整理!P146-5,0)","v":480.46541999999999},{"$f":"Q147+IF(データ整理!Q146>5,データ整理!Q146-5,0)","v":402.6128700000001},{"$f":"R147+IF(データ整理!R146>5,データ整理!R146-5,0)","v":421.97603000000009},{"$f":"S147+IF(データ整理!S146>5,データ整理!S146-5,0)","v":492.33250000000015},{"$f":"T147+IF(データ整理!T146>5,データ整理!T146-5,0)","v":407.60891000000004},{"$f":"U147+IF(データ整理!U146>5,データ整理!U146-5,0)","v":453.62703999999997},null,null,null,"2018-08-23",{"$f":"Z147+IF(データ整理!Z146>5,データ整理!Z146-5,0)","v":453.62703999999997},{"$f":"AA147+IF(データ整理!AA146>5,データ整理!AA146-5,0)","v":450.34338999999989}]
["2014-08-24",{"$f":"B148+IF(データ整理!B147>5,データ整理!B147-5,0)","v":491.1695600000001},{"$f":"C148+IF(データ整理!C147>5,データ整理!C147-5,0)","v":509.6984799999999},{"$f":"D148+IF(データ整理!D147>5,データ整理!D147-5,0)","v":421.02176999999995},{"$f":"E148+IF(データ整理!E147>5,データ整理!E147-5,0)","v":443.37204999999989},{"$f":"F148+IF(データ整理!F147>5,データ整理!F147-5,0)","v":415.65523999999999},{"$f":"G148+IF(データ整理!G147>5,データ整理!G147-5,0)","v":454.91294999999997},{"$f":"H148+IF(データ整理!H147>5,データ整理!H147-5,0)","v":489.38597000000004},{"$f":"I148+IF(データ整理!I147>5,データ整理!I147-5,0)","v":477.0797},{"$f":"J148+IF(データ整理!J147>5,データ整理!J147-5,0)","v":440.00840999999997},{"$f":"K148+IF(データ整理!K147>5,データ整理!K147-5,0)","v":481.97667000000007},{"$f":"L148+IF(データ整理!L147>5,データ整理!L147-5,0)","v":408.29355000000004},{"$f":"M148+IF(データ整理!M147>5,データ整理!M147-5,0)","v":535.97613999999987},{"$f":"N148+IF(データ整理!N147>5,データ整理!N147-5,0)","v":487.16974999999991},{"$f":"O148+IF(データ整理!O147>5,データ整理!O147-5,0)","v":624.24659000000008},{"$f":"P148+IF(データ整理!P147>5,データ整理!P147-5,0)","v":466.45691999999997},{"$f":"Q148+IF(データ整理!Q147>5,データ整理!Q147-5,0)","v":387.14267000000012},{"$f":"R148+IF(データ整理!R147>5,データ整理!R147-5,0)","v":411.84563000000009},{"$f":"S148+IF(データ整理!S147>5,データ整理!S147-5,0)","v":477.61700000000013},{"$f":"T148+IF(データ整理!T147>5,データ整理!T147-5,0)","v":391.75591000000003},{"$f":"U148+IF(データ整理!U147>5,データ整理!U147-5,0)","v":439.52883999999995},null,null,null,"2018-08-24",{"$f":"Z148+IF(データ整理!Z147>5,データ整理!Z147-5,0)","v":439.52883999999995},{"$f":"AA148+IF(データ整理!AA147>5,データ整理!AA147-5,0)","v":437.13918999999987}]
["2014-08-25",{"$f":"B149+IF(データ整理!B148>5,データ整理!B148-5,0)","v":478.77956000000012},{"$f":"C149+IF(データ整理!C148>5,データ整理!C148-5,0)","v":492.65397999999993},{"$f":"D149+IF(データ整理!D148>5,データ整理!D148-5,0)","v":405.54746999999998},{"$f":"E149+IF(データ整理!E148>5,データ整理!E148-5,0)","v":432.86254999999989},{"$f":"F149+IF(データ整理!F148>5,データ整理!F148-5,0)","v":405.21064000000001},{"$f":"G149+IF(データ整理!G148>5,データ整理!G148-5,0)","v":442.28804999999994},{"$f":"H149+IF(データ整理!H148>5,データ整理!H148-5,0)","v":478.54397000000006},{"$f":"I149+IF(データ整理!I148>5,データ整理!I148-5,0)","v":462.46199999999999},{"$f":"J149+IF(データ整理!J148>5,データ整理!J148-5,0)","v":428.63930999999997},{"$f":"K149+IF(データ整理!K148>5,データ整理!K148-5,0)","v":475.07437000000004},{"$f":"L149+IF(データ整理!L148>5,データ整理!L148-5,0)","v":398.28925000000004},{"$f":"M149+IF(データ整理!M148>5,データ整理!M148-5,0)","v":521.16573999999991},{"$f":"N149+IF(データ整理!N148>5,データ整理!N148-5,0)","v":473.82844999999992},{"$f":"O149+IF(データ整理!O148>5,データ整理!O148-5,0)","v":610.24659000000008},{"$f":"P149+IF(データ整理!P148>5,データ整理!P148-5,0)","v":453.06351999999998},{"$f":"Q149+IF(データ整理!Q148>5,データ整理!Q148-5,0)","v":373.5786700000001},{"$f":"R149+IF(データ整理!R148>5,データ整理!R148-5,0)","v":402.94133000000011},{"$f":"S149+IF(データ整理!S148>5,データ整理!S148-5,0)","v":463.69790000000012},{"$f":"T149+IF(データ整理!T148>5,データ整理!T148-5,0)","v":376.92031000000003},{"$f":"U149+IF(データ整理!U148>5,データ整理!U148-5,0)","v":426.76083999999992},null,null,null,"2018-08-25",{"$f":"Z149+IF(データ整理!Z148>5,データ整理!Z148-5,0)","v":426.76083999999992},{"$f":"AA149+IF(データ整理!AA148>5,データ整理!AA148-5,0)","v":424.04558999999989}]
["2014-08-26",{"$f":"B150+IF(データ整理!B149>5,データ整理!B149-5,0)","v":466.35306000000014},{"$f":"C150+IF(データ整理!C149>5,データ整理!C149-5,0)","v":476.23267999999996},{"$f":"D150+IF(データ整理!D149>5,データ整理!D149-5,0)","v":390.16976999999997},{"$f":"E150+IF(データ整理!E149>5,データ整理!E149-5,0)","v":421.80204999999989},{"$f":"F150+IF(データ整理!F149>5,データ整理!F149-5,0)","v":393.73124000000001},{"$f":"G150+IF(データ整理!G149>5,データ整理!G149-5,0)","v":433.46774999999997},{"$f":"H150+IF(データ整理!H149>5,データ整理!H149-5,0)","v":468.16197000000005},{"$f":"I150+IF(データ整理!I149>5,データ整理!I149-5,0)","v":448.82799999999997},{"$f":"J150+IF(データ整理!J149>5,データ整理!J149-5,0)","v":414.75090999999998},{"$f":"K150+IF(データ整理!K149>5,データ整理!K149-5,0)","v":464.09557000000007},{"$f":"L150+IF(データ整理!L149>5,データ整理!L149-5,0)","v":388.35805000000005},{"$f":"M150+IF(データ整理!M149>5,データ整理!M149-5,0)","v":506.62203999999997},{"$f":"N150+IF(データ整理!N149>5,データ整理!N149-5,0)","v":461.37664999999993},{"$f":"O150+IF(データ整理!O149>5,データ整理!O149-5,0)","v":593.84179000000006},{"$f":"P150+IF(データ整理!P149>5,データ整理!P149-5,0)","v":440.51251999999999},{"$f":"Q150+IF(データ整理!Q149>5,データ整理!Q149-5,0)","v":364.54137000000009},{"$f":"R150+IF(データ整理!R149>5,データ整理!R149-5,0)","v":394.63663000000008},{"$f":"S150+IF(データ整理!S149>5,データ整理!S149-5,0)","v":448.13360000000011},{"$f":"T150+IF(データ整理!T149>5,データ整理!T149-5,0)","v":362.95361000000003},{"$f":"U150+IF(データ整理!U149>5,データ整理!U149-5,0)","v":416.29933999999992},null,null,null,"2018-08-26",{"$f":"Z150+IF(データ整理!Z149>5,データ整理!Z149-5,0)","v":416.29933999999992},{"$f":"AA150+IF(データ整理!AA149>5,データ整理!AA149-5,0)","v":411.06148999999988}]
["2014-08-27",{"$f":"B151+IF(データ整理!B150>5,データ整理!B150-5,0)","v":453.65456000000012},{"$f":"C151+IF(データ整理!C150>5,データ整理!C150-5,0)","v":462.11107999999996},{"$f":"D151+IF(データ整理!D150>5,データ整理!D150-5,0)","v":374.58386999999999},{"$f":"E151+IF(データ整理!E150>5,データ整理!E150-5,0)","v":411.03834999999992},{"$f":"F151+IF(データ整理!F150>5,データ整理!F150-5,0)","v":381.76483999999999},{"$f":"G151+IF(データ整理!G150>5,データ整理!G150-5,0)","v":425.16844999999995},{"$f":"H151+IF(データ整理!H150>5,データ整理!H150-5,0)","v":457.75297000000006},{"$f":"I151+IF(データ整理!I150>5,データ整理!I150-5,0)","v":434.98589999999996},{"$f":"J151+IF(データ整理!J150>5,データ整理!J150-5,0)","v":399.81940999999995},{"$f":"K151+IF(データ整理!K150>5,データ整理!K150-5,0)","v":450.90407000000005},{"$f":"L151+IF(データ整理!L150>5,データ整理!L150-5,0)","v":378.34555000000006},{"$f":"M151+IF(データ整理!M150>5,データ整理!M150-5,0)","v":494.07163999999995},{"$f":"N151+IF(データ整理!N150>5,データ整理!N150-5,0)","v":449.20924999999994},{"$f":"O151+IF(データ整理!O150>5,データ整理!O150-5,0)","v":577.35999000000004},{"$f":"P151+IF(データ整理!P150>5,データ整理!P150-5,0)","v":428.62461999999999},{"$f":"Q151+IF(データ整理!Q150>5,データ整理!Q150-5,0)","v":356.83767000000006},{"$f":"R151+IF(データ整理!R150>5,データ整理!R150-5,0)","v":385.70963000000006},{"$f":"S151+IF(データ整理!S150>5,データ整理!S150-5,0)","v":436.3275000000001},{"$f":"T151+IF(データ整理!T150>5,データ整理!T150-5,0)","v":350.66461000000004},{"$f":"U151+IF(データ整理!U150>5,データ整理!U150-5,0)","v":404.53823999999992},null,null,null,"2018-08-27",{"$f":"Z151+IF(データ整理!Z150>5,データ整理!Z150-5,0)","v":404.53823999999992},{"$f":"AA151+IF(データ整理!AA150>5,データ整理!AA150-5,0)","v":398.18628999999987}]
["2014-08-28",{"$f":"B152+IF(データ整理!B151>5,データ整理!B151-5,0)","v":440.19706000000014},{"$f":"C152+IF(データ整理!C151>5,データ整理!C151-5,0)","v":448.68187999999998},{"$f":"D152+IF(データ整理!D151>5,データ整理!D151-5,0)","v":364.18297000000001},{"$f":"E152+IF(データ整理!E151>5,データ整理!E151-5,0)","v":397.69634999999994},{"$f":"F152+IF(データ整理!F151>5,データ整理!F151-5,0)","v":370.93344000000002},{"$f":"G152+IF(データ整理!G151>5,データ整理!G151-5,0)","v":416.05584999999996},{"$f":"H152+IF(データ整理!H151>5,データ整理!H151-5,0)","v":443.51127000000008},{"$f":"I152+IF(データ整理!I151>5,データ整理!I151-5,0)","v":420.65869999999995},{"$f":"J152+IF(データ整理!J151>5,データ整理!J151-5,0)","v":386.97000999999995},{"$f":"K152+IF(データ整理!K151>5,データ整理!K151-5,0)","v":440.34637000000004},{"$f":"L152+IF(データ整理!L151>5,データ整理!L151-5,0)","v":366.00565000000006},{"$f":"M152+IF(データ整理!M151>5,データ整理!M151-5,0)","v":482.23983999999996},{"$f":"N152+IF(データ整理!N151>5,データ整理!N151-5,0)","v":436.16454999999996},{"$f":"O152+IF(データ整理!O151>5,データ整理!O151-5,0)","v":561.10469000000001},{"$f":"P152+IF(データ整理!P151>5,データ整理!P151-5,0)","v":416.13542000000001},{"$f":"Q152+IF(データ整理!Q151>5,データ整理!Q151-5,0)","v":348.65447000000006},{"$f":"R152+IF(データ整理!R151>5,データ整理!R151-5,0)","v":374.77393000000006},{"$f":"S152+IF(データ整理!S151>5,データ整理!S151-5,0)","v":427.20310000000012},{"$f":"T152+IF(データ整理!T151>5,データ整理!T151-5,0)","v":338.75351000000006},{"$f":"U152+IF(データ整理!U151>5,データ整理!U151-5,0)","v":394.04393999999991},null,null,null,"2018-08-28",{"$f":"Z152+IF(データ整理!Z151>5,データ整理!Z151-5,0)","v":394.04393999999991},{"$f":"AA152+IF(データ整理!AA151>5,データ整理!AA151-5,0)","v":385.42148999999989}]
["2014-08-29",{"$f":"B153+IF(データ整理!B152>5,データ整理!B152-5,0)","v":425.85196000000013},{"$f":"C153+IF(データ整理!C152>5,データ整理!C152-5,0)","v":435.90927999999997},{"$f":"D153+IF(データ整理!D152>5,データ整理!D152-5,0)","v":356.14757000000003},{"$f":"E153+IF(データ整理!E152>5,データ整理!E152-5,0)","v":381.08024999999992},{"$f":"F153+IF(データ整理!F152>5,データ整理!F152-5,0)","v":359.77854000000002},{"$f":"G153+IF(データ整理!G152>5,データ整理!G152-5,0)","v":407.77194999999995},{"$f":"H153+IF(データ整理!H152>5,データ整理!H152-5,0)","v":429.73917000000006},{"$f":"I153+IF(データ整理!I152>5,データ整理!I152-5,0)","v":406.29089999999997},{"$f":"J153+IF(データ整理!J152>5,データ整理!J152-5,0)","v":374.77910999999995},{"$f":"K153+IF(データ整理!K152>5,データ整理!K152-5,0)","v":426.35067000000004},{"$f":"L153+IF(データ整理!L152>5,データ整理!L152-5,0)","v":352.05985000000004},{"$f":"M153+IF(データ整理!M152>5,データ整理!M152-5,0)","v":467.90423999999996},{"$f":"N153+IF(データ整理!N152>5,データ整理!N152-5,0)","v":421.68214999999998},{"$f":"O153+IF(データ整理!O152>5,データ整理!O152-5,0)","v":545.13319000000001},{"$f":"P153+IF(データ整理!P152>5,データ整理!P152-5,0)","v":405.94102000000004},{"$f":"Q153+IF(データ整理!Q152>5,データ整理!Q152-5,0)","v":338.82837000000006},{"$f":"R153+IF(データ整理!R152>5,データ整理!R152-5,0)","v":364.50503000000009},{"$f":"S153+IF(データ整理!S152>5,データ整理!S152-5,0)","v":417.56110000000012},{"$f":"T153+IF(データ整理!T152>5,データ整理!T152-5,0)","v":327.98611000000005},{"$f":"U153+IF(データ整理!U152>5,データ整理!U152-5,0)","v":384.19963999999993},null,null,null,"2018-08-29",{"$f":"Z153+IF(データ整理!Z152>5,データ整理!Z152-5,0)","v":384.19963999999993},{"$f":"AA153+IF(データ整理!AA152>5,データ整理!AA152-5,0)","v":372.7726899999999}]
["2014-08-30",{"$f":"B154+IF(データ整理!B153>5,データ整理!B153-5,0)","v":414.67596000000015},{"$f":"C154+IF(データ整理!C153>5,データ整理!C153-5,0)","v":422.55747999999994},{"$f":"D154+IF(データ整理!D153>5,データ整理!D153-5,0)","v":345.56247000000002},{"$f":"E154+IF(データ整理!E153>5,データ整理!E153-5,0)","v":367.44314999999995},{"$f":"F154+IF(データ整理!F153>5,データ整理!F153-5,0)","v":347.99824000000001},{"$f":"G154+IF(データ整理!G153>5,データ整理!G153-5,0)","v":398.14144999999996},{"$f":"H154+IF(データ整理!H153>5,データ整理!H153-5,0)","v":416.87107000000003},{"$f":"I154+IF(データ整理!I153>5,データ整理!I153-5,0)","v":390.24149999999997},{"$f":"J154+IF(データ整理!J153>5,データ整理!J153-5,0)","v":362.30360999999994},{"$f":"K154+IF(データ整理!K153>5,データ整理!K153-5,0)","v":411.72507000000002},{"$f":"L154+IF(データ整理!L153>5,データ整理!L153-5,0)","v":340.94015000000002},{"$f":"M154+IF(データ整理!M153>5,データ整理!M153-5,0)","v":453.44963999999999},{"$f":"N154+IF(データ整理!N153>5,データ整理!N153-5,0)","v":407.57335},{"$f":"O154+IF(データ整理!O153>5,データ整理!O153-5,0)","v":526.97528999999997},{"$f":"P154+IF(データ整理!P153>5,データ整理!P153-5,0)","v":395.32032000000004},{"$f":"Q154+IF(データ整理!Q153>5,データ整理!Q153-5,0)","v":327.68717000000004},{"$f":"R154+IF(データ整理!R153>5,データ整理!R153-5,0)","v":353.89873000000011},{"$f":"S154+IF(データ整理!S153>5,データ整理!S153-5,0)","v":401.48880000000014},{"$f":"T154+IF(データ整理!T153>5,データ整理!T153-5,0)","v":318.01451000000003},{"$f":"U154+IF(データ整理!U153>5,データ整理!U153-5,0)","v":373.47703999999993},null,null,null,"2018-08-30",{"$f":"Z154+IF(データ整理!Z153>5,データ整理!Z153-5,0)","v":373.47703999999993},{"$f":"AA154+IF(データ整理!AA153>5,データ整理!AA153-5,0)","v":360.25108999999992}]
["2014-08-31",{"$f":"B155+IF(データ整理!B154>5,データ整理!B154-5,0)","v":401.89186000000012},{"$f":"C155+IF(データ整理!C154>5,データ整理!C154-5,0)","v":408.46177999999992},{"$f":"D155+IF(データ整理!D154>5,データ整理!D154-5,0)","v":333.25407000000001},{"$f":"E155+IF(データ整理!E154>5,データ整理!E154-5,0)","v":354.66584999999992},{"$f":"F155+IF(データ整理!F154>5,データ整理!F154-5,0)","v":337.81654000000003},{"$f":"G155+IF(データ整理!G154>5,データ整理!G154-5,0)","v":387.88544999999999},{"$f":"H155+IF(データ整理!H154>5,データ整理!H154-5,0)","v":401.86617000000001},{"$f":"I155+IF(データ整理!I154>5,データ整理!I154-5,0)","v":375.89329999999995},{"$f":"J155+IF(データ整理!J154>5,データ整理!J154-5,0)","v":350.54420999999996},{"$f":"K155+IF(データ整理!K154>5,データ整理!K154-5,0)","v":397.43087000000003},{"$f":"L155+IF(データ整理!L154>5,データ整理!L154-5,0)","v":332.41165000000001},{"$f":"M155+IF(データ整理!M154>5,データ整理!M154-5,0)","v":434.20393999999999},{"$f":"N155+IF(データ整理!N154>5,データ整理!N154-5,0)","v":393.12835000000001},{"$f":"O155+IF(データ整理!O154>5,データ整理!O154-5,0)","v":508.60109},{"$f":"P155+IF(データ整理!P154>5,データ整理!P154-5,0)","v":385.83592000000004},{"$f":"Q155+IF(データ整理!Q154>5,データ整理!Q154-5,0)","v":316.21317000000005},{"$f":"R155+IF(データ整理!R154>5,データ整理!R154-5,0)","v":342.11693000000014},{"$f":"S155+IF(データ整理!S154>5,データ整理!S154-5,0)","v":383.96490000000011},{"$f":"T155+IF(データ整理!T154>5,データ整理!T154-5,0)","v":309.90121000000005},{"$f":"U155+IF(データ整理!U154>5,データ整理!U154-5,0)","v":363.06373999999994},null,null,null,"2018-08-31",{"$f":"Z155+IF(データ整理!Z154>5,データ整理!Z154-5,0)","v":363.06373999999994},{"$f":"AA155+IF(データ整理!AA154>5,データ整理!AA154-5,0)","v":347.87128999999993}]
["2014-09-01",{"$f":"B156+IF(データ整理!B155>5,データ整理!B155-5,0)","v":389.75576000000012},{"$f":"C156+IF(データ整理!C155>5,データ整理!C155-5,0)","v":393.90967999999992},{"$f":"D156+IF(データ整理!D155>5,データ整理!D155-5,0)","v":320.92216999999999},{"$f":"E156+IF(データ整理!E155>5,データ整理!E155-5,0)","v":340.82934999999992},{"$f":"F156+IF(データ整理!F155>5,データ整理!F155-5,0)","v":324.96374000000003},{"$f":"G156+IF(データ整理!G155>5,データ整理!G155-5,0)","v":374.78874999999999},{"$f":"H156+IF(データ整理!H155>5,データ整理!H155-5,0)","v":388.04457000000002},{"$f":"I156+IF(データ整理!I155>5,データ整理!I155-5,0)","v":363.24989999999997},{"$f":"J156+IF(データ整理!J155>5,データ整理!J155-5,0)","v":340.52530999999999},{"$f":"K156+IF(データ整理!K155>5,データ整理!K155-5,0)","v":385.12637000000001},{"$f":"L156+IF(データ整理!L155>5,データ整理!L155-5,0)","v":323.13585},{"$f":"M156+IF(データ整理!M155>5,データ整理!M155-5,0)","v":415.15483999999998},{"$f":"N156+IF(データ整理!N155>5,データ整理!N155-5,0)","v":377.79545000000002},{"$f":"O156+IF(データ整理!O155>5,データ整理!O155-5,0)","v":492.89069000000001},{"$f":"P156+IF(データ整理!P155>5,データ整理!P155-5,0)","v":376.92612000000003},{"$f":"Q156+IF(データ整理!Q155>5,データ整理!Q155-5,0)","v":305.16207000000003},{"$f":"R156+IF(データ整理!R155>5,データ整理!R155-5,0)","v":328.67013000000014},{"$f":"S156+IF(データ整理!S155>5,データ整理!S155-5,0)","v":366.82800000000009},{"$f":"T156+IF(データ整理!T155>5,データ整理!T155-5,0)","v":301.22491000000002},{"$f":"U156+IF(データ整理!U155>5,データ整理!U155-5,0)","v":349.74303999999995},null,null,null,"2018-09-01",{"$f":"Z156+IF(データ整理!Z155>5,データ整理!Z155-5,0)","v":349.74303999999995},{"$f":"AA156+IF(データ整理!AA155>5,データ整理!AA155-5,0)","v":335.64658999999995}]
["2014-09-02",{"$f":"B157+IF(データ整理!B156>5,データ整理!B156-5,0)","v":376.33536000000009},{"$f":"C157+IF(データ整理!C156>5,データ整理!C156-5,0)","v":379.04817999999995},{"$f":"D157+IF(データ整理!D156>5,データ整理!D156-5,0)","v":309.06727000000001},{"$f":"E157+IF(データ整理!E156>5,データ整理!E156-5,0)","v":325.98934999999994},{"$f":"F157+IF(データ整理!F156>5,データ整理!F156-5,0)","v":312.14344000000006},{"$f":"G157+IF(データ整理!G156>5,データ整理!G156-5,0)","v":360.58555000000001},{"$f":"H157+IF(データ整理!H156>5,データ整理!H156-5,0)","v":373.71957000000003},{"$f":"I157+IF(データ整理!I156>5,データ整理!I156-5,0)","v":351.45839999999998},{"$f":"J157+IF(データ整理!J156>5,データ整理!J156-5,0)","v":329.74410999999998},{"$f":"K157+IF(データ整理!K156>5,データ整理!K156-5,0)","v":370.53507000000002},{"$f":"L157+IF(データ整理!L156>5,データ整理!L156-5,0)","v":314.74655000000001},{"$f":"M157+IF(データ整理!M156>5,データ整理!M156-5,0)","v":397.04393999999996},{"$f":"N157+IF(データ整理!N156>5,データ整理!N156-5,0)","v":360.65015},{"$f":"O157+IF(データ整理!O156>5,データ整理!O156-5,0)","v":479.17689000000001},{"$f":"P157+IF(データ整理!P156>5,データ整理!P156-5,0)","v":366.16822000000002},{"$f":"Q157+IF(データ整理!Q156>5,データ整理!Q156-5,0)","v":294.06317000000001},{"$f":"R157+IF(データ整理!R156>5,データ整理!R156-5,0)","v":315.73833000000013},{"$f":"S157+IF(データ整理!S156>5,データ整理!S156-5,0)","v":350.61750000000006},{"$f":"T157+IF(データ整理!T156>5,データ整理!T156-5,0)","v":292.08331000000004},{"$f":"U157+IF(データ整理!U156>5,データ整理!U156-5,0)","v":339.92883999999998},null,null,null,"2018-09-02",{"$f":"Z157+IF(データ整理!Z156>5,データ整理!Z156-5,0)","v":339.92883999999998},{"$f":"AA157+IF(データ整理!AA156>5,データ整理!AA156-5,0)","v":323.58808999999997}]
["2014-09-03",{"$f":"B158+IF(データ整理!B157>5,データ整理!B157-5,0)","v":366.68416000000008},{"$f":"C158+IF(データ整理!C157>5,データ整理!C157-5,0)","v":367.01037999999994},{"$f":"D158+IF(データ整理!D157>5,データ整理!D157-5,0)","v":300.59307000000001},{"$f":"E158+IF(データ整理!E157>5,データ整理!E157-5,0)","v":307.77724999999992},{"$f":"F158+IF(データ整理!F157>5,データ整理!F157-5,0)","v":299.87154000000004},{"$f":"G158+IF(データ整理!G157>5,データ整理!G157-5,0)","v":346.91005000000001},{"$f":"H158+IF(データ整理!H157>5,データ整理!H157-5,0)","v":358.75417000000004},{"$f":"I158+IF(データ整理!I157>5,データ整理!I157-5,0)","v":340.1583},{"$f":"J158+IF(データ整理!J157>5,データ整理!J157-5,0)","v":317.72280999999998},{"$f":"K158+IF(データ整理!K157>5,データ整理!K157-5,0)","v":354.77327000000002},{"$f":"L158+IF(データ整理!L157>5,データ整理!L157-5,0)","v":306.12365},{"$f":"M158+IF(データ整理!M157>5,データ整理!M157-5,0)","v":380.85733999999997},{"$f":"N158+IF(データ整理!N157>5,データ整理!N157-5,0)","v":346.38094999999998},{"$f":"O158+IF(データ整理!O157>5,データ整理!O157-5,0)","v":462.57319000000001},{"$f":"P158+IF(データ整理!P157>5,データ整理!P157-5,0)","v":353.83172000000002},{"$f":"Q158+IF(データ整理!Q157>5,データ整理!Q157-5,0)","v":282.11457000000001},{"$f":"R158+IF(データ整理!R157>5,データ整理!R157-5,0)","v":304.47363000000013},{"$f":"S158+IF(データ整理!S157>5,データ整理!S157-5,0)","v":334.67920000000004},{"$f":"T158+IF(データ整理!T157>5,データ整理!T157-5,0)","v":284.40791000000002},{"$f":"U158+IF(データ整理!U157>5,データ整理!U157-5,0)","v":332.06034},null,null,null,"2018-09-03",{"$f":"Z158+IF(データ整理!Z157>5,データ整理!Z157-5,0)","v":332.06034},{"$f":"AA158+IF(データ整理!AA157>5,データ整理!AA157-5,0)","v":311.70568999999995}]
["2014-09-04",{"$f":"B159+IF(データ整理!B158>5,データ整理!B158-5,0)","v":354.89576000000005},{"$f":"C159+IF(データ整理!C158>5,データ整理!C158-5,0)","v":356.25837999999993},{"$f":"D159+IF(データ整理!D158>5,データ整理!D158-5,0)","v":293.54417000000001},{"$f":"E159+IF(データ整理!E158>5,データ整理!E158-5,0)","v":293.41104999999993},{"$f":"F159+IF(データ整理!F158>5,データ整理!F158-5,0)","v":287.38684000000006},{"$f":"G159+IF(データ整理!G158>5,データ整理!G158-5,0)","v":335.31285000000003},{"$f":"H159+IF(データ整理!H158>5,データ整理!H158-5,0)","v":349.59517000000005},{"$f":"I159+IF(データ整理!I158>5,データ整理!I158-5,0)","v":327.92039999999997},{"$f":"J159+IF(データ整理!J158>5,データ整理!J158-5,0)","v":307.35710999999998},{"$f":"K159+IF(データ整理!K158>5,データ整理!K158-5,0)","v":340.10327000000001},{"$f":"L159+IF(データ整理!L158>5,データ整理!L158-5,0)","v":295.69265000000001},{"$f":"M159+IF(データ整理!M158>5,データ整理!M158-5,0)","v":367.30873999999994},{"$f":"N159+IF(データ整理!N158>5,データ整理!N158-5,0)","v":331.08094999999997},{"$f":"O159+IF(データ整理!O158>5,データ整理!O158-5,0)","v":445.64438999999999},{"$f":"P159+IF(データ整理!P158>5,データ整理!P158-5,0)","v":341.43452000000002},{"$f":"Q159+IF(データ整理!Q158>5,データ整理!Q158-5,0)","v":270.57967000000002},{"$f":"R159+IF(データ整理!R158>5,データ整理!R158-5,0)","v":291.37303000000014},{"$f":"S159+IF(データ整理!S158>5,データ整理!S158-5,0)","v":319.43680000000006},{"$f":"T159+IF(データ整理!T158>5,データ整理!T158-5,0)","v":278.78640999999999},{"$f":"U159+IF(データ整理!U158>5,データ整理!U158-5,0)","v":321.23993999999999},null,null,null,"2018-09-04",{"$f":"Z159+IF(データ整理!Z158>5,データ整理!Z158-5,0)","v":321.23993999999999},{"$f":"AA159+IF(データ整理!AA158>5,データ整理!AA158-5,0)","v":300.01068999999995}]
["2014-09-05",{"$f":"B160+IF(データ整理!B159>5,データ整理!B159-5,0)","v":339.93386000000004},{"$f":"C160+IF(データ整理!C159>5,データ整理!C159-5,0)","v":344.83107999999993},{"$f":"D160+IF(データ整理!D159>5,データ整理!D159-5,0)","v":284.90877},{"$f":"E160+IF(データ整理!E159>5,データ整理!E159-5,0)","v":283.88164999999992},{"$f":"F160+IF(データ整理!F159>5,データ整理!F159-5,0)","v":276.83914000000004},{"$f":"G160+IF(データ整理!G159>5,データ整理!G159-5,0)","v":324.98555000000005},{"$f":"H160+IF(データ整理!H159>5,データ整理!H159-5,0)","v":342.61667000000006},{"$f":"I160+IF(データ整理!I159>5,データ整理!I159-5,0)","v":314.92919999999998},{"$f":"J160+IF(データ整理!J159>5,データ整理!J159-5,0)","v":293.73870999999997},{"$f":"K160+IF(データ整理!K159>5,データ整理!K159-5,0)","v":326.07607000000002},{"$f":"L160+IF(データ整理!L159>5,データ整理!L159-5,0)","v":287.33945},{"$f":"M160+IF(データ整理!M159>5,データ整理!M159-5,0)","v":353.18573999999995},{"$f":"N160+IF(データ整理!N159>5,データ整理!N159-5,0)","v":317.26974999999999},{"$f":"O160+IF(データ整理!O159>5,データ整理!O159-5,0)","v":429.53488999999996},{"$f":"P160+IF(データ整理!P159>5,データ整理!P159-5,0)","v":329.54732000000001},{"$f":"Q160+IF(データ整理!Q159>5,データ整理!Q159-5,0)","v":260.63497000000001},{"$f":"R160+IF(データ整理!R159>5,データ整理!R159-5,0)","v":280.01733000000013},{"$f":"S160+IF(データ整理!S159>5,データ整理!S159-5,0)","v":304.43680000000006},{"$f":"T160+IF(データ整理!T159>5,データ整理!T159-5,0)","v":270.57770999999997},{"$f":"U160+IF(データ整理!U159>5,データ整理!U159-5,0)","v":306.60694000000001},null,null,null,"2018-09-05",{"$f":"Z160+IF(データ整理!Z159>5,データ整理!Z159-5,0)","v":306.60694000000001},{"$f":"AA160+IF(データ整理!AA159>5,データ整理!AA159-5,0)","v":288.51498999999995}]
["2014-09-06",{"$f":"B161+IF(データ整理!B160>5,データ整理!B160-5,0)","v":324.11526000000003},{"$f":"C161+IF(データ整理!C160>5,データ整理!C160-5,0)","v":333.38897999999995},{"$f":"D161+IF(データ整理!D160>5,データ整理!D160-5,0)","v":274.88997000000001},{"$f":"E161+IF(データ整理!E160>5,データ整理!E160-5,0)","v":275.04064999999991},{"$f":"F161+IF(データ整理!F160>5,データ整理!F160-5,0)","v":268.61914000000002},{"$f":"G161+IF(データ整理!G160>5,データ整理!G160-5,0)","v":315.23355000000004},{"$f":"H161+IF(データ整理!H160>5,データ整理!H160-5,0)","v":334.79267000000004},{"$f":"I161+IF(データ整理!I160>5,データ整理!I160-5,0)","v":306.05399999999997},{"$f":"J161+IF(データ整理!J160>5,データ整理!J160-5,0)","v":281.86090999999999},{"$f":"K161+IF(データ整理!K160>5,データ整理!K160-5,0)","v":312.10747000000003},{"$f":"L161+IF(データ整理!L160>5,データ整理!L160-5,0)","v":275.70204999999999},{"$f":"M161+IF(データ整理!M160>5,データ整理!M160-5,0)","v":338.34643999999997},{"$f":"N161+IF(データ整理!N160>5,データ整理!N160-5,0)","v":303.05045000000001},{"$f":"O161+IF(データ整理!O160>5,データ整理!O160-5,0)","v":413.01998999999995},{"$f":"P161+IF(データ整理!P160>5,データ整理!P160-5,0)","v":317.81102000000004},{"$f":"Q161+IF(データ整理!Q160>5,データ整理!Q160-5,0)","v":247.56397000000001},{"$f":"R161+IF(データ整理!R160>5,データ整理!R160-5,0)","v":272.7794300000001},{"$f":"S161+IF(データ整理!S160>5,データ整理!S160-5,0)","v":288.20040000000006},{"$f":"T161+IF(データ整理!T160>5,データ整理!T160-5,0)","v":258.65900999999997},{"$f":"U161+IF(データ整理!U160>5,データ整理!U160-5,0)","v":290.71294},null,null,null,"2018-09-06",{"$f":"Z161+IF(データ整理!Z160>5,データ整理!Z160-5,0)","v":290.71294},{"$f":"AA161+IF(データ整理!AA160>5,データ整理!AA160-5,0)","v":277.22838999999993}]
["2014-09-07",{"$f":"B162+IF(データ整理!B161>5,データ整理!B161-5,0)","v":307.88586000000004},{"$f":"C162+IF(データ整理!C161>5,データ整理!C161-5,0)","v":323.34217999999993},{"$f":"D162+IF(データ整理!D161>5,データ整理!D161-5,0)","v":266.28586999999999},{"$f":"E162+IF(データ整理!E161>5,データ整理!E161-5,0)","v":265.56284999999991},{"$f":"F162+IF(データ整理!F161>5,データ整理!F161-5,0)","v":260.04554000000002},{"$f":"G162+IF(データ整理!G161>5,データ整理!G161-5,0)","v":304.88265000000001},{"$f":"H162+IF(データ整理!H161>5,データ整理!H161-5,0)","v":326.26757000000003},{"$f":"I162+IF(データ整理!I161>5,データ整理!I161-5,0)","v":297.37739999999997},{"$f":"J162+IF(データ整理!J161>5,データ整理!J161-5,0)","v":271.29061000000002},{"$f":"K162+IF(データ整理!K161>5,データ整理!K161-5,0)","v":296.49707000000001},{"$f":"L162+IF(データ整理!L161>5,データ整理!L161-5,0)","v":262.85994999999997},{"$f":"M162+IF(データ整理!M161>5,データ整理!M161-5,0)","v":321.25273999999996},{"$f":"N162+IF(データ整理!N161>5,データ整理!N161-5,0)","v":289.64834999999999},{"$f":"O162+IF(データ整理!O161>5,データ整理!O161-5,0)","v":397.80578999999994},{"$f":"P162+IF(データ整理!P161>5,データ整理!P161-5,0)","v":308.67672000000005},{"$f":"Q162+IF(データ整理!Q161>5,データ整理!Q161-5,0)","v":235.66187000000002},{"$f":"R162+IF(データ整理!R161>5,データ整理!R161-5,0)","v":265.9275300000001},{"$f":"S162+IF(データ整理!S161>5,データ整理!S161-5,0)","v":273.17920000000004},{"$f":"T162+IF(データ整理!T161>5,データ整理!T161-5,0)","v":247.89350999999999},{"$f":"U162+IF(データ整理!U161>5,データ整理!U161-5,0)","v":275.80554000000001},null,null,null,"2018-09-07",{"$f":"Z162+IF(データ整理!Z161>5,データ整理!Z161-5,0)","v":275.80554000000001},{"$f":"AA162+IF(データ整理!AA161>5,データ整理!AA161-5,0)","v":266.15698999999995}]
["2014-09-08",{"$f":"B163+IF(データ整理!B162>5,データ整理!B162-5,0)","v":293.39786000000004},{"$f":"C163+IF(データ整理!C162>5,データ整理!C162-5,0)","v":310.85467999999992},{"$f":"D163+IF(データ整理!D162>5,データ整理!D162-5,0)","v":257.11966999999999},{"$f":"E163+IF(データ整理!E162>5,データ整理!E162-5,0)","v":255.24844999999991},{"$f":"F163+IF(データ整理!F162>5,データ整理!F162-5,0)","v":251.34624000000002},{"$f":"G163+IF(データ整理!G162>5,データ整理!G162-5,0)","v":293.02224999999999},{"$f":"H163+IF(データ整理!H162>5,データ整理!H162-5,0)","v":316.20267000000001},{"$f":"I163+IF(データ整理!I162>5,データ整理!I162-5,0)","v":287.25899999999996},{"$f":"J163+IF(データ整理!J162>5,データ整理!J162-5,0)","v":260.88801000000001},{"$f":"K163+IF(データ整理!K162>5,データ整理!K162-5,0)","v":282.50936999999999},{"$f":"L163+IF(データ整理!L162>5,データ整理!L162-5,0)","v":250.86734999999996},{"$f":"M163+IF(データ整理!M162>5,データ整理!M162-5,0)","v":307.82083999999998},{"$f":"N163+IF(データ整理!N162>5,データ整理!N162-5,0)","v":278.04624999999999},{"$f":"O163+IF(データ整理!O162>5,データ整理!O162-5,0)","v":383.71088999999995},{"$f":"P163+IF(データ整理!P162>5,データ整理!P162-5,0)","v":299.37952000000007},{"$f":"Q163+IF(データ整理!Q162>5,データ整理!Q162-5,0)","v":224.96077000000002},{"$f":"R163+IF(データ整理!R162>5,データ整理!R162-5,0)","v":257.76753000000008},{"$f":"S163+IF(データ整理!S162>5,データ整理!S162-5,0)","v":260.89190000000002},{"$f":"T163+IF(データ整理!T162>5,データ整理!T162-5,0)","v":235.66501},{"$f":"U163+IF(データ整理!U162>5,データ整理!U162-5,0)","v":262.16874000000001},null,null,null,"2018-09-08",{"$f":"Z163+IF(データ整理!Z162>5,データ整理!Z162-5,0)","v":262.16874000000001},{"$f":"AA163+IF(データ整理!AA162>5,データ整理!AA162-5,0)","v":255.30278999999996}]
["2014-09-09",{"$f":"B164+IF(データ整理!B163>5,データ整理!B163-5,0)","v":277.76866000000001},{"$f":"C164+IF(データ整理!C163>5,データ整理!C163-5,0)","v":300.19317999999993},{"$f":"D164+IF(データ整理!D163>5,データ整理!D163-5,0)","v":246.50406999999998},{"$f":"E164+IF(データ整理!E163>5,データ整理!E163-5,0)","v":244.10664999999992},{"$f":"F164+IF(データ整理!F163>5,データ整理!F163-5,0)","v":242.88564000000002},{"$f":"G164+IF(データ整理!G163>5,データ整理!G163-5,0)","v":280.33134999999999},{"$f":"H164+IF(データ整理!H163>5,データ整理!H163-5,0)","v":304.30867000000001},{"$f":"I164+IF(データ整理!I163>5,データ整理!I163-5,0)","v":275.05109999999996},{"$f":"J164+IF(データ整理!J163>5,データ整理!J163-5,0)","v":250.60650999999999},{"$f":"K164+IF(データ整理!K163>5,データ整理!K163-5,0)","v":270.57056999999998},{"$f":"L164+IF(データ整理!L163>5,データ整理!L163-5,0)","v":241.93214999999995},{"$f":"M164+IF(データ整理!M163>5,データ整理!M163-5,0)","v":298.54174},{"$f":"N164+IF(データ整理!N163>5,データ整理!N163-5,0)","v":264.52724999999998},{"$f":"O164+IF(データ整理!O163>5,データ整理!O163-5,0)","v":370.82108999999997},{"$f":"P164+IF(データ整理!P163>5,データ整理!P163-5,0)","v":287.84032000000008},{"$f":"Q164+IF(データ整理!Q163>5,データ整理!Q163-5,0)","v":214.51587000000004},{"$f":"R164+IF(データ整理!R163>5,データ整理!R163-5,0)","v":249.19763000000006},{"$f":"S164+IF(データ整理!S163>5,データ整理!S163-5,0)","v":251.91460000000001},{"$f":"T164+IF(データ整理!T163>5,データ整理!T163-5,0)","v":224.33670999999998},{"$f":"U164+IF(データ整理!U163>5,データ整理!U163-5,0)","v":250.13344000000001},null,null,null,"2018-09-09",{"$f":"Z164+IF(データ整理!Z163>5,データ整理!Z163-5,0)","v":250.13344000000001},{"$f":"AA164+IF(データ整理!AA163>5,データ整理!AA163-5,0)","v":244.66708999999994}]
["2014-09-10",{"$f":"B165+IF(データ整理!B164>5,データ整理!B164-5,0)","v":261.93596000000002},{"$f":"C165+IF(データ整理!C164>5,データ整理!C164-5,0)","v":290.68857999999994},{"$f":"D165+IF(データ整理!D164>5,データ整理!D164-5,0)","v":235.16756999999998},{"$f":"E165+IF(データ整理!E164>5,データ整理!E164-5,0)","v":232.92444999999992},{"$f":"F165+IF(データ整理!F164>5,データ整理!F164-5,0)","v":232.69804000000002},{"$f":"G165+IF(データ整理!G164>5,データ整理!G164-5,0)","v":269.82074999999998},{"$f":"H165+IF(データ整理!H164>5,データ整理!H164-5,0)","v":291.84667000000002},{"$f":"I165+IF(データ整理!I164>5,データ整理!I164-5,0)","v":261.70189999999997},{"$f":"J165+IF(データ整理!J164>5,データ整理!J164-5,0)","v":238.45180999999999},{"$f":"K165+IF(データ整理!K164>5,データ整理!K164-5,0)","v":260.34206999999998},{"$f":"L165+IF(データ整理!L164>5,データ整理!L164-5,0)","v":234.58634999999995},{"$f":"M165+IF(データ整理!M164>5,データ整理!M164-5,0)","v":289.60343999999998},{"$f":"N165+IF(データ整理!N164>5,データ整理!N164-5,0)","v":252.41144999999997},{"$f":"O165+IF(データ整理!O164>5,データ整理!O164-5,0)","v":358.57998999999995},{"$f":"P165+IF(データ整理!P164>5,データ整理!P164-5,0)","v":277.76952000000006},{"$f":"Q165+IF(データ整理!Q164>5,データ整理!Q164-5,0)","v":202.97147000000004},{"$f":"R165+IF(データ整理!R164>5,データ整理!R164-5,0)","v":239.48663000000005},{"$f":"S165+IF(データ整理!S164>5,データ整理!S164-5,0)","v":242.0171},{"$f":"T165+IF(データ整理!T164>5,データ整理!T164-5,0)","v":213.38320999999999},{"$f":"U165+IF(データ整理!U164>5,データ整理!U164-5,0)","v":240.99014},null,null,null,"2018-09-10",{"$f":"Z165+IF(データ整理!Z164>5,データ整理!Z164-5,0)","v":240.99014},{"$f":"AA165+IF(データ整理!AA164>5,データ整理!AA164-5,0)","v":234.25288999999995}]
["2014-09-11",{"$f":"B166+IF(データ整理!B165>5,データ整理!B165-5,0)","v":248.12526},{"$f":"C166+IF(データ整理!C165>5,データ整理!C165-5,0)","v":280.04007999999993},{"$f":"D166+IF(データ整理!D165>5,データ整理!D165-5,0)","v":223.47076999999999},{"$f":"E166+IF(データ整理!E165>5,データ整理!E165-5,0)","v":224.39034999999993},{"$f":"F166+IF(データ整理!F165>5,データ整理!F165-5,0)","v":222.28804000000002},{"$f":"G166+IF(データ整理!G165>5,データ整理!G165-5,0)","v":262.75414999999998},{"$f":"H166+IF(データ整理!H165>5,データ整理!H165-5,0)","v":280.73677000000004},{"$f":"I166+IF(データ整理!I165>5,データ整理!I165-5,0)","v":247.01709999999994},{"$f":"J166+IF(データ整理!J165>5,データ整理!J165-5,0)","v":228.63890999999998},{"$f":"K166+IF(データ整理!K165>5,データ整理!K165-5,0)","v":250.66876999999999},{"$f":"L166+IF(データ整理!L165>5,データ整理!L165-5,0)","v":227.44674999999995},{"$f":"M166+IF(データ整理!M165>5,データ整理!M165-5,0)","v":276.91404},{"$f":"N166+IF(データ整理!N165>5,データ整理!N165-5,0)","v":241.71474999999998},{"$f":"O166+IF(データ整理!O165>5,データ整理!O165-5,0)","v":343.93828999999994},{"$f":"P166+IF(データ整理!P165>5,データ整理!P165-5,0)","v":267.58882000000006},{"$f":"Q166+IF(データ整理!Q165>5,データ整理!Q165-5,0)","v":192.02627000000004},{"$f":"R166+IF(データ整理!R165>5,データ整理!R165-5,0)","v":228.74843000000004},{"$f":"S166+IF(データ整理!S165>5,データ整理!S165-5,0)","v":232.733},{"$f":"T166+IF(データ整理!T165>5,データ整理!T165-5,0)","v":205.91511},{"$f":"U166+IF(データ整理!U165>5,データ整理!U165-5,0)","v":235.43644},null,null,null,"2018-09-11",{"$f":"Z166+IF(データ整理!Z165>5,データ整理!Z165-5,0)","v":235.43644},{"$f":"AA166+IF(データ整理!AA165>5,データ整理!AA165-5,0)","v":224.06478999999996}]
["2014-09-12",{"$f":"B167+IF(データ整理!B166>5,データ整理!B166-5,0)","v":232.73105999999999},{"$f":"C167+IF(データ整理!C166>5,データ整理!C166-5,0)","v":268.32597999999996},{"$f":"D167+IF(データ整理!D166>5,データ整理!D166-5,0)","v":215.10006999999999},{"$f":"E167+IF(データ整理!E166>5,データ整理!E166-5,0)","v":212.67564999999993},{"$f":"F167+IF(データ整理!F166>5,データ整理!F166-5,0)","v":208.73454000000004},{"$f":"G167+IF(データ整理!G166>5,データ整理!G166-5,0)","v":254.59645},{"$f":"H167+IF(データ整理!H166>5,データ整理!H166-5,0)","v":267.98697000000004},{"$f":"I167+IF(データ整理!I166>5,データ整理!I166-5,0)","v":238.11289999999994},{"$f":"J167+IF(データ整理!J166>5,データ整理!J166-5,0)","v":216.28940999999998},{"$f":"K167+IF(データ整理!K166>5,データ整理!K166-5,0)","v":240.46806999999998},{"$f":"L167+IF(データ整理!L166>5,データ整理!L166-5,0)","v":219.04554999999996},{"$f":"M167+IF(データ整理!M166>5,データ整理!M166-5,0)","v":264.11543999999998},{"$f":"N167+IF(データ整理!N166>5,データ整理!N166-5,0)","v":232.93784999999997},{"$f":"O167+IF(データ整理!O166>5,データ整理!O166-5,0)","v":329.76748999999995},{"$f":"P167+IF(データ整理!P166>5,データ整理!P166-5,0)","v":255.48322000000005},{"$f":"Q167+IF(データ整理!Q166>5,データ整理!Q166-5,0)","v":182.29317000000003},{"$f":"R167+IF(データ整理!R166>5,データ整理!R166-5,0)","v":216.93903000000003},{"$f":"S167+IF(データ整理!S166>5,データ整理!S166-5,0)","v":224.55430000000001},{"$f":"T167+IF(データ整理!T166>5,データ整理!T166-5,0)","v":198.55721},{"$f":"U167+IF(データ整理!U166>5,データ整理!U166-5,0)","v":230.82026000000002},null,null,null,"2018-09-12",{"$f":"Z167+IF(データ整理!Z166>5,データ整理!Z166-5,0)","v":230.82026000000002},{"$f":"AA167+IF(データ整理!AA166>5,データ整理!AA166-5,0)","v":214.10718999999995}]
["2014-09-13",{"$f":"B168+IF(データ整理!B167>5,データ整理!B167-5,0)","v":218.35335999999998},{"$f":"C168+IF(データ整理!C167>5,データ整理!C167-5,0)","v":256.85857999999996},{"$f":"D168+IF(データ整理!D167>5,データ整理!D167-5,0)","v":207.07807},{"$f":"E168+IF(データ整理!E167>5,データ整理!E167-5,0)","v":204.90184999999994},{"$f":"F168+IF(データ整理!F167>5,データ整理!F167-5,0)","v":196.05854000000005},{"$f":"G168+IF(データ整理!G167>5,データ整理!G167-5,0)","v":244.89515},{"$f":"H168+IF(データ整理!H167>5,データ整理!H167-5,0)","v":253.43637000000004},{"$f":"I168+IF(データ整理!I167>5,データ整理!I167-5,0)","v":230.90379999999993},{"$f":"J168+IF(データ整理!J167>5,データ整理!J167-5,0)","v":204.45750999999998},{"$f":"K168+IF(データ整理!K167>5,データ整理!K167-5,0)","v":230.14556999999999},{"$f":"L168+IF(データ整理!L167>5,データ整理!L167-5,0)","v":208.97864999999996},{"$f":"M168+IF(データ整理!M167>5,データ整理!M167-5,0)","v":252.26183999999998},{"$f":"N168+IF(データ整理!N167>5,データ整理!N167-5,0)","v":222.44644999999997},{"$f":"O168+IF(データ整理!O167>5,データ整理!O167-5,0)","v":314.89748999999995},{"$f":"P168+IF(データ整理!P167>5,データ整理!P167-5,0)","v":243.20182000000005},{"$f":"Q168+IF(データ整理!Q167>5,データ整理!Q167-5,0)","v":172.51507000000004},{"$f":"R168+IF(データ整理!R167>5,データ整理!R167-5,0)","v":206.18523000000002},{"$f":"S168+IF(データ整理!S167>5,データ整理!S167-5,0)","v":217.39090000000002},{"$f":"T168+IF(データ整理!T167>5,データ整理!T167-5,0)","v":190.31611000000001},{"$f":"U168+IF(データ整理!U167>5,データ整理!U167-5,0)","v":224.41776000000002},null,null,null,"2018-09-13",{"$f":"Z168+IF(データ整理!Z167>5,データ整理!Z167-5,0)","v":224.41776000000002},{"$f":"AA168+IF(データ整理!AA167>5,データ整理!AA167-5,0)","v":204.38168999999994}]
["2014-09-14",{"$f":"B169+IF(データ整理!B168>5,データ整理!B168-5,0)","v":205.41355999999999},{"$f":"C169+IF(データ整理!C168>5,データ整理!C168-5,0)","v":247.32847999999998},{"$f":"D169+IF(データ整理!D168>5,データ整理!D168-5,0)","v":197.16237000000001},{"$f":"E169+IF(データ整理!E168>5,データ整理!E168-5,0)","v":198.65364999999994},{"$f":"F169+IF(データ整理!F168>5,データ整理!F168-5,0)","v":185.22724000000005},{"$f":"G169+IF(データ整理!G168>5,データ整理!G168-5,0)","v":237.57845},{"$f":"H169+IF(データ整理!H168>5,データ整理!H168-5,0)","v":242.72967000000003},{"$f":"I169+IF(データ整理!I168>5,データ整理!I168-5,0)","v":224.07399999999993},{"$f":"J169+IF(データ整理!J168>5,データ整理!J168-5,0)","v":191.96230999999997},{"$f":"K169+IF(データ整理!K168>5,データ整理!K168-5,0)","v":217.55806999999999},{"$f":"L169+IF(データ整理!L168>5,データ整理!L168-5,0)","v":200.44524999999996},{"$f":"M169+IF(データ整理!M168>5,データ整理!M168-5,0)","v":240.31613999999999},{"$f":"N169+IF(データ整理!N168>5,データ整理!N168-5,0)","v":211.95674999999997},{"$f":"O169+IF(データ整理!O168>5,データ整理!O168-5,0)","v":300.05408999999997},{"$f":"P169+IF(データ整理!P168>5,データ整理!P168-5,0)","v":230.97242000000006},{"$f":"Q169+IF(データ整理!Q168>5,データ整理!Q168-5,0)","v":165.18277000000003},{"$f":"R169+IF(データ整理!R168>5,データ整理!R168-5,0)","v":198.09433000000001},{"$f":"S169+IF(データ整理!S168>5,データ整理!S168-5,0)","v":208.49860000000001},{"$f":"T169+IF(データ整理!T168>5,データ整理!T168-5,0)","v":181.07981000000001},{"$f":"U169+IF(データ整理!U168>5,データ整理!U168-5,0)","v":215.29366000000002},null,null,null,"2018-09-14",{"$f":"Z169+IF(データ整理!Z168>5,データ整理!Z168-5,0)","v":215.29366000000002},{"$f":"AA169+IF(データ整理!AA168>5,データ整理!AA168-5,0)","v":194.88788999999994}]
["2014-09-15",{"$f":"B170+IF(データ整理!B169>5,データ整理!B169-5,0)","v":193.98136},{"$f":"C170+IF(データ整理!C169>5,データ整理!C169-5,0)","v":237.93418},{"$f":"D170+IF(データ整理!D169>5,データ整理!D169-5,0)","v":185.67487},{"$f":"E170+IF(データ整理!E169>5,データ整理!E169-5,0)","v":192.45784999999995},{"$f":"F170+IF(データ整理!F169>5,データ整理!F169-5,0)","v":173.18234000000004},{"$f":"G170+IF(データ整理!G169>5,データ整理!G169-5,0)","v":229.39165},{"$f":"H170+IF(データ整理!H169>5,データ整理!H169-5,0)","v":238.18813000000003},{"$f":"I170+IF(データ整理!I169>5,データ整理!I169-5,0)","v":215.06409999999994},{"$f":"J170+IF(データ整理!J169>5,データ整理!J169-5,0)","v":178.72020999999998},{"$f":"K170+IF(データ整理!K169>5,データ整理!K169-5,0)","v":207.84566999999998},{"$f":"L170+IF(データ整理!L169>5,データ整理!L169-5,0)","v":191.03724999999997},{"$f":"M170+IF(データ整理!M169>5,データ整理!M169-5,0)","v":228.79574},{"$f":"N170+IF(データ整理!N169>5,データ整理!N169-5,0)","v":200.42474999999996},{"$f":"O170+IF(データ整理!O169>5,データ整理!O169-5,0)","v":284.32178999999996},{"$f":"P170+IF(データ整理!P169>5,データ整理!P169-5,0)","v":217.61242000000004},{"$f":"Q170+IF(データ整理!Q169>5,データ整理!Q169-5,0)","v":159.12357000000003},{"$f":"R170+IF(データ整理!R169>5,データ整理!R169-5,0)","v":190.67233000000002},{"$f":"S170+IF(データ整理!S169>5,データ整理!S169-5,0)","v":198.03960000000001},{"$f":"T170+IF(データ整理!T169>5,データ整理!T169-5,0)","v":172.37421000000001},{"$f":"U170+IF(データ整理!U169>5,データ整理!U169-5,0)","v":203.79026000000002},null,null,null,"2018-09-15",{"$f":"Z170+IF(データ整理!Z169>5,データ整理!Z169-5,0)","v":203.79026000000002},{"$f":"AA170+IF(データ整理!AA169>5,データ整理!AA169-5,0)","v":185.62538999999995}]
["2014-09-16",{"$f":"B171+IF(データ整理!B170>5,データ整理!B170-5,0)","v":185.27155999999999},{"$f":"C171+IF(データ整理!C170>5,データ整理!C170-5,0)","v":227.65168},{"$f":"D171+IF(データ整理!D170>5,データ整理!D170-5,0)","v":174.06127000000001},{"$f":"E171+IF(データ整理!E170>5,データ整理!E170-5,0)","v":187.32884999999996},{"$f":"F171+IF(データ整理!F170>5,データ整理!F170-5,0)","v":166.80164000000005},{"$f":"G171+IF(データ整理!G170>5,データ整理!G170-5,0)","v":223.96424999999999},{"$f":"H171+IF(データ整理!H170>5,データ整理!H170-5,0)","v":230.36533000000003},{"$f":"I171+IF(データ整理!I170>5,データ整理!I170-5,0)","v":205.97149999999993},{"$f":"J171+IF(データ整理!J170>5,データ整理!J170-5,0)","v":167.83810999999997},{"$f":"K171+IF(データ整理!K170>5,データ整理!K170-5,0)","v":200.21926999999999},{"$f":"L171+IF(データ整理!L170>5,データ整理!L170-5,0)","v":182.22174999999999},{"$f":"M171+IF(データ整理!M170>5,データ整理!M170-5,0)","v":216.15654000000001},{"$f":"N171+IF(データ整理!N170>5,データ整理!N170-5,0)","v":187.26014999999995},{"$f":"O171+IF(データ整理!O170>5,データ整理!O170-5,0)","v":268.04148999999995},{"$f":"P171+IF(データ整理!P170>5,データ整理!P170-5,0)","v":204.27752000000004},{"$f":"Q171+IF(データ整理!Q170>5,データ整理!Q170-5,0)","v":151.76647000000003},{"$f":"R171+IF(データ整理!R170>5,データ整理!R170-5,0)","v":183.69443000000001},{"$f":"S171+IF(データ整理!S170>5,データ整理!S170-5,0)","v":186.39920000000001},{"$f":"T171+IF(データ整理!T170>5,データ整理!T170-5,0)","v":166.09151},{"$f":"U171+IF(データ整理!U170>5,データ整理!U170-5,0)","v":192.55616000000001},null,null,null,"2018-09-16",{"$f":"Z171+IF(データ整理!Z170>5,データ整理!Z170-5,0)","v":192.55616000000001},{"$f":"AA171+IF(データ整理!AA170>5,データ整理!AA170-5,0)","v":176.59648999999996}]
["2014-09-17",{"$f":"B172+IF(データ整理!B171>5,データ整理!B171-5,0)","v":178.69726},{"$f":"C172+IF(データ整理!C171>5,データ整理!C171-5,0)","v":212.61668},{"$f":"D172+IF(データ整理!D171>5,データ整理!D171-5,0)","v":163.30237},{"$f":"E172+IF(データ整理!E171>5,データ整理!E171-5,0)","v":182.11274999999995},{"$f":"F172+IF(データ整理!F171>5,データ整理!F171-5,0)","v":160.21914000000004},{"$f":"G172+IF(データ整理!G171>5,データ整理!G171-5,0)","v":216.55144999999999},{"$f":"H172+IF(データ整理!H171>5,データ整理!H171-5,0)","v":218.66003000000003},{"$f":"I172+IF(データ整理!I171>5,データ整理!I171-5,0)","v":195.90579999999994},{"$f":"J172+IF(データ整理!J171>5,データ整理!J171-5,0)","v":157.35590999999997},{"$f":"K172+IF(データ整理!K171>5,データ整理!K171-5,0)","v":190.59566999999998},{"$f":"L172+IF(データ整理!L171>5,データ整理!L171-5,0)","v":173.14134999999999},{"$f":"M172+IF(データ整理!M171>5,データ整理!M171-5,0)","v":204.15443999999999},{"$f":"N172+IF(データ整理!N171>5,データ整理!N171-5,0)","v":173.01304999999996},{"$f":"O172+IF(データ整理!O171>5,データ整理!O171-5,0)","v":255.44208999999995},{"$f":"P172+IF(データ整理!P171>5,データ整理!P171-5,0)","v":193.52112000000005},{"$f":"Q172+IF(データ整理!Q171>5,データ整理!Q171-5,0)","v":144.76147000000003},{"$f":"R172+IF(データ整理!R171>5,データ整理!R171-5,0)","v":175.97263000000001},{"$f":"S172+IF(データ整理!S171>5,データ整理!S171-5,0)","v":174.86110000000002},{"$f":"T172+IF(データ整理!T171>5,データ整理!T171-5,0)","v":161.6045},{"$f":"U172+IF(データ整理!U171>5,データ整理!U171-5,0)","v":180.84116},null,null,null,"2018-09-17",{"$f":"Z172+IF(データ整理!Z171>5,データ整理!Z171-5,0)","v":180.84116},{"$f":"AA172+IF(データ整理!AA171>5,データ整理!AA171-5,0)","v":167.80668999999997}]
["2014-09-18",{"$f":"B173+IF(データ整理!B172>5,データ整理!B172-5,0)","v":172.28206},{"$f":"C173+IF(データ整理!C172>5,データ整理!C172-5,0)","v":196.65938},{"$f":"D173+IF(データ整理!D172>5,データ整理!D172-5,0)","v":152.70536999999999},{"$f":"E173+IF(データ整理!E172>5,データ整理!E172-5,0)","v":175.75044999999994},{"$f":"F173+IF(データ整理!F172>5,データ整理!F172-5,0)","v":149.10774000000004},{"$f":"G173+IF(データ整理!G172>5,データ整理!G172-5,0)","v":208.80494999999999},{"$f":"H173+IF(データ整理!H172>5,データ整理!H172-5,0)","v":208.46633000000003},{"$f":"I173+IF(データ整理!I172>5,データ整理!I172-5,0)","v":186.23489999999995},{"$f":"J173+IF(データ整理!J172>5,データ整理!J172-5,0)","v":148.59240999999997},{"$f":"K173+IF(データ整理!K172>5,データ整理!K172-5,0)","v":180.35336999999998},{"$f":"L173+IF(データ整理!L172>5,データ整理!L172-5,0)","v":165.50104999999999},{"$f":"M173+IF(データ整理!M172>5,データ整理!M172-5,0)","v":192.86874},{"$f":"N173+IF(データ整理!N172>5,データ整理!N172-5,0)","v":160.85594999999998},{"$f":"O173+IF(データ整理!O172>5,データ整理!O172-5,0)","v":242.24688999999995},{"$f":"P173+IF(データ整理!P172>5,データ整理!P172-5,0)","v":185.71262000000004},{"$f":"Q173+IF(データ整理!Q172>5,データ整理!Q172-5,0)","v":140.16754000000003},{"$f":"R173+IF(データ整理!R172>5,データ整理!R172-5,0)","v":168.47913},{"$f":"S173+IF(データ整理!S172>5,データ整理!S172-5,0)","v":167.47620000000003},{"$f":"T173+IF(データ整理!T172>5,データ整理!T172-5,0)","v":154.4813},{"$f":"U173+IF(データ整理!U172>5,データ整理!U172-5,0)","v":169.29736},null,null,null,"2018-09-18",{"$f":"Z173+IF(データ整理!Z172>5,データ整理!Z172-5,0)","v":169.29736},{"$f":"AA173+IF(データ整理!AA172>5,データ整理!AA172-5,0)","v":159.26008999999996}]
["2014-09-19",{"$f":"B174+IF(データ整理!B173>5,データ整理!B173-5,0)","v":166.78336000000002},{"$f":"C174+IF(データ整理!C173>5,データ整理!C173-5,0)","v":183.40657999999999},{"$f":"D174+IF(データ整理!D173>5,データ整理!D173-5,0)","v":143.53776999999999},{"$f":"E174+IF(データ整理!E173>5,データ整理!E173-5,0)","v":168.46064999999996},{"$f":"F174+IF(データ整理!F173>5,データ整理!F173-5,0)","v":137.41914000000003},{"$f":"G174+IF(データ整理!G173>5,データ整理!G173-5,0)","v":196.55034999999998},{"$f":"H174+IF(データ整理!H173>5,データ整理!H173-5,0)","v":195.64193000000003},{"$f":"I174+IF(データ整理!I173>5,データ整理!I173-5,0)","v":176.82409999999996},{"$f":"J174+IF(データ整理!J173>5,データ整理!J173-5,0)","v":139.73560999999998},{"$f":"K174+IF(データ整理!K173>5,データ整理!K173-5,0)","v":169.47206999999997},{"$f":"L174+IF(データ整理!L173>5,データ整理!L173-5,0)","v":157.94825},{"$f":"M174+IF(データ整理!M173>5,データ整理!M173-5,0)","v":184.18683999999999},{"$f":"N174+IF(データ整理!N173>5,データ整理!N173-5,0)","v":152.64224999999999},{"$f":"O174+IF(データ整理!O173>5,データ整理!O173-5,0)","v":224.78888999999995},{"$f":"P174+IF(データ整理!P173>5,データ整理!P173-5,0)","v":179.21662000000003},{"$f":"Q174+IF(データ整理!Q173>5,データ整理!Q173-5,0)","v":135.70192000000003},{"$f":"R174+IF(データ整理!R173>5,データ整理!R173-5,0)","v":161.10572999999999},{"$f":"S174+IF(データ整理!S173>5,データ整理!S173-5,0)","v":162.27080000000004},{"$f":"T174+IF(データ整理!T173>5,データ整理!T173-5,0)","v":146.68129999999999},{"$f":"U174+IF(データ整理!U173>5,データ整理!U173-5,0)","v":161.70256000000001},null,null,null,"2018-09-19",{"$f":"Z174+IF(データ整理!Z173>5,データ整理!Z173-5,0)","v":161.70256000000001},{"$f":"AA174+IF(データ整理!AA173>5,データ整理!AA173-5,0)","v":150.95808999999997}]
["2014-09-20",{"$f":"B175+IF(データ整理!B174>5,データ整理!B174-5,0)","v":160.44366000000002},{"$f":"C175+IF(データ整理!C174>5,データ整理!C174-5,0)","v":172.72618},{"$f":"D175+IF(データ整理!D174>5,データ整理!D174-5,0)","v":136.57067000000001},{"$f":"E175+IF(データ整理!E174>5,データ整理!E174-5,0)","v":159.14924999999997},{"$f":"F175+IF(データ整理!F174>5,データ整理!F174-5,0)","v":132.47246000000001},{"$f":"G175+IF(データ整理!G174>5,データ整理!G174-5,0)","v":185.06174999999999},{"$f":"H175+IF(データ整理!H174>5,データ整理!H174-5,0)","v":183.74133000000003},{"$f":"I175+IF(データ整理!I174>5,データ整理!I174-5,0)","v":165.75439999999995},{"$f":"J175+IF(データ整理!J174>5,データ整理!J174-5,0)","v":129.86320999999998},{"$f":"K175+IF(データ整理!K174>5,データ整理!K174-5,0)","v":160.28756999999999},{"$f":"L175+IF(データ整理!L174>5,データ整理!L174-5,0)","v":150.47104999999999},{"$f":"M175+IF(データ整理!M174>5,データ整理!M174-5,0)","v":175.24194},{"$f":"N175+IF(データ整理!N174>5,データ整理!N174-5,0)","v":147.47375},{"$f":"O175+IF(データ整理!O174>5,データ整理!O174-5,0)","v":208.37548999999996},{"$f":"P175+IF(データ整理!P174>5,データ整理!P174-5,0)","v":172.50572000000003},{"$f":"Q175+IF(データ整理!Q174>5,データ整理!Q174-5,0)","v":129.67762000000002},{"$f":"R175+IF(データ整理!R174>5,データ整理!R174-5,0)","v":152.58082999999999},{"$f":"S175+IF(データ整理!S174>5,データ整理!S174-5,0)","v":157.71032000000002},{"$f":"T175+IF(データ整理!T174>5,データ整理!T174-5,0)","v":136.31049999999999},{"$f":"U175+IF(データ整理!U174>5,データ整理!U174-5,0)","v":154.99766},null,null,null,"2018-09-20",{"$f":"Z175+IF(データ整理!Z174>5,データ整理!Z174-5,0)","v":154.99766},{"$f":"AA175+IF(データ整理!AA174>5,データ整理!AA174-5,0)","v":142.90008999999998}]
["2014-09-21",{"$f":"B176+IF(データ整理!B175>5,データ整理!B175-5,0)","v":156.43342000000001},{"$f":"C176+IF(データ整理!C175>5,データ整理!C175-5,0)","v":162.38118},{"$f":"D176+IF(データ整理!D175>5,データ整理!D175-5,0)","v":130.31766999999999},{"$f":"E176+IF(データ整理!E175>5,データ整理!E175-5,0)","v":149.76944999999998},{"$f":"F176+IF(データ整理!F175>5,データ整理!F175-5,0)","v":129.75883000000002},{"$f":"G176+IF(データ整理!G175>5,データ整理!G175-5,0)","v":175.10954999999998},{"$f":"H176+IF(データ整理!H175>5,データ整理!H175-5,0)","v":176.23973000000004},{"$f":"I176+IF(データ整理!I175>5,データ整理!I175-5,0)","v":155.39199999999994},{"$f":"J176+IF(データ整理!J175>5,データ整理!J175-5,0)","v":116.93600999999998},{"$f":"K176+IF(データ整理!K175>5,データ整理!K175-5,0)","v":155.24646999999999},{"$f":"L176+IF(データ整理!L175>5,データ整理!L175-5,0)","v":147.46147999999999},{"$f":"M176+IF(データ整理!M175>5,データ整理!M175-5,0)","v":165.19694000000001},{"$f":"N176+IF(データ整理!N175>5,データ整理!N175-5,0)","v":143.27330000000001},{"$f":"O176+IF(データ整理!O175>5,データ整理!O175-5,0)","v":195.78258999999997},{"$f":"P176+IF(データ整理!P175>5,データ整理!P175-5,0)","v":161.69552000000002},{"$f":"Q176+IF(データ整理!Q175>5,データ整理!Q175-5,0)","v":123.24432000000002},{"$f":"R176+IF(データ整理!R175>5,データ整理!R175-5,0)","v":142.84563},{"$f":"S176+IF(データ整理!S175>5,データ整理!S175-5,0)","v":153.18337000000002},{"$f":"T176+IF(データ整理!T175>5,データ整理!T175-5,0)","v":125.7955},{"$f":"U176+IF(データ整理!U175>5,データ整理!U175-5,0)","v":149.17696000000001},null,null,null,"2018-09-21",{"$f":"Z176+IF(データ整理!Z175>5,データ整理!Z175-5,0)","v":149.17696000000001},{"$f":"AA176+IF(データ整理!AA175>5,データ整理!AA175-5,0)","v":135.08488999999997}]
["2014-09-22",{"$f":"B177+IF(データ整理!B176>5,データ整理!B176-5,0)","v":153.21713},{"$f":"C177+IF(データ整理!C176>5,データ整理!C176-5,0)","v":151.22908000000001},{"$f":"D177+IF(データ整理!D176>5,データ整理!D176-5,0)","v":128.64302999999998},{"$f":"E177+IF(データ整理!E176>5,データ整理!E176-5,0)","v":144.92444999999998},{"$f":"F177+IF(データ整理!F176>5,データ整理!F176-5,0)","v":126.48794000000001},{"$f":"G177+IF(データ整理!G176>5,データ整理!G176-5,0)","v":167.15124999999998},{"$f":"H177+IF(データ整理!H176>5,データ整理!H176-5,0)","v":170.81663000000003},{"$f":"I177+IF(データ整理!I176>5,データ整理!I176-5,0)","v":146.67839999999995},{"$f":"J177+IF(データ整理!J176>5,データ整理!J176-5,0)","v":102.37770999999998},{"$f":"K177+IF(データ整理!K176>5,データ整理!K176-5,0)","v":147.87277},{"$f":"L177+IF(データ整理!L176>5,データ整理!L176-5,0)","v":144.58735999999999},{"$f":"M177+IF(データ整理!M176>5,データ整理!M176-5,0)","v":154.71764000000002},{"$f":"N177+IF(データ整理!N176>5,データ整理!N176-5,0)","v":137.6874},{"$f":"O177+IF(データ整理!O176>5,データ整理!O176-5,0)","v":185.81318999999996},{"$f":"P177+IF(データ整理!P176>5,データ整理!P176-5,0)","v":152.18932000000001},{"$f":"Q177+IF(データ整理!Q176>5,データ整理!Q176-5,0)","v":116.89882000000001},{"$f":"R177+IF(データ整理!R176>5,データ整理!R176-5,0)","v":132.17502999999999},{"$f":"S177+IF(データ整理!S176>5,データ整理!S176-5,0)","v":148.56949000000003},{"$f":"T177+IF(データ整理!T176>5,データ整理!T176-5,0)","v":118.387},{"$f":"U177+IF(データ整理!U176>5,データ整理!U176-5,0)","v":143.64596},null,null,null,"2018-09-22",{"$f":"Z177+IF(データ整理!Z176>5,データ整理!Z176-5,0)","v":143.64596},{"$f":"AA177+IF(データ整理!AA176>5,データ整理!AA176-5,0)","v":127.51248999999999}]
["2014-09-23",{"$f":"B178+IF(データ整理!B177>5,データ整理!B177-5,0)","v":149.44611},{"$f":"C178+IF(データ整理!C177>5,データ整理!C177-5,0)","v":143.72028},{"$f":"D178+IF(データ整理!D177>5,データ整理!D177-5,0)","v":127.15354999999998},{"$f":"E178+IF(データ整理!E177>5,データ整理!E177-5,0)","v":141.13191999999998},{"$f":"F178+IF(データ整理!F177>5,データ整理!F177-5,0)","v":122.42905},{"$f":"G178+IF(データ整理!G177>5,データ整理!G177-5,0)","v":161.21394999999998},{"$f":"H178+IF(データ整理!H177>5,データ整理!H177-5,0)","v":166.09515000000002},{"$f":"I178+IF(データ整理!I177>5,データ整理!I177-5,0)","v":139.49299999999997},{"$f":"J178+IF(データ整理!J177>5,データ整理!J177-5,0)","v":93.97490999999998},{"$f":"K178+IF(データ整理!K177>5,データ整理!K177-5,0)","v":137.18996999999999},{"$f":"L178+IF(データ整理!L177>5,データ整理!L177-5,0)","v":135.58416},{"$f":"M178+IF(データ整理!M177>5,データ整理!M177-5,0)","v":148.84194000000002},{"$f":"N178+IF(データ整理!N177>5,データ整理!N177-5,0)","v":131.8887},{"$f":"O178+IF(データ整理!O177>5,データ整理!O177-5,0)","v":175.63658999999996},{"$f":"P178+IF(データ整理!P177>5,データ整理!P177-5,0)","v":146.87472},{"$f":"Q178+IF(データ整理!Q177>5,データ整理!Q177-5,0)","v":110.70772000000001},{"$f":"R178+IF(データ整理!R177>5,データ整理!R177-5,0)","v":121.89822999999998},{"$f":"S178+IF(データ整理!S177>5,データ整理!S177-5,0)","v":142.64199000000002},{"$f":"T178+IF(データ整理!T177>5,データ整理!T177-5,0)","v":110.93129999999999},{"$f":"U178+IF(データ整理!U177>5,データ整理!U177-5,0)","v":137.30616000000001},null,null,null,"2018-09-23",{"$f":"Z178+IF(データ整理!Z177>5,データ整理!Z177-5,0)","v":137.30616000000001},{"$f":"AA178+IF(データ整理!AA177>5,データ整理!AA177-5,0)","v":120.18458999999999}]
["2014-09-24",{"$f":"B179+IF(データ整理!B178>5,データ整理!B178-5,0)","v":143.85891000000001},{"$f":"C179+IF(データ整理!C178>5,データ整理!C178-5,0)","v":136.23158000000001},{"$f":"D179+IF(データ整理!D178>5,データ整理!D178-5,0)","v":121.24544999999998},{"$f":"E179+IF(データ整理!E178>5,データ整理!E178-5,0)","v":137.93872999999999},{"$f":"F179+IF(データ整理!F178>5,データ整理!F178-5,0)","v":119.07199},{"$f":"G179+IF(データ整理!G178>5,データ整理!G178-5,0)","v":151.61324999999999},{"$f":"H179+IF(データ整理!H178>5,データ整理!H178-5,0)","v":157.49275000000003},{"$f":"I179+IF(データ整理!I178>5,データ整理!I178-5,0)","v":133.74239999999998},{"$f":"J179+IF(データ整理!J178>5,データ整理!J178-5,0)","v":90.876909999999981},{"$f":"K179+IF(データ整理!K178>5,データ整理!K178-5,0)","v":128.99916999999999},{"$f":"L179+IF(データ整理!L178>5,データ整理!L178-5,0)","v":126.05506},{"$f":"M179+IF(データ整理!M178>5,データ整理!M178-5,0)","v":145.13960000000003},{"$f":"N179+IF(データ整理!N178>5,データ整理!N178-5,0)","v":126.72319999999999},{"$f":"O179+IF(データ整理!O178>5,データ整理!O178-5,0)","v":165.96448999999996},{"$f":"P179+IF(データ整理!P178>5,データ整理!P178-5,0)","v":140.63842},{"$f":"Q179+IF(データ整理!Q178>5,データ整理!Q178-5,0)","v":103.53502},{"$f":"R179+IF(データ整理!R178>5,データ整理!R178-5,0)","v":112.05592999999999},{"$f":"S179+IF(データ整理!S178>5,データ整理!S178-5,0)","v":135.18769000000003},{"$f":"T179+IF(データ整理!T178>5,データ整理!T178-5,0)","v":102.199},{"$f":"U179+IF(データ整理!U178>5,データ整理!U178-5,0)","v":129.10115999999999},null,null,null,"2018-09-24",{"$f":"Z179+IF(データ整理!Z178>5,データ整理!Z178-5,0)","v":129.10115999999999},{"$f":"AA179+IF(データ整理!AA178>5,データ整理!AA178-5,0)","v":113.10218999999999}]
["2014-09-25",{"$f":"B180+IF(データ整理!B179>5,データ整理!B179-5,0)","v":134.67921000000001},{"$f":"C180+IF(データ整理!C179>5,データ整理!C179-5,0)","v":127.30658},{"$f":"D180+IF(データ整理!D179>5,データ整理!D179-5,0)","v":112.64454999999998},{"$f":"E180+IF(データ整理!E179>5,データ整理!E179-5,0)","v":135.04989999999998},{"$f":"F180+IF(データ整理!F179>5,データ整理!F179-5,0)","v":114.93462},{"$f":"G180+IF(データ整理!G179>5,データ整理!G179-5,0)","v":144.36705000000001},{"$f":"H180+IF(データ整理!H179>5,データ整理!H179-5,0)","v":151.25955000000002},{"$f":"I180+IF(データ整理!I179>5,データ整理!I179-5,0)","v":126.92639999999999},{"$f":"J180+IF(データ整理!J179>5,データ整理!J179-5,0)","v":86.448609999999988},{"$f":"K180+IF(データ整理!K179>5,データ整理!K179-5,0)","v":124.36294999999998},{"$f":"L180+IF(データ整理!L179>5,データ整理!L179-5,0)","v":117.40465999999999},{"$f":"M180+IF(データ整理!M179>5,データ整理!M179-5,0)","v":142.86230000000003},{"$f":"N180+IF(データ整理!N179>5,データ整理!N179-5,0)","v":121.79382999999999},{"$f":"O180+IF(データ整理!O179>5,データ整理!O179-5,0)","v":156.63508999999996},{"$f":"P180+IF(データ整理!P179>5,データ整理!P179-5,0)","v":131.23952},{"$f":"Q180+IF(データ整理!Q179>5,データ整理!Q179-5,0)","v":94.718220000000002},{"$f":"R180+IF(データ整理!R179>5,データ整理!R179-5,0)","v":101.88022999999998},{"$f":"S180+IF(データ整理!S179>5,データ整理!S179-5,0)","v":125.83489000000003},{"$f":"T180+IF(データ整理!T179>5,データ整理!T179-5,0)","v":93.260899999999992},{"$f":"U180+IF(データ整理!U179>5,データ整理!U179-5,0)","v":119.59115999999999},null,null,null,"2018-09-25",{"$f":"Z180+IF(データ整理!Z179>5,データ整理!Z179-5,0)","v":119.59115999999999},{"$f":"AA180+IF(データ整理!AA179>5,データ整理!AA179-5,0)","v":106.26279}]
["2014-09-26",{"$f":"B181+IF(データ整理!B180>5,データ整理!B180-5,0)","v":123.10681000000002},{"$f":"C181+IF(データ整理!C180>5,データ整理!C180-5,0)","v":119.38878},{"$f":"D181+IF(データ整理!D180>5,データ整理!D180-5,0)","v":105.63054999999999},{"$f":"E181+IF(データ整理!E180>5,データ整理!E180-5,0)","v":131.78584999999998},{"$f":"F181+IF(データ整理!F180>5,データ整理!F180-5,0)","v":109.12241999999999},{"$f":"G181+IF(データ整理!G180>5,データ整理!G180-5,0)","v":136.03975},{"$f":"H181+IF(データ整理!H180>5,データ整理!H180-5,0)","v":146.13625000000002},{"$f":"I181+IF(データ整理!I180>5,データ整理!I180-5,0)","v":123.43171999999998},{"$f":"J181+IF(データ整理!J180>5,データ整理!J180-5,0)","v":81.268309999999985},{"$f":"K181+IF(データ整理!K180>5,データ整理!K180-5,0)","v":119.69576999999998},{"$f":"L181+IF(データ整理!L180>5,データ整理!L180-5,0)","v":108.26965999999999},{"$f":"M181+IF(データ整理!M180>5,データ整理!M180-5,0)","v":141.46187000000003},{"$f":"N181+IF(データ整理!N180>5,データ整理!N180-5,0)","v":115.68112999999998},{"$f":"O181+IF(データ整理!O180>5,データ整理!O180-5,0)","v":149.67468999999997},{"$f":"P181+IF(データ整理!P180>5,データ整理!P180-5,0)","v":126.51125999999999},{"$f":"Q181+IF(データ整理!Q180>5,データ整理!Q180-5,0)","v":85.916020000000003},{"$f":"R181+IF(データ整理!R180>5,データ整理!R180-5,0)","v":93.383929999999978},{"$f":"S181+IF(データ整理!S180>5,データ整理!S180-5,0)","v":114.81629000000002},{"$f":"T181+IF(データ整理!T180>5,データ整理!T180-5,0)","v":85.795299999999997},{"$f":"U181+IF(データ整理!U180>5,データ整理!U180-5,0)","v":112.10785999999999},null,null,null,"2018-09-26",{"$f":"Z181+IF(データ整理!Z180>5,データ整理!Z180-5,0)","v":112.10785999999999},{"$f":"AA181+IF(データ整理!AA180>5,データ整理!AA180-5,0)","v":99.659390000000002}]
["2014-09-27",{"$f":"B182+IF(データ整理!B181>5,データ整理!B181-5,0)","v":114.48211000000002},{"$f":"C182+IF(データ整理!C181>5,データ整理!C181-5,0)","v":111.90258},{"$f":"D182+IF(データ整理!D181>5,データ整理!D181-5,0)","v":100.10654999999998},{"$f":"E182+IF(データ整理!E181>5,データ整理!E181-5,0)","v":127.50514999999999},{"$f":"F182+IF(データ整理!F181>5,データ整理!F181-5,0)","v":99.794119999999992},{"$f":"G182+IF(データ整理!G181>5,データ整理!G181-5,0)","v":129.33584999999999},{"$f":"H182+IF(データ整理!H181>5,データ整理!H181-5,0)","v":141.84018},{"$f":"I182+IF(データ整理!I181>5,データ整理!I181-5,0)","v":118.14391999999998},{"$f":"J182+IF(データ整理!J181>5,データ整理!J181-5,0)","v":78.719549999999984},{"$f":"K182+IF(データ整理!K181>5,データ整理!K181-5,0)","v":115.66210999999998},{"$f":"L182+IF(データ整理!L181>5,データ整理!L181-5,0)","v":101.73365999999999},{"$f":"M182+IF(データ整理!M181>5,データ整理!M181-5,0)","v":138.88071000000002},{"$f":"N182+IF(データ整理!N181>5,データ整理!N181-5,0)","v":108.19092999999998},{"$f":"O182+IF(データ整理!O181>5,データ整理!O181-5,0)","v":141.17308999999997},{"$f":"P182+IF(データ整理!P181>5,データ整理!P181-5,0)","v":125.06115999999999},{"$f":"Q182+IF(データ整理!Q181>5,データ整理!Q181-5,0)","v":81.47833},{"$f":"R182+IF(データ整理!R181>5,データ整理!R181-5,0)","v":83.510629999999978},{"$f":"S182+IF(データ整理!S181>5,データ整理!S181-5,0)","v":104.31149000000002},{"$f":"T182+IF(データ整理!T181>5,データ整理!T181-5,0)","v":79.810400000000001},{"$f":"U182+IF(データ整理!U181>5,データ整理!U181-5,0)","v":107.96243999999999},null,null,null,"2018-09-27",{"$f":"Z182+IF(データ整理!Z181>5,データ整理!Z181-5,0)","v":107.96243999999999},{"$f":"AA182+IF(データ整理!AA181>5,データ整理!AA181-5,0)","v":93.284189999999995}]
["2014-09-28",{"$f":"B183+IF(データ整理!B182>5,データ整理!B182-5,0)","v":104.78551000000002},{"$f":"C183+IF(データ整理!C182>5,データ整理!C182-5,0)","v":104.80217999999999},{"$f":"D183+IF(データ整理!D182>5,データ整理!D182-5,0)","v":93.543949999999981},{"$f":"E183+IF(データ整理!E182>5,データ整理!E182-5,0)","v":121.38274999999999},{"$f":"F183+IF(データ整理!F182>5,データ整理!F182-5,0)","v":92.864019999999996},{"$f":"G183+IF(データ整理!G182>5,データ整理!G182-5,0)","v":121.30095},{"$f":"H183+IF(データ整理!H182>5,データ整理!H182-5,0)","v":136.81118000000001},{"$f":"I183+IF(データ整理!I182>5,データ整理!I182-5,0)","v":111.59131999999998},{"$f":"J183+IF(データ整理!J182>5,データ整理!J182-5,0)","v":72.192149999999984},{"$f":"K183+IF(データ整理!K182>5,データ整理!K182-5,0)","v":113.04858999999999},{"$f":"L183+IF(データ整理!L182>5,データ整理!L182-5,0)","v":97.950409999999991},{"$f":"M183+IF(データ整理!M182>5,データ整理!M182-5,0)","v":132.65771000000001},{"$f":"N183+IF(データ整理!N182>5,データ整理!N182-5,0)","v":100.58662999999999},{"$f":"O183+IF(データ整理!O182>5,データ整理!O182-5,0)","v":130.95148999999998},{"$f":"P183+IF(データ整理!P182>5,データ整理!P182-5,0)","v":123.50300999999999},{"$f":"Q183+IF(データ整理!Q182>5,データ整理!Q182-5,0)","v":75.650930000000002},{"$f":"R183+IF(データ整理!R182>5,データ整理!R182-5,0)","v":74.916429999999977},{"$f":"S183+IF(データ整理!S182>5,データ整理!S182-5,0)","v":94.963690000000014},{"$f":"T183+IF(データ整理!T182>5,データ整理!T182-5,0)","v":71.891199999999998},{"$f":"U183+IF(データ整理!U182>5,データ整理!U182-5,0)","v":103.44777999999999},null,null,null,"2018-09-28",{"$f":"Z183+IF(データ整理!Z182>5,データ整理!Z182-5,0)","v":103.44777999999999},{"$f":"AA183+IF(データ整理!AA182>5,データ整理!AA182-5,0)","v":87.133589999999998}]
["2014-09-29",{"$f":"B184+IF(データ整理!B183>5,データ整理!B183-5,0)","v":95.725410000000011},{"$f":"C184+IF(データ整理!C183>5,データ整理!C183-5,0)","v":98.833679999999987},{"$f":"D184+IF(データ整理!D183>5,データ整理!D183-5,0)","v":91.426399999999987},{"$f":"E184+IF(データ整理!E183>5,データ整理!E183-5,0)","v":114.34384999999999},{"$f":"F184+IF(データ整理!F183>5,データ整理!F183-5,0)","v":86.512219999999999},{"$f":"G184+IF(データ整理!G183>5,データ整理!G183-5,0)","v":113.58595},{"$f":"H184+IF(データ整理!H183>5,データ整理!H183-5,0)","v":130.04828000000001},{"$f":"I184+IF(データ整理!I183>5,データ整理!I183-5,0)","v":106.20701999999999},{"$f":"J184+IF(データ整理!J183>5,データ整理!J183-5,0)","v":64.856049999999982},{"$f":"K184+IF(データ整理!K183>5,データ整理!K183-5,0)","v":109.98518999999999},{"$f":"L184+IF(データ整理!L183>5,データ整理!L183-5,0)","v":92.490309999999994},{"$f":"M184+IF(データ整理!M183>5,データ整理!M183-5,0)","v":123.21850999999999},{"$f":"N184+IF(データ整理!N183>5,データ整理!N183-5,0)","v":94.615929999999992},{"$f":"O184+IF(データ整理!O183>5,データ整理!O183-5,0)","v":121.97398999999999},{"$f":"P184+IF(データ整理!P183>5,データ整理!P183-5,0)","v":116.57250999999999},{"$f":"Q184+IF(データ整理!Q183>5,データ整理!Q183-5,0)","v":67.699129999999997},{"$f":"R184+IF(データ整理!R183>5,データ整理!R183-5,0)","v":70.08705999999998},{"$f":"S184+IF(データ整理!S183>5,データ整理!S183-5,0)","v":84.871190000000013},{"$f":"T184+IF(データ整理!T183>5,データ整理!T183-5,0)","v":68.808269999999993},{"$f":"U184+IF(データ整理!U183>5,データ整理!U183-5,0)","v":98.901139999999998},null,null,null,"2018-09-29",{"$f":"Z184+IF(データ整理!Z183>5,データ整理!Z183-5,0)","v":98.901139999999998},{"$f":"AA184+IF(データ整理!AA183>5,データ整理!AA183-5,0)","v":81.207390000000004}]
["2014-09-30",{"$f":"B185+IF(データ整理!B184>5,データ整理!B184-5,0)","v":86.287310000000005},{"$f":"C185+IF(データ整理!C184>5,データ整理!C184-5,0)","v":93.632379999999984},{"$f":"D185+IF(データ整理!D184>5,データ整理!D184-5,0)","v":89.973799999999983},{"$f":"E185+IF(データ整理!E184>5,データ整理!E184-5,0)","v":105.76655},{"$f":"F185+IF(データ整理!F184>5,データ整理!F184-5,0)","v":80.025819999999996},{"$f":"G185+IF(データ整理!G184>5,データ整理!G184-5,0)","v":104.19244999999999},{"$f":"H185+IF(データ整理!H184>5,データ整理!H184-5,0)","v":123.58298000000001},{"$f":"I185+IF(データ整理!I184>5,データ整理!I184-5,0)","v":99.299819999999983},{"$f":"J185+IF(データ整理!J184>5,データ整理!J184-5,0)","v":60.95024999999999},{"$f":"K185+IF(データ整理!K184>5,データ整理!K184-5,0)","v":107.37036999999999},{"$f":"L185+IF(データ整理!L184>5,データ整理!L184-5,0)","v":85.076409999999996},{"$f":"M185+IF(データ整理!M184>5,データ整理!M184-5,0)","v":117.34210999999999},{"$f":"N185+IF(データ整理!N184>5,データ整理!N184-5,0)","v":87.237929999999992},{"$f":"O185+IF(データ整理!O184>5,データ整理!O184-5,0)","v":111.08008999999998},{"$f":"P185+IF(データ整理!P184>5,データ整理!P184-5,0)","v":108.64971},{"$f":"Q185+IF(データ整理!Q184>5,データ整理!Q184-5,0)","v":62.293430000000001},{"$f":"R185+IF(データ整理!R184>5,データ整理!R184-5,0)","v":65.980389999999986},{"$f":"S185+IF(データ整理!S184>5,データ整理!S184-5,0)","v":78.530290000000008},{"$f":"T185+IF(データ整理!T184>5,データ整理!T184-5,0)","v":67.764809999999997},{"$f":"U185+IF(データ整理!U184>5,データ整理!U184-5,0)","v":94.512959999999993},null,null,null,"2018-09-30",{"$f":"Z185+IF(データ整理!Z184>5,データ整理!Z184-5,0)","v":94.512959999999993},{"$f":"AA185+IF(データ整理!AA184>5,データ整理!AA184-5,0)","v":75.505490000000009}]
["2014-10-01",{"$f":"B186+IF(データ整理!B185>5,データ整理!B185-5,0)","v":76.456710000000001},{"$f":"C186+IF(データ整理!C185>5,データ整理!C185-5,0)","v":88.49557999999999},{"$f":"D186+IF(データ整理!D185>5,データ整理!D185-5,0)","v":85.442109999999985},{"$f":"E186+IF(データ整理!E185>5,データ整理!E185-5,0)","v":98.60445},{"$f":"F186+IF(データ整理!F185>5,データ整理!F185-5,0)","v":73.455119999999994},{"$f":"G186+IF(データ整理!G185>5,データ整理!G185-5,0)","v":96.224149999999995},{"$f":"H186+IF(データ整理!H185>5,データ整理!H185-5,0)","v":115.76918000000001},{"$f":"I186+IF(データ整理!I185>5,データ整理!I185-5,0)","v":92.479319999999987},{"$f":"J186+IF(データ整理!J185>5,データ整理!J185-5,0)","v":57.113229999999987},{"$f":"K186+IF(データ整理!K185>5,データ整理!K185-5,0)","v":101.79876999999999},{"$f":"L186+IF(データ整理!L185>5,データ整理!L185-5,0)","v":78.515109999999993},{"$f":"M186+IF(データ整理!M185>5,データ整理!M185-5,0)","v":110.45730999999999},{"$f":"N186+IF(データ整理!N185>5,データ整理!N185-5,0)","v":79.406929999999988},{"$f":"O186+IF(データ整理!O185>5,データ整理!O185-5,0)","v":100.25698999999999},{"$f":"P186+IF(データ整理!P185>5,データ整理!P185-5,0)","v":100.02001},{"$f":"Q186+IF(データ整理!Q185>5,データ整理!Q185-5,0)","v":59.328629999999997},{"$f":"R186+IF(データ整理!R185>5,データ整理!R185-5,0)","v":62.94789999999999},{"$f":"S186+IF(データ整理!S185>5,データ整理!S185-5,0)","v":71.72769000000001},{"$f":"T186+IF(データ整理!T185>5,データ整理!T185-5,0)","v":63.961469999999998},{"$f":"U186+IF(データ整理!U185>5,データ整理!U185-5,0)","v":87.944159999999997},null,null,null,"2018-10-01",{"$f":"Z186+IF(データ整理!Z185>5,データ整理!Z185-5,0)","v":87.944159999999997},{"$f":"AA186+IF(データ整理!AA185>5,データ整理!AA185-5,0)","v":70.025390000000002}]
["2014-10-02",{"$f":"B187+IF(データ整理!B186>5,データ整理!B186-5,0)","v":72.069320000000005},{"$f":"C187+IF(データ整理!C186>5,データ整理!C186-5,0)","v":80.683179999999993},{"$f":"D187+IF(データ整理!D186>5,データ整理!D186-5,0)","v":79.80440999999999},{"$f":"E187+IF(データ整理!E186>5,データ整理!E186-5,0)","v":89.666250000000005},{"$f":"F187+IF(データ整理!F186>5,データ整理!F186-5,0)","v":67.21002},{"$f":"G187+IF(データ整理!G186>5,データ整理!G186-5,0)","v":89.374049999999997},{"$f":"H187+IF(データ整理!H186>5,データ整理!H186-5,0)","v":106.25958},{"$f":"I187+IF(データ整理!I186>5,データ整理!I186-5,0)","v":85.06971999999999},{"$f":"J187+IF(データ整理!J186>5,データ整理!J186-5,0)","v":51.19762999999999},{"$f":"K187+IF(データ整理!K186>5,データ整理!K186-5,0)","v":97.396419999999992},{"$f":"L187+IF(データ整理!L186>5,データ整理!L186-5,0)","v":72.930309999999992},{"$f":"M187+IF(データ整理!M186>5,データ整理!M186-5,0)","v":104.54880999999999},{"$f":"N187+IF(データ整理!N186>5,データ整理!N186-5,0)","v":78.343879999999984},{"$f":"O187+IF(データ整理!O186>5,データ整理!O186-5,0)","v":91.113689999999991},{"$f":"P187+IF(データ整理!P186>5,データ整理!P186-5,0)","v":91.206810000000004},{"$f":"Q187+IF(データ整理!Q186>5,データ整理!Q186-5,0)","v":57.37444},{"$f":"R187+IF(データ整理!R186>5,データ整理!R186-5,0)","v":58.481199999999994},{"$f":"S187+IF(データ整理!S186>5,データ整理!S186-5,0)","v":64.222390000000004},{"$f":"T187+IF(データ整理!T186>5,データ整理!T186-5,0)","v":56.587969999999999},{"$f":"U187+IF(データ整理!U186>5,データ整理!U186-5,0)","v":79.896360000000001},null,null,null,"2018-10-02",{"$f":"Z187+IF(データ整理!Z186>5,データ整理!Z186-5,0)","v":79.896360000000001},{"$f":"AA187+IF(データ整理!AA186>5,データ整理!AA186-5,0)","v":64.762590000000003}]
["2014-10-03",{"$f":"B188+IF(データ整理!B187>5,データ整理!B187-5,0)","v":69.784680000000009},{"$f":"C188+IF(データ整理!C187>5,データ整理!C187-5,0)","v":73.208679999999987},{"$f":"D188+IF(データ整理!D187>5,データ整理!D187-5,0)","v":75.684889999999996},{"$f":"E188+IF(データ整理!E187>5,データ整理!E187-5,0)","v":78.662750000000003},{"$f":"F188+IF(データ整理!F187>5,データ整理!F187-5,0)","v":61.304020000000001},{"$f":"G188+IF(データ整理!G187>5,データ整理!G187-5,0)","v":85.267420000000001},{"$f":"H188+IF(データ整理!H187>5,データ整理!H187-5,0)","v":98.294879999999992},{"$f":"I188+IF(データ整理!I187>5,データ整理!I187-5,0)","v":78.156919999999985},{"$f":"J188+IF(データ整理!J187>5,データ整理!J187-5,0)","v":45.086429999999993},{"$f":"K188+IF(データ整理!K187>5,データ整理!K187-5,0)","v":96.645849999999996},{"$f":"L188+IF(データ整理!L187>5,データ整理!L187-5,0)","v":65.481009999999998},{"$f":"M188+IF(データ整理!M187>5,データ整理!M187-5,0)","v":101.90266999999999},{"$f":"N188+IF(データ整理!N187>5,データ整理!N187-5,0)","v":78.343879999999984},{"$f":"O188+IF(データ整理!O187>5,データ整理!O187-5,0)","v":84.166689999999988},{"$f":"P188+IF(データ整理!P187>5,データ整理!P187-5,0)","v":80.83081},{"$f":"Q188+IF(データ整理!Q187>5,データ整理!Q187-5,0)","v":53.943860000000001},{"$f":"R188+IF(データ整理!R187>5,データ整理!R187-5,0)","v":52.538999999999994},{"$f":"S188+IF(データ整理!S187>5,データ整理!S187-5,0)","v":55.033090000000009},{"$f":"T188+IF(データ整理!T187>5,データ整理!T187-5,0)","v":47.987069999999996},{"$f":"U188+IF(データ整理!U187>5,データ整理!U187-5,0)","v":74.941789999999997},null,null,null,"2018-10-03",{"$f":"Z188+IF(データ整理!Z187>5,データ整理!Z187-5,0)","v":74.941789999999997},{"$f":"AA188+IF(データ整理!AA187>5,データ整理!AA187-5,0)","v":59.711790000000001}]
["2014-10-04",{"$f":"B189+IF(データ整理!B188>5,データ整理!B188-5,0)","v":66.646080000000012},{"$f":"C189+IF(データ整理!C188>5,データ整理!C188-5,0)","v":65.781679999999994},{"$f":"D189+IF(データ整理!D188>5,データ整理!D188-5,0)","v":72.116540000000001},{"$f":"E189+IF(データ整理!E188>5,データ整理!E188-5,0)","v":68.98245},{"$f":"F189+IF(データ整理!F188>5,データ整理!F188-5,0)","v":59.971170000000001},{"$f":"G189+IF(データ整理!G188>5,データ整理!G188-5,0)","v":83.712580000000003},{"$f":"H189+IF(データ整理!H188>5,データ整理!H188-5,0)","v":94.410689999999988},{"$f":"I189+IF(データ整理!I188>5,データ整理!I188-5,0)","v":69.496019999999987},{"$f":"J189+IF(データ整理!J188>5,データ整理!J188-5,0)","v":41.786819999999992},{"$f":"K189+IF(データ整理!K188>5,データ整理!K188-5,0)","v":94.508719999999997},{"$f":"L189+IF(データ整理!L188>5,データ整理!L188-5,0)","v":57.116910000000004},{"$f":"M189+IF(データ整理!M188>5,データ整理!M188-5,0)","v":98.718519999999984},{"$f":"N189+IF(データ整理!N188>5,データ整理!N188-5,0)","v":78.343879999999984},{"$f":"O189+IF(データ整理!O188>5,データ整理!O188-5,0)","v":77.570589999999996},{"$f":"P189+IF(データ整理!P188>5,データ整理!P188-5,0)","v":74.293210000000002},{"$f":"Q189+IF(データ整理!Q188>5,データ整理!Q188-5,0)","v":49.735689999999998},{"$f":"R189+IF(データ整理!R188>5,データ整理!R188-5,0)","v":48.036909999999992},{"$f":"S189+IF(データ整理!S188>5,データ整理!S188-5,0)","v":45.285090000000011},{"$f":"T189+IF(データ整理!T188>5,データ整理!T188-5,0)","v":45.763739999999999},{"$f":"U189+IF(データ整理!U188>5,データ整理!U188-5,0)","v":70.023839999999993},null,null,null,"2018-10-04",{"$f":"Z189+IF(データ整理!Z188>5,データ整理!Z188-5,0)","v":70.023839999999993},{"$f":"AA189+IF(データ整理!AA188>5,データ整理!AA188-5,0)","v":54.867339999999999}]
["2014-10-05",{"$f":"B190+IF(データ整理!B189>5,データ整理!B189-5,0)","v":64.127140000000011},{"$f":"C190+IF(データ整理!C189>5,データ整理!C189-5,0)","v":58.13308},{"$f":"D190+IF(データ整理!D189>5,データ整理!D189-5,0)","v":68.104659999999996},{"$f":"E190+IF(データ整理!E189>5,データ整理!E189-5,0)","v":63.298650000000002},{"$f":"F190+IF(データ整理!F189>5,データ整理!F189-5,0)","v":59.343830000000004},{"$f":"G190+IF(データ整理!G189>5,データ整理!G189-5,0)","v":81.477779999999996},{"$f":"H190+IF(データ整理!H189>5,データ整理!H189-5,0)","v":87.846589999999992},{"$f":"I190+IF(データ整理!I189>5,データ整理!I189-5,0)","v":59.838619999999992},{"$f":"J190+IF(データ整理!J189>5,データ整理!J189-5,0)","v":37.306349999999995},{"$f":"K190+IF(データ整理!K189>5,データ整理!K189-5,0)","v":89.104219999999998},{"$f":"L190+IF(データ整理!L189>5,データ整理!L189-5,0)","v":51.00441},{"$f":"M190+IF(データ整理!M189>5,データ整理!M189-5,0)","v":92.431419999999989},{"$f":"N190+IF(データ整理!N189>5,データ整理!N189-5,0)","v":76.828299999999984},{"$f":"O190+IF(データ整理!O189>5,データ整理!O189-5,0)","v":70.584789999999998},{"$f":"P190+IF(データ整理!P189>5,データ整理!P189-5,0)","v":69.510210000000001},{"$f":"Q190+IF(データ整理!Q189>5,データ整理!Q189-5,0)","v":46.563989999999997},{"$f":"R190+IF(データ整理!R189>5,データ整理!R189-5,0)","v":46.029769999999992},{"$f":"S190+IF(データ整理!S189>5,データ整理!S189-5,0)","v":40.191290000000009},{"$f":"T190+IF(データ整理!T189>5,データ整理!T189-5,0)","v":45.763739999999999},{"$f":"U190+IF(データ整理!U189>5,データ整理!U189-5,0)","v":67.220069999999993},null,null,null,"2018-10-05",{"$f":"Z190+IF(データ整理!Z189>5,データ整理!Z189-5,0)","v":67.220069999999993},{"$f":"AA190+IF(データ整理!AA189>5,データ整理!AA189-5,0)","v":50.226209999999995}]
["2014-10-06",{"$f":"B191+IF(データ整理!B190>5,データ整理!B190-5,0)","v":61.090770000000006},{"$f":"C191+IF(データ整理!C190>5,データ整理!C190-5,0)","v":52.418680000000002},{"$f":"D191+IF(データ整理!D190>5,データ整理!D190-5,0)","v":62.262160000000002},{"$f":"E191+IF(データ整理!E190>5,データ整理!E190-5,0)","v":58.157150000000001},{"$f":"F191+IF(データ整理!F190>5,データ整理!F190-5,0)","v":58.698070000000001},{"$f":"G191+IF(データ整理!G190>5,データ整理!G190-5,0)","v":77.582189999999997},{"$f":"H191+IF(データ整理!H190>5,データ整理!H190-5,0)","v":84.761939999999996},{"$f":"I191+IF(データ整理!I190>5,データ整理!I190-5,0)","v":52.989819999999995},{"$f":"J191+IF(データ整理!J190>5,データ整理!J190-5,0)","v":33.810089999999995},{"$f":"K191+IF(データ整理!K190>5,データ整理!K190-5,0)","v":86.357010000000002},{"$f":"L191+IF(データ整理!L190>5,データ整理!L190-5,0)","v":48.22099},{"$f":"M191+IF(データ整理!M190>5,データ整理!M190-5,0)","v":85.188019999999995},{"$f":"N191+IF(データ整理!N190>5,データ整理!N190-5,0)","v":72.150539999999992},{"$f":"O191+IF(データ整理!O190>5,データ整理!O190-5,0)","v":63.698489999999993},{"$f":"P191+IF(データ整理!P190>5,データ整理!P190-5,0)","v":62.230409999999999},{"$f":"Q191+IF(データ整理!Q190>5,データ整理!Q190-5,0)","v":45.111969999999999},{"$f":"R191+IF(データ整理!R190>5,データ整理!R190-5,0)","v":44.125699999999995},{"$f":"S191+IF(データ整理!S190>5,データ整理!S190-5,0)","v":37.922230000000006},{"$f":"T191+IF(データ整理!T190>5,データ整理!T190-5,0)","v":44.860419999999998},{"$f":"U191+IF(データ整理!U190>5,データ整理!U190-5,0)","v":64.539429999999996},null,null,null,"2018-10-06",{"$f":"Z191+IF(データ整理!Z190>5,データ整理!Z190-5,0)","v":64.539429999999996},{"$f":"AA191+IF(データ整理!AA190>5,データ整理!AA190-5,0)","v":45.787259999999996}]
["2014-10-07",{"$f":"B192+IF(データ整理!B191>5,データ整理!B191-5,0)","v":57.318730000000002},{"$f":"C192+IF(データ整理!C191>5,データ整理!C191-5,0)","v":48.095680000000002},{"$f":"D192+IF(データ整理!D191>5,データ整理!D191-5,0)","v":55.583260000000003},{"$f":"E192+IF(データ整理!E191>5,データ整理!E191-5,0)","v":54.462319999999998},{"$f":"F192+IF(データ整理!F191>5,データ整理!F191-5,0)","v":57.013870000000004},{"$f":"G192+IF(データ整理!G191>5,データ整理!G191-5,0)","v":72.703569999999999},{"$f":"H192+IF(データ整理!H191>5,データ整理!H191-5,0)","v":81.254219999999989},{"$f":"I192+IF(データ整理!I191>5,データ整理!I191-5,0)","v":48.518169999999991},{"$f":"J192+IF(データ整理!J191>5,データ整理!J191-5,0)","v":30.488119999999995},{"$f":"K192+IF(データ整理!K191>5,データ整理!K191-5,0)","v":83.810839999999999},{"$f":"L192+IF(データ整理!L191>5,データ整理!L191-5,0)","v":43.617090000000005},{"$f":"M192+IF(データ整理!M191>5,データ整理!M191-5,0)","v":78.004319999999993},{"$f":"N192+IF(データ整理!N191>5,データ整理!N191-5,0)","v":68.039419999999993},{"$f":"O192+IF(データ整理!O191>5,データ整理!O191-5,0)","v":57.280789999999996},{"$f":"P192+IF(データ整理!P191>5,データ整理!P191-5,0)","v":56.265509999999999},{"$f":"Q192+IF(データ整理!Q191>5,データ整理!Q191-5,0)","v":45.111969999999999},{"$f":"R192+IF(データ整理!R191>5,データ整理!R191-5,0)","v":41.910849999999996},{"$f":"S192+IF(データ整理!S191>5,データ整理!S191-5,0)","v":35.852760000000004},{"$f":"T192+IF(データ整理!T191>5,データ整理!T191-5,0)","v":40.251039999999996},{"$f":"U192+IF(データ整理!U191>5,データ整理!U191-5,0)","v":57.790030000000002},null,null,null,"2018-10-07",{"$f":"Z192+IF(データ整理!Z191>5,データ整理!Z191-5,0)","v":57.790030000000002},{"$f":"AA192+IF(データ整理!AA191>5,データ整理!AA191-5,0)","v":41.544889999999995}]
["2014-10-08",{"$f":"B193+IF(データ整理!B192>5,データ整理!B192-5,0)","v":51.477330000000002},{"$f":"C193+IF(データ整理!C192>5,データ整理!C192-5,0)","v":44.614809999999999},{"$f":"D193+IF(データ整理!D192>5,データ整理!D192-5,0)","v":52.270990000000005},{"$f":"E193+IF(データ整理!E192>5,データ整理!E192-5,0)","v":48.317819999999998},{"$f":"F193+IF(データ整理!F192>5,データ整理!F192-5,0)","v":55.504460000000002},{"$f":"G193+IF(データ整理!G192>5,データ整理!G192-5,0)","v":64.002070000000003},{"$f":"H193+IF(データ整理!H192>5,データ整理!H192-5,0)","v":76.550969999999992},{"$f":"I193+IF(データ整理!I192>5,データ整理!I192-5,0)","v":43.717649999999992},{"$f":"J193+IF(データ整理!J192>5,データ整理!J192-5,0)","v":24.499219999999998},{"$f":"K193+IF(データ整理!K192>5,データ整理!K192-5,0)","v":80.4041},{"$f":"L193+IF(データ整理!L192>5,データ整理!L192-5,0)","v":41.873490000000004},{"$f":"M193+IF(データ整理!M192>5,データ整理!M192-5,0)","v":72.206619999999987},{"$f":"N193+IF(データ整理!N192>5,データ整理!N192-5,0)","v":64.441789999999997},{"$f":"O193+IF(データ整理!O192>5,データ整理!O192-5,0)","v":52.679819999999992},{"$f":"P193+IF(データ整理!P192>5,データ整理!P192-5,0)","v":48.429009999999998},{"$f":"Q193+IF(データ整理!Q192>5,データ整理!Q192-5,0)","v":45.111969999999999},{"$f":"R193+IF(データ整理!R192>5,データ整理!R192-5,0)","v":38.314859999999996},{"$f":"S193+IF(データ整理!S192>5,データ整理!S192-5,0)","v":35.223880000000001},{"$f":"T193+IF(データ整理!T192>5,データ整理!T192-5,0)","v":33.998539999999998},{"$f":"U193+IF(データ整理!U192>5,データ整理!U192-5,0)","v":52.037330000000004},null,null,null,"2018-10-08",{"$f":"Z193+IF(データ整理!Z192>5,データ整理!Z192-5,0)","v":52.037330000000004},{"$f":"AA193+IF(データ整理!AA192>5,データ整理!AA192-5,0)","v":37.490769999999998}]
["2014-10-09",{"$f":"B194+IF(データ整理!B193>5,データ整理!B193-5,0)","v":47.119320000000002},{"$f":"C194+IF(データ整理!C193>5,データ整理!C193-5,0)","v":37.94811},{"$f":"D194+IF(データ整理!D193>5,データ整理!D193-5,0)","v":50.781170000000003},{"$f":"E194+IF(データ整理!E193>5,データ整理!E193-5,0)","v":43.564149999999998},{"$f":"F194+IF(データ整理!F193>5,データ整理!F193-5,0)","v":52.873339999999999},{"$f":"G194+IF(データ整理!G193>5,データ整理!G193-5,0)","v":53.944369999999999},{"$f":"H194+IF(データ整理!H193>5,データ整理!H193-5,0)","v":70.621569999999991},{"$f":"I194+IF(データ整理!I193>5,データ整理!I193-5,0)","v":40.764579999999995},{"$f":"J194+IF(データ整理!J193>5,データ整理!J193-5,0)","v":19.844949999999997},{"$f":"K194+IF(データ整理!K193>5,データ整理!K193-5,0)","v":79.42183},{"$f":"L194+IF(データ整理!L193>5,データ整理!L193-5,0)","v":40.993740000000003},{"$f":"M194+IF(データ整理!M193>5,データ整理!M193-5,0)","v":66.179619999999986},{"$f":"N194+IF(データ整理!N193>5,データ整理!N193-5,0)","v":61.661339999999996},{"$f":"O194+IF(データ整理!O193>5,データ整理!O193-5,0)","v":50.312069999999991},{"$f":"P194+IF(データ整理!P193>5,データ整理!P193-5,0)","v":40.599609999999998},{"$f":"Q194+IF(データ整理!Q193>5,データ整理!Q193-5,0)","v":44.538489999999996},{"$f":"R194+IF(データ整理!R193>5,データ整理!R193-5,0)","v":35.499899999999997},{"$f":"S194+IF(データ整理!S193>5,データ整理!S193-5,0)","v":31.2316},{"$f":"T194+IF(データ整理!T193>5,データ整理!T193-5,0)","v":24.982340000000001},{"$f":"U194+IF(データ整理!U193>5,データ整理!U193-5,0)","v":45.465130000000002},null,null,null,"2018-10-09",{"$f":"Z194+IF(データ整理!Z193>5,データ整理!Z193-5,0)","v":45.465130000000002},{"$f":"AA194+IF(データ整理!AA193>5,データ整理!AA193-5,0)","v":33.62003}]
["2014-10-10",{"$f":"B195+IF(データ整理!B194>5,データ整理!B194-5,0)","v":45.99118},{"$f":"C195+IF(データ整理!C194>5,データ整理!C194-5,0)","v":28.870709999999995},{"$f":"D195+IF(データ整理!D194>5,データ整理!D194-5,0)","v":49.172260000000001},{"$f":"E195+IF(データ整理!E194>5,データ整理!E194-5,0)","v":40.646470000000001},{"$f":"F195+IF(データ整理!F194>5,データ整理!F194-5,0)","v":47.550739999999998},{"$f":"G195+IF(データ整理!G194>5,データ整理!G194-5,0)","v":46.571869999999997},{"$f":"H195+IF(データ整理!H194>5,データ整理!H194-5,0)","v":67.650399999999991},{"$f":"I195+IF(データ整理!I194>5,データ整理!I194-5,0)","v":36.529089999999997},{"$f":"J195+IF(データ整理!J194>5,データ整理!J194-5,0)","v":16.993839999999999},{"$f":"K195+IF(データ整理!K194>5,データ整理!K194-5,0)","v":76.553300000000007},{"$f":"L195+IF(データ整理!L194>5,データ整理!L194-5,0)","v":39.899210000000004},{"$f":"M195+IF(データ整理!M194>5,データ整理!M194-5,0)","v":58.656019999999991},{"$f":"N195+IF(データ整理!N194>5,データ整理!N194-5,0)","v":56.801819999999999},{"$f":"O195+IF(データ整理!O194>5,データ整理!O194-5,0)","v":46.789249999999996},{"$f":"P195+IF(データ整理!P194>5,データ整理!P194-5,0)","v":37.78763},{"$f":"Q195+IF(データ整理!Q194>5,データ整理!Q194-5,0)","v":41.392409999999998},{"$f":"R195+IF(データ整理!R194>5,データ整理!R194-5,0)","v":31.503830000000001},{"$f":"S195+IF(データ整理!S194>5,データ整理!S194-5,0)","v":27.725170000000002},{"$f":"T195+IF(データ整理!T194>5,データ整理!T194-5,0)","v":17.65204},{"$f":"U195+IF(データ整理!U194>5,データ整理!U194-5,0)","v":40.814590000000003},null,null,null,"2018-10-10",{"$f":"Z195+IF(データ整理!Z194>5,データ整理!Z194-5,0)","v":40.814590000000003},{"$f":"AA195+IF(データ整理!AA194>5,データ整理!AA194-5,0)","v":29.933260000000001}]
["2014-10-11",{"$f":"B196+IF(データ整理!B195>5,データ整理!B195-5,0)","v":43.594610000000003},{"$f":"C196+IF(データ整理!C195>5,データ整理!C195-5,0)","v":24.311059999999998},{"$f":"D196+IF(データ整理!D195>5,データ整理!D195-5,0)","v":46.425000000000004},{"$f":"E196+IF(データ整理!E195>5,データ整理!E195-5,0)","v":39.175460000000001},{"$f":"F196+IF(データ整理!F195>5,データ整理!F195-5,0)","v":40.409739999999999},{"$f":"G196+IF(データ整理!G195>5,データ整理!G195-5,0)","v":41.694109999999995},{"$f":"H196+IF(データ整理!H195>5,データ整理!H195-5,0)","v":64.92837999999999},{"$f":"I196+IF(データ整理!I195>5,データ整理!I195-5,0)","v":29.665089999999999},{"$f":"J196+IF(データ整理!J195>5,データ整理!J195-5,0)","v":14.284479999999999},{"$f":"K196+IF(データ整理!K195>5,データ整理!K195-5,0)","v":68.867800000000003},{"$f":"L196+IF(データ整理!L195>5,データ整理!L195-5,0)","v":39.149650000000001},{"$f":"M196+IF(データ整理!M195>5,データ整理!M195-5,0)","v":50.816619999999993},{"$f":"N196+IF(データ整理!N195>5,データ整理!N195-5,0)","v":51.15842},{"$f":"O196+IF(データ整理!O195>5,データ整理!O195-5,0)","v":44.266329999999996},{"$f":"P196+IF(データ整理!P195>5,データ整理!P195-5,0)","v":34.405540000000002},{"$f":"Q196+IF(データ整理!Q195>5,データ整理!Q195-5,0)","v":37.373519999999999},{"$f":"R196+IF(データ整理!R195>5,データ整理!R195-5,0)","v":26.161430000000003},{"$f":"S196+IF(データ整理!S195>5,データ整理!S195-5,0)","v":27.725170000000002},{"$f":"T196+IF(データ整理!T195>5,データ整理!T195-5,0)","v":14.365729999999999},{"$f":"U196+IF(データ整理!U195>5,データ整理!U195-5,0)","v":37.849220000000003},null,null,null,"2018-10-11",{"$f":"Z196+IF(データ整理!Z195>5,データ整理!Z195-5,0)","v":37.849220000000003},{"$f":"AA196+IF(データ整理!AA195>5,データ整理!AA195-5,0)","v":26.43364}]
["2014-10-12",{"$f":"B197+IF(データ整理!B196>5,データ整理!B196-5,0)","v":39.076090000000001},{"$f":"C197+IF(データ整理!C196>5,データ整理!C196-5,0)","v":20.11177},{"$f":"D197+IF(データ整理!D196>5,データ整理!D196-5,0)","v":43.869290000000007},{"$f":"E197+IF(データ整理!E196>5,データ整理!E196-5,0)","v":35.142800000000001},{"$f":"F197+IF(データ整理!F196>5,データ整理!F196-5,0)","v":32.854640000000003},{"$f":"G197+IF(データ整理!G196>5,データ整理!G196-5,0)","v":35.455109999999998},{"$f":"H197+IF(データ整理!H196>5,データ整理!H196-5,0)","v":60.113479999999996},{"$f":"I197+IF(データ整理!I196>5,データ整理!I196-5,0)","v":23.069890000000001},{"$f":"J197+IF(データ整理!J196>5,データ整理!J196-5,0)","v":11.409179999999999},{"$f":"K197+IF(データ整理!K196>5,データ整理!K196-5,0)","v":63.0914},{"$f":"L197+IF(データ整理!L196>5,データ整理!L196-5,0)","v":38.616309999999999},{"$f":"M197+IF(データ整理!M196>5,データ整理!M196-5,0)","v":41.944219999999994},{"$f":"N197+IF(データ整理!N196>5,データ整理!N196-5,0)","v":50.049199999999999},{"$f":"O197+IF(データ整理!O196>5,データ整理!O196-5,0)","v":41.016569999999994},{"$f":"P197+IF(データ整理!P196>5,データ整理!P196-5,0)","v":29.636610000000005},{"$f":"Q197+IF(データ整理!Q196>5,データ整理!Q196-5,0)","v":34.73939},{"$f":"R197+IF(データ整理!R196>5,データ整理!R196-5,0)","v":21.414020000000001},{"$f":"S197+IF(データ整理!S196>5,データ整理!S196-5,0)","v":26.592400000000001},{"$f":"T197+IF(データ整理!T196>5,データ整理!T196-5,0)","v":13.798629999999999},{"$f":"U197+IF(データ整理!U196>5,データ整理!U196-5,0)","v":30.463620000000002},null,null,null,{"$f":"Y195+1","v":"2018-10-12"},{"$f":"Z197+IF(データ整理!Z196>5,データ整理!Z196-5,0)","v":30.463620000000002},{"$f":"AA197+IF(データ整理!AA196>5,データ整理!AA196-5,0)","v":23.12697}]
["2014-10-13",{"$f":"B198+IF(データ整理!B197>5,データ整理!B197-5,0)","v":31.639690000000002},{"$f":"C198+IF(データ整理!C197>5,データ整理!C197-5,0)","v":18.342179999999999},{"$f":"D198+IF(データ整理!D197>5,データ整理!D197-5,0)","v":37.586690000000004},{"$f":"E198+IF(データ整理!E197>5,データ整理!E197-5,0)","v":27.800799999999999},{"$f":"F198+IF(データ整理!F197>5,データ整理!F197-5,0)","v":27.82104},{"$f":"G198+IF(データ整理!G197>5,データ整理!G197-5,0)","v":26.355109999999996},{"$f":"H198+IF(データ整理!H197>5,データ整理!H197-5,0)","v":55.750349999999997},{"$f":"I198+IF(データ整理!I197>5,データ整理!I197-5,0)","v":20.803790000000003},{"$f":"J198+IF(データ整理!J197>5,データ整理!J197-5,0)","v":11.409179999999999},{"$f":"K198+IF(データ整理!K197>5,データ整理!K197-5,0)","v":58.445729999999998},{"$f":"L198+IF(データ整理!L197>5,データ整理!L197-5,0)","v":36.242100000000001},{"$f":"M198+IF(データ整理!M197>5,データ整理!M197-5,0)","v":32.621219999999994},{"$f":"N198+IF(データ整理!N197>5,データ整理!N197-5,0)","v":49.531189999999995},{"$f":"O198+IF(データ整理!O197>5,データ整理!O197-5,0)","v":36.858149999999995},{"$f":"P198+IF(データ整理!P197>5,データ整理!P197-5,0)","v":22.791710000000002},{"$f":"Q198+IF(データ整理!Q197>5,データ整理!Q197-5,0)","v":31.278200000000002},{"$f":"R198+IF(データ整理!R197>5,データ整理!R197-5,0)","v":17.818200000000001},{"$f":"S198+IF(データ整理!S197>5,データ整理!S197-5,0)","v":26.592400000000001},{"$f":"T198+IF(データ整理!T197>5,データ整理!T197-5,0)","v":13.128329999999998},{"$f":"U198+IF(データ整理!U197>5,データ整理!U197-5,0)","v":25.558030000000002},null,null,null,"2018-10-13",{"$f":"Z198+IF(データ整理!Z197>5,データ整理!Z197-5,0)","v":25.558030000000002},{"$f":"AA198+IF(データ整理!AA197>5,データ整理!AA197-5,0)","v":20.022349999999999}]
["2014-10-14",{"$f":"B199+IF(データ整理!B198>5,データ整理!B198-5,0)","v":27.39414},{"$f":"C199+IF(データ整理!C198>5,データ整理!C198-5,0)","v":17.58672},{"$f":"D199+IF(データ整理!D198>5,データ整理!D198-5,0)","v":31.257890000000003},{"$f":"E199+IF(データ整理!E198>5,データ整理!E198-5,0)","v":21.797899999999998},{"$f":"F199+IF(データ整理!F198>5,データ整理!F198-5,0)","v":26.523569999999999},{"$f":"G199+IF(データ整理!G198>5,データ整理!G198-5,0)","v":22.244589999999999},{"$f":"H199+IF(データ整理!H198>5,データ整理!H198-5,0)","v":49.768849999999993},{"$f":"I199+IF(データ整理!I198>5,データ整理!I198-5,0)","v":20.803790000000003},{"$f":"J199+IF(データ整理!J198>5,データ整理!J198-5,0)","v":11.409179999999999},{"$f":"K199+IF(データ整理!K198>5,データ整理!K198-5,0)","v":50.124629999999996},{"$f":"L199+IF(データ整理!L198>5,データ整理!L198-5,0)","v":35.821300000000001},{"$f":"M199+IF(データ整理!M198>5,データ整理!M198-5,0)","v":27.887449999999998},{"$f":"N199+IF(データ整理!N198>5,データ整理!N198-5,0)","v":46.162429999999993},{"$f":"O199+IF(データ整理!O198>5,データ整理!O198-5,0)","v":33.671379999999999},{"$f":"P199+IF(データ整理!P198>5,データ整理!P198-5,0)","v":20.153950000000002},{"$f":"Q199+IF(データ整理!Q198>5,データ整理!Q198-5,0)","v":28.266370000000002},{"$f":"R199+IF(データ整理!R198>5,データ整理!R198-5,0)","v":17.818200000000001},{"$f":"S199+IF(データ整理!S198>5,データ整理!S198-5,0)","v":26.592400000000001},{"$f":"T199+IF(データ整理!T198>5,データ整理!T198-5,0)","v":13.128329999999998},{"$f":"U199+IF(データ整理!U198>5,データ整理!U198-5,0)","v":23.444520000000001},null,null,null,"2018-10-14",{"$f":"Z199+IF(データ整理!Z198>5,データ整理!Z198-5,0)","v":23.444520000000001},{"$f":"AA199+IF(データ整理!AA198>5,データ整理!AA198-5,0)","v":17.129069999999999}]
["2014-10-15",{"$f":"B200+IF(データ整理!B199>5,データ整理!B199-5,0)","v":26.093440000000001},{"$f":"C200+IF(データ整理!C199>5,データ整理!C199-5,0)","v":15.698429999999998},{"$f":"D200+IF(データ整理!D199>5,データ整理!D199-5,0)","v":26.129290000000001},{"$f":"E200+IF(データ整理!E199>5,データ整理!E199-5,0)","v":18.73817},{"$f":"F200+IF(データ整理!F199>5,データ整理!F199-5,0)","v":26.523569999999999},{"$f":"G200+IF(データ整理!G199>5,データ整理!G199-5,0)","v":21.627369999999999},{"$f":"H200+IF(データ整理!H199>5,データ整理!H199-5,0)","v":41.059549999999994},{"$f":"I200+IF(データ整理!I199>5,データ整理!I199-5,0)","v":19.893580000000004},{"$f":"J200+IF(データ整理!J199>5,データ整理!J199-5,0)","v":11.409179999999999},{"$f":"K200+IF(データ整理!K199>5,データ整理!K199-5,0)","v":40.395929999999993},{"$f":"L200+IF(データ整理!L199>5,データ整理!L199-5,0)","v":35.821300000000001},{"$f":"M200+IF(データ整理!M199>5,データ整理!M199-5,0)","v":26.865699999999997},{"$f":"N200+IF(データ整理!N199>5,データ整理!N199-5,0)","v":41.758669999999995},{"$f":"O200+IF(データ整理!O199>5,データ整理!O199-5,0)","v":28.360079999999996},{"$f":"P200+IF(データ整理!P199>5,データ整理!P199-5,0)","v":15.98856},{"$f":"Q200+IF(データ整理!Q199>5,データ整理!Q199-5,0)","v":28.266370000000002},{"$f":"R200+IF(データ整理!R199>5,データ整理!R199-5,0)","v":17.818200000000001},{"$f":"S200+IF(データ整理!S199>5,データ整理!S199-5,0)","v":26.592400000000001},{"$f":"T200+IF(データ整理!T199>5,データ整理!T199-5,0)","v":11.77366},{"$f":"U200+IF(データ整理!U199>5,データ整理!U199-5,0)","v":20.300660000000001},null,null,null,"2018-10-15",{"$f":"Z200+IF(データ整理!Z199>5,データ整理!Z199-5,0)","v":20.300660000000001},{"$f":"AA200+IF(データ整理!AA199>5,データ整理!AA199-5,0)","v":14.455410000000001}]
["2014-10-16",{"$f":"B201+IF(データ整理!B200>5,データ整理!B200-5,0)","v":25.500510000000002},{"$f":"C201+IF(データ整理!C200>5,データ整理!C200-5,0)","v":13.062749999999998},{"$f":"D201+IF(データ整理!D200>5,データ整理!D200-5,0)","v":24.73564},{"$f":"E201+IF(データ整理!E200>5,データ整理!E200-5,0)","v":15.366429999999999},{"$f":"F201+IF(データ整理!F200>5,データ整理!F200-5,0)","v":25.62865},{"$f":"G201+IF(データ整理!G200>5,データ整理!G200-5,0)","v":16.668990000000001},{"$f":"H201+IF(データ整理!H200>5,データ整理!H200-5,0)","v":35.422849999999997},{"$f":"I201+IF(データ整理!I200>5,データ整理!I200-5,0)","v":16.420610000000003},{"$f":"J201+IF(データ整理!J200>5,データ整理!J200-5,0)","v":11.409179999999999},{"$f":"K201+IF(データ整理!K200>5,データ整理!K200-5,0)","v":34.022929999999995},{"$f":"L201+IF(データ整理!L200>5,データ整理!L200-5,0)","v":35.821300000000001},{"$f":"M201+IF(データ整理!M200>5,データ整理!M200-5,0)","v":25.082199999999997},{"$f":"N201+IF(データ整理!N200>5,データ整理!N200-5,0)","v":35.488869999999999},{"$f":"O201+IF(データ整理!O200>5,データ整理!O200-5,0)","v":25.447029999999998},{"$f":"P201+IF(データ整理!P200>5,データ整理!P200-5,0)","v":13.694739999999999},{"$f":"Q201+IF(データ整理!Q200>5,データ整理!Q200-5,0)","v":28.266370000000002},{"$f":"R201+IF(データ整理!R200>5,データ整理!R200-5,0)","v":17.818200000000001},{"$f":"S201+IF(データ整理!S200>5,データ整理!S200-5,0)","v":24.006800000000002},{"$f":"T201+IF(データ整理!T200>5,データ整理!T200-5,0)","v":11.77366},{"$f":"U201+IF(データ整理!U200>5,データ整理!U200-5,0)","v":15.788749999999999},null,null,null,"2018-10-16",{"$f":"Z201+IF(データ整理!Z200>5,データ整理!Z200-5,0)","v":15.788749999999999},{"$f":"AA201+IF(データ整理!AA200>5,データ整理!AA200-5,0)","v":12.01079}]
["2014-10-17",{"$f":"B202+IF(データ整理!B201>5,データ整理!B201-5,0)","v":25.500510000000002},{"$f":"C202+IF(データ整理!C201>5,データ整理!C201-5,0)","v":13.062749999999998},{"$f":"D202+IF(データ整理!D201>5,データ整理!D201-5,0)","v":19.58764},{"$f":"E202+IF(データ整理!E201>5,データ整理!E201-5,0)","v":10.166129999999999},{"$f":"F202+IF(データ整理!F201>5,データ整理!F201-5,0)","v":23.941780000000001},{"$f":"G202+IF(データ整理!G201>5,データ整理!G201-5,0)","v":15.01299},{"$f":"H202+IF(データ整理!H201>5,データ整理!H201-5,0)","v":31.863319999999995},{"$f":"I202+IF(データ整理!I201>5,データ整理!I201-5,0)","v":16.420610000000003},{"$f":"J202+IF(データ整理!J201>5,データ整理!J201-5,0)","v":11.409179999999999},{"$f":"K202+IF(データ整理!K201>5,データ整理!K201-5,0)","v":34.022929999999995},{"$f":"L202+IF(データ整理!L201>5,データ整理!L201-5,0)","v":35.821300000000001},{"$f":"M202+IF(データ整理!M201>5,データ整理!M201-5,0)","v":19.970799999999997},{"$f":"N202+IF(データ整理!N201>5,データ整理!N201-5,0)","v":26.538769999999996},{"$f":"O202+IF(データ整理!O201>5,データ整理!O201-5,0)","v":21.925299999999996},{"$f":"P202+IF(データ整理!P201>5,データ整理!P201-5,0)","v":13.694739999999999},{"$f":"Q202+IF(データ整理!Q201>5,データ整理!Q201-5,0)","v":28.241900000000001},{"$f":"R202+IF(データ整理!R201>5,データ整理!R201-5,0)","v":15.830540000000001},{"$f":"S202+IF(データ整理!S201>5,データ整理!S201-5,0)","v":14.853100000000001},{"$f":"T202+IF(データ整理!T201>5,データ整理!T201-5,0)","v":11.77366},{"$f":"U202+IF(データ整理!U201>5,データ整理!U201-5,0)","v":11.950299999999999},null,null,null,"2018-10-17",{"$f":"Z202+IF(データ整理!Z201>5,データ整理!Z201-5,0)","v":11.950299999999999},{"$f":"AA202+IF(データ整理!AA201>5,データ整理!AA201-5,0)","v":9.8043200000000006}]
["2014-10-18",{"$f":"B203+IF(データ整理!B202>5,データ整理!B202-5,0)","v":25.500510000000002},{"$f":"C203+IF(データ整理!C202>5,データ整理!C202-5,0)","v":8.5479999999999983},{"$f":"D203+IF(データ整理!D202>5,データ整理!D202-5,0)","v":17.329910000000002},{"$f":"E203+IF(データ整理!E202>5,データ整理!E202-5,0)","v":7.1170900000000001},{"$f":"F203+IF(データ整理!F202>5,データ整理!F202-5,0)","v":23.941780000000001},{"$f":"G203+IF(データ整理!G202>5,データ整理!G202-5,0)","v":15.01299},{"$f":"H203+IF(データ整理!H202>5,データ整理!H202-5,0)","v":28.918099999999995},{"$f":"I203+IF(データ整理!I202>5,データ整理!I202-5,0)","v":13.448820000000001},{"$f":"J203+IF(データ整理!J202>5,データ整理!J202-5,0)","v":11.409179999999999},{"$f":"K203+IF(データ整理!K202>5,データ整理!K202-5,0)","v":33.365049999999997},{"$f":"L203+IF(データ整理!L202>5,データ整理!L202-5,0)","v":32.947850000000003},{"$f":"M203+IF(データ整理!M202>5,データ整理!M202-5,0)","v":16.544309999999999},{"$f":"N203+IF(データ整理!N202>5,データ整理!N202-5,0)","v":23.153529999999996},{"$f":"O203+IF(データ整理!O202>5,データ整理!O202-5,0)","v":16.446999999999996},{"$f":"P203+IF(データ整理!P202>5,データ整理!P202-5,0)","v":13.694739999999999},{"$f":"Q203+IF(データ整理!Q202>5,データ整理!Q202-5,0)","v":25.423180000000002},{"$f":"R203+IF(データ整理!R202>5,データ整理!R202-5,0)","v":10.269640000000001},{"$f":"S203+IF(データ整理!S202>5,データ整理!S202-5,0)","v":7.8610000000000007},{"$f":"T203+IF(データ整理!T202>5,データ整理!T202-5,0)","v":11.77366},{"$f":"U203+IF(データ整理!U202>5,データ整理!U202-5,0)","v":11.950299999999999},null,null,null,"2018-10-18",{"$f":"Z203+IF(データ整理!Z202>5,データ整理!Z202-5,0)","v":11.950299999999999},{"$f":"AA203+IF(データ整理!AA202>5,データ整理!AA202-5,0)","v":7.8397499999999996}]
["2014-10-19",{"$f":"B204+IF(データ整理!B203>5,データ整理!B203-5,0)","v":25.500510000000002},{"$f":"C204+IF(データ整理!C203>5,データ整理!C203-5,0)","v":8.5479999999999983},{"$f":"D204+IF(データ整理!D203>5,データ整理!D203-5,0)","v":17.053240000000002},{"$f":"E204+IF(データ整理!E203>5,データ整理!E203-5,0)","v":7.1170900000000001},{"$f":"F204+IF(データ整理!F203>5,データ整理!F203-5,0)","v":23.119310000000002},{"$f":"G204+IF(データ整理!G203>5,データ整理!G203-5,0)","v":13.771430000000001},{"$f":"H204+IF(データ整理!H203>5,データ整理!H203-5,0)","v":28.918099999999995},{"$f":"I204+IF(データ整理!I203>5,データ整理!I203-5,0)","v":13.211110000000001},{"$f":"J204+IF(データ整理!J203>5,データ整理!J203-5,0)","v":11.409179999999999},{"$f":"K204+IF(データ整理!K203>5,データ整理!K203-5,0)","v":28.138349999999999},{"$f":"L204+IF(データ整理!L203>5,データ整理!L203-5,0)","v":26.873650000000001},{"$f":"M204+IF(データ整理!M203>5,データ整理!M203-5,0)","v":16.437729999999998},{"$f":"N204+IF(データ整理!N203>5,データ整理!N203-5,0)","v":23.107239999999997},{"$f":"O204+IF(データ整理!O203>5,データ整理!O203-5,0)","v":14.308439999999997},{"$f":"P204+IF(データ整理!P203>5,データ整理!P203-5,0)","v":13.694739999999999},{"$f":"Q204+IF(データ整理!Q203>5,データ整理!Q203-5,0)","v":24.605900000000002},{"$f":"R204+IF(データ整理!R203>5,データ整理!R203-5,0)","v":6.494860000000001},{"$f":"S204+IF(データ整理!S203>5,データ整理!S203-5,0)","v":3.1755700000000004},{"$f":"T204+IF(データ整理!T203>5,データ整理!T203-5,0)","v":11.77366},{"$f":"U204+IF(データ整理!U203>5,データ整理!U203-5,0)","v":11.950299999999999},null,null,null,"2018-10-19",{"$f":"Z204+IF(データ整理!Z203>5,データ整理!Z203-5,0)","v":11.950299999999999},{"$f":"AA204+IF(データ整理!AA203>5,データ整理!AA203-5,0)","v":6.1143899999999993}]
["2014-10-20",{"$f":"B205+IF(データ整理!B204>5,データ整理!B204-5,0)","v":25.317820000000001},{"$f":"C205+IF(データ整理!C204>5,データ整理!C204-5,0)","v":8.5479999999999983},{"$f":"D205+IF(データ整理!D204>5,データ整理!D204-5,0)","v":17.053240000000002},{"$f":"E205+IF(データ整理!E204>5,データ整理!E204-5,0)","v":7.1170900000000001},{"$f":"F205+IF(データ整理!F204>5,データ整理!F204-5,0)","v":21.517610000000001},{"$f":"G205+IF(データ整理!G204>5,データ整理!G204-5,0)","v":10.26698},{"$f":"H205+IF(データ整理!H204>5,データ整理!H204-5,0)","v":28.918099999999995},{"$f":"I205+IF(データ整理!I204>5,データ整理!I204-5,0)","v":9.7426500000000011},{"$f":"J205+IF(データ整理!J204>5,データ整理!J204-5,0)","v":11.409179999999999},{"$f":"K205+IF(データ整理!K204>5,データ整理!K204-5,0)","v":22.894349999999999},{"$f":"L205+IF(データ整理!L204>5,データ整理!L204-5,0)","v":22.258410000000001},{"$f":"M205+IF(データ整理!M204>5,データ整理!M204-5,0)","v":15.606359999999999},{"$f":"N205+IF(データ整理!N204>5,データ整理!N204-5,0)","v":21.171869999999998},{"$f":"O205+IF(データ整理!O204>5,データ整理!O204-5,0)","v":14.308439999999997},{"$f":"P205+IF(データ整理!P204>5,データ整理!P204-5,0)","v":13.694739999999999},{"$f":"Q205+IF(データ整理!Q204>5,データ整理!Q204-5,0)","v":22.916690000000003},{"$f":"R205+IF(データ整理!R204>5,データ整理!R204-5,0)","v":6.494860000000001},{"$f":"S205+IF(データ整理!S204>5,データ整理!S204-5,0)","v":0.54664000000000001},{"$f":"T205+IF(データ整理!T204>5,データ整理!T204-5,0)","v":11.77366},{"$f":"U205+IF(データ整理!U204>5,データ整理!U204-5,0)","v":11.950299999999999},null,null,null,"2018-10-20",{"$f":"Z205+IF(データ整理!Z204>5,データ整理!Z204-5,0)","v":11.950299999999999},{"$f":"AA205+IF(データ整理!AA204>5,データ整理!AA204-5,0)","v":4.6235899999999992}]
["2014-10-21",{"$f":"B206+IF(データ整理!B205>5,データ整理!B205-5,0)","v":24.974640000000001},{"$f":"C206+IF(データ整理!C205>5,データ整理!C205-5,0)","v":8.2000199999999985},{"$f":"D206+IF(データ整理!D205>5,データ整理!D205-5,0)","v":17.053240000000002},{"$f":"E206+IF(データ整理!E205>5,データ整理!E205-5,0)","v":7.1170900000000001},{"$f":"F206+IF(データ整理!F205>5,データ整理!F205-5,0)","v":20.68262},{"$f":"G206+IF(データ整理!G205>5,データ整理!G205-5,0)","v":5.06168},{"$f":"H206+IF(データ整理!H205>5,データ整理!H205-5,0)","v":27.347699999999996},{"$f":"I206+IF(データ整理!I205>5,データ整理!I205-5,0)","v":7.9761600000000001},{"$f":"J206+IF(データ整理!J205>5,データ整理!J205-5,0)","v":8.1729699999999994},{"$f":"K206+IF(データ整理!K205>5,データ整理!K205-5,0)","v":18.777899999999999},{"$f":"L206+IF(データ整理!L205>5,データ整理!L205-5,0)","v":17.264150000000001},{"$f":"M206+IF(データ整理!M205>5,データ整理!M205-5,0)","v":14.388919999999999},{"$f":"N206+IF(データ整理!N205>5,データ整理!N205-5,0)","v":21.118849999999998},{"$f":"O206+IF(データ整理!O205>5,データ整理!O205-5,0)","v":11.084419999999998},{"$f":"P206+IF(データ整理!P205>5,データ整理!P205-5,0)","v":13.63818},{"$f":"Q206+IF(データ整理!Q205>5,データ整理!Q205-5,0)","v":16.803490000000004},{"$f":"R206+IF(データ整理!R205>5,データ整理!R205-5,0)","v":6.494860000000001},{"$f":"S206+IF(データ整理!S205>5,データ整理!S205-5,0)","v":0.54664000000000001},{"$f":"T206+IF(データ整理!T205>5,データ整理!T205-5,0)","v":11.77366},{"$f":"U206+IF(データ整理!U205>5,データ整理!U205-5,0)","v":11.79233},null,null,null,"2018-10-21",{"$f":"Z206+IF(データ整理!Z205>5,データ整理!Z205-5,0)","v":11.79233},{"$f":"AA206+IF(データ整理!AA205>5,データ整理!AA205-5,0)","v":3.360199999999999}]
["2014-10-22",{"$f":"B207+IF(データ整理!B206>5,データ整理!B206-5,0)","v":22.56062},{"$f":"C207+IF(データ整理!C206>5,データ整理!C206-5,0)","v":5.5730799999999991},{"$f":"D207+IF(データ整理!D206>5,データ整理!D206-5,0)","v":12.566740000000001},{"$f":"E207+IF(データ整理!E206>5,データ整理!E206-5,0)","v":7.1170900000000001},{"$f":"F207+IF(データ整理!F206>5,データ整理!F206-5,0)","v":20.68262},{"$f":"G207+IF(データ整理!G206>5,データ整理!G206-5,0)","v":2.7527400000000002},{"$f":"H207+IF(データ整理!H206>5,データ整理!H206-5,0)","v":24.779809999999998},{"$f":"I207+IF(データ整理!I206>5,データ整理!I206-5,0)","v":7.9761600000000001},{"$f":"J207+IF(データ整理!J206>5,データ整理!J206-5,0)","v":7.587629999999999},{"$f":"K207+IF(データ整理!K206>5,データ整理!K206-5,0)","v":18.003769999999999},{"$f":"L207+IF(データ整理!L206>5,データ整理!L206-5,0)","v":13.762710000000002},{"$f":"M207+IF(データ整理!M206>5,データ整理!M206-5,0)","v":14.388919999999999},{"$f":"N207+IF(データ整理!N206>5,データ整理!N206-5,0)","v":19.439529999999998},{"$f":"O207+IF(データ整理!O206>5,データ整理!O206-5,0)","v":11.084419999999998},{"$f":"P207+IF(データ整理!P206>5,データ整理!P206-5,0)","v":10.995950000000001},{"$f":"Q207+IF(データ整理!Q206>5,データ整理!Q206-5,0)","v":16.803490000000004},{"$f":"R207+IF(データ整理!R206>5,データ整理!R206-5,0)","v":6.494860000000001},{"$f":"S207+IF(データ整理!S206>5,データ整理!S206-5,0)","v":0.54664000000000001},{"$f":"T207+IF(データ整理!T206>5,データ整理!T206-5,0)","v":7.7413499999999997},{"$f":"U207+IF(データ整理!U206>5,データ整理!U206-5,0)","v":10.98376},null,null,null,"2018-10-22",{"$f":"Z207+IF(データ整理!Z206>5,データ整理!Z206-5,0)","v":10.98376},{"$f":"AA207+IF(データ整理!AA206>5,データ整理!AA206-5,0)","v":2.3159899999999993}]
["2014-10-23",{"$f":"B208+IF(データ整理!B207>5,データ整理!B207-5,0)","v":19.125900000000001},{"$f":"C208+IF(データ整理!C207>5,データ整理!C207-5,0)","v":5.5730799999999991},{"$f":"D208+IF(データ整理!D207>5,データ整理!D207-5,0)","v":6.7176400000000012},{"$f":"E208+IF(データ整理!E207>5,データ整理!E207-5,0)","v":6.5727000000000002},{"$f":"F208+IF(データ整理!F207>5,データ整理!F207-5,0)","v":17.782640000000001},{"$f":"G208+IF(データ整理!G207>5,データ整理!G207-5,0)","v":0},{"$f":"H208+IF(データ整理!H207>5,データ整理!H207-5,0)","v":21.218019999999996},{"$f":"I208+IF(データ整理!I207>5,データ整理!I207-5,0)","v":7.9761600000000001},{"$f":"J208+IF(データ整理!J207>5,データ整理!J207-5,0)","v":3.9472199999999997},{"$f":"K208+IF(データ整理!K207>5,データ整理!K207-5,0)","v":15.22321},{"$f":"L208+IF(データ整理!L207>5,データ整理!L207-5,0)","v":12.601510000000001},{"$f":"M208+IF(データ整理!M207>5,データ整理!M207-5,0)","v":14.388919999999999},{"$f":"N208+IF(データ整理!N207>5,データ整理!N207-5,0)","v":15.014129999999998},{"$f":"O208+IF(データ整理!O207>5,データ整理!O207-5,0)","v":10.910339999999998},{"$f":"P208+IF(データ整理!P207>5,データ整理!P207-5,0)","v":10.995950000000001},{"$f":"Q208+IF(データ整理!Q207>5,データ整理!Q207-5,0)","v":16.803490000000004},{"$f":"R208+IF(データ整理!R207>5,データ整理!R207-5,0)","v":6.494860000000001},{"$f":"S208+IF(データ整理!S207>5,データ整理!S207-5,0)","v":0.54664000000000001},{"$f":"T208+IF(データ整理!T207>5,データ整理!T207-5,0)","v":5.60297},{"$f":"U208+IF(データ整理!U207>5,データ整理!U207-5,0)","v":10.98376},null,null,null,"2018-10-23",{"$f":"Z208+IF(データ整理!Z207>5,データ整理!Z207-5,0)","v":10.98376},{"$f":"AA208+IF(データ整理!AA207>5,データ整理!AA207-5,0)","v":1.481069999999999}]
["2014-10-24",{"$f":"B209+IF(データ整理!B208>5,データ整理!B208-5,0)","v":19.125900000000001},{"$f":"C209+IF(データ整理!C208>5,データ整理!C208-5,0)","v":5.5730799999999991},{"$f":"D209+IF(データ整理!D208>5,データ整理!D208-5,0)","v":3.4133700000000005},{"$f":"E209+IF(データ整理!E208>5,データ整理!E208-5,0)","v":4.7185300000000003},{"$f":"F209+IF(データ整理!F208>5,データ整理!F208-5,0)","v":12.851800000000001},{"$f":"G209+IF(データ整理!G208>5,データ整理!G208-5,0)","v":0},{"$f":"H209+IF(データ整理!H208>5,データ整理!H208-5,0)","v":17.555349999999997},{"$f":"I209+IF(データ整理!I208>5,データ整理!I208-5,0)","v":7.9761600000000001},{"$f":"J209+IF(データ整理!J208>5,データ整理!J208-5,0)","v":3.2522799999999998},{"$f":"K209+IF(データ整理!K208>5,データ整理!K208-5,0)","v":11.019069999999999},{"$f":"L209+IF(データ整理!L208>5,データ整理!L208-5,0)","v":12.601510000000001},{"$f":"M209+IF(データ整理!M208>5,データ整理!M208-5,0)","v":11.129489999999999},{"$f":"N209+IF(データ整理!N208>5,データ整理!N208-5,0)","v":10.051859999999998},{"$f":"O209+IF(データ整理!O208>5,データ整理!O208-5,0)","v":7.1406599999999996},{"$f":"P209+IF(データ整理!P208>5,データ整理!P208-5,0)","v":10.995950000000001},{"$f":"Q209+IF(データ整理!Q208>5,データ整理!Q208-5,0)","v":16.803490000000004},{"$f":"R209+IF(データ整理!R208>5,データ整理!R208-5,0)","v":3.9044000000000008},{"$f":"S209+IF(データ整理!S208>5,データ整理!S208-5,0)","v":0.54664000000000001},{"$f":"T209+IF(データ整理!T208>5,データ整理!T208-5,0)","v":5.60297},{"$f":"U209+IF(データ整理!U208>5,データ整理!U208-5,0)","v":9.7129200000000004},null,null,null,"2018-10-24",{"$f":"Z209+IF(データ整理!Z208>5,データ整理!Z208-5,0)","v":9.7129200000000004},{"$f":"AA209+IF(データ整理!AA208>5,データ整理!AA208-5,0)","v":0.84345999999999943}]
["2014-10-25",{"$f":"B210+IF(データ整理!B209>5,データ整理!B209-5,0)","v":19.00853},{"$f":"C210+IF(データ整理!C209>5,データ整理!C209-5,0)","v":5.5730799999999991},{"$f":"D210+IF(データ整理!D209>5,データ整理!D209-5,0)","v":1.9041000000000006},{"$f":"E210+IF(データ整理!E209>5,データ整理!E209-5,0)","v":4.2623600000000001},{"$f":"F210+IF(データ整理!F209>5,データ整理!F209-5,0)","v":12.851800000000001},{"$f":"G210+IF(データ整理!G209>5,データ整理!G209-5,0)","v":0},{"$f":"H210+IF(データ整理!H209>5,データ整理!H209-5,0)","v":12.606299999999999},{"$f":"I210+IF(データ整理!I209>5,データ整理!I209-5,0)","v":7.9761600000000001},{"$f":"J210+IF(データ整理!J209>5,データ整理!J209-5,0)","v":3.2522799999999998},{"$f":"K210+IF(データ整理!K209>5,データ整理!K209-5,0)","v":2.5914700000000002},{"$f":"L210+IF(データ整理!L209>5,データ整理!L209-5,0)","v":12.601510000000001},{"$f":"M210+IF(データ整理!M209>5,データ整理!M209-5,0)","v":3.5827899999999993},{"$f":"N210+IF(データ整理!N209>5,データ整理!N209-5,0)","v":6.9528099999999986},{"$f":"O210+IF(データ整理!O209>5,データ整理!O209-5,0)","v":7.1406599999999996},{"$f":"P210+IF(データ整理!P209>5,データ整理!P209-5,0)","v":10.451790000000001},{"$f":"Q210+IF(データ整理!Q209>5,データ整理!Q209-5,0)","v":16.537570000000002},{"$f":"R210+IF(データ整理!R209>5,データ整理!R209-5,0)","v":1.5712400000000004},{"$f":"S210+IF(データ整理!S209>5,データ整理!S209-5,0)","v":0.54664000000000001},{"$f":"T210+IF(データ整理!T209>5,データ整理!T209-5,0)","v":5.60297},{"$f":"U210+IF(データ整理!U209>5,データ整理!U209-5,0)","v":6.7308599999999998},null,null,null,"2018-10-25",{"$f":"Z210+IF(データ整理!Z209>5,データ整理!Z209-5,0)","v":6.7308599999999998},{"$f":"AA210+IF(データ整理!AA209>5,データ整理!AA209-5,0)","v":0.39077999999999946}]
["2014-10-26",{"$f":"B211+IF(データ整理!B210>5,データ整理!B210-5,0)","v":18.951360000000001},{"$f":"C211+IF(データ整理!C210>5,データ整理!C210-5,0)","v":2.2346599999999999},{"$f":"D211+IF(データ整理!D210>5,データ整理!D210-5,0)","v":1.9041000000000006},{"$f":"E211+IF(データ整理!E210>5,データ整理!E210-5,0)","v":3.3592200000000005},{"$f":"F211+IF(データ整理!F210>5,データ整理!F210-5,0)","v":9.4714700000000001},{"$f":"G211+IF(データ整理!G210>5,データ整理!G210-5,0)","v":0},{"$f":"H211+IF(データ整理!H210>5,データ整理!H210-5,0)","v":12.606299999999999},{"$f":"I211+IF(データ整理!I210>5,データ整理!I210-5,0)","v":7.9761600000000001},{"$f":"J211+IF(データ整理!J210>5,データ整理!J210-5,0)","v":3.2522799999999998},{"$f":"K211+IF(データ整理!K210>5,データ整理!K210-5,0)","v":0},{"$f":"L211+IF(データ整理!L210>5,データ整理!L210-5,0)","v":12.601510000000001},{"$f":"M211+IF(データ整理!M210>5,データ整理!M210-5,0)","v":0},{"$f":"N211+IF(データ整理!N210>5,データ整理!N210-5,0)","v":2.9335499999999994},{"$f":"O211+IF(データ整理!O210>5,データ整理!O210-5,0)","v":7.1406599999999996},{"$f":"P211+IF(データ整理!P210>5,データ整理!P210-5,0)","v":8.7938100000000006},{"$f":"Q211+IF(データ整理!Q210>5,データ整理!Q210-5,0)","v":10.52857},{"$f":"R211+IF(データ整理!R210>5,データ整理!R210-5,0)","v":1.5712400000000004},{"$f":"S211+IF(データ整理!S210>5,データ整理!S210-5,0)","v":0.54664000000000001},{"$f":"T211+IF(データ整理!T210>5,データ整理!T210-5,0)","v":2.46821},{"$f":"U211+IF(データ整理!U210>5,データ整理!U210-5,0)","v":4.2203599999999994},null,null,null,"2018-10-26",{"$f":"Z211+IF(データ整理!Z210>5,データ整理!Z210-5,0)","v":4.2203599999999994},{"$f":"AA211+IF(データ整理!AA210>5,データ整理!AA210-5,0)","v":0.11191999999999958}]
["2014-10-27",{"$f":"B212+IF(データ整理!B211>5,データ整理!B211-5,0)","v":16.277899999999999},{"$f":"C212+IF(データ整理!C211>5,データ整理!C211-5,0)","v":2.2346599999999999},{"$f":"D212+IF(データ整理!D211>5,データ整理!D211-5,0)","v":1.9041000000000006},{"$f":"E212+IF(データ整理!E211>5,データ整理!E211-5,0)","v":2.0609400000000004},{"$f":"F212+IF(データ整理!F211>5,データ整理!F211-5,0)","v":9.4714700000000001},{"$f":"G212+IF(データ整理!G211>5,データ整理!G211-5,0)","v":0},{"$f":"H212+IF(データ整理!H211>5,データ整理!H211-5,0)","v":11.5124},{"$f":"I212+IF(データ整理!I211>5,データ整理!I211-5,0)","v":7.9761600000000001},{"$f":"J212+IF(データ整理!J211>5,データ整理!J211-5,0)","v":1.8127800000000001},{"$f":"K212+IF(データ整理!K211>5,データ整理!K211-5,0)","v":0},{"$f":"L212+IF(データ整理!L211>5,データ整理!L211-5,0)","v":10.07769},{"$f":"M212+IF(データ整理!M211>5,データ整理!M211-5,0)","v":0},{"$f":"N212+IF(データ整理!N211>5,データ整理!N211-5,0)","v":2.9335499999999994},{"$f":"O212+IF(データ整理!O211>5,データ整理!O211-5,0)","v":6.5351199999999992},{"$f":"P212+IF(データ整理!P211>5,データ整理!P211-5,0)","v":5.7162000000000006},{"$f":"Q212+IF(データ整理!Q211>5,データ整理!Q211-5,0)","v":1.73977},{"$f":"R212+IF(データ整理!R211>5,データ整理!R211-5,0)","v":1.5712400000000004},{"$f":"S212+IF(データ整理!S211>5,データ整理!S211-5,0)","v":0},{"$f":"T212+IF(データ整理!T211>5,データ整理!T211-5,0)","v":2.46821},{"$f":"U212+IF(データ整理!U211>5,データ整理!U211-5,0)","v":3.8237699999999997},null,null,null,"2018-10-27",{"$f":"Z212+IF(データ整理!Z211>5,データ整理!Z211-5,0)","v":3.8237699999999997},{"$f":"AA212+IF(データ整理!AA211>5,データ整理!AA211-5,0)","v":0}]
["2014-10-28",{"$f":"B213+IF(データ整理!B212>5,データ整理!B212-5,0)","v":10.411999999999999},{"$f":"C213+IF(データ整理!C212>5,データ整理!C212-5,0)","v":2.2346599999999999},{"$f":"D213+IF(データ整理!D212>5,データ整理!D212-5,0)","v":1.5854300000000006},{"$f":"E213+IF(データ整理!E212>5,データ整理!E212-5,0)","v":0},{"$f":"F213+IF(データ整理!F212>5,データ整理!F212-5,0)","v":7.5377799999999997},{"$f":"G213+IF(データ整理!G212>5,データ整理!G212-5,0)","v":0},{"$f":"H213+IF(データ整理!H212>5,データ整理!H212-5,0)","v":7.7112299999999987},{"$f":"I213+IF(データ整理!I212>5,データ整理!I212-5,0)","v":7.9761600000000001},{"$f":"J213+IF(データ整理!J212>5,データ整理!J212-5,0)","v":1.1643499999999998},{"$f":"K213+IF(データ整理!K212>5,データ整理!K212-5,0)","v":0},{"$f":"L213+IF(データ整理!L212>5,データ整理!L212-5,0)","v":6.0632200000000003},{"$f":"M213+IF(データ整理!M212>5,データ整理!M212-5,0)","v":0},{"$f":"N213+IF(データ整理!N212>5,データ整理!N212-5,0)","v":2.9335499999999994},{"$f":"O213+IF(データ整理!O212>5,データ整理!O212-5,0)","v":6.5351199999999992},{"$f":"P213+IF(データ整理!P212>5,データ整理!P212-5,0)","v":5.7162000000000006},{"$f":"Q213+IF(データ整理!Q212>5,データ整理!Q212-5,0)","v":0.38473999999999986},{"$f":"R213+IF(データ整理!R212>5,データ整理!R212-5,0)","v":1.5712400000000004},{"$f":"S213+IF(データ整理!S212>5,データ整理!S212-5,0)","v":0},{"$f":"T213+IF(データ整理!T212>5,データ整理!T212-5,0)","v":2.46821},{"$f":"U213+IF(データ整理!U212>5,データ整理!U212-5,0)","v":0.88045999999999935},null,null,null,"2018-10-28",{"$f":"Z213+IF(データ整理!Z212>5,データ整理!Z212-5,0)","v":0.88045999999999935},{"$f":"AA213+IF(データ整理!AA212>5,データ整理!AA212-5,0)","v":0}]
["2014-10-29",{"$f":"B214+IF(データ整理!B213>5,データ整理!B213-5,0)","v":5.83209},{"$f":"C214+IF(データ整理!C213>5,データ整理!C213-5,0)","v":1.10853},{"$f":"D214+IF(データ整理!D213>5,データ整理!D213-5,0)","v":1.4631100000000004},{"$f":"E214+IF(データ整理!E213>5,データ整理!E213-5,0)","v":0},{"$f":"F214+IF(データ整理!F213>5,データ整理!F213-5,0)","v":4.8770499999999997},{"$f":"G214+IF(データ整理!G213>5,データ整理!G213-5,0)","v":0},{"$f":"H214+IF(データ整理!H213>5,データ整理!H213-5,0)","v":3.0601699999999994},{"$f":"I214+IF(データ整理!I213>5,データ整理!I213-5,0)","v":4.7993600000000001},{"$f":"J214+IF(データ整理!J213>5,データ整理!J213-5,0)","v":0},{"$f":"K214+IF(データ整理!K213>5,データ整理!K213-5,0)","v":0},{"$f":"L214+IF(データ整理!L213>5,データ整理!L213-5,0)","v":6.0632200000000003},{"$f":"M214+IF(データ整理!M213>5,データ整理!M213-5,0)","v":0},{"$f":"N214+IF(データ整理!N213>5,データ整理!N213-5,0)","v":2.9207299999999998},{"$f":"O214+IF(データ整理!O213>5,データ整理!O213-5,0)","v":6.5351199999999992},{"$f":"P214+IF(データ整理!P213>5,データ整理!P213-5,0)","v":5.7162000000000006},{"$f":"Q214+IF(データ整理!Q213>5,データ整理!Q213-5,0)","v":0.38473999999999986},{"$f":"R214+IF(データ整理!R213>5,データ整理!R213-5,0)","v":0},{"$f":"S214+IF(データ整理!S213>5,データ整理!S213-5,0)","v":0},{"$f":"T214+IF(データ整理!T213>5,データ整理!T213-5,0)","v":2.46821},{"$f":"U214+IF(データ整理!U213>5,データ整理!U213-5,0)","v":0.11801999999999957},null,null,null,"2018-10-29",{"$f":"Z214+IF(データ整理!Z213>5,データ整理!Z213-5,0)","v":0.11801999999999957},{"$f":"AA214+IF(データ整理!AA213>5,データ整理!AA213-5,0)","v":0}]
["2014-10-30",{"$f":"B215+IF(データ整理!B214>5,データ整理!B214-5,0)","v":2.1152699999999998},{"$f":"C215+IF(データ整理!C214>5,データ整理!C214-5,0)","v":1.10853},{"$f":"D215+IF(データ整理!D214>5,データ整理!D214-5,0)","v":1.4631100000000004},{"$f":"E215+IF(データ整理!E214>5,データ整理!E214-5,0)","v":0},{"$f":"F215+IF(データ整理!F214>5,データ整理!F214-5,0)","v":2.92422},{"$f":"G215+IF(データ整理!G214>5,データ整理!G214-5,0)","v":0},{"$f":"H215+IF(データ整理!H214>5,データ整理!H214-5,0)","v":0},{"$f":"I215+IF(データ整理!I214>5,データ整理!I214-5,0)","v":3.5162700000000005},{"$f":"J215+IF(データ整理!J214>5,データ整理!J214-5,0)","v":0},{"$f":"K215+IF(データ整理!K214>5,データ整理!K214-5,0)","v":0},{"$f":"L215+IF(データ整理!L214>5,データ整理!L214-5,0)","v":1.8390399999999998},{"$f":"M215+IF(データ整理!M214>5,データ整理!M214-5,0)","v":0},{"$f":"N215+IF(データ整理!N214>5,データ整理!N214-5,0)","v":1.0754200000000003},{"$f":"O215+IF(データ整理!O214>5,データ整理!O214-5,0)","v":2.8253599999999999},{"$f":"P215+IF(データ整理!P214>5,データ整理!P214-5,0)","v":2.3951799999999999},{"$f":"Q215+IF(データ整理!Q214>5,データ整理!Q214-5,0)","v":0.38473999999999986},{"$f":"R215+IF(データ整理!R214>5,データ整理!R214-5,0)","v":0},{"$f":"S215+IF(データ整理!S214>5,データ整理!S214-5,0)","v":0},{"$f":"T215+IF(データ整理!T214>5,データ整理!T214-5,0)","v":0},{"$f":"U215+IF(データ整理!U214>5,データ整理!U214-5,0)","v":0},null,null,null,"2018-10-30",{"$f":"Z215+IF(データ整理!Z214>5,データ整理!Z214-5,0)","v":0},{"$f":"AA215+IF(データ整理!AA214>5,データ整理!AA214-5,0)","v":0}]
["2014-10-31",{"$f":"B216+IF(データ整理!B215>5,データ整理!B215-5,0)","v":0.31121999999999961},{"$f":"C216+IF(データ整理!C215>5,データ整理!C215-5,0)","v":1.10853},{"$f":"D216+IF(データ整理!D215>5,データ整理!D215-5,0)","v":1.4631100000000004},{"$f":"E216+IF(データ整理!E215>5,データ整理!E215-5,0)","v":0},{"$f":"F216+IF(データ整理!F215>5,データ整理!F215-5,0)","v":0.39290999999999965},{"$f":"G216+IF(データ整理!G215>5,データ整理!G215-5,0)","v":0},{"$f":"H216+IF(データ整理!H215>5,データ整理!H215-5,0)","v":0},{"$f":"I216+IF(データ整理!I215>5,データ整理!I215-5,0)","v":3.5162700000000005},{"$f":"J216+IF(データ整理!J215>5,データ整理!J215-5,0)","v":0},{"$f":"K216+IF(データ整理!K215>5,データ整理!K215-5,0)","v":0},{"$f":"L216+IF(データ整理!L215>5,データ整理!L215-5,0)","v":0},{"$f":"M216+IF(データ整理!M215>5,データ整理!M215-5,0)","v":0},{"$f":"N216+IF(データ整理!N215>5,データ整理!N215-5,0)","v":1.0754200000000003},{"$f":"O216+IF(データ整理!O215>5,データ整理!O215-5,0)","v":0.60930000000000017},{"$f":"P216+IF(データ整理!P215>5,データ整理!P215-5,0)","v":0},{"$f":"Q216+IF(データ整理!Q215>5,データ整理!Q215-5,0)","v":0.38473999999999986},{"$f":"R216+IF(データ整理!R215>5,データ整理!R215-5,0)","v":0},{"$f":"S216+IF(データ整理!S215>5,データ整理!S215-5,0)","v":0},{"$f":"T216+IF(データ整理!T215>5,データ整理!T215-5,0)","v":0},{"$f":"U216+IF(データ整理!U215>5,データ整理!U215-5,0)","v":0},null,null,null,"2018-10-31",{"$f":"Z216+IF(データ整理!Z215>5,データ整理!Z215-5,0)","v":0},{"$f":"AA216+IF(データ整理!AA215>5,データ整理!AA215-5,0)","v":0}]
["2014-11-01",0,0,0,0,0,0,0,0,0,0,0,0,0,0,0,0,0,0,0,0,null,null,null,"2018-11-01",{"$f":"Z217+IF(データ整理!Z216>5,データ整理!Z216-5,0)","v":0},{"$f":"AA217+IF(データ整理!AA216>5,データ整理!AA216-5,0)","v":0}]

{"sheet":"超える日計算","index":4,"n_rows":217,"n_cols":26,"rows_kept":217,"cut":false,"hidden":true,"merged":[]}
[null,{"$f":"データ整理!B1","v":1999},{"$f":"データ整理!C1","v":2000},{"$f":"データ整理!D1","v":2001},{"$f":"データ整理!E1","v":2002},{"$f":"データ整理!F1","v":2003},{"$f":"データ整理!G1","v":2004},{"$f":"データ整理!H1","v":2005},{"$f":"データ整理!I1","v":2006},{"$f":"データ整理!J1","v":2007},{"$f":"データ整理!K1","v":2008},{"$f":"データ整理!L1","v":2009},{"$f":"データ整理!M1","v":2010},{"$f":"データ整理!N1","v":2011},{"$f":"データ整理!O1","v":2012},{"$f":"データ整理!P1","v":2013},{"$f":"データ整理!Q1","v":2014},{"$f":"データ整理!R1","v":2015},{"$f":"データ整理!S1","v":2016},{"$f":"データ整理!T1","v":2017},{"$f":"データ整理!U1","v":2018},null,null,null,null,{"$f":"データ整理!Z1","v":2018}]
["2014-04-01",{"$f":"IF(表示!$B$13<=有効積算気温!B2,有効積算気温!$A2,\"\")","v":"2014-04-01"},{"$f":"IF(表示!$B$13<=有効積算気温!C2,有効積算気温!$A2,\"\")","v":"2014-04-01"},{"$f":"IF(表示!$B$13<=有効積算気温!D2,有効積算気温!$A2,\"\")","v":"2014-04-01"},{"$f":"IF(表示!$B$13<=有効積算気温!E2,有効積算気温!$A2,\"\")","v":"2014-04-01"},{"$f":"IF(表示!$B$13<=有効積算気温!F2,有効積算気温!$A2,\"\")","v":"2014-04-01"},{"$f":"IF(表示!$B$13<=有効積算気温!G2,有効積算気温!$A2,\"\")","v":"2014-04-01"},{"$f":"IF(表示!$B$13<=有効積算気温!H2,有効積算気温!$A2,\"\")","v":"2014-04-01"},{"$f":"IF(表示!$B$13<=有効積算気温!I2,有効積算気温!$A2,\"\")","v":"2014-04-01"},{"$f":"IF(表示!$B$13<=有効積算気温!J2,有効積算気温!$A2,\"\")","v":"2014-04-01"},{"$f":"IF(表示!$B$13<=有効積算気温!K2,有効積算気温!$A2,\"\")","v":"2014-04-01"},{"$f":"IF(表示!$B$13<=有効積算気温!L2,有効積算気温!$A2,\"\")","v":"2014-04-01"},{"$f":"IF(表示!$B$13<=有効積算気温!M2,有効積算気温!$A2,\"\")","v":"2014-04-01"},{"$f":"IF(表示!$B$13<=有効積算気温!N2,有効積算気温!$A2,\"\")","v":"2014-04-01"},{"$f":"IF(表示!$B$13<=有効積算気温!O2,有効積算気温!$A2,\"\")","v":"2014-04-01"},{"$f":"IF(表示!$B$13<=有効積算気温!P2,有効積算気温!$A2,\"\")","v":"2014-04-01"},{"$f":"IF(表示!$B$13<=有効積算気温!Q2,有効積算気温!$A2,\"\")","v":"2014-04-01"},{"$f":"IF(表示!$B$13<=有効積算気温!R2,有効積算気温!$A2,\"\")","v":"2014-04-01"},{"$f":"IF(表示!$B$13<=有効積算気温!S2,有効積算気温!$A2,\"\")","v":"2014-04-01"},{"$f":"IF(表示!$B$13<=有効積算気温!T2,有効積算気温!$A2,\"\")","v":"2014-04-01"},{"$f":"IF(表示!$B$13<=有効積算気温!U2,有効積算気温!$A2,\"\")","v":"2014-04-01"},null,null,null,null,{"$f":"IF(表示!$B$13<=有効積算気温!Z2,有効積算気温!$A2,\"\")","v":"2014-04-01"}]
["2014-04-02",{"$f":"IF(表示!$B$13<=有効積算気温!B3,有効積算気温!$A3,\"\")","v":"2014-04-02"},{"$f":"IF(表示!$B$13<=有効積算気温!C3,有効積算気温!$A3,\"\")","v":"2014-04-02"},{"$f":"IF(表示!$B$13<=有効積算気温!D3,有効積算気温!$A3,\"\")","v":"2014-04-02"},{"$f":"IF(表示!$B$13<=有効積算気温!E3,有効積算気温!$A3,\"\")","v":"2014-04-02"},{"$f":"IF(表示!$B$13<=有効積算気温!F3,有効積算気温!$A3,\"\")","v":"2014-04-02"},{"$f":"IF(表示!$B$13<=有効積算気温!G3,有効積算気温!$A3,\"\")","v":"2014-04-02"},{"$f":"IF(表示!$B$13<=有効積算気温!H3,有効積算気温!$A3,\"\")","v":"2014-04-02"},{"$f":"IF(表示!$B$13<=有効積算気温!I3,有効積算気温!$A3,\"\")","v":"2014-04-02"},{"$f":"IF(表示!$B$13<=有効積算気温!J3,有効積算気温!$A3,\"\")","v":"2014-04-02"},{"$f":"IF(表示!$B$13<=有効積算気温!K3,有効積算気温!$A3,\"\")","v":"2014-04-02"},{"$f":"IF(表示!$B$13<=有効積算気温!L3,有効積算気温!$A3,\"\")","v":"2014-04-02"},{"$f":"IF(表示!$B$13<=有効積算気温!M3,有効積算気温!$A3,\"\")","v":"2014-04-02"},{"$f":"IF(表示!$B$13<=有効積算気温!N3,有効積算気温!$A3,\"\")","v":"2014-04-02"},{"$f":"IF(表示!$B$13<=有効積算気温!O3,有効積算気温!$A3,\"\")","v":"2014-04-02"},{"$f":"IF(表示!$B$13<=有効積算気温!P3,有効積算気温!$A3,\"\")","v":"2014-04-02"},{"$f":"IF(表示!$B$13<=有効積算気温!Q3,有効積算気温!$A3,\"\")","v":"2014-04-02"},{"$f":"IF(表示!$B$13<=有効積算気温!R3,有効積算気温!$A3,\"\")","v":"2014-04-02"},{"$f":"IF(表示!$B$13<=有効積算気温!S3,有効積算気温!$A3,\"\")","v":"2014-04-02"},{"$f":"IF(表示!$B$13<=有効積算気温!T3,有効積算気温!$A3,\"\")","v":"2014-04-02"},{"$f":"IF(表示!$B$13<=有効積算気温!U3,有効積算気温!$A3,\"\")","v":"2014-04-02"},null,null,null,null,{"$f":"IF(表示!$B$13<=有効積算気温!Z3,有効積算気温!$A3,\"\")","v":"2014-04-02"}]
["2014-04-03",{"$f":"IF(表示!$B$13<=有効積算気温!B4,有効積算気温!$A4,\"\")","v":"2014-04-03"},{"$f":"IF(表示!$B$13<=有効積算気温!C4,有効積算気温!$A4,\"\")","v":"2014-04-03"},{"$f":"IF(表示!$B$13<=有効積算気温!D4,有効積算気温!$A4,\"\")","v":"2014-04-03"},{"$f":"IF(表示!$B$13<=有効積算気温!E4,有効積算気温!$A4,\"\")","v":"2014-04-03"},{"$f":"IF(表示!$B$13<=有効積算気温!F4,有効積算気温!$A4,\"\")","v":"2014-04-03"},{"$f":"IF(表示!$B$13<=有効積算気温!G4,有効積算気温!$A4,\"\")","v":"2014-04-03"},{"$f":"IF(表示!$B$13<=有効積算気温!H4,有効積算気温!$A4,\"\")","v":"2014-04-03"},{"$f":"IF(表示!$B$13<=有効積算気温!I4,有効積算気温!$A4,\"\")","v":"2014-04-03"},{"$f":"IF(表示!$B$13<=有効積算気温!J4,有効積算気温!$A4,\"\")","v":"2014-04-03"},{"$f":"IF(表示!$B$13<=有効積算気温!K4,有効積算気温!$A4,\"\")","v":"2014-04-03"},{"$f":"IF(表示!$B$13<=有効積算気温!L4,有効積算気温!$A4,\"\")","v":"2014-04-03"},{"$f":"IF(表示!$B$13<=有効積算気温!M4,有効積算気温!$A4,\"\")","v":"2014-04-03"},{"$f":"IF(表示!$B$13<=有効積算気温!N4,有効積算気温!$A4,\"\")","v":"2014-04-03"},{"$f":"IF(表示!$B$13<=有効積算気温!O4,有効積算気温!$A4,\"\")","v":"2014-04-03"},{"$f":"IF(表示!$B$13<=有効積算気温!P4,有効積算気温!$A4,\"\")","v":"2014-04-03"},{"$f":"IF(表示!$B$13<=有効積算気温!Q4,有効積算気温!$A4,\"\")","v":"2014-04-03"},{"$f":"IF(表示!$B$13<=有効積算気温!R4,有効積算気温!$A4,\"\")","v":"2014-04-03"},{"$f":"IF(表示!$B$13<=有効積算気温!S4,有効積算気温!$A4,\"\")","v":"2014-04-03"},{"$f":"IF(表示!$B$13<=有効積算気温!T4,有効積算気温!$A4,\"\")","v":"2014-04-03"},{"$f":"IF(表示!$B$13<=有効積算気温!U4,有効積算気温!$A4,\"\")","v":"2014-04-03"},null,null,null,null,{"$f":"IF(表示!$B$13<=有効積算気温!Z4,有効積算気温!$A4,\"\")","v":"2014-04-03"}]
["2014-04-04",{"$f":"IF(表示!$B$13<=有効積算気温!B5,有効積算気温!$A5,\"\")","v":"2014-04-04"},{"$f":"IF(表示!$B$13<=有効積算気温!C5,有効積算気温!$A5,\"\")","v":"2014-04-04"},{"$f":"IF(表示!$B$13<=有効積算気温!D5,有効積算気温!$A5,\"\")","v":"2014-04-04"},{"$f":"IF(表示!$B$13<=有効積算気温!E5,有効積算気温!$A5,\"\")","v":"2014-04-04"},{"$f":"IF(表示!$B$13<=有効積算気温!F5,有効積算気温!$A5,\"\")","v":"2014-04-04"},{"$f":"IF(表示!$B$13<=有効積算気温!G5,有効積算気温!$A5,\"\")","v":"2014-04-04"},{"$f":"IF(表示!$B$13<=有効積算気温!H5,有効積算気温!$A5,\"\")","v":"2014-04-04"},{"$f":"IF(表示!$B$13<=有効積算気温!I5,有効積算気温!$A5,\"\")","v":"2014-04-04"},{"$f":"IF(表示!$B$13<=有効積算気温!J5,有効積算気温!$A5,\"\")","v":"2014-04-04"},{"$f":"IF(表示!$B$13<=有効積算気温!K5,有効積算気温!$A5,\"\")","v":"2014-04-04"},{"$f":"IF(表示!$B$13<=有効積算気温!L5,有効積算気温!$A5,\"\")","v":"2014-04-04"},{"$f":"IF(表示!$B$13<=有効積算気温!M5,有効積算気温!$A5,\"\")","v":"2014-04-04"},{"$f":"IF(表示!$B$13<=有効積算気温!N5,有効積算気温!$A5,\"\")","v":"2014-04-04"},{"$f":"IF(表示!$B$13<=有効積算気温!O5,有効積算気温!$A5,\"\")","v":"2014-04-04"},{"$f":"IF(表示!$B$13<=有効積算気温!P5,有効積算気温!$A5,\"\")","v":"2014-04-04"},{"$f":"IF(表示!$B$13<=有効積算気温!Q5,有効積算気温!$A5,\"\")","v":"2014-04-04"},{"$f":"IF(表示!$B$13<=有効積算気温!R5,有効積算気温!$A5,\"\")","v":"2014-04-04"},{"$f":"IF(表示!$B$13<=有効積算気温!S5,有効積算気温!$A5,\"\")","v":"2014-04-04"},{"$f":"IF(表示!$B$13<=有効積算気温!T5,有効積算気温!$A5,\"\")","v":"2014-04-04"},{"$f":"IF(表示!$B$13<=有効積算気温!U5,有効積算気温!$A5,\"\")","v":"2014-04-04"},null,null,null,null,{"$f":"IF(表示!$B$13<=有効積算気温!Z5,有効積算気温!$A5,\"\")","v":"2014-04-04"}]
["2014-04-05",{"$f":"IF(表示!$B$13<=有効積算気温!B6,有効積算気温!$A6,\"\")","v":"2014-04-05"},{"$f":"IF(表示!$B$13<=有効積算気温!C6,有効積算気温!$A6,\"\")","v":"2014-04-05"},{"$f":"IF(表示!$B$13<=有効積算気温!D6,有効積算気温!$A6,\"\")","v":"2014-04-05"},{"$f":"IF(表示!$B$13<=有効積算気温!E6,有効積算気温!$A6,\"\")","v":"2014-04-05"},{"$f":"IF(表示!$B$13<=有効積算気温!F6,有効積算気温!$A6,\"\")","v":"2014-04-05"},{"$f":"IF(表示!$B$13<=有効積算気温!G6,有効積算気温!$A6,\"\")","v":"2014-04-05"},{"$f":"IF(表示!$B$13<=有効積算気温!H6,有効積算気温!$A6,\"\")","v":"2014-04-05"},{"$f":"IF(表示!$B$13<=有効積算気温!I6,有効積算気温!$A6,\"\")","v":"2014-04-05"},{"$f":"IF(表示!$B$13<=有効積算気温!J6,有効積算気温!$A6,\"\")","v":"2014-04-05"},{"$f":"IF(表示!$B$13<=有効積算気温!K6,有効積算気温!$A6,\"\")","v":"2014-04-05"},{"$f":"IF(表示!$B$13<=有効積算気温!L6,有効積算気温!$A6,\"\")","v":"2014-04-05"},{"$f":"IF(表示!$B$13<=有効積算気温!M6,有効積算気温!$A6,\"\")","v":"2014-04-05"},{"$f":"IF(表示!$B$13<=有効積算気温!N6,有効積算気温!$A6,\"\")","v":"2014-04-05"},{"$f":"IF(表示!$B$13<=有効積算気温!O6,有効積算気温!$A6,\"\")","v":"2014-04-05"},{"$f":"IF(表示!$B$13<=有効積算気温!P6,有効積算気温!$A6,\"\")","v":"2014-04-05"},{"$f":"IF(表示!$B$13<=有効積算気温!Q6,有効積算気温!$A6,\"\")","v":"2014-04-05"},{"$f":"IF(表示!$B$13<=有効積算気温!R6,有効積算気温!$A6,\"\")","v":"2014-04-05"},{"$f":"IF(表示!$B$13<=有効積算気温!S6,有効積算気温!$A6,\"\")","v":"2014-04-05"},{"$f":"IF(表示!$B$13<=有効積算気温!T6,有効積算気温!$A6,\"\")","v":"2014-04-05"},{"$f":"IF(表示!$B$13<=有効積算気温!U6,有効積算気温!$A6,\"\")","v":"2014-04-05"},null,null,null,null,{"$f":"IF(表示!$B$13<=有効積算気温!Z6,有効積算気温!$A6,\"\")","v":"2014-04-05"}]
["2014-04-06",{"$f":"IF(表示!$B$13<=有効積算気温!B7,有効積算気温!$A7,\"\")","v":"2014-04-06"},{"$f":"IF(表示!$B$13<=有効積算気温!C7,有効積算気温!$A7,\"\")","v":"2014-04-06"},{"$f":"IF(表示!$B$13<=有効積算気温!D7,有効積算気温!$A7,\"\")","v":"2014-04-06"},{"$f":"IF(表示!$B$13<=有効積算気温!E7,有効積算気温!$A7,\"\")","v":"2014-04-06"},{"$f":"IF(表示!$B$13<=有効積算気温!F7,有効積算気温!$A7,\"\")","v":"2014-04-06"},{"$f":"IF(表示!$B$13<=有効積算気温!G7,有効積算気温!$A7,\"\")","v":"2014-04-06"},{"$f":"IF(表示!$B$13<=有効積算気温!H7,有効積算気温!$A7,\"\")","v":"2014-04-06"},{"$f":"IF(表示!$B$13<=有効積算気温!I7,有効積算気温!$A7,\"\")","v":"2014-04-06"},{"$f":"IF(表示!$B$13<=有効積算気温!J7,有効積算気温!$A7,\"\")","v":"2014-04-06"},{"$f":"IF(表示!$B$13<=有効積算気温!K7,有効積算気温!$A7,\"\")","v":"2014-04-06"},{"$f":"IF(表示!$B$13<=有効積算気温!L7,有効積算気温!$A7,\"\")","v":"2014-04-06"},{"$f":"IF(表示!$B$13<=有効積算気温!M7,有効積算気温!$A7,\"\")","v":"2014-04-06"},{"$f":"IF(表示!$B$13<=有効積算気温!N7,有効積算気温!$A7,\"\")","v":"2014-04-06"},{"$f":"IF(表示!$B$13<=有効積算気温!O7,有効積算気温!$A7,\"\")","v":"2014-04-06"},{"$f":"IF(表示!$B$13<=有効積算気温!P7,有効積算気温!$A7,\"\")","v":"2014-04-06"},{"$f":"IF(表示!$B$13<=有効積算気温!Q7,有効積算気温!$A7,\"\")","v":"2014-04-06"},{"$f":"IF(表示!$B$13<=有効積算気温!R7,有効積算気温!$A7,\"\")","v":"2014-04-06"},{"$f":"IF(表示!$B$13<=有効積算気温!S7,有効積算気温!$A7,\"\")","v":"2014-04-06"},{"$f":"IF(表示!$B$13<=有効積算気温!T7,有効積算気温!$A7,\"\")","v":"2014-04-06"},{"$f":"IF(表示!$B$13<=有効積算気温!U7,有効積算気温!$A7,\"\")","v":"2014-04-06"},null,null,null,null,{"$f":"IF(表示!$B$13<=有効積算気温!Z7,有効積算気温!$A7,\"\")","v":"2014-04-06"}]
["2014-04-07",{"$f":"IF(表示!$B$13<=有効積算気温!B8,有効積算気温!$A8,\"\")","v":"2014-04-07"},{"$f":"IF(表示!$B$13<=有効積算気温!C8,有効積算気温!$A8,\"\")","v":"2014-04-07"},{"$f":"IF(表示!$B$13<=有効積算気温!D8,有効積算気温!$A8,\"\")","v":"2014-04-07"},{"$f":"IF(表示!$B$13<=有効積算気温!E8,有効積算気温!$A8,\"\")","v":"2014-04-07"},{"$f":"IF(表示!$B$13<=有効積算気温!F8,有効積算気温!$A8,\"\")","v":"2014-04-07"},{"$f":"IF(表示!$B$13<=有効積算気温!G8,有効積算気温!$A8,\"\")","v":"2014-04-07"},{"$f":"IF(表示!$B$13<=有効積算気温!H8,有効積算気温!$A8,\"\")","v":"2014-04-07"},{"$f":"IF(表示!$B$13<=有効積算気温!I8,有効積算気温!$A8,\"\")","v":"2014-04-07"},{"$f":"IF(表示!$B$13<=有効積算気温!J8,有効積算気温!$A8,\"\")","v":"2014-04-07"},{"$f":"IF(表示!$B$13<=有効積算気温!K8,有効積算気温!$A8,\"\")","v":"2014-04-07"},{"$f":"IF(表示!$B$13<=有効積算気温!L8,有効積算気温!$A8,\"\")","v":"2014-04-07"},{"$f":"IF(表示!$B$13<=有効積算気温!M8,有効積算気温!$A8,\"\")","v":"2014-04-07"},{"$f":"IF(表示!$B$13<=有効積算気温!N8,有効積算気温!$A8,\"\")","v":"2014-04-07"},{"$f":"IF(表示!$B$13<=有効積算気温!O8,有効積算気温!$A8,\"\")","v":"2014-04-07"},{"$f":"IF(表示!$B$13<=有効積算気温!P8,有効積算気温!$A8,\"\")","v":"2014-04-07"},{"$f":"IF(表示!$B$13<=有効積算気温!Q8,有効積算気温!$A8,\"\")","v":"2014-04-07"},{"$f":"IF(表示!$B$13<=有効積算気温!R8,有効積算気温!$A8,\"\")","v":"2014-04-07"},{"$f":"IF(表示!$B$13<=有効積算気温!S8,有効積算気温!$A8,\"\")","v":"2014-04-07"},{"$f":"IF(表示!$B$13<=有効積算気温!T8,有効積算気温!$A8,\"\")","v":"2014-04-07"},{"$f":"IF(表示!$B$13<=有効積算気温!U8,有効積算気温!$A8,\"\")","v":"2014-04-07"},null,null,null,null,{"$f":"IF(表示!$B$13<=有効積算気温!Z8,有効積算気温!$A8,\"\")","v":"2014-04-07"}]
["2014-04-08",{"$f":"IF(表示!$B$13<=有効積算気温!B9,有効積算気温!$A9,\"\")","v":"2014-04-08"},{"$f":"IF(表示!$B$13<=有効積算気温!C9,有効積算気温!$A9,\"\")","v":"2014-04-08"},{"$f":"IF(表示!$B$13<=有効積算気温!D9,有効積算気温!$A9,\"\")","v":"2014-04-08"},{"$f":"IF(表示!$B$13<=有効積算気温!E9,有効積算気温!$A9,\"\")","v":"2014-04-08"},{"$f":"IF(表示!$B$13<=有効積算気温!F9,有効積算気温!$A9,\"\")","v":"2014-04-08"},{"$f":"IF(表示!$B$13<=有効積算気温!G9,有効積算気温!$A9,\"\")","v":"2014-04-08"},{"$f":"IF(表示!$B$13<=有効積算気温!H9,有効積算気温!$A9,\"\")","v":"2014-04-08"},{"$f":"IF(表示!$B$13<=有効積算気温!I9,有効積算気温!$A9,\"\")","v":"2014-04-08"},{"$f":"IF(表示!$B$13<=有効積算気温!J9,有効積算気温!$A9,\"\")","v":"2014-04-08"},{"$f":"IF(表示!$B$13<=有効積算気温!K9,有効積算気温!$A9,\"\")","v":"2014-04-08"},{"$f":"IF(表示!$B$13<=有効積算気温!L9,有効積算気温!$A9,\"\")","v":"2014-04-08"},{"$f":"IF(表示!$B$13<=有効積算気温!M9,有効積算気温!$A9,\"\")","v":"2014-04-08"},{"$f":"IF(表示!$B$13<=有効積算気温!N9,有効積算気温!$A9,\"\")","v":"2014-04-08"},{"$f":"IF(表示!$B$13<=有効積算気温!O9,有効積算気温!$A9,\"\")","v":"2014-04-08"},{"$f":"IF(表示!$B$13<=有効積算気温!P9,有効積算気温!$A9,\"\")","v":"2014-04-08"},{"$f":"IF(表示!$B$13<=有効積算気温!Q9,有効積算気温!$A9,\"\")","v":"2014-04-08"},{"$f":"IF(表示!$B$13<=有効積算気温!R9,有効積算気温!$A9,\"\")","v":"2014-04-08"},{"$f":"IF(表示!$B$13<=有効積算気温!S9,有効積算気温!$A9,\"\")","v":"2014-04-08"},{"$f":"IF(表示!$B$13<=有効積算気温!T9,有効積算気温!$A9,\"\")","v":"2014-04-08"},{"$f":"IF(表示!$B$13<=有効積算気温!U9,有効積算気温!$A9,\"\")","v":"2014-04-08"},null,null,null,null,{"$f":"IF(表示!$B$13<=有効積算気温!Z9,有効積算気温!$A9,\"\")","v":"2014-04-08"}]
["2014-04-09",{"$f":"IF(表示!$B$13<=有効積算気温!B10,有効積算気温!$A10,\"\")","v":"2014-04-09"},{"$f":"IF(表示!$B$13<=有効積算気温!C10,有効積算気温!$A10,\"\")","v":"2014-04-09"},{"$f":"IF(表示!$B$13<=有効積算気温!D10,有効積算気温!$A10,\"\")","v":"2014-04-09"},{"$f":"IF(表示!$B$13<=有効積算気温!E10,有効積算気温!$A10,\"\")","v":"2014-04-09"},{"$f":"IF(表示!$B$13<=有効積算気温!F10,有効積算気温!$A10,\"\")","v":"2014-04-09"},{"$f":"IF(表示!$B$13<=有効積算気温!G10,有効積算気温!$A10,\"\")","v":"2014-04-09"},{"$f":"IF(表示!$B$13<=有効積算気温!H10,有効積算気温!$A10,\"\")","v":"2014-04-09"},{"$f":"IF(表示!$B$13<=有効積算気温!I10,有効積算気温!$A10,\"\")","v":"2014-04-09"},{"$f":"IF(表示!$B$13<=有効積算気温!J10,有効積算気温!$A10,\"\")","v":"2014-04-09"},{"$f":"IF(表示!$B$13<=有効積算気温!K10,有効積算気温!$A10,\"\")","v":"2014-04-09"},{"$f":"IF(表示!$B$13<=有効積算気温!L10,有効積算気温!$A10,\"\")","v":"2014-04-09"},{"$f":"IF(表示!$B$13<=有効積算気温!M10,有効積算気温!$A10,\"\")","v":"2014-04-09"},{"$f":"IF(表示!$B$13<=有効積算気温!N10,有効積算気温!$A10,\"\")","v":"2014-04-09"},{"$f":"IF(表示!$B$13<=有効積算気温!O10,有効積算気温!$A10,\"\")","v":"2014-04-09"},{"$f":"IF(表示!$B$13<=有効積算気温!P10,有効積算気温!$A10,\"\")","v":"2014-04-09"},{"$f":"IF(表示!$B$13<=有効積算気温!Q10,有効積算気温!$A10,\"\")","v":"2014-04-09"},{"$f":"IF(表示!$B$13<=有効積算気温!R10,有効積算気温!$A10,\"\")","v":"2014-04-09"},{"$f":"IF(表示!$B$13<=有効積算気温!S10,有効積算気温!$A10,\"\")","v":"2014-04-09"},{"$f":"IF(表示!$B$13<=有効積算気温!T10,有効積算気温!$A10,\"\")","v":"2014-04-09"},{"$f":"IF(表示!$B$13<=有効積算気温!U10,有効積算気温!$A10,\"\")","v":"2014-04-09"},null,null,null,null,{"$f":"IF(表示!$B$13<=有効積算気温!Z10,有効積算気温!$A10,\"\")","v":"2014-04-09"}]
["2014-04-10",{"$f":"IF(表示!$B$13<=有効積算気温!B11,有効積算気温!$A11,\"\")","v":"2014-04-10"},{"$f":"IF(表示!$B$13<=有効積算気温!C11,有効積算気温!$A11,\"\")","v":"2014-04-10"},{"$f":"IF(表示!$B$13<=有効積算気温!D11,有効積算気温!$A11,\"\")","v":"2014-04-10"},{"$f":"IF(表示!$B$13<=有効積算気温!E11,有効積算気温!$A11,\"\")","v":"2014-04-10"},{"$f":"IF(表示!$B$13<=有効積算気温!F11,有効積算気温!$A11,\"\")","v":"2014-04-10"},{"$f":"IF(表示!$B$13<=有効積算気温!G11,有効積算気温!$A11,\"\")","v":"2014-04-10"},{"$f":"IF(表示!$B$13<=有効積算気温!H11,有効積算気温!$A11,\"\")","v":"2014-04-10"},{"$f":"IF(表示!$B$13<=有効積算気温!I11,有効積算気温!$A11,\"\")","v":"2014-04-10"},{"$f":"IF(表示!$B$13<=有効積算気温!J11,有効積算気温!$A11,\"\")","v":"2014-04-10"},{"$f":"IF(表示!$B$13<=有効積算気温!K11,有効積算気温!$A11,\"\")","v":"2014-04-10"},{"$f":"IF(表示!$B$13<=有効積算気温!L11,有効積算気温!$A11,\"\")","v":"2014-04-10"},{"$f":"IF(表示!$B$13<=有効積算気温!M11,有効積算気温!$A11,\"\")","v":"2014-04-10"},{"$f":"IF(表示!$B$13<=有効積算気温!N11,有効積算気温!$A11,\"\")","v":"2014-04-10"},{"$f":"IF(表示!$B$13<=有効積算気温!O11,有効積算気温!$A11,\"\")","v":"2014-04-10"},{"$f":"IF(表示!$B$13<=有効積算気温!P11,有効積算気温!$A11,\"\")","v":"2014-04-10"},{"$f":"IF(表示!$B$13<=有効積算気温!Q11,有効積算気温!$A11,\"\")","v":"2014-04-10"},{"$f":"IF(表示!$B$13<=有効積算気温!R11,有効積算気温!$A11,\"\")","v":"2014-04-10"},{"$f":"IF(表示!$B$13<=有効積算気温!S11,有効積算気温!$A11,\"\")","v":"2014-04-10"},{"$f":"IF(表示!$B$13<=有効積算気温!T11,有効積算気温!$A11,\"\")","v":"2014-04-10"},{"$f":"IF(表示!$B$13<=有効積算気温!U11,有効積算気温!$A11,\"\")","v":"2014-04-10"},null,null,null,null,{"$f":"IF(表示!$B$13<=有効積算気温!Z11,有効積算気温!$A11,\"\")","v":"2014-04-10"}]
["2014-04-11",{"$f":"IF(表示!$B$13<=有効積算気温!B12,有効積算気温!$A12,\"\")","v":"2014-04-11"},{"$f":"IF(表示!$B$13<=有効積算気温!C12,有効積算気温!$A12,\"\")","v":"2014-04-11"},{"$f":"IF(表示!$B$13<=有効積算気温!D12,有効積算気温!$A12,\"\")","v":"2014-04-11"},{"$f":"IF(表示!$B$13<=有効積算気温!E12,有効積算気温!$A12,\"\")","v":"2014-04-11"},{"$f":"IF(表示!$B$13<=有効積算気温!F12,有効積算気温!$A12,\"\")","v":"2014-04-11"},{"$f":"IF(表示!$B$13<=有効積算気温!G12,有効積算気温!$A12,\"\")","v":"2014-04-11"},{"$f":"IF(表示!$B$13<=有効積算気温!H12,有効積算気温!$A12,\"\")","v":"2014-04-11"},{"$f":"IF(表示!$B$13<=有効積算気温!I12,有効積算気温!$A12,\"\")","v":"2014-04-11"},{"$f":"IF(表示!$B$13<=有効積算気温!J12,有効積算気温!$A12,\"\")","v":"2014-04-11"},{"$f":"IF(表示!$B$13<=有効積算気温!K12,有効積算気温!$A12,\"\")","v":"2014-04-11"},{"$f":"IF(表示!$B$13<=有効積算気温!L12,有効積算気温!$A12,\"\")","v":"2014-04-11"},{"$f":"IF(表示!$B$13<=有効積算気温!M12,有効積算気温!$A12,\"\")","v":"2014-04-11"},{"$f":"IF(表示!$B$13<=有効積算気温!N12,有効積算気温!$A12,\"\")","v":"2014-04-11"},{"$f":"IF(表示!$B$13<=有効積算気温!O12,有効積算気温!$A12,\"\")","v":"2014-04-11"},{"$f":"IF(表示!$B$13<=有効積算気温!P12,有効積算気温!$A12,\"\")","v":"2014-04-11"},{"$f":"IF(表示!$B$13<=有効積算気温!Q12,有効積算気温!$A12,\"\")","v":"2014-04-11"},{"$f":"IF(表示!$B$13<=有効積算気温!R12,有効積算気温!$A12,\"\")","v":"2014-04-11"},{"$f":"IF(表示!$B$13<=有効積算気温!S12,有効積算気温!$A12,\"\")","v":"2014-04-11"},{"$f":"IF(表示!$B$13<=有効積算気温!T12,有効積算気温!$A12,\"\")","v":"2014-04-11"},{"$f":"IF(表示!$B$13<=有効積算気温!U12,有効積算気温!$A12,\"\")","v":"2014-04-11"},null,null,null,null,{"$f":"IF(表示!$B$13<=有効積算気温!Z12,有効積算気温!$A12,\"\")","v":"2014-04-11"}]
["2014-04-12",{"$f":"IF(表示!$B$13<=有効積算気温!B13,有効積算気温!$A13,\"\")","v":"2014-04-12"},{"$f":"IF(表示!$B$13<=有効積算気温!C13,有効積算気温!$A13,\"\")","v":"2014-04-12"},{"$f":"IF(表示!$B$13<=有効積算気温!D13,有効積算気温!$A13,\"\")","v":"2014-04-12"},{"$f":"IF(表示!$B$13<=有効積算気温!E13,有効積算気温!$A13,\"\")","v":"2014-04-12"},{"$f":"IF(表示!$B$13<=有効積算気温!F13,有効積算気温!$A13,\"\")","v":"2014-04-12"},{"$f":"IF(表示!$B$13<=有効積算気温!G13,有効積算気温!$A13,\"\")","v":"2014-04-12"},{"$f":"IF(表示!$B$13<=有効積算気温!H13,有効積算気温!$A13,\"\")","v":"2014-04-12"},{"$f":"IF(表示!$B$13<=有効積算気温!I13,有効積算気温!$A13,\"\")","v":"2014-04-12"},{"$f":"IF(表示!$B$13<=有効積算気温!J13,有効積算気温!$A13,\"\")","v":"2014-04-12"},{"$f":"IF(表示!$B$13<=有効積算気温!K13,有効積算気温!$A13,\"\")","v":"2014-04-12"},{"$f":"IF(表示!$B$13<=有効積算気温!L13,有効積算気温!$A13,\"\")","v":"2014-04-12"},{"$f":"IF(表示!$B$13<=有効積算気温!M13,有効積算気温!$A13,\"\")","v":"2014-04-12"},{"$f":"IF(表示!$B$13<=有効積算気温!N13,有効積算気温!$A13,\"\")","v":"2014-04-12"},{"$f":"IF(表示!$B$13<=有効積算気温!O13,有効積算気温!$A13,\"\")","v":"2014-04-12"},{"$f":"IF(表示!$B$13<=有効積算気温!P13,有効積算気温!$A13,\"\")","v":"2014-04-12"},{"$f":"IF(表示!$B$13<=有効積算気温!Q13,有効積算気温!$A13,\"\")","v":"2014-04-12"},{"$f":"IF(表示!$B$13<=有効積算気温!R13,有効積算気温!$A13,\"\")","v":"2014-04-12"},{"$f":"IF(表示!$B$13<=有効積算気温!S13,有効積算気温!$A13,\"\")","v":"2014-04-12"},{"$f":"IF(表示!$B$13<=有効積算気温!T13,有効積算気温!$A13,\"\")","v":"2014-04-12"},{"$f":"IF(表示!$B$13<=有効積算気温!U13,有効積算気温!$A13,\"\")","v":"2014-04-12"},null,null,null,null,{"$f":"IF(表示!$B$13<=有効積算気温!Z13,有効積算気温!$A13,\"\")","v":"2014-04-12"}]
["2014-04-13",{"$f":"IF(表示!$B$13<=有効積算気温!B14,有効積算気温!$A14,\"\")","v":"2014-04-13"},{"$f":"IF(表示!$B$13<=有効積算気温!C14,有効積算気温!$A14,\"\")","v":"2014-04-13"},{"$f":"IF(表示!$B$13<=有効積算気温!D14,有効積算気温!$A14,\"\")","v":"2014-04-13"},{"$f":"IF(表示!$B$13<=有効積算気温!E14,有効積算気温!$A14,\"\")","v":"2014-04-13"},{"$f":"IF(表示!$B$13<=有効積算気温!F14,有効積算気温!$A14,\"\")","v":"2014-04-13"},{"$f":"IF(表示!$B$13<=有効積算気温!G14,有効積算気温!$A14,\"\")","v":"2014-04-13"},{"$f":"IF(表示!$B$13<=有効積算気温!H14,有効積算気温!$A14,\"\")","v":"2014-04-13"},{"$f":"IF(表示!$B$13<=有効積算気温!I14,有効積算気温!$A14,\"\")","v":"2014-04-13"},{"$f":"IF(表示!$B$13<=有効積算気温!J14,有効積算気温!$A14,\"\")","v":"2014-04-13"},{"$f":"IF(表示!$B$13<=有効積算気温!K14,有効積算気温!$A14,\"\")","v":"2014-04-13"},{"$f":"IF(表示!$B$13<=有効積算気温!L14,有効積算気温!$A14,\"\")","v":"2014-04-13"},{"$f":"IF(表示!$B$13<=有効積算気温!M14,有効積算気温!$A14,\"\")","v":"2014-04-13"},{"$f":"IF(表示!$B$13<=有効積算気温!N14,有効積算気温!$A14,\"\")","v":"2014-04-13"},{"$f":"IF(表示!$B$13<=有効積算気温!O14,有効積算気温!$A14,\"\")","v":"2014-04-13"},{"$f":"IF(表示!$B$13<=有効積算気温!P14,有効積算気温!$A14,\"\")","v":"2014-04-13"},{"$f":"IF(表示!$B$13<=有効積算気温!Q14,有効積算気温!$A14,\"\")","v":"2014-04-13"},{"$f":"IF(表示!$B$13<=有効積算気温!R14,有効積算気温!$A14,\"\")","v":"2014-04-13"},{"$f":"IF(表示!$B$13<=有効積算気温!S14,有効積算気温!$A14,\"\")","v":"2014-04-13"},{"$f":"IF(表示!$B$13<=有効積算気温!T14,有効積算気温!$A14,\"\")","v":"2014-04-13"},{"$f":"IF(表示!$B$13<=有効積算気温!U14,有効積算気温!$A14,\"\")","v":"2014-04-13"},null,null,null,null,{"$f":"IF(表示!$B$13<=有効積算気温!Z14,有効積算気温!$A14,\"\")","v":"2014-04-13"}]
["2014-04-14",{"$f":"IF(表示!$B$13<=有効積算気温!B15,有効積算気温!$A15,\"\")","v":"2014-04-14"},{"$f":"IF(表示!$B$13<=有効積算気温!C15,有効積算気温!$A15,\"\")","v":"2014-04-14"},{"$f":"IF(表示!$B$13<=有効積算気温!D15,有効積算気温!$A15,\"\")","v":"2014-04-14"},{"$f":"IF(表示!$B$13<=有効積算気温!E15,有効積算気温!$A15,\"\")","v":"2014-04-14"},{"$f":"IF(表示!$B$13<=有効積算気温!F15,有効積算気温!$A15,\"\")","v":"2014-04-14"},{"$f":"IF(表示!$B$13<=有効積算気温!G15,有効積算気温!$A15,\"\")","v":"2014-04-14"},{"$f":"IF(表示!$B$13<=有効積算気温!H15,有効積算気温!$A15,\"\")","v":"2014-04-14"},{"$f":"IF(表示!$B$13<=有効積算気温!I15,有効積算気温!$A15,\"\")","v":"2014-04-14"},{"$f":"IF(表示!$B$13<=有効積算気温!J15,有効積算気温!$A15,\"\")","v":"2014-04-14"},{"$f":"IF(表示!$B$13<=有効積算気温!K15,有効積算気温!$A15,\"\")","v":"2014-04-14"},{"$f":"IF(表示!$B$13<=有効積算気温!L15,有効積算気温!$A15,\"\")","v":"2014-04-14"},{"$f":"IF(表示!$B$13<=有効積算気温!M15,有効積算気温!$A15,\"\")","v":"2014-04-14"},{"$f":"IF(表示!$B$13<=有効積算気温!N15,有効積算気温!$A15,\"\")","v":"2014-04-14"},{"$f":"IF(表示!$B$13<=有効積算気温!O15,有効積算気温!$A15,\"\")","v":"2014-04-14"},{"$f":"IF(表示!$B$13<=有効積算気温!P15,有効積算気温!$A15,\"\")","v":"2014-04-14"},{"$f":"IF(表示!$B$13<=有効積算気温!Q15,有効積算気温!$A15,\"\")","v":"2014-04-14"},{"$f":"IF(表示!$B$13<=有効積算気温!R15,有効積算気温!$A15,\"\")","v":"2014-04-14"},{"$f":"IF(表示!$B$13<=有効積算気温!S15,有効積算気温!$A15,\"\")","v":"2014-04-14"},{"$f":"IF(表示!$B$13<=有効積算気温!T15,有効積算気温!$A15,\"\")","v":"2014-04-14"},{"$f":"IF(表示!$B$13<=有効積算気温!U15,有効積算気温!$A15,\"\")","v":"2014-04-14"},null,null,null,null,{"$f":"IF(表示!$B$13<=有効積算気温!Z15,有効積算気温!$A15,\"\")","v":"2014-04-14"}]
["2014-04-15",{"$f":"IF(表示!$B$13<=有効積算気温!B16,有効積算気温!$A16,\"\")","v":"2014-04-15"},{"$f":"IF(表示!$B$13<=有効積算気温!C16,有効積算気温!$A16,\"\")","v":"2014-04-15"},{"$f":"IF(表示!$B$13<=有効積算気温!D16,有効積算気温!$A16,\"\")","v":"2014-04-15"},{"$f":"IF(表示!$B$13<=有効積算気温!E16,有効積算気温!$A16,\"\")","v":"2014-04-15"},{"$f":"IF(表示!$B$13<=有効積算気温!F16,有効積算気温!$A16,\"\")","v":"2014-04-15"},{"$f":"IF(表示!$B$13<=有効積算気温!G16,有効積算気温!$A16,\"\")","v":"2014-04-15"},{"$f":"IF(表示!$B$13<=有効積算気温!H16,有効積算気温!$A16,\"\")","v":"2014-04-15"},{"$f":"IF(表示!$B$13<=有効積算気温!I16,有効積算気温!$A16,\"\")","v":"2014-04-15"},{"$f":"IF(表示!$B$13<=有効積算気温!J16,有効積算気温!$A16,\"\")","v":"2014-04-15"},{"$f":"IF(表示!$B$13<=有効積算気温!K16,有効積算気温!$A16,\"\")","v":"2014-04-15"},{"$f":"IF(表示!$B$13<=有効積算気温!L16,有効積算気温!$A16,\"\")","v":"2014-04-15"},{"$f":"IF(表示!$B$13<=有効積算気温!M16,有効積算気温!$A16,\"\")","v":"2014-04-15"},{"$f":"IF(表示!$B$13<=有効積算気温!N16,有効積算気温!$A16,\"\")","v":"2014-04-15"},{"$f":"IF(表示!$B$13<=有効積算気温!O16,有効積算気温!$A16,\"\")","v":"2014-04-15"},{"$f":"IF(表示!$B$13<=有効積算気温!P16,有効積算気温!$A16,\"\")","v":"2014-04-15"},{"$f":"IF(表示!$B$13<=有効積算気温!Q16,有効積算気温!$A16,\"\")","v":"2014-04-15"},{"$f":"IF(表示!$B$13<=有効積算気温!R16,有効積算気温!$A16,\"\")","v":"2014-04-15"},{"$f":"IF(表示!$B$13<=有効積算気温!S16,有効積算気温!$A16,\"\")","v":"2014-04-15"},{"$f":"IF(表示!$B$13<=有効積算気温!T16,有効積算気温!$A16,\"\")","v":"2014-04-15"},{"$f":"IF(表示!$B$13<=有効積算気温!U16,有効積算気温!$A16,\"\")","v":"2014-04-15"},null,null,null,null,{"$f":"IF(表示!$B$13<=有効積算気温!Z16,有効積算気温!$A16,\"\")","v":"2014-04-15"}]
["2014-04-16",{"$f":"IF(表示!$B$13<=有効積算気温!B17,有効積算気温!$A17,\"\")","v":"2014-04-16"},{"$f":"IF(表示!$B$13<=有効積算気温!C17,有効積算気温!$A17,\"\")","v":"2014-04-16"},{"$f":"IF(表示!$B$13<=有効積算気温!D17,有効積算気温!$A17,\"\")","v":"2014-04-16"},{"$f":"IF(表示!$B$13<=有効積算気温!E17,有効積算気温!$A17,\"\")","v":"2014-04-16"},{"$f":"IF(表示!$B$13<=有効積算気温!F17,有効積算気温!$A17,\"\")","v":"2014-04-16"},{"$f":"IF(表示!$B$13<=有効積算気温!G17,有効積算気温!$A17,\"\")","v":"2014-04-16"},{"$f":"IF(表示!$B$13<=有効積算気温!H17,有効積算気温!$A17,\"\")","v":"2014-04-16"},{"$f":"IF(表示!$B$13<=有効積算気温!I17,有効積算気温!$A17,\"\")","v":"2014-04-16"},{"$f":"IF(表示!$B$13<=有効積算気温!J17,有効積算気温!$A17,\"\")","v":"2014-04-16"},{"$f":"IF(表示!$B$13<=有効積算気温!K17,有効積算気温!$A17,\"\")","v":"2014-04-16"},{"$f":"IF(表示!$B$13<=有効積算気温!L17,有効積算気温!$A17,\"\")","v":"2014-04-16"},{"$f":"IF(表示!$B$13<=有効積算気温!M17,有効積算気温!$A17,\"\")","v":"2014-04-16"},{"$f":"IF(表示!$B$13<=有効積算気温!N17,有効積算気温!$A17,\"\")","v":"2014-04-16"},{"$f":"IF(表示!$B$13<=有効積算気温!O17,有効積算気温!$A17,\"\")","v":"2014-04-16"},{"$f":"IF(表示!$B$13<=有効積算気温!P17,有効積算気温!$A17,\"\")","v":"2014-04-16"},{"$f":"IF(表示!$B$13<=有効積算気温!Q17,有効積算気温!$A17,\"\")","v":"2014-04-16"},{"$f":"IF(表示!$B$13<=有効積算気温!R17,有効積算気温!$A17,\"\")","v":"2014-04-16"},{"$f":"IF(表示!$B$13<=有効積算気温!S17,有効積算気温!$A17,\"\")","v":"2014-04-16"},{"$f":"IF(表示!$B$13<=有効積算気温!T17,有効積算気温!$A17,\"\")","v":"2014-04-16"},{"$f":"IF(表示!$B$13<=有効積算気温!U17,有効積算気温!$A17,\"\")","v":"2014-04-16"},null,null,null,null,{"$f":"IF(表示!$B$13<=有効積算気温!Z17,有効積算気温!$A17,\"\")","v":"2014-04-16"}]
["2014-04-17",{"$f":"IF(表示!$B$13<=有効積算気温!B18,有効積算気温!$A18,\"\")","v":"2014-04-17"},{"$f":"IF(表示!$B$13<=有効積算気温!C18,有効積算気温!$A18,\"\")","v":"2014-04-17"},{"$f":"IF(表示!$B$13<=有効積算気温!D18,有効積算気温!$A18,\"\")","v":"2014-04-17"},{"$f":"IF(表示!$B$13<=有効積算気温!E18,有効積算気温!$A18,\"\")","v":"2014-04-17"},{"$f":"IF(表示!$B$13<=有効積算気温!F18,有効積算気温!$A18,\"\")","v":"2014-04-17"},{"$f":"IF(表示!$B$13<=有効積算気温!G18,有効積算気温!$A18,\"\")","v":"2014-04-17"},{"$f":"IF(表示!$B$13<=有効積算気温!H18,有効積算気温!$A18,\"\")","v":"2014-04-17"},{"$f":"IF(表示!$B$13<=有効積算気温!I18,有効積算気温!$A18,\"\")","v":"2014-04-17"},{"$f":"IF(表示!$B$13<=有効積算気温!J18,有効積算気温!$A18,\"\")","v":"2014-04-17"},{"$f":"IF(表示!$B$13<=有効積算気温!K18,有効積算気温!$A18,\"\")","v":"2014-04-17"},{"$f":"IF(表示!$B$13<=有効積算気温!L18,有効積算気温!$A18,\"\")","v":"2014-04-17"},{"$f":"IF(表示!$B$13<=有効積算気温!M18,有効積算気温!$A18,\"\")","v":"2014-04-17"},{"$f":"IF(表示!$B$13<=有効積算気温!N18,有効積算気温!$A18,\"\")","v":"2014-04-17"},{"$f":"IF(表示!$B$13<=有効積算気温!O18,有効積算気温!$A18,\"\")","v":"2014-04-17"},{"$f":"IF(表示!$B$13<=有効積算気温!P18,有効積算気温!$A18,\"\")","v":"2014-04-17"},{"$f":"IF(表示!$B$13<=有効積算気温!Q18,有効積算気温!$A18,\"\")","v":"2014-04-17"},{"$f":"IF(表示!$B$13<=有効積算気温!R18,有効積算気温!$A18,\"\")","v":"2014-04-17"},{"$f":"IF(表示!$B$13<=有効積算気温!S18,有効積算気温!$A18,\"\")","v":"2014-04-17"},{"$f":"IF(表示!$B$13<=有効積算気温!T18,有効積算気温!$A18,\"\")","v":"2014-04-17"},{"$f":"IF(表示!$B$13<=有効積算気温!U18,有効積算気温!$A18,\"\")","v":"2014-04-17"},null,null,null,null,{"$f":"IF(表示!$B$13<=有効積算気温!Z18,有効積算気温!$A18,\"\")","v":"2014-04-17"}]
["2014-04-18",{"$f":"IF(表示!$B$13<=有効積算気温!B19,有効積算気温!$A19,\"\")","v":"2014-04-18"},{"$f":"IF(表示!$B$13<=有効積算気温!C19,有効積算気温!$A19,\"\")","v":"2014-04-18"},{"$f":"IF(表示!$B$13<=有効積算気温!D19,有効積算気温!$A19,\"\")","v":"2014-04-18"},{"$f":"IF(表示!$B$13<=有効積算気温!E19,有効積算気温!$A19,\"\")","v":"2014-04-18"},{"$f":"IF(表示!$B$13<=有効積算気温!F19,有効積算気温!$A19,\"\")","v":"2014-04-18"},{"$f":"IF(表示!$B$13<=有効積算気温!G19,有効積算気温!$A19,\"\")","v":"2014-04-18"},{"$f":"IF(表示!$B$13<=有効積算気温!H19,有効積算気温!$A19,\"\")","v":"2014-04-18"},{"$f":"IF(表示!$B$13<=有効積算気温!I19,有効積算気温!$A19,\"\")","v":"2014-04-18"},{"$f":"IF(表示!$B$13<=有効積算気温!J19,有効積算気温!$A19,\"\")","v":"2014-04-18"},{"$f":"IF(表示!$B$13<=有効積算気温!K19,有効積算気温!$A19,\"\")","v":"2014-04-18"},{"$f":"IF(表示!$B$13<=有効積算気温!L19,有効積算気温!$A19,\"\")","v":"2014-04-18"},{"$f":"IF(表示!$B$13<=有効積算気温!M19,有効積算気温!$A19,\"\")","v":"2014-04-18"},{"$f":"IF(表示!$B$13<=有効積算気温!N19,有効積算気温!$A19,\"\")","v":"2014-04-18"},{"$f":"IF(表示!$B$13<=有効積算気温!O19,有効積算気温!$A19,\"\")","v":"2014-04-18"},{"$f":"IF(表示!$B$13<=有効積算気温!P19,有効積算気温!$A19,\"\")","v":"2014-04-18"},{"$f":"IF(表示!$B$13<=有効積算気温!Q19,有効積算気温!$A19,\"\")","v":"2014-04-18"},{"$f":"IF(表示!$B$13<=有効積算気温!R19,有効積算気温!$A19,\"\")","v":"2014-04-18"},{"$f":"IF(表示!$B$13<=有効積算気温!S19,有効積算気温!$A19,\"\")","v":"2014-04-18"},{"$f":"IF(表示!$B$13<=有効積算気温!T19,有効積算気温!$A19,\"\")","v":"2014-04-18"},{"$f":"IF(表示!$B$13<=有効積算気温!U19,有効積算気温!$A19,\"\")","v":"2014-04-18"},null,null,null,null,{"$f":"IF(表示!$B$13<=有効積算気温!Z19,有効積算気温!$A19,\"\")","v":"2014-04-18"}]
["2014-04-19",{"$f":"IF(表示!$B$13<=有効積算気温!B20,有効積算気温!$A20,\"\")","v":"2014-04-19"},{"$f":"IF(表示!$B$13<=有効積算気温!C20,有効積算気温!$A20,\"\")","v":"2014-04-19"},{"$f":"IF(表示!$B$13<=有効積算気温!D20,有効積算気温!$A20,\"\")","v":"2014-04-19"},{"$f":"IF(表示!$B$13<=有効積算気温!E20,有効積算気温!$A20,\"\")","v":"2014-04-19"},{"$f":"IF(表示!$B$13<=有効積算気温!F20,有効積算気温!$A20,\"\")","v":"2014-04-19"},{"$f":"IF(表示!$B$13<=有効積算気温!G20,有効積算気温!$A20,\"\")","v":"2014-04-19"},{"$f":"IF(表示!$B$13<=有効積算気温!H20,有効積算気温!$A20,\"\")","v":"2014-04-19"},{"$f":"IF(表示!$B$13<=有効積算気温!I20,有効積算気温!$A20,\"\")","v":"2014-04-19"},{"$f":"IF(表示!$B$13<=有効積算気温!J20,有効積算気温!$A20,\"\")","v":"2014-04-19"},{"$f":"IF(表示!$B$13<=有効積算気温!K20,有効積算気温!$A20,\"\")","v":"2014-04-19"},{"$f":"IF(表示!$B$13<=有効積算気温!L20,有効積算気温!$A20,\"\")","v":"2014-04-19"},{"$f":"IF(表示!$B$13<=有効積算気温!M20,有効積算気温!$A20,\"\")","v":"2014-04-19"},{"$f":"IF(表示!$B$13<=有効積算気温!N20,有効積算気温!$A20,\"\")","v":"2014-04-19"},{"$f":"IF(表示!$B$13<=有効積算気温!O20,有効積算気温!$A20,\"\")","v":"2014-04-19"},{"$f":"IF(表示!$B$13<=有効積算気温!P20,有効積算気温!$A20,\"\")","v":"2014-04-19"},{"$f":"IF(表示!$B$13<=有効積算気温!Q20,有効積算気温!$A20,\"\")","v":"2014-04-19"},{"$f":"IF(表示!$B$13<=有効積算気温!R20,有効積算気温!$A20,\"\")","v":"2014-04-19"},{"$f":"IF(表示!$B$13<=有効積算気温!S20,有効積算気温!$A20,\"\")","v":"2014-04-19"},{"$f":"IF(表示!$B$13<=有効積算気温!T20,有効積算気温!$A20,\"\")","v":"2014-04-19"},{"$f":"IF(表示!$B$13<=有効積算気温!U20,有効積算気温!$A20,\"\")","v":"2014-04-19"},null,null,null,null,{"$f":"IF(表示!$B$13<=有効積算気温!Z20,有効積算気温!$A20,\"\")","v":"2014-04-19"}]
["2014-04-20",{"$f":"IF(表示!$B$13<=有効積算気温!B21,有効積算気温!$A21,\"\")","v":"2014-04-20"},{"$f":"IF(表示!$B$13<=有効積算気温!C21,有効積算気温!$A21,\"\")","v":"2014-04-20"},{"$f":"IF(表示!$B$13<=有効積算気温!D21,有効積算気温!$A21,\"\")","v":"2014-04-20"},{"$f":"IF(表示!$B$13<=有効積算気温!E21,有効積算気温!$A21,\"\")","v":"2014-04-20"},{"$f":"IF(表示!$B$13<=有効積算気温!F21,有効積算気温!$A21,\"\")","v":"2014-04-20"},{"$f":"IF(表示!$B$13<=有効積算気温!G21,有効積算気温!$A21,\"\")","v":"2014-04-20"},{"$f":"IF(表示!$B$13<=有効積算気温!H21,有効積算気温!$A21,\"\")","v":"2014-04-20"},{"$f":"IF(表示!$B$13<=有効積算気温!I21,有効積算気温!$A21,\"\")","v":"2014-04-20"},{"$f":"IF(表示!$B$13<=有効積算気温!J21,有効積算気温!$A21,\"\")","v":"2014-04-20"},{"$f":"IF(表示!$B$13<=有効積算気温!K21,有効積算気温!$A21,\"\")","v":"2014-04-20"},{"$f":"IF(表示!$B$13<=有効積算気温!L21,有効積算気温!$A21,\"\")","v":"2014-04-20"},{"$f":"IF(表示!$B$13<=有効積算気温!M21,有効積算気温!$A21,\"\")","v":"2014-04-20"},{"$f":"IF(表示!$B$13<=有効積算気温!N21,有効積算気温!$A21,\"\")","v":"2014-04-20"},{"$f":"IF(表示!$B$13<=有効積算気温!O21,有効積算気温!$A21,\"\")","v":"2014-04-20"},{"$f":"IF(表示!$B$13<=有効積算気温!P21,有効積算気温!$A21,\"\")","v":"2014-04-20"},{"$f":"IF(表示!$B$13<=有効積算気温!Q21,有効積算気温!$A21,\"\")","v":"2014-04-20"},{"$f":"IF(表示!$B$13<=有効積算気温!R21,有効積算気温!$A21,\"\")","v":"2014-04-20"},{"$f":"IF(表示!$B$13<=有効積算気温!S21,有効積算気温!$A21,\"\")","v":"2014-04-20"},{"$f":"IF(表示!$B$13<=有効積算気温!T21,有効積算気温!$A21,\"\")","v":"2014-04-20"},{"$f":"IF(表示!$B$13<=有効積算気温!U21,有効積算気温!$A21,\"\")","v":"2014-04-20"},null,null,null,null,{"$f":"IF(表示!$B$13<=有効積算気温!Z21,有効積算気温!$A21,\"\")","v":"2014-04-20"}]
["2014-04-21",{"$f":"IF(表示!$B$13<=有効積算気温!B22,有効積算気温!$A22,\"\")","v":"2014-04-21"},{"$f":"IF(表示!$B$13<=有効積算気温!C22,有効積算気温!$A22,\"\")","v":"2014-04-21"},{"$f":"IF(表示!$B$13<=有効積算気温!D22,有効積算気温!$A22,\"\")","v":"2014-04-21"},{"$f":"IF(表示!$B$13<=有効積算気温!E22,有効積算気温!$A22,\"\")","v":"2014-04-21"},{"$f":"IF(表示!$B$13<=有効積算気温!F22,有効積算気温!$A22,\"\")","v":"2014-04-21"},{"$f":"IF(表示!$B$13<=有効積算気温!G22,有効積算気温!$A22,\"\")","v":"2014-04-21"},{"$f":"IF(表示!$B$13<=有効積算気温!H22,有効積算気温!$A22,\"\")","v":"2014-04-21"},{"$f":"IF(表示!$B$13<=有効積算気温!I22,有効積算気温!$A22,\"\")","v":"2014-04-21"},{"$f":"IF(表示!$B$13<=有効積算気温!J22,有効積算気温!$A22,\"\")","v":"2014-04-21"},{"$f":"IF(表示!$B$13<=有効積算気温!K22,有効積算気温!$A22,\"\")","v":"2014-04-21"},{"$f":"IF(表示!$B$13<=有効積算気温!L22,有効積算気温!$A22,\"\")","v":"2014-04-21"},{"$f":"IF(表示!$B$13<=有効積算気温!M22,有効積算気温!$A22,\"\")","v":"2014-04-21"},{"$f":"IF(表示!$B$13<=有効積算気温!N22,有効積算気温!$A22,\"\")","v":"2014-04-21"},{"$f":"IF(表示!$B$13<=有効積算気温!O22,有効積算気温!$A22,\"\")","v":"2014-04-21"},{"$f":"IF(表示!$B$13<=有効積算気温!P22,有効積算気温!$A22,\"\")","v":"2014-04-21"},{"$f":"IF(表示!$B$13<=有効積算気温!Q22,有効積算気温!$A22,\"\")","v":"2014-04-21"},{"$f":"IF(表示!$B$13<=有効積算気温!R22,有効積算気温!$A22,\"\")","v":"2014-04-21"},{"$f":"IF(表示!$B$13<=有効積算気温!S22,有効積算気温!$A22,\"\")","v":"2014-04-21"},{"$f":"IF(表示!$B$13<=有効積算気温!T22,有効積算気温!$A22,\"\")","v":"2014-04-21"},{"$f":"IF(表示!$B$13<=有効積算気温!U22,有効積算気温!$A22,\"\")","v":"2014-04-21"},null,null,null,null,{"$f":"IF(表示!$B$13<=有効積算気温!Z22,有効積算気温!$A22,\"\")","v":"2014-04-21"}]
["2014-04-22",{"$f":"IF(表示!$B$13<=有効積算気温!B23,有効積算気温!$A23,\"\")","v":"2014-04-22"},{"$f":"IF(表示!$B$13<=有効積算気温!C23,有効積算気温!$A23,\"\")","v":"2014-04-22"},{"$f":"IF(表示!$B$13<=有効積算気温!D23,有効積算気温!$A23,\"\")","v":"2014-04-22"},{"$f":"IF(表示!$B$13<=有効積算気温!E23,有効積算気温!$A23,\"\")","v":"2014-04-22"},{"$f":"IF(表示!$B$13<=有効積算気温!F23,有効積算気温!$A23,\"\")","v":"2014-04-22"},{"$f":"IF(表示!$B$13<=有効積算気温!G23,有効積算気温!$A23,\"\")","v":"2014-04-22"},{"$f":"IF(表示!$B$13<=有効積算気温!H23,有効積算気温!$A23,\"\")","v":"2014-04-22"},{"$f":"IF(表示!$B$13<=有効積算気温!I23,有効積算気温!$A23,\"\")","v":"2014-04-22"},{"$f":"IF(表示!$B$13<=有効積算気温!J23,有効積算気温!$A23,\"\")","v":"2014-04-22"},{"$f":"IF(表示!$B$13<=有効積算気温!K23,有効積算気温!$A23,\"\")","v":"2014-04-22"},{"$f":"IF(表示!$B$13<=有効積算気温!L23,有効積算気温!$A23,\"\")","v":"2014-04-22"},{"$f":"IF(表示!$B$13<=有効積算気温!M23,有効積算気温!$A23,\"\")","v":"2014-04-22"},{"$f":"IF(表示!$B$13<=有効積算気温!N23,有効積算気温!$A23,\"\")","v":"2014-04-22"},{"$f":"IF(表示!$B$13<=有効積算気温!O23,有効積算気温!$A23,\"\")","v":"2014-04-22"},{"$f":"IF(表示!$B$13<=有効積算気温!P23,有効積算気温!$A23,\"\")","v":"2014-04-22"},{"$f":"IF(表示!$B$13<=有効積算気温!Q23,有効積算気温!$A23,\"\")","v":"2014-04-22"},{"$f":"IF(表示!$B$13<=有効積算気温!R23,有効積算気温!$A23,\"\")","v":"2014-04-22"},{"$f":"IF(表示!$B$13<=有効積算気温!S23,有効積算気温!$A23,\"\")","v":"2014-04-22"},{"$f":"IF(表示!$B$13<=有効積算気温!T23,有効積算気温!$A23,\"\")","v":"2014-04-22"},{"$f":"IF(表示!$B$13<=有効積算気温!U23,有効積算気温!$A23,\"\")","v":"2014-04-22"},null,null,null,null,{"$f":"IF(表示!$B$13<=有効積算気温!Z23,有効積算気温!$A23,\"\")","v":"2014-04-22"}]
["2014-04-23",{"$f":"IF(表示!$B$13<=有効積算気温!B24,有効積算気温!$A24,\"\")","v":"2014-04-23"},{"$f":"IF(表示!$B$13<=有効積算気温!C24,有効積算気温!$A24,\"\")","v":"2014-04-23"},{"$f":"IF(表示!$B$13<=有効積算気温!D24,有効積算気温!$A24,\"\")","v":"2014-04-23"},{"$f":"IF(表示!$B$13<=有効積算気温!E24,有効積算気温!$A24,\"\")","v":"2014-04-23"},{"$f":"IF(表示!$B$13<=有効積算気温!F24,有効積算気温!$A24,\"\")","v":"2014-04-23"},{"$f":"IF(表示!$B$13<=有効積算気温!G24,有効積算気温!$A24,\"\")","v":"2014-04-23"},{"$f":"IF(表示!$B$13<=有効積算気温!H24,有効積算気温!$A24,\"\")","v":"2014-04-23"},{"$f":"IF(表示!$B$13<=有効積算気温!I24,有効積算気温!$A24,\"\")","v":"2014-04-23"},{"$f":"IF(表示!$B$13<=有効積算気温!J24,有効積算気温!$A24,\"\")","v":"2014-04-23"},{"$f":"IF(表示!$B$13<=有効積算気温!K24,有効積算気温!$A24,\"\")","v":"2014-04-23"},{"$f":"IF(表示!$B$13<=有効積算気温!L24,有効積算気温!$A24,\"\")","v":"2014-04-23"},{"$f":"IF(表示!$B$13<=有効積算気温!M24,有効積算気温!$A24,\"\")","v":"2014-04-23"},{"$f":"IF(表示!$B$13<=有効積算気温!N24,有効積算気温!$A24,\"\")","v":"2014-04-23"},{"$f":"IF(表示!$B$13<=有効積算気温!O24,有効積算気温!$A24,\"\")","v":"2014-04-23"},{"$f":"IF(表示!$B$13<=有効積算気温!P24,有効積算気温!$A24,\"\")","v":"2014-04-23"},{"$f":"IF(表示!$B$13<=有効積算気温!Q24,有効積算気温!$A24,\"\")","v":"2014-04-23"},{"$f":"IF(表示!$B$13<=有効積算気温!R24,有効積算気温!$A24,\"\")","v":"2014-04-23"},{"$f":"IF(表示!$B$13<=有効積算気温!S24,有効積算気温!$A24,\"\")","v":"2014-04-23"},{"$f":"IF(表示!$B$13<=有効積算気温!T24,有効積算気温!$A24,\"\")","v":"2014-04-23"},{"$f":"IF(表示!$B$13<=有効積算気温!U24,有効積算気温!$A24,\"\")","v":"2014-04-23"},null,null,null,null,{"$f":"IF(表示!$B$13<=有効積算気温!Z24,有効積算気温!$A24,\"\")","v":"2014-04-23"}]
["2014-04-24",{"$f":"IF(表示!$B$13<=有効積算気温!B25,有効積算気温!$A25,\"\")","v":"2014-04-24"},{"$f":"IF(表示!$B$13<=有効積算気温!C25,有効積算気温!$A25,\"\")","v":"2014-04-24"},{"$f":"IF(表示!$B$13<=有効積算気温!D25,有効積算気温!$A25,\"\")","v":"2014-04-24"},{"$f":"IF(表示!$B$13<=有効積算気温!E25,有効積算気温!$A25,\"\")","v":"2014-04-24"},{"$f":"IF(表示!$B$13<=有効積算気温!F25,有効積算気温!$A25,\"\")","v":"2014-04-24"},{"$f":"IF(表示!$B$13<=有効積算気温!G25,有効積算気温!$A25,\"\")","v":"2014-04-24"},{"$f":"IF(表示!$B$13<=有効積算気温!H25,有効積算気温!$A25,\"\")","v":"2014-04-24"},{"$f":"IF(表示!$B$13<=有効積算気温!I25,有効積算気温!$A25,\"\")","v":"2014-04-24"},{"$f":"IF(表示!$B$13<=有効積算気温!J25,有効積算気温!$A25,\"\")","v":"2014-04-24"},{"$f":"IF(表示!$B$13<=有効積算気温!K25,有効積算気温!$A25,\"\")","v":"2014-04-24"},{"$f":"IF(表示!$B$13<=有効積算気温!L25,有効積算気温!$A25,\"\")","v":"2014-04-24"},{"$f":"IF(表示!$B$13<=有効積算気温!M25,有効積算気温!$A25,\"\")","v":"2014-04-24"},{"$f":"IF(表示!$B$13<=有効積算気温!N25,有効積算気温!$A25,\"\")","v":"2014-04-24"},{"$f":"IF(表示!$B$13<=有効積算気温!O25,有効積算気温!$A25,\"\")","v":"2014-04-24"},{"$f":"IF(表示!$B$13<=有効積算気温!P25,有効積算気温!$A25,\"\")","v":"2014-04-24"},{"$f":"IF(表示!$B$13<=有効積算気温!Q25,有効積算気温!$A25,\"\")","v":"2014-04-24"},{"$f":"IF(表示!$B$13<=有効積算気温!R25,有効積算気温!$A25,\"\")","v":"2014-04-24"},{"$f":"IF(表示!$B$13<=有効積算気温!S25,有効積算気温!$A25,\"\")","v":"2014-04-24"},{"$f":"IF(表示!$B$13<=有効積算気温!T25,有効積算気温!$A25,\"\")","v":"2014-04-24"},{"$f":"IF(表示!$B$13<=有効積算気温!U25,有効積算気温!$A25,\"\")","v":"2014-04-24"},null,null,null,null,{"$f":"IF(表示!$B$13<=有効積算気温!Z25,有効積算気温!$A25,\"\")","v":"2014-04-24"}]
["2014-04-25",{"$f":"IF(表示!$B$13<=有効積算気温!B26,有効積算気温!$A26,\"\")","v":"2014-04-25"},{"$f":"IF(表示!$B$13<=有効積算気温!C26,有効積算気温!$A26,\"\")","v":"2014-04-25"},{"$f":"IF(表示!$B$13<=有効積算気温!D26,有効積算気温!$A26,\"\")","v":"2014-04-25"},{"$f":"IF(表示!$B$13<=有効積算気温!E26,有効積算気温!$A26,\"\")","v":"2014-04-25"},{"$f":"IF(表示!$B$13<=有効積算気温!F26,有効積算気温!$A26,\"\")","v":"2014-04-25"},{"$f":"IF(表示!$B$13<=有効積算気温!G26,有効積算気温!$A26,\"\")","v":"2014-04-25"},{"$f":"IF(表示!$B$13<=有効積算気温!H26,有効積算気温!$A26,\"\")","v":"2014-04-25"},{"$f":"IF(表示!$B$13<=有効積算気温!I26,有効積算気温!$A26,\"\")","v":"2014-04-25"},{"$f":"IF(表示!$B$13<=有効積算気温!J26,有効積算気温!$A26,\"\")","v":"2014-04-25"},{"$f":"IF(表示!$B$13<=有効積算気温!K26,有効積算気温!$A26,\"\")","v":"2014-04-25"},{"$f":"IF(表示!$B$13<=有効積算気温!L26,有効積算気温!$A26,\"\")","v":"2014-04-25"},{"$f":"IF(表示!$B$13<=有効積算気温!M26,有効積算気温!$A26,\"\")","v":"2014-04-25"},{"$f":"IF(表示!$B$13<=有効積算気温!N26,有効積算気温!$A26,\"\")","v":"2014-04-25"},{"$f":"IF(表示!$B$13<=有効積算気温!O26,有効積算気温!$A26,\"\")","v":"2014-04-25"},{"$f":"IF(表示!$B$13<=有効積算気温!P26,有効積算気温!$A26,\"\")","v":"2014-04-25"},{"$f":"IF(表示!$B$13<=有効積算気温!Q26,有効積算気温!$A26,\"\")","v":"2014-04-25"},{"$f":"IF(表示!$B$13<=有効積算気温!R26,有効積算気温!$A26,\"\")","v":"2014-04-25"},{"$f":"IF(表示!$B$13<=有効積算気温!S26,有効積算気温!$A26,\"\")","v":"2014-04-25"},{"$f":"IF(表示!$B$13<=有効積算気温!T26,有効積算気温!$A26,\"\")","v":"2014-04-25"},{"$f":"IF(表示!$B$13<=有効積算気温!U26,有効積算気温!$A26,\"\")","v":"2014-04-25"},null,null,null,null,{"$f":"IF(表示!$B$13<=有効積算気温!Z26,有効積算気温!$A26,\"\")","v":"2014-04-25"}]
["2014-04-26",{"$f":"IF(表示!$B$13<=有効積算気温!B27,有効積算気温!$A27,\"\")","v":"2014-04-26"},{"$f":"IF(表示!$B$13<=有効積算気温!C27,有効積算気温!$A27,\"\")","v":"2014-04-26"},{"$f":"IF(表示!$B$13<=有効積算気温!D27,有効積算気温!$A27,\"\")","v":"2014-04-26"},{"$f":"IF(表示!$B$13<=有効積算気温!E27,有効積算気温!$A27,\"\")","v":"2014-04-26"},{"$f":"IF(表示!$B$13<=有効積算気温!F27,有効積算気温!$A27,\"\")","v":"2014-04-26"},{"$f":"IF(表示!$B$13<=有効積算気温!G27,有効積算気温!$A27,\"\")","v":"2014-04-26"},{"$f":"IF(表示!$B$13<=有効積算気温!H27,有効積算気温!$A27,\"\")","v":"2014-04-26"},{"$f":"IF(表示!$B$13<=有効積算気温!I27,有効積算気温!$A27,\"\")","v":"2014-04-26"},{"$f":"IF(表示!$B$13<=有効積算気温!J27,有効積算気温!$A27,\"\")","v":"2014-04-26"},{"$f":"IF(表示!$B$13<=有効積算気温!K27,有効積算気温!$A27,\"\")","v":"2014-04-26"},{"$f":"IF(表示!$B$13<=有効積算気温!L27,有効積算気温!$A27,\"\")","v":"2014-04-26"},{"$f":"IF(表示!$B$13<=有効積算気温!M27,有効積算気温!$A27,\"\")","v":"2014-04-26"},{"$f":"IF(表示!$B$13<=有効積算気温!N27,有効積算気温!$A27,\"\")","v":"2014-04-26"},{"$f":"IF(表示!$B$13<=有効積算気温!O27,有効積算気温!$A27,\"\")","v":"2014-04-26"},{"$f":"IF(表示!$B$13<=有効積算気温!P27,有効積算気温!$A27,\"\")","v":"2014-04-26"},{"$f":"IF(表示!$B$13<=有効積算気温!Q27,有効積算気温!$A27,\"\")","v":"2014-04-26"},{"$f":"IF(表示!$B$13<=有効積算気温!R27,有効積算気温!$A27,\"\")","v":"2014-04-26"},{"$f":"IF(表示!$B$13<=有効積算気温!S27,有効積算気温!$A27,\"\")","v":"2014-04-26"},{"$f":"IF(表示!$B$13<=有効積算気温!T27,有効積算気温!$A27,\"\")","v":"2014-04-26"},{"$f":"IF(表示!$B$13<=有効積算気温!U27,有効積算気温!$A27,\"\")","v":"2014-04-26"},null,null,null,null,{"$f":"IF(表示!$B$13<=有効積算気温!Z27,有効積算気温!$A27,\"\")","v":"2014-04-26"}]
["2014-04-27",{"$f":"IF(表示!$B$13<=有効積算気温!B28,有効積算気温!$A28,\"\")","v":"2014-04-27"},{"$f":"IF(表示!$B$13<=有効積算気温!C28,有効積算気温!$A28,\"\")","v":"2014-04-27"},{"$f":"IF(表示!$B$13<=有効積算気温!D28,有効積算気温!$A28,\"\")","v":"2014-04-27"},{"$f":"IF(表示!$B$13<=有効積算気温!E28,有効積算気温!$A28,\"\")","v":"2014-04-27"},{"$f":"IF(表示!$B$13<=有効積算気温!F28,有効積算気温!$A28,\"\")","v":"2014-04-27"},{"$f":"IF(表示!$B$13<=有効積算気温!G28,有効積算気温!$A28,\"\")","v":"2014-04-27"},{"$f":"IF(表示!$B$13<=有効積算気温!H28,有効積算気温!$A28,\"\")","v":"2014-04-27"},{"$f":"IF(表示!$B$13<=有効積算気温!I28,有効積算気温!$A28,\"\")","v":"2014-04-27"},{"$f":"IF(表示!$B$13<=有効積算気温!J28,有効積算気温!$A28,\"\")","v":"2014-04-27"},{"$f":"IF(表示!$B$13<=有効積算気温!K28,有効積算気温!$A28,\"\")","v":"2014-04-27"},{"$f":"IF(表示!$B$13<=有効積算気温!L28,有効積算気温!$A28,\"\")","v":"2014-04-27"},{"$f":"IF(表示!$B$13<=有効積算気温!M28,有効積算気温!$A28,\"\")","v":"2014-04-27"},{"$f":"IF(表示!$B$13<=有効積算気温!N28,有効積算気温!$A28,\"\")","v":"2014-04-27"},{"$f":"IF(表示!$B$13<=有効積算気温!O28,有効積算気温!$A28,\"\")","v":"2014-04-27"},{"$f":"IF(表示!$B$13<=有効積算気温!P28,有効積算気温!$A28,\"\")","v":"2014-04-27"},{"$f":"IF(表示!$B$13<=有効積算気温!Q28,有効積算気温!$A28,\"\")","v":"2014-04-27"},{"$f":"IF(表示!$B$13<=有効積算気温!R28,有効積算気温!$A28,\"\")","v":"2014-04-27"},{"$f":"IF(表示!$B$13<=有効積算気温!S28,有効積算気温!$A28,\"\")","v":"2014-04-27"},{"$f":"IF(表示!$B$13<=有効積算気温!T28,有効積算気温!$A28,\"\")","v":"2014-04-27"},{"$f":"IF(表示!$B$13<=有効積算気温!U28,有効積算気温!$A28,\"\")","v":"2014-04-27"},null,null,null,null,{"$f":"IF(表示!$B$13<=有効積算気温!Z28,有効積算気温!$A28,\"\")","v":"2014-04-27"}]
["2014-04-28",{"$f":"IF(表示!$B$13<=有効積算気温!B29,有効積算気温!$A29,\"\")","v":"2014-04-28"},{"$f":"IF(表示!$B$13<=有効積算気温!C29,有効積算気温!$A29,\"\")","v":"2014-04-28"},{"$f":"IF(表示!$B$13<=有効積算気温!D29,有効積算気温!$A29,\"\")","v":"2014-04-28"},{"$f":"IF(表示!$B$13<=有効積算気温!E29,有効積算気温!$A29,\"\")","v":"2014-04-28"},{"$f":"IF(表示!$B$13<=有効積算気温!F29,有効積算気温!$A29,\"\")","v":"2014-04-28"},{"$f":"IF(表示!$B$13<=有効積算気温!G29,有効積算気温!$A29,\"\")","v":"2014-04-28"},{"$f":"IF(表示!$B$13<=有効積算気温!H29,有効積算気温!$A29,\"\")","v":"2014-04-28"},{"$f":"IF(表示!$B$13<=有効積算気温!I29,有効積算気温!$A29,\"\")","v":"2014-04-28"},{"$f":"IF(表示!$B$13<=有効積算気温!J29,有効積算気温!$A29,\"\")","v":"2014-04-28"},{"$f":"IF(表示!$B$13<=有効積算気温!K29,有効積算気温!$A29,\"\")","v":"2014-04-28"},{"$f":"IF(表示!$B$13<=有効積算気温!L29,有効積算気温!$A29,\"\")","v":"2014-04-28"},{"$f":"IF(表示!$B$13<=有効積算気温!M29,有効積算気温!$A29,\"\")","v":"2014-04-28"},{"$f":"IF(表示!$B$13<=有効積算気温!N29,有効積算気温!$A29,\"\")","v":"2014-04-28"},{"$f":"IF(表示!$B$13<=有効積算気温!O29,有効積算気温!$A29,\"\")","v":"2014-04-28"},{"$f":"IF(表示!$B$13<=有効積算気温!P29,有効積算気温!$A29,\"\")","v":"2014-04-28"},{"$f":"IF(表示!$B$13<=有効積算気温!Q29,有効積算気温!$A29,\"\")","v":"2014-04-28"},{"$f":"IF(表示!$B$13<=有効積算気温!R29,有効積算気温!$A29,\"\")","v":"2014-04-28"},{"$f":"IF(表示!$B$13<=有効積算気温!S29,有効積算気温!$A29,\"\")","v":"2014-04-28"},{"$f":"IF(表示!$B$13<=有効積算気温!T29,有効積算気温!$A29,\"\")","v":"2014-04-28"},{"$f":"IF(表示!$B$13<=有効積算気温!U29,有効積算気温!$A29,\"\")","v":"2014-04-28"},null,null,null,null,{"$f":"IF(表示!$B$13<=有効積算気温!Z29,有効積算気温!$A29,\"\")","v":"2014-04-28"}]
["2014-04-29",{"$f":"IF(表示!$B$13<=有効積算気温!B30,有効積算気温!$A30,\"\")","v":"2014-04-29"},{"$f":"IF(表示!$B$13<=有効積算気温!C30,有効積算気温!$A30,\"\")","v":"2014-04-29"},{"$f":"IF(表示!$B$13<=有効積算気温!D30,有効積算気温!$A30,\"\")","v":"2014-04-29"},{"$f":"IF(表示!$B$13<=有効積算気温!E30,有効積算気温!$A30,\"\")","v":"2014-04-29"},{"$f":"IF(表示!$B$13<=有効積算気温!F30,有効積算気温!$A30,\"\")","v":"2014-04-29"},{"$f":"IF(表示!$B$13<=有効積算気温!G30,有効積算気温!$A30,\"\")","v":"2014-04-29"},{"$f":"IF(表示!$B$13<=有効積算気温!H30,有効積算気温!$A30,\"\")","v":"2014-04-29"},{"$f":"IF(表示!$B$13<=有効積算気温!I30,有効積算気温!$A30,\"\")","v":"2014-04-29"},{"$f":"IF(表示!$B$13<=有効積算気温!J30,有効積算気温!$A30,\"\")","v":"2014-04-29"},{"$f":"IF(表示!$B$13<=有効積算気温!K30,有効積算気温!$A30,\"\")","v":"2014-04-29"},{"$f":"IF(表示!$B$13<=有効積算気温!L30,有効積算気温!$A30,\"\")","v":"2014-04-29"},{"$f":"IF(表示!$B$13<=有効積算気温!M30,有効積算気温!$A30,\"\")","v":"2014-04-29"},{"$f":"IF(表示!$B$13<=有効積算気温!N30,有効積算気温!$A30,\"\")","v":"2014-04-29"},{"$f":"IF(表示!$B$13<=有効積算気温!O30,有効積算気温!$A30,\"\")","v":"2014-04-29"},{"$f":"IF(表示!$B$13<=有効積算気温!P30,有効積算気温!$A30,\"\")","v":"2014-04-29"},{"$f":"IF(表示!$B$13<=有効積算気温!Q30,有効積算気温!$A30,\"\")","v":"2014-04-29"},{"$f":"IF(表示!$B$13<=有効積算気温!R30,有効積算気温!$A30,\"\")","v":"2014-04-29"},{"$f":"IF(表示!$B$13<=有効積算気温!S30,有効積算気温!$A30,\"\")","v":"2014-04-29"},{"$f":"IF(表示!$B$13<=有効積算気温!T30,有効積算気温!$A30,\"\")","v":"2014-04-29"},{"$f":"IF(表示!$B$13<=有効積算気温!U30,有効積算気温!$A30,\"\")","v":"2014-04-29"},null,null,null,null,{"$f":"IF(表示!$B$13<=有効積算気温!Z30,有効積算気温!$A30,\"\")","v":"2014-04-29"}]
["2014-04-30",{"$f":"IF(表示!$B$13<=有効積算気温!B31,有効積算気温!$A31,\"\")","v":"2014-04-30"},{"$f":"IF(表示!$B$13<=有効積算気温!C31,有効積算気温!$A31,\"\")","v":"2014-04-30"},{"$f":"IF(表示!$B$13<=有効積算気温!D31,有効積算気温!$A31,\"\")","v":"2014-04-30"},{"$f":"IF(表示!$B$13<=有効積算気温!E31,有効積算気温!$A31,\"\")","v":"2014-04-30"},{"$f":"IF(表示!$B$13<=有効積算気温!F31,有効積算気温!$A31,\"\")","v":"2014-04-30"},{"$f":"IF(表示!$B$13<=有効積算気温!G31,有効積算気温!$A31,\"\")","v":"2014-04-30"},{"$f":"IF(表示!$B$13<=有効積算気温!H31,有効積算気温!$A31,\"\")","v":"2014-04-30"},{"$f":"IF(表示!$B$13<=有効積算気温!I31,有効積算気温!$A31,\"\")","v":"2014-04-30"},{"$f":"IF(表示!$B$13<=有効積算気温!J31,有効積算気温!$A31,\"\")","v":"2014-04-30"},{"$f":"IF(表示!$B$13<=有効積算気温!K31,有効積算気温!$A31,\"\")","v":"2014-04-30"},{"$f":"IF(表示!$B$13<=有効積算気温!L31,有効積算気温!$A31,\"\")","v":"2014-04-30"},{"$f":"IF(表示!$B$13<=有効積算気温!M31,有効積算気温!$A31,\"\")","v":"2014-04-30"},{"$f":"IF(表示!$B$13<=有効積算気温!N31,有効積算気温!$A31,\"\")","v":"2014-04-30"},{"$f":"IF(表示!$B$13<=有効積算気温!O31,有効積算気温!$A31,\"\")","v":"2014-04-30"},{"$f":"IF(表示!$B$13<=有効積算気温!P31,有効積算気温!$A31,\"\")","v":"2014-04-30"},{"$f":"IF(表示!$B$13<=有効積算気温!Q31,有効積算気温!$A31,\"\")","v":"2014-04-30"},{"$f":"IF(表示!$B$13<=有効積算気温!R31,有効積算気温!$A31,\"\")","v":"2014-04-30"},{"$f":"IF(表示!$B$13<=有効積算気温!S31,有効積算気温!$A31,\"\")","v":"2014-04-30"},{"$f":"IF(表示!$B$13<=有効積算気温!T31,有効積算気温!$A31,\"\")","v":"2014-04-30"},{"$f":"IF(表示!$B$13<=有効積算気温!U31,有効積算気温!$A31,\"\")","v":"2014-04-30"},null,null,null,null,{"$f":"IF(表示!$B$13<=有効積算気温!Z31,有効積算気温!$A31,\"\")","v":"2014-04-30"}]
["2014-05-01",{"$f":"IF(表示!$B$13<=有効積算気温!B32,有効積算気温!$A32,\"\")","v":"2014-05-01"},{"$f":"IF(表示!$B$13<=有効積算気温!C32,有効積算気温!$A32,\"\")","v":"2014-05-01"},{"$f":"IF(表示!$B$13<=有効積算気温!D32,有効積算気温!$A32,\"\")","v":"2014-05-01"},{"$f":"IF(表示!$B$13<=有効積算気温!E32,有効積算気温!$A32,\"\")","v":"2014-05-01"},{"$f":"IF(表示!$B$13<=有効積算気温!F32,有効積算気温!$A32,\"\")","v":"2014-05-01"},{"$f":"IF(表示!$B$13<=有効積算気温!G32,有効積算気温!$A32,\"\")","v":"2014-05-01"},{"$f":"IF(表示!$B$13<=有効積算気温!H32,有効積算気温!$A32,\"\")","v":"2014-05-01"},{"$f":"IF(表示!$B$13<=有効積算気温!I32,有効積算気温!$A32,\"\")","v":"2014-05-01"},{"$f":"IF(表示!$B$13<=有効積算気温!J32,有効積算気温!$A32,\"\")","v":"2014-05-01"},{"$f":"IF(表示!$B$13<=有効積算気温!K32,有効積算気温!$A32,\"\")","v":"2014-05-01"},{"$f":"IF(表示!$B$13<=有効積算気温!L32,有効積算気温!$A32,\"\")","v":"2014-05-01"},{"$f":"IF(表示!$B$13<=有効積算気温!M32,有効積算気温!$A32,\"\")","v":"2014-05-01"},{"$f":"IF(表示!$B$13<=有効積算気温!N32,有効積算気温!$A32,\"\")","v":"2014-05-01"},{"$f":"IF(表示!$B$13<=有効積算気温!O32,有効積算気温!$A32,\"\")","v":"2014-05-01"},{"$f":"IF(表示!$B$13<=有効積算気温!P32,有効積算気温!$A32,\"\")","v":"2014-05-01"},{"$f":"IF(表示!$B$13<=有効積算気温!Q32,有効積算気温!$A32,\"\")","v":"2014-05-01"},{"$f":"IF(表示!$B$13<=有効積算気温!R32,有効積算気温!$A32,\"\")","v":"2014-05-01"},{"$f":"IF(表示!$B$13<=有効積算気温!S32,有効積算気温!$A32,\"\")","v":"2014-05-01"},{"$f":"IF(表示!$B$13<=有効積算気温!T32,有効積算気温!$A32,\"\")","v":"2014-05-01"},{"$f":"IF(表示!$B$13<=有効積算気温!U32,有効積算気温!$A32,\"\")","v":"2014-05-01"},null,null,null,null,{"$f":"IF(表示!$B$13<=有効積算気温!Z32,有効積算気温!$A32,\"\")","v":"2014-05-01"}]
["2014-05-02",{"$f":"IF(表示!$B$13<=有効積算気温!B33,有効積算気温!$A33,\"\")","v":"2014-05-02"},{"$f":"IF(表示!$B$13<=有効積算気温!C33,有効積算気温!$A33,\"\")","v":"2014-05-02"},{"$f":"IF(表示!$B$13<=有効積算気温!D33,有効積算気温!$A33,\"\")","v":"2014-05-02"},{"$f":"IF(表示!$B$13<=有効積算気温!E33,有効積算気温!$A33,\"\")","v":"2014-05-02"},{"$f":"IF(表示!$B$13<=有効積算気温!F33,有効積算気温!$A33,\"\")","v":"2014-05-02"},{"$f":"IF(表示!$B$13<=有効積算気温!G33,有効積算気温!$A33,\"\")","v":"2014-05-02"},{"$f":"IF(表示!$B$13<=有効積算気温!H33,有効積算気温!$A33,\"\")","v":"2014-05-02"},{"$f":"IF(表示!$B$13<=有効積算気温!I33,有効積算気温!$A33,\"\")","v":"2014-05-02"},{"$f":"IF(表示!$B$13<=有効積算気温!J33,有効積算気温!$A33,\"\")","v":"2014-05-02"},{"$f":"IF(表示!$B$13<=有効積算気温!K33,有効積算気温!$A33,\"\")","v":"2014-05-02"},{"$f":"IF(表示!$B$13<=有効積算気温!L33,有効積算気温!$A33,\"\")","v":"2014-05-02"},{"$f":"IF(表示!$B$13<=有効積算気温!M33,有効積算気温!$A33,\"\")","v":"2014-05-02"},{"$f":"IF(表示!$B$13<=有効積算気温!N33,有効積算気温!$A33,\"\")","v":"2014-05-02"},{"$f":"IF(表示!$B$13<=有効積算気温!O33,有効積算気温!$A33,\"\")","v":"2014-05-02"},{"$f":"IF(表示!$B$13<=有効積算気温!P33,有効積算気温!$A33,\"\")","v":"2014-05-02"},{"$f":"IF(表示!$B$13<=有効積算気温!Q33,有効積算気温!$A33,\"\")","v":"2014-05-02"},{"$f":"IF(表示!$B$13<=有効積算気温!R33,有効積算気温!$A33,\"\")","v":"2014-05-02"},{"$f":"IF(表示!$B$13<=有効積算気温!S33,有効積算気温!$A33,\"\")","v":"2014-05-02"},{"$f":"IF(表示!$B$13<=有効積算気温!T33,有効積算気温!$A33,\"\")","v":"2014-05-02"},{"$f":"IF(表示!$B$13<=有効積算気温!U33,有効積算気温!$A33,\"\")","v":"2014-05-02"},null,null,null,null,{"$f":"IF(表示!$B$13<=有効積算気温!Z33,有効積算気温!$A33,\"\")","v":"2014-05-02"}]
["2014-05-03",{"$f":"IF(表示!$B$13<=有効積算気温!B34,有効積算気温!$A34,\"\")","v":"2014-05-03"},{"$f":"IF(表示!$B$13<=有効積算気温!C34,有効積算気温!$A34,\"\")","v":"2014-05-03"},{"$f":"IF(表示!$B$13<=有効積算気温!D34,有効積算気温!$A34,\"\")","v":"2014-05-03"},{"$f":"IF(表示!$B$13<=有効積算気温!E34,有効積算気温!$A34,\"\")","v":"2014-05-03"},{"$f":"IF(表示!$B$13<=有効積算気温!F34,有効積算気温!$A34,\"\")","v":"2014-05-03"},{"$f":"IF(表示!$B$13<=有効積算気温!G34,有効積算気温!$A34,\"\")","v":"2014-05-03"},{"$f":"IF(表示!$B$13<=有効積算気温!H34,有効積算気温!$A34,\"\")","v":"2014-05-03"},{"$f":"IF(表示!$B$13<=有効積算気温!I34,有効積算気温!$A34,\"\")","v":"2014-05-03"},{"$f":"IF(表示!$B$13<=有効積算気温!J34,有効積算気温!$A34,\"\")","v":"2014-05-03"},{"$f":"IF(表示!$B$13<=有効積算気温!K34,有効積算気温!$A34,\"\")","v":"2014-05-03"},{"$f":"IF(表示!$B$13<=有効積算気温!L34,有効積算気温!$A34,\"\")","v":"2014-05-03"},{"$f":"IF(表示!$B$13<=有効積算気温!M34,有効積算気温!$A34,\"\")","v":"2014-05-03"},{"$f":"IF(表示!$B$13<=有効積算気温!N34,有効積算気温!$A34,\"\")","v":"2014-05-03"},{"$f":"IF(表示!$B$13<=有効積算気温!O34,有効積算気温!$A34,\"\")","v":"2014-05-03"},{"$f":"IF(表示!$B$13<=有効積算気温!P34,有効積算気温!$A34,\"\")","v":"2014-05-03"},{"$f":"IF(表示!$B$13<=有効積算気温!Q34,有効積算気温!$A34,\"\")","v":"2014-05-03"},{"$f":"IF(表示!$B$13<=有効積算気温!R34,有効積算気温!$A34,\"\")","v":"2014-05-03"},{"$f":"IF(表示!$B$13<=有効積算気温!S34,有効積算気温!$A34,\"\")","v":"2014-05-03"},{"$f":"IF(表示!$B$13<=有効積算気温!T34,有効積算気温!$A34,\"\")","v":"2014-05-03"},{"$f":"IF(表示!$B$13<=有効積算気温!U34,有効積算気温!$A34,\"\")","v":"2014-05-03"},null,null,null,null,{"$f":"IF(表示!$B$13<=有効積算気温!Z34,有効積算気温!$A34,\"\")","v":"2014-05-03"}]
["2014-05-04",{"$f":"IF(表示!$B$13<=有効積算気温!B35,有効積算気温!$A35,\"\")","v":"2014-05-04"},{"$f":"IF(表示!$B$13<=有効積算気温!C35,有効積算気温!$A35,\"\")","v":"2014-05-04"},{"$f":"IF(表示!$B$13<=有効積算気温!D35,有効積算気温!$A35,\"\")","v":"2014-05-04"},{"$f":"IF(表示!$B$13<=有効積算気温!E35,有効積算気温!$A35,\"\")","v":"2014-05-04"},{"$f":"IF(表示!$B$13<=有効積算気温!F35,有効積算気温!$A35,\"\")","v":"2014-05-04"},{"$f":"IF(表示!$B$13<=有効積算気温!G35,有効積算気温!$A35,\"\")","v":"2014-05-04"},{"$f":"IF(表示!$B$13<=有効積算気温!H35,有効積算気温!$A35,\"\")","v":"2014-05-04"},{"$f":"IF(表示!$B$13<=有効積算気温!I35,有効積算気温!$A35,\"\")","v":"2014-05-04"},{"$f":"IF(表示!$B$13<=有効積算気温!J35,有効積算気温!$A35,\"\")","v":"2014-05-04"},{"$f":"IF(表示!$B$13<=有効積算気温!K35,有効積算気温!$A35,\"\")","v":"2014-05-04"},{"$f":"IF(表示!$B$13<=有効積算気温!L35,有効積算気温!$A35,\"\")","v":"2014-05-04"},{"$f":"IF(表示!$B$13<=有効積算気温!M35,有効積算気温!$A35,\"\")","v":"2014-05-04"},{"$f":"IF(表示!$B$13<=有効積算気温!N35,有効積算気温!$A35,\"\")","v":"2014-05-04"},{"$f":"IF(表示!$B$13<=有効積算気温!O35,有効積算気温!$A35,\"\")","v":"2014-05-04"},{"$f":"IF(表示!$B$13<=有効積算気温!P35,有効積算気温!$A35,\"\")","v":"2014-05-04"},{"$f":"IF(表示!$B$13<=有効積算気温!Q35,有効積算気温!$A35,\"\")","v":"2014-05-04"},{"$f":"IF(表示!$B$13<=有効積算気温!R35,有効積算気温!$A35,\"\")","v":"2014-05-04"},{"$f":"IF(表示!$B$13<=有効積算気温!S35,有効積算気温!$A35,\"\")","v":"2014-05-04"},{"$f":"IF(表示!$B$13<=有効積算気温!T35,有効積算気温!$A35,\"\")","v":"2014-05-04"},{"$f":"IF(表示!$B$13<=有効積算気温!U35,有効積算気温!$A35,\"\")","v":"2014-05-04"},null,null,null,null,{"$f":"IF(表示!$B$13<=有効積算気温!Z35,有効積算気温!$A35,\"\")","v":"2014-05-04"}]
["2014-05-05",{"$f":"IF(表示!$B$13<=有効積算気温!B36,有効積算気温!$A36,\"\")","v":"2014-05-05"},{"$f":"IF(表示!$B$13<=有効積算気温!C36,有効積算気温!$A36,\"\")","v":"2014-05-05"},{"$f":"IF(表示!$B$13<=有効積算気温!D36,有効積算気温!$A36,\"\")","v":"2014-05-05"},{"$f":"IF(表示!$B$13<=有効積算気温!E36,有効積算気温!$A36,\"\")","v":"2014-05-05"},{"$f":"IF(表示!$B$13<=有効積算気温!F36,有効積算気温!$A36,\"\")","v":"2014-05-05"},{"$f":"IF(表示!$B$13<=有効積算気温!G36,有効積算気温!$A36,\"\")","v":"2014-05-05"},{"$f":"IF(表示!$B$13<=有効積算気温!H36,有効積算気温!$A36,\"\")","v":"2014-05-05"},{"$f":"IF(表示!$B$13<=有効積算気温!I36,有効積算気温!$A36,\"\")","v":"2014-05-05"},{"$f":"IF(表示!$B$13<=有効積算気温!J36,有効積算気温!$A36,\"\")","v":"2014-05-05"},{"$f":"IF(表示!$B$13<=有効積算気温!K36,有効積算気温!$A36,\"\")","v":"2014-05-05"},{"$f":"IF(表示!$B$13<=有効積算気温!L36,有効積算気温!$A36,\"\")","v":"2014-05-05"},{"$f":"IF(表示!$B$13<=有効積算気温!M36,有効積算気温!$A36,\"\")","v":"2014-05-05"},{"$f":"IF(表示!$B$13<=有効積算気温!N36,有効積算気温!$A36,\"\")","v":"2014-05-05"},{"$f":"IF(表示!$B$13<=有効積算気温!O36,有効積算気温!$A36,\"\")","v":"2014-05-05"},{"$f":"IF(表示!$B$13<=有効積算気温!P36,有効積算気温!$A36,\"\")","v":"2014-05-05"},{"$f":"IF(表示!$B$13<=有効積算気温!Q36,有効積算気温!$A36,\"\")","v":"2014-05-05"},{"$f":"IF(表示!$B$13<=有効積算気温!R36,有効積算気温!$A36,\"\")","v":"2014-05-05"},{"$f":"IF(表示!$B$13<=有効積算気温!S36,有効積算気温!$A36,\"\")","v":"2014-05-05"},{"$f":"IF(表示!$B$13<=有効積算気温!T36,有効積算気温!$A36,\"\")","v":"2014-05-05"},{"$f":"IF(表示!$B$13<=有効積算気温!U36,有効積算気温!$A36,\"\")","v":"2014-05-05"},null,null,null,null,{"$f":"IF(表示!$B$13<=有効積算気温!Z36,有効積算気温!$A36,\"\")","v":"2014-05-05"}]
["2014-05-06",{"$f":"IF(表示!$B$13<=有効積算気温!B37,有効積算気温!$A37,\"\")","v":"2014-05-06"},{"$f":"IF(表示!$B$13<=有効積算気温!C37,有効積算気温!$A37,\"\")","v":"2014-05-06"},{"$f":"IF(表示!$B$13<=有効積算気温!D37,有効積算気温!$A37,\"\")","v":"2014-05-06"},{"$f":"IF(表示!$B$13<=有効積算気温!E37,有効積算気温!$A37,\"\")","v":"2014-05-06"},{"$f":"IF(表示!$B$13<=有効積算気温!F37,有効積算気温!$A37,\"\")","v":"2014-05-06"},{"$f":"IF(表示!$B$13<=有効積算気温!G37,有効積算気温!$A37,\"\")","v":"2014-05-06"},{"$f":"IF(表示!$B$13<=有効積算気温!H37,有効積算気温!$A37,\"\")","v":"2014-05-06"},{"$f":"IF(表示!$B$13<=有効積算気温!I37,有効積算気温!$A37,\"\")","v":"2014-05-06"},{"$f":"IF(表示!$B$13<=有効積算気温!J37,有効積算気温!$A37,\"\")","v":"2014-05-06"},{"$f":"IF(表示!$B$13<=有効積算気温!K37,有効積算気温!$A37,\"\")","v":"2014-05-06"},{"$f":"IF(表示!$B$13<=有効積算気温!L37,有効積算気温!$A37,\"\")","v":"2014-05-06"},{"$f":"IF(表示!$B$13<=有効積算気温!M37,有効積算気温!$A37,\"\")","v":"2014-05-06"},{"$f":"IF(表示!$B$13<=有効積算気温!N37,有効積算気温!$A37,\"\")","v":"2014-05-06"},{"$f":"IF(表示!$B$13<=有効積算気温!O37,有効積算気温!$A37,\"\")","v":"2014-05-06"},{"$f":"IF(表示!$B$13<=有効積算気温!P37,有効積算気温!$A37,\"\")","v":"2014-05-06"},{"$f":"IF(表示!$B$13<=有効積算気温!Q37,有効積算気温!$A37,\"\")","v":"2014-05-06"},{"$f":"IF(表示!$B$13<=有効積算気温!R37,有効積算気温!$A37,\"\")","v":"2014-05-06"},{"$f":"IF(表示!$B$13<=有効積算気温!S37,有効積算気温!$A37,\"\")","v":"2014-05-06"},{"$f":"IF(表示!$B$13<=有効積算気温!T37,有効積算気温!$A37,\"\")","v":"2014-05-06"},{"$f":"IF(表示!$B$13<=有効積算気温!U37,有効積算気温!$A37,\"\")","v":"2014-05-06"},null,null,null,null,{"$f":"IF(表示!$B$13<=有効積算気温!Z37,有効積算気温!$A37,\"\")","v":"2014-05-06"}]
["2014-05-07",{"$f":"IF(表示!$B$13<=有効積算気温!B38,有効積算気温!$A38,\"\")","v":"2014-05-07"},{"$f":"IF(表示!$B$13<=有効積算気温!C38,有効積算気温!$A38,\"\")","v":"2014-05-07"},{"$f":"IF(表示!$B$13<=有効積算気温!D38,有効積算気温!$A38,\"\")","v":"2014-05-07"},{"$f":"IF(表示!$B$13<=有効積算気温!E38,有効積算気温!$A38,\"\")","v":"2014-05-07"},{"$f":"IF(表示!$B$13<=有効積算気温!F38,有効積算気温!$A38,\"\")","v":"2014-05-07"},{"$f":"IF(表示!$B$13<=有効積算気温!G38,有効積算気温!$A38,\"\")","v":"2014-05-07"},{"$f":"IF(表示!$B$13<=有効積算気温!H38,有効積算気温!$A38,\"\")","v":"2014-05-07"},{"$f":"IF(表示!$B$13<=有効積算気温!I38,有効積算気温!$A38,\"\")","v":"2014-05-07"},{"$f":"IF(表示!$B$13<=有効積算気温!J38,有効積算気温!$A38,\"\")","v":"2014-05-07"},{"$f":"IF(表示!$B$13<=有効積算気温!K38,有効積算気温!$A38,\"\")","v":"2014-05-07"},{"$f":"IF(表示!$B$13<=有効積算気温!L38,有効積算気温!$A38,\"\")","v":"2014-05-07"},{"$f":"IF(表示!$B$13<=有効積算気温!M38,有効積算気温!$A38,\"\")","v":"2014-05-07"},{"$f":"IF(表示!$B$13<=有効積算気温!N38,有効積算気温!$A38,\"\")","v":"2014-05-07"},{"$f":"IF(表示!$B$13<=有効積算気温!O38,有効積算気温!$A38,\"\")","v":"2014-05-07"},{"$f":"IF(表示!$B$13<=有効積算気温!P38,有効積算気温!$A38,\"\")","v":"2014-05-07"},{"$f":"IF(表示!$B$13<=有効積算気温!Q38,有効積算気温!$A38,\"\")","v":"2014-05-07"},{"$f":"IF(表示!$B$13<=有効積算気温!R38,有効積算気温!$A38,\"\")","v":"2014-05-07"},{"$f":"IF(表示!$B$13<=有効積算気温!S38,有効積算気温!$A38,\"\")","v":"2014-05-07"},{"$f":"IF(表示!$B$13<=有効積算気温!T38,有効積算気温!$A38,\"\")","v":"2014-05-07"},{"$f":"IF(表示!$B$13<=有効積算気温!U38,有効積算気温!$A38,\"\")","v":"2014-05-07"},null,null,null,null,{"$f":"IF(表示!$B$13<=有効積算気温!Z38,有効積算気温!$A38,\"\")","v":"2014-05-07"}]
["2014-05-08",{"$f":"IF(表示!$B$13<=有効積算気温!B39,有効積算気温!$A39,\"\")","v":"2014-05-08"},{"$f":"IF(表示!$B$13<=有効積算気温!C39,有効積算気温!$A39,\"\")","v":"2014-05-08"},{"$f":"IF(表示!$B$13<=有効積算気温!D39,有効積算気温!$A39,\"\")","v":"2014-05-08"},{"$f":"IF(表示!$B$13<=有効積算気温!E39,有効積算気温!$A39,\"\")","v":"2014-05-08"},{"$f":"IF(表示!$B$13<=有効積算気温!F39,有効積算気温!$A39,\"\")","v":"2014-05-08"},{"$f":"IF(表示!$B$13<=有効積算気温!G39,有効積算気温!$A39,\"\")","v":"2014-05-08"},{"$f":"IF(表示!$B$13<=有効積算気温!H39,有効積算気温!$A39,\"\")","v":"2014-05-08"},{"$f":"IF(表示!$B$13<=有効積算気温!I39,有効積算気温!$A39,\"\")","v":"2014-05-08"},{"$f":"IF(表示!$B$13<=有効積算気温!J39,有効積算気温!$A39,\"\")","v":"2014-05-08"},{"$f":"IF(表示!$B$13<=有効積算気温!K39,有効積算気温!$A39,\"\")","v":"2014-05-08"},{"$f":"IF(表示!$B$13<=有効積算気温!L39,有効積算気温!$A39,\"\")","v":"2014-05-08"},{"$f":"IF(表示!$B$13<=有効積算気温!M39,有効積算気温!$A39,\"\")","v":"2014-05-08"},{"$f":"IF(表示!$B$13<=有効積算気温!N39,有効積算気温!$A39,\"\")","v":"2014-05-08"},{"$f":"IF(表示!$B$13<=有効積算気温!O39,有効積算気温!$A39,\"\")","v":"2014-05-08"},{"$f":"IF(表示!$B$13<=有効積算気温!P39,有効積算気温!$A39,\"\")","v":"2014-05-08"},{"$f":"IF(表示!$B$13<=有効積算気温!Q39,有効積算気温!$A39,\"\")","v":"2014-05-08"},{"$f":"IF(表示!$B$13<=有効積算気温!R39,有効積算気温!$A39,\"\")","v":"2014-05-08"},{"$f":"IF(表示!$B$13<=有効積算気温!S39,有効積算気温!$A39,\"\")","v":"2014-05-08"},{"$f":"IF(表示!$B$13<=有効積算気温!T39,有効積算気温!$A39,\"\")","v":"2014-05-08"},{"$f":"IF(表示!$B$13<=有効積算気温!U39,有効積算気温!$A39,\"\")","v":"2014-05-08"},null,null,null,null,{"$f":"IF(表示!$B$13<=有効積算気温!Z39,有効積算気温!$A39,\"\")","v":"2014-05-08"}]
["2014-05-09",{"$f":"IF(表示!$B$13<=有効積算気温!B40,有効積算気温!$A40,\"\")","v":"2014-05-09"},{"$f":"IF(表示!$B$13<=有効積算気温!C40,有効積算気温!$A40,\"\")","v":"2014-05-09"},{"$f":"IF(表示!$B$13<=有効積算気温!D40,有効積算気温!$A40,\"\")","v":"2014-05-09"},{"$f":"IF(表示!$B$13<=有効積算気温!E40,有効積算気温!$A40,\"\")","v":"2014-05-09"},{"$f":"IF(表示!$B$13<=有効積算気温!F40,有効積算気温!$A40,\"\")","v":"2014-05-09"},{"$f":"IF(表示!$B$13<=有効積算気温!G40,有効積算気温!$A40,\"\")","v":"2014-05-09"},{"$f":"IF(表示!$B$13<=有効積算気温!H40,有効積算気温!$A40,\"\")","v":"2014-05-09"},{"$f":"IF(表示!$B$13<=有効積算気温!I40,有効積算気温!$A40,\"\")","v":"2014-05-09"},{"$f":"IF(表示!$B$13<=有効積算気温!J40,有効積算気温!$A40,\"\")","v":"2014-05-09"},{"$f":"IF(表示!$B$13<=有効積算気温!K40,有効積算気温!$A40,\"\")","v":"2014-05-09"},{"$f":"IF(表示!$B$13<=有効積算気温!L40,有効積算気温!$A40,\"\")","v":"2014-05-09"},{"$f":"IF(表示!$B$13<=有効積算気温!M40,有効積算気温!$A40,\"\")","v":"2014-05-09"},{"$f":"IF(表示!$B$13<=有効積算気温!N40,有効積算気温!$A40,\"\")","v":"2014-05-09"},{"$f":"IF(表示!$B$13<=有効積算気温!O40,有効積算気温!$A40,\"\")","v":"2014-05-09"},{"$f":"IF(表示!$B$13<=有効積算気温!P40,有効積算気温!$A40,\"\")","v":"2014-05-09"},{"$f":"IF(表示!$B$13<=有効積算気温!Q40,有効積算気温!$A40,\"\")","v":"2014-05-09"},{"$f":"IF(表示!$B$13<=有効積算気温!R40,有効積算気温!$A40,\"\")","v":"2014-05-09"},{"$f":"IF(表示!$B$13<=有効積算気温!S40,有効積算気温!$A40,\"\")","v":"2014-05-09"},{"$f":"IF(表示!$B$13<=有効積算気温!T40,有効積算気温!$A40,\"\")","v":"2014-05-09"},{"$f":"IF(表示!$B$13<=有効積算気温!U40,有効積算気温!$A40,\"\")","v":"2014-05-09"},null,null,null,null,{"$f":"IF(表示!$B$13<=有効積算気温!Z40,有効積算気温!$A40,\"\")","v":"2014-05-09"}]
["2014-05-10",{"$f":"IF(表示!$B$13<=有効積算気温!B41,有効積算気温!$A41,\"\")","v":"2014-05-10"},{"$f":"IF(表示!$B$13<=有効積算気温!C41,有効積算気温!$A41,\"\")","v":"2014-05-10"},{"$f":"IF(表示!$B$13<=有効積算気温!D41,有効積算気温!$A41,\"\")","v":"2014-05-10"},{"$f":"IF(表示!$B$13<=有効積算気温!E41,有効積算気温!$A41,\"\")","v":"2014-05-10"},{"$f":"IF(表示!$B$13<=有効積算気温!F41,有効積算気温!$A41,\"\")","v":"2014-05-10"},{"$f":"IF(表示!$B$13<=有効積算気温!G41,有効積算気温!$A41,\"\")","v":"2014-05-10"},{"$f":"IF(表示!$B$13<=有効積算気温!H41,有効積算気温!$A41,\"\")","v":"2014-05-10"},{"$f":"IF(表示!$B$13<=有効積算気温!I41,有効積算気温!$A41,\"\")","v":"2014-05-10"},{"$f":"IF(表示!$B$13<=有効積算気温!J41,有効積算気温!$A41,\"\")","v":"2014-05-10"},{"$f":"IF(表示!$B$13<=有効積算気温!K41,有効積算気温!$A41,\"\")","v":"2014-05-10"},{"$f":"IF(表示!$B$13<=有効積算気温!L41,有効積算気温!$A41,\"\")","v":"2014-05-10"},{"$f":"IF(表示!$B$13<=有効積算気温!M41,有効積算気温!$A41,\"\")","v":"2014-05-10"},{"$f":"IF(表示!$B$13<=有効積算気温!N41,有効積算気温!$A41,\"\")","v":"2014-05-10"},{"$f":"IF(表示!$B$13<=有効積算気温!O41,有効積算気温!$A41,\"\")","v":"2014-05-10"},{"$f":"IF(表示!$B$13<=有効積算気温!P41,有効積算気温!$A41,\"\")","v":"2014-05-10"},{"$f":"IF(表示!$B$13<=有効積算気温!Q41,有効積算気温!$A41,\"\")","v":"2014-05-10"},{"$f":"IF(表示!$B$13<=有効積算気温!R41,有効積算気温!$A41,\"\")","v":"2014-05-10"},{"$f":"IF(表示!$B$13<=有効積算気温!S41,有効積算気温!$A41,\"\")","v":"2014-05-10"},{"$f":"IF(表示!$B$13<=有効積算気温!T41,有効積算気温!$A41,\"\")","v":"2014-05-10"},{"$f":"IF(表示!$B$13<=有効積算気温!U41,有効積算気温!$A41,\"\")","v":"2014-05-10"},null,null,null,null,{"$f":"IF(表示!$B$13<=有効積算気温!Z41,有効積算気温!$A41,\"\")","v":"2014-05-10"}]
["2014-05-11",{"$f":"IF(表示!$B$13<=有効積算気温!B42,有効積算気温!$A42,\"\")","v":"2014-05-11"},{"$f":"IF(表示!$B$13<=有効積算気温!C42,有効積算気温!$A42,\"\")","v":"2014-05-11"},{"$f":"IF(表示!$B$13<=有効積算気温!D42,有効積算気温!$A42,\"\")","v":"2014-05-11"},{"$f":"IF(表示!$B$13<=有効積算気温!E42,有効積算気温!$A42,\"\")","v":"2014-05-11"},{"$f":"IF(表示!$B$13<=有効積算気温!F42,有効積算気温!$A42,\"\")","v":"2014-05-11"},{"$f":"IF(表示!$B$13<=有効積算気温!G42,有効積算気温!$A42,\"\")","v":"2014-05-11"},{"$f":"IF(表示!$B$13<=有効積算気温!H42,有効積算気温!$A42,\"\")","v":"2014-05-11"},{"$f":"IF(表示!$B$13<=有効積算気温!I42,有効積算気温!$A42,\"\")","v":"2014-05-11"},{"$f":"IF(表示!$B$13<=有効積算気温!J42,有効積算気温!$A42,\"\")","v":"2014-05-11"},{"$f":"IF(表示!$B$13<=有効積算気温!K42,有効積算気温!$A42,\"\")","v":"2014-05-11"},{"$f":"IF(表示!$B$13<=有効積算気温!L42,有効積算気温!$A42,\"\")","v":"2014-05-11"},{"$f":"IF(表示!$B$13<=有効積算気温!M42,有効積算気温!$A42,\"\")","v":"2014-05-11"},{"$f":"IF(表示!$B$13<=有効積算気温!N42,有効積算気温!$A42,\"\")","v":"2014-05-11"},{"$f":"IF(表示!$B$13<=有効積算気温!O42,有効積算気温!$A42,\"\")","v":"2014-05-11"},{"$f":"IF(表示!$B$13<=有効積算気温!P42,有効積算気温!$A42,\"\")","v":"2014-05-11"},{"$f":"IF(表示!$B$13<=有効積算気温!Q42,有効積算気温!$A42,\"\")","v":"2014-05-11"},{"$f":"IF(表示!$B$13<=有効積算気温!R42,有効積算気温!$A42,\"\")","v":"2014-05-11"},{"$f":"IF(表示!$B$13<=有効積算気温!S42,有効積算気温!$A42,\"\")","v":"2014-05-11"},{"$f":"IF(表示!$B$13<=有効積算気温!T42,有効積算気温!$A42,\"\")","v":"2014-05-11"},{"$f":"IF(表示!$B$13<=有効積算気温!U42,有効積算気温!$A42,\"\")","v":"2014-05-11"},null,null,null,null,{"$f":"IF(表示!$B$13<=有効積算気温!Z42,有効積算気温!$A42,\"\")","v":"2014-05-11"}]
["2014-05-12",{"$f":"IF(表示!$B$13<=有効積算気温!B43,有効積算気温!$A43,\"\")","v":"2014-05-12"},{"$f":"IF(表示!$B$13<=有効積算気温!C43,有効積算気温!$A43,\"\")","v":"2014-05-12"},{"$f":"IF(表示!$B$13<=有効積算気温!D43,有効積算気温!$A43,\"\")","v":"2014-05-12"},{"$f":"IF(表示!$B$13<=有効積算気温!E43,有効積算気温!$A43,\"\")","v":"2014-05-12"},{"$f":"IF(表示!$B$13<=有効積算気温!F43,有効積算気温!$A43,\"\")","v":"2014-05-12"},{"$f":"IF(表示!$B$13<=有効積算気温!G43,有効積算気温!$A43,\"\")","v":"2014-05-12"},{"$f":"IF(表示!$B$13<=有効積算気温!H43,有効積算気温!$A43,\"\")","v":"2014-05-12"},{"$f":"IF(表示!$B$13<=有効積算気温!I43,有効積算気温!$A43,\"\")","v":"2014-05-12"},{"$f":"IF(表示!$B$13<=有効積算気温!J43,有効積算気温!$A43,\"\")","v":"2014-05-12"},{"$f":"IF(表示!$B$13<=有効積算気温!K43,有効積算気温!$A43,\"\")","v":"2014-05-12"},{"$f":"IF(表示!$B$13<=有効積算気温!L43,有効積算気温!$A43,\"\")","v":"2014-05-12"},{"$f":"IF(表示!$B$13<=有効積算気温!M43,有効積算気温!$A43,\"\")","v":"2014-05-12"},{"$f":"IF(表示!$B$13<=有効積算気温!N43,有効積算気温!$A43,\"\")","v":"2014-05-12"},{"$f":"IF(表示!$B$13<=有効積算気温!O43,有効積算気温!$A43,\"\")","v":"2014-05-12"},{"$f":"IF(表示!$B$13<=有効積算気温!P43,有効積算気温!$A43,\"\")","v":"2014-05-12"},{"$f":"IF(表示!$B$13<=有効積算気温!Q43,有効積算気温!$A43,\"\")","v":"2014-05-12"},{"$f":"IF(表示!$B$13<=有効積算気温!R43,有効積算気温!$A43,\"\")","v":"2014-05-12"},{"$f":"IF(表示!$B$13<=有効積算気温!S43,有効積算気温!$A43,\"\")","v":"2014-05-12"},{"$f":"IF(表示!$B$13<=有効積算気温!T43,有効積算気温!$A43,\"\")","v":"2014-05-12"},{"$f":"IF(表示!$B$13<=有効積算気温!U43,有効積算気温!$A43,\"\")","v":"2014-05-12"},null,null,null,null,{"$f":"IF(表示!$B$13<=有効積算気温!Z43,有効積算気温!$A43,\"\")","v":"2014-05-12"}]
["2014-05-13",{"$f":"IF(表示!$B$13<=有効積算気温!B44,有効積算気温!$A44,\"\")","v":"2014-05-13"},{"$f":"IF(表示!$B$13<=有効積算気温!C44,有効積算気温!$A44,\"\")","v":"2014-05-13"},{"$f":"IF(表示!$B$13<=有効積算気温!D44,有効積算気温!$A44,\"\")","v":"2014-05-13"},{"$f":"IF(表示!$B$13<=有効積算気温!E44,有効積算気温!$A44,\"\")","v":"2014-05-13"},{"$f":"IF(表示!$B$13<=有効積算気温!F44,有効積算気温!$A44,\"\")","v":"2014-05-13"},{"$f":"IF(表示!$B$13<=有効積算気温!G44,有効積算気温!$A44,\"\")","v":"2014-05-13"},{"$f":"IF(表示!$B$13<=有効積算気温!H44,有効積算気温!$A44,\"\")","v":"2014-05-13"},{"$f":"IF(表示!$B$13<=有効積算気温!I44,有効積算気温!$A44,\"\")","v":"2014-05-13"},{"$f":"IF(表示!$B$13<=有効積算気温!J44,有効積算気温!$A44,\"\")","v":"2014-05-13"},{"$f":"IF(表示!$B$13<=有効積算気温!K44,有効積算気温!$A44,\"\")","v":"2014-05-13"},{"$f":"IF(表示!$B$13<=有効積算気温!L44,有効積算気温!$A44,\"\")","v":"2014-05-13"},{"$f":"IF(表示!$B$13<=有効積算気温!M44,有効積算気温!$A44,\"\")","v":"2014-05-13"},{"$f":"IF(表示!$B$13<=有効積算気温!N44,有効積算気温!$A44,\"\")","v":"2014-05-13"},{"$f":"IF(表示!$B$13<=有効積算気温!O44,有効積算気温!$A44,\"\")","v":"2014-05-13"},{"$f":"IF(表示!$B$13<=有効積算気温!P44,有効積算気温!$A44,\"\")","v":"2014-05-13"},{"$f":"IF(表示!$B$13<=有効積算気温!Q44,有効積算気温!$A44,\"\")","v":"2014-05-13"},{"$f":"IF(表示!$B$13<=有効積算気温!R44,有効積算気温!$A44,\"\")","v":"2014-05-13"},{"$f":"IF(表示!$B$13<=有効積算気温!S44,有効積算気温!$A44,\"\")","v":"2014-05-13"},{"$f":"IF(表示!$B$13<=有効積算気温!T44,有効積算気温!$A44,\"\")","v":"2014-05-13"},{"$f":"IF(表示!$B$13<=有効積算気温!U44,有効積算気温!$A44,\"\")","v":"2014-05-13"},null,null,null,null,{"$f":"IF(表示!$B$13<=有効積算気温!Z44,有効積算気温!$A44,\"\")","v":"2014-05-13"}]
["2014-05-14",{"$f":"IF(表示!$B$13<=有効積算気温!B45,有効積算気温!$A45,\"\")","v":"2014-05-14"},{"$f":"IF(表示!$B$13<=有効積算気温!C45,有効積算気温!$A45,\"\")","v":"2014-05-14"},{"$f":"IF(表示!$B$13<=有効積算気温!D45,有効積算気温!$A45,\"\")","v":"2014-05-14"},{"$f":"IF(表示!$B$13<=有効積算気温!E45,有効積算気温!$A45,\"\")","v":"2014-05-14"},{"$f":"IF(表示!$B$13<=有効積算気温!F45,有効積算気温!$A45,\"\")","v":"2014-05-14"},{"$f":"IF(表示!$B$13<=有効積算気温!G45,有効積算気温!$A45,\"\")","v":"2014-05-14"},{"$f":"IF(表示!$B$13<=有効積算気温!H45,有効積算気温!$A45,\"\")","v":"2014-05-14"},{"$f":"IF(表示!$B$13<=有効積算気温!I45,有効積算気温!$A45,\"\")","v":"2014-05-14"},{"$f":"IF(表示!$B$13<=有効積算気温!J45,有効積算気温!$A45,\"\")","v":"2014-05-14"},{"$f":"IF(表示!$B$13<=有効積算気温!K45,有効積算気温!$A45,\"\")","v":"2014-05-14"},{"$f":"IF(表示!$B$13<=有効積算気温!L45,有効積算気温!$A45,\"\")","v":"2014-05-14"},{"$f":"IF(表示!$B$13<=有効積算気温!M45,有効積算気温!$A45,\"\")","v":"2014-05-14"},{"$f":"IF(表示!$B$13<=有効積算気温!N45,有効積算気温!$A45,\"\")","v":"2014-05-14"},{"$f":"IF(表示!$B$13<=有効積算気温!O45,有効積算気温!$A45,\"\")","v":"2014-05-14"},{"$f":"IF(表示!$B$13<=有効積算気温!P45,有効積算気温!$A45,\"\")","v":"2014-05-14"},{"$f":"IF(表示!$B$13<=有効積算気温!Q45,有効積算気温!$A45,\"\")","v":"2014-05-14"},{"$f":"IF(表示!$B$13<=有効積算気温!R45,有効積算気温!$A45,\"\")","v":"2014-05-14"},{"$f":"IF(表示!$B$13<=有効積算気温!S45,有効積算気温!$A45,\"\")","v":"2014-05-14"},{"$f":"IF(表示!$B$13<=有効積算気温!T45,有効積算気温!$A45,\"\")","v":"2014-05-14"},{"$f":"IF(表示!$B$13<=有効積算気温!U45,有効積算気温!$A45,\"\")","v":"2014-05-14"},null,null,null,null,{"$f":"IF(表示!$B$13<=有効積算気温!Z45,有効積算気温!$A45,\"\")","v":"2014-05-14"}]
["2014-05-15",{"$f":"IF(表示!$B$13<=有効積算気温!B46,有効積算気温!$A46,\"\")","v":"2014-05-15"},{"$f":"IF(表示!$B$13<=有効積算気温!C46,有効積算気温!$A46,\"\")","v":"2014-05-15"},{"$f":"IF(表示!$B$13<=有効積算気温!D46,有効積算気温!$A46,\"\")","v":"2014-05-15"},{"$f":"IF(表示!$B$13<=有効積算気温!E46,有効積算気温!$A46,\"\")","v":"2014-05-15"},{"$f":"IF(表示!$B$13<=有効積算気温!F46,有効積算気温!$A46,\"\")","v":"2014-05-15"},{"$f":"IF(表示!$B$13<=有効積算気温!G46,有効積算気温!$A46,\"\")","v":"2014-05-15"},{"$f":"IF(表示!$B$13<=有効積算気温!H46,有効積算気温!$A46,\"\")","v":"2014-05-15"},{"$f":"IF(表示!$B$13<=有効積算気温!I46,有効積算気温!$A46,\"\")","v":"2014-05-15"},{"$f":"IF(表示!$B$13<=有効積算気温!J46,有効積算気温!$A46,\"\")","v":"2014-05-15"},{"$f":"IF(表示!$B$13<=有効積算気温!K46,有効積算気温!$A46,\"\")","v":"2014-05-15"},{"$f":"IF(表示!$B$13<=有効積算気温!L46,有効積算気温!$A46,\"\")","v":"2014-05-15"},{"$f":"IF(表示!$B$13<=有効積算気温!M46,有効積算気温!$A46,\"\")","v":"2014-05-15"},{"$f":"IF(表示!$B$13<=有効積算気温!N46,有効積算気温!$A46,\"\")","v":"2014-05-15"},{"$f":"IF(表示!$B$13<=有効積算気温!O46,有効積算気温!$A46,\"\")","v":"2014-05-15"},{"$f":"IF(表示!$B$13<=有効積算気温!P46,有効積算気温!$A46,\"\")","v":"2014-05-15"},{"$f":"IF(表示!$B$13<=有効積算気温!Q46,有効積算気温!$A46,\"\")","v":"2014-05-15"},{"$f":"IF(表示!$B$13<=有効積算気温!R46,有効積算気温!$A46,\"\")","v":"2014-05-15"},{"$f":"IF(表示!$B$13<=有効積算気温!S46,有効積算気温!$A46,\"\")","v":"2014-05-15"},{"$f":"IF(表示!$B$13<=有効積算気温!T46,有効積算気温!$A46,\"\")","v":"2014-05-15"},{"$f":"IF(表示!$B$13<=有効積算気温!U46,有効積算気温!$A46,\"\")","v":"2014-05-15"},null,null,null,null,{"$f":"IF(表示!$B$13<=有効積算気温!Z46,有効積算気温!$A46,\"\")","v":"2014-05-15"}]
["2014-05-16",{"$f":"IF(表示!$B$13<=有効積算気温!B47,有効積算気温!$A47,\"\")","v":"2014-05-16"},{"$f":"IF(表示!$B$13<=有効積算気温!C47,有効積算気温!$A47,\"\")","v":"2014-05-16"},{"$f":"IF(表示!$B$13<=有効積算気温!D47,有効積算気温!$A47,\"\")","v":"2014-05-16"},{"$f":"IF(表示!$B$13<=有効積算気温!E47,有効積算気温!$A47,\"\")","v":"2014-05-16"},{"$f":"IF(表示!$B$13<=有効積算気温!F47,有効積算気温!$A47,\"\")","v":"2014-05-16"},{"$f":"IF(表示!$B$13<=有効積算気温!G47,有効積算気温!$A47,\"\")","v":"2014-05-16"},{"$f":"IF(表示!$B$13<=有効積算気温!H47,有効積算気温!$A47,\"\")","v":"2014-05-16"},{"$f":"IF(表示!$B$13<=有効積算気温!I47,有効積算気温!$A47,\"\")","v":"2014-05-16"},{"$f":"IF(表示!$B$13<=有効積算気温!J47,有効積算気温!$A47,\"\")","v":"2014-05-16"},{"$f":"IF(表示!$B$13<=有効積算気温!K47,有効積算気温!$A47,\"\")","v":"2014-05-16"},{"$f":"IF(表示!$B$13<=有効積算気温!L47,有効積算気温!$A47,\"\")","v":"2014-05-16"},{"$f":"IF(表示!$B$13<=有効積算気温!M47,有効積算気温!$A47,\"\")","v":"2014-05-16"},{"$f":"IF(表示!$B$13<=有効積算気温!N47,有効積算気温!$A47,\"\")","v":"2014-05-16"},{"$f":"IF(表示!$B$13<=有効積算気温!O47,有効積算気温!$A47,\"\")","v":"2014-05-16"},{"$f":"IF(表示!$B$13<=有効積算気温!P47,有効積算気温!$A47,\"\")","v":"2014-05-16"},{"$f":"IF(表示!$B$13<=有効積算気温!Q47,有効積算気温!$A47,\"\")","v":"2014-05-16"},{"$f":"IF(表示!$B$13<=有効積算気温!R47,有効積算気温!$A47,\"\")","v":"2014-05-16"},{"$f":"IF(表示!$B$13<=有効積算気温!S47,有効積算気温!$A47,\"\")","v":"2014-05-16"},{"$f":"IF(表示!$B$13<=有効積算気温!T47,有効積算気温!$A47,\"\")","v":"2014-05-16"},{"$f":"IF(表示!$B$13<=有効積算気温!U47,有効積算気温!$A47,\"\")","v":"2014-05-16"},null,null,null,null,{"$f":"IF(表示!$B$13<=有効積算気温!Z47,有効積算気温!$A47,\"\")","v":"2014-05-16"}]
["2014-05-17",{"$f":"IF(表示!$B$13<=有効積算気温!B48,有効積算気温!$A48,\"\")","v":"2014-05-17"},{"$f":"IF(表示!$B$13<=有効積算気温!C48,有効積算気温!$A48,\"\")","v":"2014-05-17"},{"$f":"IF(表示!$B$13<=有効積算気温!D48,有効積算気温!$A48,\"\")","v":"2014-05-17"},{"$f":"IF(表示!$B$13<=有効積算気温!E48,有効積算気温!$A48,\"\")","v":"2014-05-17"},{"$f":"IF(表示!$B$13<=有効積算気温!F48,有効積算気温!$A48,\"\")","v":"2014-05-17"},{"$f":"IF(表示!$B$13<=有効積算気温!G48,有効積算気温!$A48,\"\")","v":"2014-05-17"},{"$f":"IF(表示!$B$13<=有効積算気温!H48,有効積算気温!$A48,\"\")","v":"2014-05-17"},{"$f":"IF(表示!$B$13<=有効積算気温!I48,有効積算気温!$A48,\"\")","v":"2014-05-17"},{"$f":"IF(表示!$B$13<=有効積算気温!J48,有効積算気温!$A48,\"\")","v":"2014-05-17"},{"$f":"IF(表示!$B$13<=有効積算気温!K48,有効積算気温!$A48,\"\")","v":"2014-05-17"},{"$f":"IF(表示!$B$13<=有効積算気温!L48,有効積算気温!$A48,\"\")","v":"2014-05-17"},{"$f":"IF(表示!$B$13<=有効積算気温!M48,有効積算気温!$A48,\"\")","v":"2014-05-17"},{"$f":"IF(表示!$B$13<=有効積算気温!N48,有効積算気温!$A48,\"\")","v":"2014-05-17"},{"$f":"IF(表示!$B$13<=有効積算気温!O48,有効積算気温!$A48,\"\")","v":"2014-05-17"},{"$f":"IF(表示!$B$13<=有効積算気温!P48,有効積算気温!$A48,\"\")","v":"2014-05-17"},{"$f":"IF(表示!$B$13<=有効積算気温!Q48,有効積算気温!$A48,\"\")","v":"2014-05-17"},{"$f":"IF(表示!$B$13<=有効積算気温!R48,有効積算気温!$A48,\"\")","v":"2014-05-17"},{"$f":"IF(表示!$B$13<=有効積算気温!S48,有効積算気温!$A48,\"\")","v":"2014-05-17"},{"$f":"IF(表示!$B$13<=有効積算気温!T48,有効積算気温!$A48,\"\")","v":"2014-05-17"},{"$f":"IF(表示!$B$13<=有効積算気温!U48,有効積算気温!$A48,\"\")","v":"2014-05-17"},null,null,null,null,{"$f":"IF(表示!$B$13<=有効積算気温!Z48,有効積算気温!$A48,\"\")","v":"2014-05-17"}]
["2014-05-18",{"$f":"IF(表示!$B$13<=有効積算気温!B49,有効積算気温!$A49,\"\")","v":"2014-05-18"},{"$f":"IF(表示!$B$13<=有効積算気温!C49,有効積算気温!$A49,\"\")","v":"2014-05-18"},{"$f":"IF(表示!$B$13<=有効積算気温!D49,有効積算気温!$A49,\"\")","v":"2014-05-18"},{"$f":"IF(表示!$B$13<=有効積算気温!E49,有効積算気温!$A49,\"\")","v":"2014-05-18"},{"$f":"IF(表示!$B$13<=有効積算気温!F49,有効積算気温!$A49,\"\")","v":"2014-05-18"},{"$f":"IF(表示!$B$13<=有効積算気温!G49,有効積算気温!$A49,\"\")","v":"2014-05-18"},{"$f":"IF(表示!$B$13<=有効積算気温!H49,有効積算気温!$A49,\"\")","v":"2014-05-18"},{"$f":"IF(表示!$B$13<=有効積算気温!I49,有効積算気温!$A49,\"\")","v":"2014-05-18"},{"$f":"IF(表示!$B$13<=有効積算気温!J49,有効積算気温!$A49,\"\")","v":"2014-05-18"},{"$f":"IF(表示!$B$13<=有効積算気温!K49,有効積算気温!$A49,\"\")","v":"2014-05-18"},{"$f":"IF(表示!$B$13<=有効積算気温!L49,有効積算気温!$A49,\"\")","v":"2014-05-18"},{"$f":"IF(表示!$B$13<=有効積算気温!M49,有効積算気温!$A49,\"\")","v":"2014-05-18"},{"$f":"IF(表示!$B$13<=有効積算気温!N49,有効積算気温!$A49,\"\")","v":"2014-05-18"},{"$f":"IF(表示!$B$13<=有効積算気温!O49,有効積算気温!$A49,\"\")","v":"2014-05-18"},{"$f":"IF(表示!$B$13<=有効積算気温!P49,有効積算気温!$A49,\"\")","v":"2014-05-18"},{"$f":"IF(表示!$B$13<=有効積算気温!Q49,有効積算気温!$A49,\"\")","v":"2014-05-18"},{"$f":"IF(表示!$B$13<=有効積算気温!R49,有効積算気温!$A49,\"\")","v":"2014-05-18"},{"$f":"IF(表示!$B$13<=有効積算気温!S49,有効積算気温!$A49,\"\")","v":"2014-05-18"},{"$f":"IF(表示!$B$13<=有効積算気温!T49,有効積算気温!$A49,\"\")","v":"2014-05-18"},{"$f":"IF(表示!$B$13<=有効積算気温!U49,有効積算気温!$A49,\"\")","v":"2014-05-18"},null,null,null,null,{"$f":"IF(表示!$B$13<=有効積算気温!Z49,有効積算気温!$A49,\"\")","v":"2014-05-18"}]
["2014-05-19",{"$f":"IF(表示!$B$13<=有効積算気温!B50,有効積算気温!$A50,\"\")","v":"2014-05-19"},{"$f":"IF(表示!$B$13<=有効積算気温!C50,有効積算気温!$A50,\"\")","v":"2014-05-19"},{"$f":"IF(表示!$B$13<=有効積算気温!D50,有効積算気温!$A50,\"\")","v":"2014-05-19"},{"$f":"IF(表示!$B$13<=有効積算気温!E50,有効積算気温!$A50,\"\")","v":"2014-05-19"},{"$f":"IF(表示!$B$13<=有効積算気温!F50,有効積算気温!$A50,\"\")","v":"2014-05-19"},{"$f":"IF(表示!$B$13<=有効積算気温!G50,有効積算気温!$A50,\"\")","v":"2014-05-19"},{"$f":"IF(表示!$B$13<=有効積算気温!H50,有効積算気温!$A50,\"\")","v":"2014-05-19"},{"$f":"IF(表示!$B$13<=有効積算気温!I50,有効積算気温!$A50,\"\")","v":"2014-05-19"},{"$f":"IF(表示!$B$13<=有効積算気温!J50,有効積算気温!$A50,\"\")","v":"2014-05-19"},{"$f":"IF(表示!$B$13<=有効積算気温!K50,有効積算気温!$A50,\"\")","v":"2014-05-19"},{"$f":"IF(表示!$B$13<=有効積算気温!L50,有効積算気温!$A50,\"\")","v":"2014-05-19"},{"$f":"IF(表示!$B$13<=有効積算気温!M50,有効積算気温!$A50,\"\")","v":"2014-05-19"},{"$f":"IF(表示!$B$13<=有効積算気温!N50,有効積算気温!$A50,\"\")","v":"2014-05-19"},{"$f":"IF(表示!$B$13<=有効積算気温!O50,有効積算気温!$A50,\"\")","v":"2014-05-19"},{"$f":"IF(表示!$B$13<=有効積算気温!P50,有効積算気温!$A50,\"\")","v":"2014-05-19"},{"$f":"IF(表示!$B$13<=有効積算気温!Q50,有効積算気温!$A50,\"\")","v":"2014-05-19"},{"$f":"IF(表示!$B$13<=有効積算気温!R50,有効積算気温!$A50,\"\")","v":"2014-05-19"},{"$f":"IF(表示!$B$13<=有効積算気温!S50,有効積算気温!$A50,\"\")","v":"2014-05-19"},{"$f":"IF(表示!$B$13<=有効積算気温!T50,有効積算気温!$A50,\"\")","v":"2014-05-19"},{"$f":"IF(表示!$B$13<=有効積算気温!U50,有効積算気温!$A50,\"\")","v":"2014-05-19"},null,null,null,null,{"$f":"IF(表示!$B$13<=有効積算気温!Z50,有効積算気温!$A50,\"\")","v":"2014-05-19"}]
["2014-05-20",{"$f":"IF(表示!$B$13<=有効積算気温!B51,有効積算気温!$A51,\"\")","v":"2014-05-20"},{"$f":"IF(表示!$B$13<=有効積算気温!C51,有効積算気温!$A51,\"\")","v":"2014-05-20"},{"$f":"IF(表示!$B$13<=有効積算気温!D51,有効積算気温!$A51,\"\")","v":"2014-05-20"},{"$f":"IF(表示!$B$13<=有効積算気温!E51,有効積算気温!$A51,\"\")","v":"2014-05-20"},{"$f":"IF(表示!$B$13<=有効積算気温!F51,有効積算気温!$A51,\"\")","v":"2014-05-20"},{"$f":"IF(表示!$B$13<=有効積算気温!G51,有効積算気温!$A51,\"\")","v":"2014-05-20"},{"$f":"IF(表示!$B$13<=有効積算気温!H51,有効積算気温!$A51,\"\")","v":"2014-05-20"},{"$f":"IF(表示!$B$13<=有効積算気温!I51,有効積算気温!$A51,\"\")","v":"2014-05-20"},{"$f":"IF(表示!$B$13<=有効積算気温!J51,有効積算気温!$A51,\"\")","v":"2014-05-20"},{"$f":"IF(表示!$B$13<=有効積算気温!K51,有効積算気温!$A51,\"\")","v":"2014-05-20"},{"$f":"IF(表示!$B$13<=有効積算気温!L51,有効積算気温!$A51,\"\")","v":"2014-05-20"},{"$f":"IF(表示!$B$13<=有効積算気温!M51,有効積算気温!$A51,\"\")","v":"2014-05-20"},{"$f":"IF(表示!$B$13<=有効積算気温!N51,有効積算気温!$A51,\"\")","v":"2014-05-20"},{"$f":"IF(表示!$B$13<=有効積算気温!O51,有効積算気温!$A51,\"\")","v":"2014-05-20"},{"$f":"IF(表示!$B$13<=有効積算気温!P51,有効積算気温!$A51,\"\")","v":"2014-05-20"},{"$f":"IF(表示!$B$13<=有効積算気温!Q51,有効積算気温!$A51,\"\")","v":"2014-05-20"},{"$f":"IF(表示!$B$13<=有効積算気温!R51,有効積算気温!$A51,\"\")","v":"2014-05-20"},{"$f":"IF(表示!$B$13<=有効積算気温!S51,有効積算気温!$A51,\"\")","v":"2014-05-20"},{"$f":"IF(表示!$B$13<=有効積算気温!T51,有効積算気温!$A51,\"\")","v":"2014-05-20"},{"$f":"IF(表示!$B$13<=有効積算気温!U51,有効積算気温!$A51,\"\")","v":"2014-05-20"},null,null,null,null,{"$f":"IF(表示!$B$13<=有効積算気温!Z51,有効積算気温!$A51,\"\")","v":"2014-05-20"}]
["2014-05-21",{"$f":"IF(表示!$B$13<=有効積算気温!B52,有効積算気温!$A52,\"\")","v":"2014-05-21"},{"$f":"IF(表示!$B$13<=有効積算気温!C52,有効積算気温!$A52,\"\")","v":"2014-05-21"},{"$f":"IF(表示!$B$13<=有効積算気温!D52,有効積算気温!$A52,\"\")","v":"2014-05-21"},{"$f":"IF(表示!$B$13<=有効積算気温!E52,有効積算気温!$A52,\"\")","v":"2014-05-21"},{"$f":"IF(表示!$B$13<=有効積算気温!F52,有効積算気温!$A52,\"\")","v":"2014-05-21"},{"$f":"IF(表示!$B$13<=有効積算気温!G52,有効積算気温!$A52,\"\")","v":"2014-05-21"},{"$f":"IF(表示!$B$13<=有効積算気温!H52,有効積算気温!$A52,\"\")","v":"2014-05-21"},{"$f":"IF(表示!$B$13<=有効積算気温!I52,有効積算気温!$A52,\"\")","v":"2014-05-21"},{"$f":"IF(表示!$B$13<=有効積算気温!J52,有効積算気温!$A52,\"\")","v":"2014-05-21"},{"$f":"IF(表示!$B$13<=有効積算気温!K52,有効積算気温!$A52,\"\")","v":"2014-05-21"},{"$f":"IF(表示!$B$13<=有効積算気温!L52,有効積算気温!$A52,\"\")","v":"2014-05-21"},{"$f":"IF(表示!$B$13<=有効積算気温!M52,有効積算気温!$A52,\"\")","v":"2014-05-21"},{"$f":"IF(表示!$B$13<=有効積算気温!N52,有効積算気温!$A52,\"\")","v":"2014-05-21"},{"$f":"IF(表示!$B$13<=有効積算気温!O52,有効積算気温!$A52,\"\")","v":"2014-05-21"},{"$f":"IF(表示!$B$13<=有効積算気温!P52,有効積算気温!$A52,\"\")","v":"2014-05-21"},{"$f":"IF(表示!$B$13<=有効積算気温!Q52,有効積算気温!$A52,\"\")","v":"2014-05-21"},{"$f":"IF(表示!$B$13<=有効積算気温!R52,有効積算気温!$A52,\"\")","v":"2014-05-21"},{"$f":"IF(表示!$B$13<=有効積算気温!S52,有効積算気温!$A52,\"\")","v":"2014-05-21"},{"$f":"IF(表示!$B$13<=有効積算気温!T52,有効積算気温!$A52,\"\")","v":"2014-05-21"},{"$f":"IF(表示!$B$13<=有効積算気温!U52,有効積算気温!$A52,\"\")","v":"2014-05-21"},null,null,null,null,{"$f":"IF(表示!$B$13<=有効積算気温!Z52,有効積算気温!$A52,\"\")","v":"2014-05-21"}]
["2014-05-22",{"$f":"IF(表示!$B$13<=有効積算気温!B53,有効積算気温!$A53,\"\")","v":"2014-05-22"},{"$f":"IF(表示!$B$13<=有効積算気温!C53,有効積算気温!$A53,\"\")","v":"2014-05-22"},{"$f":"IF(表示!$B$13<=有効積算気温!D53,有効積算気温!$A53,\"\")","v":"2014-05-22"},{"$f":"IF(表示!$B$13<=有効積算気温!E53,有効積算気温!$A53,\"\")","v":"2014-05-22"},{"$f":"IF(表示!$B$13<=有効積算気温!F53,有効積算気温!$A53,\"\")","v":"2014-05-22"},{"$f":"IF(表示!$B$13<=有効積算気温!G53,有効積算気温!$A53,\"\")","v":"2014-05-22"},{"$f":"IF(表示!$B$13<=有効積算気温!H53,有効積算気温!$A53,\"\")","v":"2014-05-22"},{"$f":"IF(表示!$B$13<=有効積算気温!I53,有効積算気温!$A53,\"\")","v":"2014-05-22"},{"$f":"IF(表示!$B$13<=有効積算気温!J53,有効積算気温!$A53,\"\")","v":"2014-05-22"},{"$f":"IF(表示!$B$13<=有効積算気温!K53,有効積算気温!$A53,\"\")","v":"2014-05-22"},{"$f":"IF(表示!$B$13<=有効積算気温!L53,有効積算気温!$A53,\"\")","v":"2014-05-22"},{"$f":"IF(表示!$B$13<=有効積算気温!M53,有効積算気温!$A53,\"\")","v":"2014-05-22"},{"$f":"IF(表示!$B$13<=有効積算気温!N53,有効積算気温!$A53,\"\")","v":"2014-05-22"},{"$f":"IF(表示!$B$13<=有効積算気温!O53,有効積算気温!$A53,\"\")","v":"2014-05-22"},{"$f":"IF(表示!$B$13<=有効積算気温!P53,有効積算気温!$A53,\"\")","v":"2014-05-22"},{"$f":"IF(表示!$B$13<=有効積算気温!Q53,有効積算気温!$A53,\"\")","v":"2014-05-22"},{"$f":"IF(表示!$B$13<=有効積算気温!R53,有効積算気温!$A53,\"\")","v":"2014-05-22"},{"$f":"IF(表示!$B$13<=有効積算気温!S53,有効積算気温!$A53,\"\")","v":"2014-05-22"},{"$f":"IF(表示!$B$13<=有効積算気温!T53,有効積算気温!$A53,\"\")","v":"2014-05-22"},{"$f":"IF(表示!$B$13<=有効積算気温!U53,有効積算気温!$A53,\"\")","v":"2014-05-22"},null,null,null,null,{"$f":"IF(表示!$B$13<=有効積算気温!Z53,有効積算気温!$A53,\"\")","v":"2014-05-22"}]
["2014-05-23",{"$f":"IF(表示!$B$13<=有効積算気温!B54,有効積算気温!$A54,\"\")","v":"2014-05-23"},{"$f":"IF(表示!$B$13<=有効積算気温!C54,有効積算気温!$A54,\"\")","v":"2014-05-23"},{"$f":"IF(表示!$B$13<=有効積算気温!D54,有効積算気温!$A54,\"\")","v":"2014-05-23"},{"$f":"IF(表示!$B$13<=有効積算気温!E54,有効積算気温!$A54,\"\")","v":"2014-05-23"},{"$f":"IF(表示!$B$13<=有効積算気温!F54,有効積算気温!$A54,\"\")","v":"2014-05-23"},{"$f":"IF(表示!$B$13<=有効積算気温!G54,有効積算気温!$A54,\"\")","v":"2014-05-23"},{"$f":"IF(表示!$B$13<=有効積算気温!H54,有効積算気温!$A54,\"\")","v":"2014-05-23"},{"$f":"IF(表示!$B$13<=有効積算気温!I54,有効積算気温!$A54,\"\")","v":"2014-05-23"},{"$f":"IF(表示!$B$13<=有効積算気温!J54,有効積算気温!$A54,\"\")","v":"2014-05-23"},{"$f":"IF(表示!$B$13<=有効積算気温!K54,有効積算気温!$A54,\"\")","v":"2014-05-23"},{"$f":"IF(表示!$B$13<=有効積算気温!L54,有効積算気温!$A54,\"\")","v":"2014-05-23"},{"$f":"IF(表示!$B$13<=有効積算気温!M54,有効積算気温!$A54,\"\")","v":"2014-05-23"},{"$f":"IF(表示!$B$13<=有効積算気温!N54,有効積算気温!$A54,\"\")","v":"2014-05-23"},{"$f":"IF(表示!$B$13<=有効積算気温!O54,有効積算気温!$A54,\"\")","v":"2014-05-23"},{"$f":"IF(表示!$B$13<=有効積算気温!P54,有効積算気温!$A54,\"\")","v":"2014-05-23"},{"$f":"IF(表示!$B$13<=有効積算気温!Q54,有効積算気温!$A54,\"\")","v":"2014-05-23"},{"$f":"IF(表示!$B$13<=有効積算気温!R54,有効積算気温!$A54,\"\")","v":"2014-05-23"},{"$f":"IF(表示!$B$13<=有効積算気温!S54,有効積算気温!$A54,\"\")","v":"2014-05-23"},{"$f":"IF(表示!$B$13<=有効積算気温!T54,有効積算気温!$A54,\"\")","v":"2014-05-23"},{"$f":"IF(表示!$B$13<=有効積算気温!U54,有効積算気温!$A54,\"\")","v":"2014-05-23"},null,null,null,null,{"$f":"IF(表示!$B$13<=有効積算気温!Z54,有効積算気温!$A54,\"\")","v":"2014-05-23"}]
["2014-05-24",{"$f":"IF(表示!$B$13<=有効積算気温!B55,有効積算気温!$A55,\"\")","v":"2014-05-24"},{"$f":"IF(表示!$B$13<=有効積算気温!C55,有効積算気温!$A55,\"\")","v":"2014-05-24"},{"$f":"IF(表示!$B$13<=有効積算気温!D55,有効積算気温!$A55,\"\")","v":"2014-05-24"},{"$f":"IF(表示!$B$13<=有効積算気温!E55,有効積算気温!$A55,\"\")","v":"2014-05-24"},{"$f":"IF(表示!$B$13<=有効積算気温!F55,有効積算気温!$A55,\"\")","v":"2014-05-24"},{"$f":"IF(表示!$B$13<=有効積算気温!G55,有効積算気温!$A55,\"\")","v":"2014-05-24"},{"$f":"IF(表示!$B$13<=有効積算気温!H55,有効積算気温!$A55,\"\")","v":"2014-05-24"},{"$f":"IF(表示!$B$13<=有効積算気温!I55,有効積算気温!$A55,\"\")","v":"2014-05-24"},{"$f":"IF(表示!$B$13<=有効積算気温!J55,有効積算気温!$A55,\"\")","v":"2014-05-24"},{"$f":"IF(表示!$B$13<=有効積算気温!K55,有効積算気温!$A55,\"\")","v":"2014-05-24"},{"$f":"IF(表示!$B$13<=有効積算気温!L55,有効積算気温!$A55,\"\")","v":"2014-05-24"},{"$f":"IF(表示!$B$13<=有効積算気温!M55,有効積算気温!$A55,\"\")","v":"2014-05-24"},{"$f":"IF(表示!$B$13<=有効積算気温!N55,有効積算気温!$A55,\"\")","v":"2014-05-24"},{"$f":"IF(表示!$B$13<=有効積算気温!O55,有効積算気温!$A55,\"\")","v":"2014-05-24"},{"$f":"IF(表示!$B$13<=有効積算気温!P55,有効積算気温!$A55,\"\")","v":"2014-05-24"},{"$f":"IF(表示!$B$13<=有効積算気温!Q55,有効積算気温!$A55,\"\")","v":"2014-05-24"},{"$f":"IF(表示!$B$13<=有効積算気温!R55,有効積算気温!$A55,\"\")","v":"2014-05-24"},{"$f":"IF(表示!$B$13<=有効積算気温!S55,有効積算気温!$A55,\"\")","v":"2014-05-24"},{"$f":"IF(表示!$B$13<=有効積算気温!T55,有効積算気温!$A55,\"\")","v":"2014-05-24"},{"$f":"IF(表示!$B$13<=有効積算気温!U55,有効積算気温!$A55,\"\")","v":"2014-05-24"},null,null,null,null,{"$f":"IF(表示!$B$13<=有効積算気温!Z55,有効積算気温!$A55,\"\")","v":"2014-05-24"}]
["2014-05-25",{"$f":"IF(表示!$B$13<=有効積算気温!B56,有効積算気温!$A56,\"\")","v":"2014-05-25"},{"$f":"IF(表示!$B$13<=有効積算気温!C56,有効積算気温!$A56,\"\")","v":"2014-05-25"},{"$f":"IF(表示!$B$13<=有効積算気温!D56,有効積算気温!$A56,\"\")","v":"2014-05-25"},{"$f":"IF(表示!$B$13<=有効積算気温!E56,有効積算気温!$A56,\"\")","v":"2014-05-25"},{"$f":"IF(表示!$B$13<=有効積算気温!F56,有効積算気温!$A56,\"\")","v":"2014-05-25"},{"$f":"IF(表示!$B$13<=有効積算気温!G56,有効積算気温!$A56,\"\")","v":"2014-05-25"},{"$f":"IF(表示!$B$13<=有効積算気温!H56,有効積算気温!$A56,\"\")","v":"2014-05-25"},{"$f":"IF(表示!$B$13<=有効積算気温!I56,有効積算気温!$A56,\"\")","v":"2014-05-25"},{"$f":"IF(表示!$B$13<=有効積算気温!J56,有効積算気温!$A56,\"\")","v":"2014-05-25"},{"$f":"IF(表示!$B$13<=有効積算気温!K56,有効積算気温!$A56,\"\")","v":"2014-05-25"},{"$f":"IF(表示!$B$13<=有効積算気温!L56,有効積算気温!$A56,\"\")","v":"2014-05-25"},{"$f":"IF(表示!$B$13<=有効積算気温!M56,有効積算気温!$A56,\"\")","v":"2014-05-25"},{"$f":"IF(表示!$B$13<=有効積算気温!N56,有効積算気温!$A56,\"\")","v":"2014-05-25"},{"$f":"IF(表示!$B$13<=有効積算気温!O56,有効積算気温!$A56,\"\")","v":"2014-05-25"},{"$f":"IF(表示!$B$13<=有効積算気温!P56,有効積算気温!$A56,\"\")","v":"2014-05-25"},{"$f":"IF(表示!$B$13<=有効積算気温!Q56,有効積算気温!$A56,\"\")","v":"2014-05-25"},{"$f":"IF(表示!$B$13<=有効積算気温!R56,有効積算気温!$A56,\"\")","v":"2014-05-25"},{"$f":"IF(表示!$B$13<=有効積算気温!S56,有効積算気温!$A56,\"\")","v":"2014-05-25"},{"$f":"IF(表示!$B$13<=有効積算気温!T56,有効積算気温!$A56,\"\")","v":"2014-05-25"},{"$f":"IF(表示!$B$13<=有効積算気温!U56,有効積算気温!$A56,\"\")","v":"2014-05-25"},null,null,null,null,{"$f":"IF(表示!$B$13<=有効積算気温!Z56,有効積算気温!$A56,\"\")","v":"2014-05-25"}]
["2014-05-26",{"$f":"IF(表示!$B$13<=有効積算気温!B57,有効積算気温!$A57,\"\")","v":"2014-05-26"},{"$f":"IF(表示!$B$13<=有効積算気温!C57,有効積算気温!$A57,\"\")","v":"2014-05-26"},{"$f":"IF(表示!$B$13<=有効積算気温!D57,有効積算気温!$A57,\"\")","v":"2014-05-26"},{"$f":"IF(表示!$B$13<=有効積算気温!E57,有効積算気温!$A57,\"\")","v":"2014-05-26"},{"$f":"IF(表示!$B$13<=有効積算気温!F57,有効積算気温!$A57,\"\")","v":"2014-05-26"},{"$f":"IF(表示!$B$13<=有効積算気温!G57,有効積算気温!$A57,\"\")","v":"2014-05-26"},{"$f":"IF(表示!$B$13<=有効積算気温!H57,有効積算気温!$A57,\"\")","v":"2014-05-26"},{"$f":"IF(表示!$B$13<=有効積算気温!I57,有効積算気温!$A57,\"\")","v":"2014-05-26"},{"$f":"IF(表示!$B$13<=有効積算気温!J57,有効積算気温!$A57,\"\")","v":"2014-05-26"},{"$f":"IF(表示!$B$13<=有効積算気温!K57,有効積算気温!$A57,\"\")","v":"2014-05-26"},{"$f":"IF(表示!$B$13<=有効積算気温!L57,有効積算気温!$A57,\"\")","v":"2014-05-26"},{"$f":"IF(表示!$B$13<=有効積算気温!M57,有効積算気温!$A57,\"\")","v":"2014-05-26"},{"$f":"IF(表示!$B$13<=有効積算気温!N57,有効積算気温!$A57,\"\")","v":"2014-05-26"},{"$f":"IF(表示!$B$13<=有効積算気温!O57,有効積算気温!$A57,\"\")","v":"2014-05-26"},{"$f":"IF(表示!$B$13<=有効積算気温!P57,有効積算気温!$A57,\"\")","v":"2014-05-26"},{"$f":"IF(表示!$B$13<=有効積算気温!Q57,有効積算気温!$A57,\"\")","v":"2014-05-26"},{"$f":"IF(表示!$B$13<=有効積算気温!R57,有効積算気温!$A57,\"\")","v":"2014-05-26"},{"$f":"IF(表示!$B$13<=有効積算気温!S57,有効積算気温!$A57,\"\")","v":"2014-05-26"},{"$f":"IF(表示!$B$13<=有効積算気温!T57,有効積算気温!$A57,\"\")","v":"2014-05-26"},{"$f":"IF(表示!$B$13<=有効積算気温!U57,有効積算気温!$A57,\"\")","v":"2014-05-26"},null,null,null,null,{"$f":"IF(表示!$B$13<=有効積算気温!Z57,有効積算気温!$A57,\"\")","v":"2014-05-26"}]
["2014-05-27",{"$f":"IF(表示!$B$13<=有効積算気温!B58,有効積算気温!$A58,\"\")","v":"2014-05-27"},{"$f":"IF(表示!$B$13<=有効積算気温!C58,有効積算気温!$A58,\"\")","v":"2014-05-27"},{"$f":"IF(表示!$B$13<=有効積算気温!D58,有効積算気温!$A58,\"\")","v":"2014-05-27"},{"$f":"IF(表示!$B$13<=有効積算気温!E58,有効積算気温!$A58,\"\")","v":"2014-05-27"},{"$f":"IF(表示!$B$13<=有効積算気温!F58,有効積算気温!$A58,\"\")","v":"2014-05-27"},{"$f":"IF(表示!$B$13<=有効積算気温!G58,有効積算気温!$A58,\"\")","v":"2014-05-27"},{"$f":"IF(表示!$B$13<=有効積算気温!H58,有効積算気温!$A58,\"\")","v":"2014-05-27"},{"$f":"IF(表示!$B$13<=有効積算気温!I58,有効積算気温!$A58,\"\")","v":"2014-05-27"},{"$f":"IF(表示!$B$13<=有効積算気温!J58,有効積算気温!$A58,\"\")","v":"2014-05-27"},{"$f":"IF(表示!$B$13<=有効積算気温!K58,有効積算気温!$A58,\"\")","v":"2014-05-27"},{"$f":"IF(表示!$B$13<=有効積算気温!L58,有効積算気温!$A58,\"\")","v":"2014-05-27"},{"$f":"IF(表示!$B$13<=有効積算気温!M58,有効積算気温!$A58,\"\")","v":"2014-05-27"},{"$f":"IF(表示!$B$13<=有効積算気温!N58,有効積算気温!$A58,\"\")","v":"2014-05-27"},{"$f":"IF(表示!$B$13<=有効積算気温!O58,有効積算気温!$A58,\"\")","v":"2014-05-27"},{"$f":"IF(表示!$B$13<=有効積算気温!P58,有効積算気温!$A58,\"\")","v":"2014-05-27"},{"$f":"IF(表示!$B$13<=有効積算気温!Q58,有効積算気温!$A58,\"\")","v":"2014-05-27"},{"$f":"IF(表示!$B$13<=有効積算気温!R58,有効積算気温!$A58,\"\")","v":"2014-05-27"},{"$f":"IF(表示!$B$13<=有効積算気温!S58,有効積算気温!$A58,\"\")","v":"2014-05-27"},{"$f":"IF(表示!$B$13<=有効積算気温!T58,有効積算気温!$A58,\"\")","v":"2014-05-27"},{"$f":"IF(表示!$B$13<=有効積算気温!U58,有効積算気温!$A58,\"\")","v":"2014-05-27"},null,null,null,null,{"$f":"IF(表示!$B$13<=有効積算気温!Z58,有効積算気温!$A58,\"\")","v":"2014-05-27"}]
["2014-05-28",{"$f":"IF(表示!$B$13<=有効積算気温!B59,有効積算気温!$A59,\"\")","v":"2014-05-28"},{"$f":"IF(表示!$B$13<=有効積算気温!C59,有効積算気温!$A59,\"\")","v":"2014-05-28"},{"$f":"IF(表示!$B$13<=有効積算気温!D59,有効積算気温!$A59,\"\")","v":"2014-05-28"},{"$f":"IF(表示!$B$13<=有効積算気温!E59,有効積算気温!$A59,\"\")","v":"2014-05-28"},{"$f":"IF(表示!$B$13<=有効積算気温!F59,有効積算気温!$A59,\"\")","v":"2014-05-28"},{"$f":"IF(表示!$B$13<=有効積算気温!G59,有効積算気温!$A59,\"\")","v":"2014-05-28"},{"$f":"IF(表示!$B$13<=有効積算気温!H59,有効積算気温!$A59,\"\")","v":"2014-05-28"},{"$f":"IF(表示!$B$13<=有効積算気温!I59,有効積算気温!$A59,\"\")","v":"2014-05-28"},{"$f":"IF(表示!$B$13<=有効積算気温!J59,有効積算気温!$A59,\"\")","v":"2014-05-28"},{"$f":"IF(表示!$B$13<=有効積算気温!K59,有効積算気温!$A59,\"\")","v":"2014-05-28"},{"$f":"IF(表示!$B$13<=有効積算気温!L59,有効積算気温!$A59,\"\")","v":"2014-05-28"},{"$f":"IF(表示!$B$13<=有効積算気温!M59,有効積算気温!$A59,\"\")","v":"2014-05-28"},{"$f":"IF(表示!$B$13<=有効積算気温!N59,有効積算気温!$A59,\"\")","v":"2014-05-28"},{"$f":"IF(表示!$B$13<=有効積算気温!O59,有効積算気温!$A59,\"\")","v":"2014-05-28"},{"$f":"IF(表示!$B$13<=有効積算気温!P59,有効積算気温!$A59,\"\")","v":"2014-05-28"},{"$f":"IF(表示!$B$13<=有効積算気温!Q59,有効積算気温!$A59,\"\")","v":"2014-05-28"},{"$f":"IF(表示!$B$13<=有効積算気温!R59,有効積算気温!$A59,\"\")","v":"2014-05-28"},{"$f":"IF(表示!$B$13<=有効積算気温!S59,有効積算気温!$A59,\"\")","v":"2014-05-28"},{"$f":"IF(表示!$B$13<=有効積算気温!T59,有効積算気温!$A59,\"\")","v":"2014-05-28"},{"$f":"IF(表示!$B$13<=有効積算気温!U59,有効積算気温!$A59,\"\")","v":"2014-05-28"},null,null,null,null,{"$f":"IF(表示!$B$13<=有効積算気温!Z59,有効積算気温!$A59,\"\")","v":"2014-05-28"}]
["2014-05-29",{"$f":"IF(表示!$B$13<=有効積算気温!B60,有効積算気温!$A60,\"\")","v":"2014-05-29"},{"$f":"IF(表示!$B$13<=有効積算気温!C60,有効積算気温!$A60,\"\")","v":"2014-05-29"},{"$f":"IF(表示!$B$13<=有効積算気温!D60,有効積算気温!$A60,\"\")","v":"2014-05-29"},{"$f":"IF(表示!$B$13<=有効積算気温!E60,有効積算気温!$A60,\"\")","v":"2014-05-29"},{"$f":"IF(表示!$B$13<=有効積算気温!F60,有効積算気温!$A60,\"\")","v":"2014-05-29"},{"$f":"IF(表示!$B$13<=有効積算気温!G60,有効積算気温!$A60,\"\")","v":"2014-05-29"},{"$f":"IF(表示!$B$13<=有効積算気温!H60,有効積算気温!$A60,\"\")","v":"2014-05-29"},{"$f":"IF(表示!$B$13<=有効積算気温!I60,有効積算気温!$A60,\"\")","v":"2014-05-29"},{"$f":"IF(表示!$B$13<=有効積算気温!J60,有効積算気温!$A60,\"\")","v":"2014-05-29"},{"$f":"IF(表示!$B$13<=有効積算気温!K60,有効積算気温!$A60,\"\")","v":"2014-05-29"},{"$f":"IF(表示!$B$13<=有効積算気温!L60,有効積算気温!$A60,\"\")","v":"2014-05-29"},{"$f":"IF(表示!$B$13<=有効積算気温!M60,有効積算気温!$A60,\"\")","v":"2014-05-29"},{"$f":"IF(表示!$B$13<=有効積算気温!N60,有効積算気温!$A60,\"\")","v":"2014-05-29"},{"$f":"IF(表示!$B$13<=有効積算気温!O60,有効積算気温!$A60,\"\")","v":"2014-05-29"},{"$f":"IF(表示!$B$13<=有効積算気温!P60,有効積算気温!$A60,\"\")","v":"2014-05-29"},{"$f":"IF(表示!$B$13<=有効積算気温!Q60,有効積算気温!$A60,\"\")","v":"2014-05-29"},{"$f":"IF(表示!$B$13<=有効積算気温!R60,有効積算気温!$A60,\"\")","v":"2014-05-29"},{"$f":"IF(表示!$B$13<=有効積算気温!S60,有効積算気温!$A60,\"\")","v":"2014-05-29"},{"$f":"IF(表示!$B$13<=有効積算気温!T60,有効積算気温!$A60,\"\")","v":"2014-05-29"},{"$f":"IF(表示!$B$13<=有効積算気温!U60,有効積算気温!$A60,\"\")","v":"2014-05-29"},null,null,null,null,{"$f":"IF(表示!$B$13<=有効積算気温!Z60,有効積算気温!$A60,\"\")","v":"2014-05-29"}]
["2014-05-30",{"$f":"IF(表示!$B$13<=有効積算気温!B61,有効積算気温!$A61,\"\")","v":"2014-05-30"},{"$f":"IF(表示!$B$13<=有効積算気温!C61,有効積算気温!$A61,\"\")","v":"2014-05-30"},{"$f":"IF(表示!$B$13<=有効積算気温!D61,有効積算気温!$A61,\"\")","v":"2014-05-30"},{"$f":"IF(表示!$B$13<=有効積算気温!E61,有効積算気温!$A61,\"\")","v":"2014-05-30"},{"$f":"IF(表示!$B$13<=有効積算気温!F61,有効積算気温!$A61,\"\")","v":"2014-05-30"},{"$f":"IF(表示!$B$13<=有効積算気温!G61,有効積算気温!$A61,\"\")","v":"2014-05-30"},{"$f":"IF(表示!$B$13<=有効積算気温!H61,有効積算気温!$A61,\"\")","v":"2014-05-30"},{"$f":"IF(表示!$B$13<=有効積算気温!I61,有効積算気温!$A61,\"\")","v":"2014-05-30"},{"$f":"IF(表示!$B$13<=有効積算気温!J61,有効積算気温!$A61,\"\")","v":"2014-05-30"},{"$f":"IF(表示!$B$13<=有効積算気温!K61,有効積算気温!$A61,\"\")","v":"2014-05-30"},{"$f":"IF(表示!$B$13<=有効積算気温!L61,有効積算気温!$A61,\"\")","v":"2014-05-30"},{"$f":"IF(表示!$B$13<=有効積算気温!M61,有効積算気温!$A61,\"\")","v":"2014-05-30"},{"$f":"IF(表示!$B$13<=有効積算気温!N61,有効積算気温!$A61,\"\")","v":"2014-05-30"},{"$f":"IF(表示!$B$13<=有効積算気温!O61,有効積算気温!$A61,\"\")","v":"2014-05-30"},{"$f":"IF(表示!$B$13<=有効積算気温!P61,有効積算気温!$A61,\"\")","v":"2014-05-30"},{"$f":"IF(表示!$B$13<=有効積算気温!Q61,有効積算気温!$A61,\"\")","v":"2014-05-30"},{"$f":"IF(表示!$B$13<=有効積算気温!R61,有効積算気温!$A61,\"\")","v":"2014-05-30"},{"$f":"IF(表示!$B$13<=有効積算気温!S61,有効積算気温!$A61,\"\")","v":"2014-05-30"},{"$f":"IF(表示!$B$13<=有効積算気温!T61,有効積算気温!$A61,\"\")","v":"2014-05-30"},{"$f":"IF(表示!$B$13<=有効積算気温!U61,有効積算気温!$A61,\"\")","v":"2014-05-30"},null,null,null,null,{"$f":"IF(表示!$B$13<=有効積算気温!Z61,有効積算気温!$A61,\"\")","v":"2014-05-30"}]
["2014-05-31",{"$f":"IF(表示!$B$13<=有効積算気温!B62,有効積算気温!$A62,\"\")","v":"2014-05-31"},{"$f":"IF(表示!$B$13<=有効積算気温!C62,有効積算気温!$A62,\"\")","v":"2014-05-31"},{"$f":"IF(表示!$B$13<=有効積算気温!D62,有効積算気温!$A62,\"\")","v":"2014-05-31"},{"$f":"IF(表示!$B$13<=有効積算気温!E62,有効積算気温!$A62,\"\")","v":"2014-05-31"},{"$f":"IF(表示!$B$13<=有効積算気温!F62,有効積算気温!$A62,\"\")","v":"2014-05-31"},{"$f":"IF(表示!$B$13<=有効積算気温!G62,有効積算気温!$A62,\"\")","v":"2014-05-31"},{"$f":"IF(表示!$B$13<=有効積算気温!H62,有効積算気温!$A62,\"\")","v":"2014-05-31"},{"$f":"IF(表示!$B$13<=有効積算気温!I62,有効積算気温!$A62,\"\")","v":"2014-05-31"},{"$f":"IF(表示!$B$13<=有効積算気温!J62,有効積算気温!$A62,\"\")","v":"2014-05-31"},{"$f":"IF(表示!$B$13<=有効積算気温!K62,有効積算気温!$A62,\"\")","v":"2014-05-31"},{"$f":"IF(表示!$B$13<=有効積算気温!L62,有効積算気温!$A62,\"\")","v":"2014-05-31"},{"$f":"IF(表示!$B$13<=有効積算気温!M62,有効積算気温!$A62,\"\")","v":"2014-05-31"},{"$f":"IF(表示!$B$13<=有効積算気温!N62,有効積算気温!$A62,\"\")","v":"2014-05-31"},{"$f":"IF(表示!$B$13<=有効積算気温!O62,有効積算気温!$A62,\"\")","v":"2014-05-31"},{"$f":"IF(表示!$B$13<=有効積算気温!P62,有効積算気温!$A62,\"\")","v":"2014-05-31"},{"$f":"IF(表示!$B$13<=有効積算気温!Q62,有効積算気温!$A62,\"\")","v":"2014-05-31"},{"$f":"IF(表示!$B$13<=有効積算気温!R62,有効積算気温!$A62,\"\")","v":"2014-05-31"},{"$f":"IF(表示!$B$13<=有効積算気温!S62,有効積算気温!$A62,\"\")","v":"2014-05-31"},{"$f":"IF(表示!$B$13<=有効積算気温!T62,有効積算気温!$A62,\"\")","v":"2014-05-31"},{"$f":"IF(表示!$B$13<=有効積算気温!U62,有効積算気温!$A62,\"\")","v":"2014-05-31"},null,null,null,null,{"$f":"IF(表示!$B$13<=有効積算気温!Z62,有効積算気温!$A62,\"\")","v":"2014-05-31"}]
["2014-06-01",{"$f":"IF(表示!$B$13<=有効積算気温!B63,有効積算気温!$A63,\"\")","v":"2014-06-01"},{"$f":"IF(表示!$B$13<=有効積算気温!C63,有効積算気温!$A63,\"\")","v":"2014-06-01"},{"$f":"IF(表示!$B$13<=有効積算気温!D63,有効積算気温!$A63,\"\")","v":"2014-06-01"},{"$f":"IF(表示!$B$13<=有効積算気温!E63,有効積算気温!$A63,\"\")","v":"2014-06-01"},{"$f":"IF(表示!$B$13<=有効積算気温!F63,有効積算気温!$A63,\"\")","v":"2014-06-01"},{"$f":"IF(表示!$B$13<=有効積算気温!G63,有効積算気温!$A63,\"\")","v":"2014-06-01"},{"$f":"IF(表示!$B$13<=有効積算気温!H63,有効積算気温!$A63,\"\")","v":"2014-06-01"},{"$f":"IF(表示!$B$13<=有効積算気温!I63,有効積算気温!$A63,\"\")","v":"2014-06-01"},{"$f":"IF(表示!$B$13<=有効積算気温!J63,有効積算気温!$A63,\"\")","v":"2014-06-01"},{"$f":"IF(表示!$B$13<=有効積算気温!K63,有効積算気温!$A63,\"\")","v":"2014-06-01"},{"$f":"IF(表示!$B$13<=有効積算気温!L63,有効積算気温!$A63,\"\")","v":"2014-06-01"},{"$f":"IF(表示!$B$13<=有効積算気温!M63,有効積算気温!$A63,\"\")","v":"2014-06-01"},{"$f":"IF(表示!$B$13<=有効積算気温!N63,有効積算気温!$A63,\"\")","v":"2014-06-01"},{"$f":"IF(表示!$B$13<=有効積算気温!O63,有効積算気温!$A63,\"\")","v":"2014-06-01"},{"$f":"IF(表示!$B$13<=有効積算気温!P63,有効積算気温!$A63,\"\")","v":"2014-06-01"},{"$f":"IF(表示!$B$13<=有効積算気温!Q63,有効積算気温!$A63,\"\")","v":"2014-06-01"},{"$f":"IF(表示!$B$13<=有効積算気温!R63,有効積算気温!$A63,\"\")","v":"2014-06-01"},{"$f":"IF(表示!$B$13<=有効積算気温!S63,有効積算気温!$A63,\"\")","v":"2014-06-01"},{"$f":"IF(表示!$B$13<=有効積算気温!T63,有効積算気温!$A63,\"\")","v":"2014-06-01"},{"$f":"IF(表示!$B$13<=有効積算気温!U63,有効積算気温!$A63,\"\")","v":"2014-06-01"},null,null,null,null,{"$f":"IF(表示!$B$13<=有効積算気温!Z63,有効積算気温!$A63,\"\")","v":"2014-06-01"}]
["2014-06-02",{"$f":"IF(表示!$B$13<=有効積算気温!B64,有効積算気温!$A64,\"\")","v":"2014-06-02"},{"$f":"IF(表示!$B$13<=有効積算気温!C64,有効積算気温!$A64,\"\")","v":"2014-06-02"},{"$f":"IF(表示!$B$13<=有効積算気温!D64,有効積算気温!$A64,\"\")","v":"2014-06-02"},{"$f":"IF(表示!$B$13<=有効積算気温!E64,有効積算気温!$A64,\"\")","v":"2014-06-02"},{"$f":"IF(表示!$B$13<=有効積算気温!F64,有効積算気温!$A64,\"\")","v":"2014-06-02"},{"$f":"IF(表示!$B$13<=有効積算気温!G64,有効積算気温!$A64,\"\")","v":"2014-06-02"},{"$f":"IF(表示!$B$13<=有効積算気温!H64,有効積算気温!$A64,\"\")","v":"2014-06-02"},{"$f":"IF(表示!$B$13<=有効積算気温!I64,有効積算気温!$A64,\"\")","v":"2014-06-02"},{"$f":"IF(表示!$B$13<=有効積算気温!J64,有効積算気温!$A64,\"\")","v":"2014-06-02"},{"$f":"IF(表示!$B$13<=有効積算気温!K64,有効積算気温!$A64,\"\")","v":"2014-06-02"},{"$f":"IF(表示!$B$13<=有効積算気温!L64,有効積算気温!$A64,\"\")","v":"2014-06-02"},{"$f":"IF(表示!$B$13<=有効積算気温!M64,有効積算気温!$A64,\"\")","v":"2014-06-02"},{"$f":"IF(表示!$B$13<=有効積算気温!N64,有効積算気温!$A64,\"\")","v":"2014-06-02"},{"$f":"IF(表示!$B$13<=有効積算気温!O64,有効積算気温!$A64,\"\")","v":"2014-06-02"},{"$f":"IF(表示!$B$13<=有効積算気温!P64,有効積算気温!$A64,\"\")","v":"2014-06-02"},{"$f":"IF(表示!$B$13<=有効積算気温!Q64,有効積算気温!$A64,\"\")","v":"2014-06-02"},{"$f":"IF(表示!$B$13<=有効積算気温!R64,有効積算気温!$A64,\"\")","v":"2014-06-02"},{"$f":"IF(表示!$B$13<=有効積算気温!S64,有効積算気温!$A64,\"\")","v":"2014-06-02"},{"$f":"IF(表示!$B$13<=有効積算気温!T64,有効積算気温!$A64,\"\")","v":"2014-06-02"},{"$f":"IF(表示!$B$13<=有効積算気温!U64,有効積算気温!$A64,\"\")","v":"2014-06-02"},null,null,null,null,{"$f":"IF(表示!$B$13<=有効積算気温!Z64,有効積算気温!$A64,\"\")","v":"2014-06-02"}]
["2014-06-03",{"$f":"IF(表示!$B$13<=有効積算気温!B65,有効積算気温!$A65,\"\")","v":"2014-06-03"},{"$f":"IF(表示!$B$13<=有効積算気温!C65,有効積算気温!$A65,\"\")","v":"2014-06-03"},{"$f":"IF(表示!$B$13<=有効積算気温!D65,有効積算気温!$A65,\"\")","v":"2014-06-03"},{"$f":"IF(表示!$B$13<=有効積算気温!E65,有効積算気温!$A65,\"\")","v":"2014-06-03"},{"$f":"IF(表示!$B$13<=有効積算気温!F65,有効積算気温!$A65,\"\")","v":"2014-06-03"},{"$f":"IF(表示!$B$13<=有効積算気温!G65,有効積算気温!$A65,\"\")","v":"2014-06-03"},{"$f":"IF(表示!$B$13<=有効積算気温!H65,有効積算気温!$A65,\"\")","v":"2014-06-03"},{"$f":"IF(表示!$B$13<=有効積算気温!I65,有効積算気温!$A65,\"\")","v":"2014-06-03"},{"$f":"IF(表示!$B$13<=有効積算気温!J65,有効積算気温!$A65,\"\")","v":"2014-06-03"},{"$f":"IF(表示!$B$13<=有効積算気温!K65,有効積算気温!$A65,\"\")","v":"2014-06-03"},{"$f":"IF(表示!$B$13<=有効積算気温!L65,有効積算気温!$A65,\"\")","v":"2014-06-03"},{"$f":"IF(表示!$B$13<=有効積算気温!M65,有効積算気温!$A65,\"\")","v":"2014-06-03"},{"$f":"IF(表示!$B$13<=有効積算気温!N65,有効積算気温!$A65,\"\")","v":"2014-06-03"},{"$f":"IF(表示!$B$13<=有効積算気温!O65,有効積算気温!$A65,\"\")","v":"2014-06-03"},{"$f":"IF(表示!$B$13<=有効積算気温!P65,有効積算気温!$A65,\"\")","v":"2014-06-03"},{"$f":"IF(表示!$B$13<=有効積算気温!Q65,有効積算気温!$A65,\"\")","v":"2014-06-03"},{"$f":"IF(表示!$B$13<=有効積算気温!R65,有効積算気温!$A65,\"\")","v":"2014-06-03"},{"$f":"IF(表示!$B$13<=有効積算気温!S65,有効積算気温!$A65,\"\")","v":"2014-06-03"},{"$f":"IF(表示!$B$13<=有効積算気温!T65,有効積算気温!$A65,\"\")","v":"2014-06-03"},{"$f":"IF(表示!$B$13<=有効積算気温!U65,有効積算気温!$A65,\"\")","v":"2014-06-03"},null,null,null,null,{"$f":"IF(表示!$B$13<=有効積算気温!Z65,有効積算気温!$A65,\"\")","v":"2014-06-03"}]
["2014-06-04",{"$f":"IF(表示!$B$13<=有効積算気温!B66,有効積算気温!$A66,\"\")","v":"2014-06-04"},{"$f":"IF(表示!$B$13<=有効積算気温!C66,有効積算気温!$A66,\"\")","v":"2014-06-04"},{"$f":"IF(表示!$B$13<=有効積算気温!D66,有効積算気温!$A66,\"\")","v":"2014-06-04"},{"$f":"IF(表示!$B$13<=有効積算気温!E66,有効積算気温!$A66,\"\")","v":"2014-06-04"},{"$f":"IF(表示!$B$13<=有効積算気温!F66,有効積算気温!$A66,\"\")","v":"2014-06-04"},{"$f":"IF(表示!$B$13<=有効積算気温!G66,有効積算気温!$A66,\"\")","v":"2014-06-04"},{"$f":"IF(表示!$B$13<=有効積算気温!H66,有効積算気温!$A66,\"\")","v":"2014-06-04"},{"$f":"IF(表示!$B$13<=有効積算気温!I66,有効積算気温!$A66,\"\")","v":"2014-06-04"},{"$f":"IF(表示!$B$13<=有効積算気温!J66,有効積算気温!$A66,\"\")","v":"2014-06-04"},{"$f":"IF(表示!$B$13<=有効積算気温!K66,有効積算気温!$A66,\"\")","v":"2014-06-04"},{"$f":"IF(表示!$B$13<=有効積算気温!L66,有効積算気温!$A66,\"\")","v":"2014-06-04"},{"$f":"IF(表示!$B$13<=有効積算気温!M66,有効積算気温!$A66,\"\")","v":"2014-06-04"},{"$f":"IF(表示!$B$13<=有効積算気温!N66,有効積算気温!$A66,\"\")","v":"2014-06-04"},{"$f":"IF(表示!$B$13<=有効積算気温!O66,有効積算気温!$A66,\"\")","v":"2014-06-04"},{"$f":"IF(表示!$B$13<=有効積算気温!P66,有効積算気温!$A66,\"\")","v":"2014-06-04"},{"$f":"IF(表示!$B$13<=有効積算気温!Q66,有効積算気温!$A66,\"\")","v":"2014-06-04"},{"$f":"IF(表示!$B$13<=有効積算気温!R66,有効積算気温!$A66,\"\")","v":"2014-06-04"},{"$f":"IF(表示!$B$13<=有効積算気温!S66,有効積算気温!$A66,\"\")","v":"2014-06-04"},{"$f":"IF(表示!$B$13<=有効積算気温!T66,有効積算気温!$A66,\"\")","v":"2014-06-04"},{"$f":"IF(表示!$B$13<=有効積算気温!U66,有効積算気温!$A66,\"\")","v":"2014-06-04"},null,null,null,null,{"$f":"IF(表示!$B$13<=有効積算気温!Z66,有効積算気温!$A66,\"\")","v":"2014-06-04"}]
["2014-06-05",{"$f":"IF(表示!$B$13<=有効積算気温!B67,有効積算気温!$A67,\"\")","v":"2014-06-05"},{"$f":"IF(表示!$B$13<=有効積算気温!C67,有効積算気温!$A67,\"\")","v":"2014-06-05"},{"$f":"IF(表示!$B$13<=有効積算気温!D67,有効積算気温!$A67,\"\")","v":"2014-06-05"},{"$f":"IF(表示!$B$13<=有効積算気温!E67,有効積算気温!$A67,\"\")","v":"2014-06-05"},{"$f":"IF(表示!$B$13<=有効積算気温!F67,有効積算気温!$A67,\"\")","v":"2014-06-05"},{"$f":"IF(表示!$B$13<=有効積算気温!G67,有効積算気温!$A67,\"\")","v":"2014-06-05"},{"$f":"IF(表示!$B$13<=有効積算気温!H67,有効積算気温!$A67,\"\")","v":"2014-06-05"},{"$f":"IF(表示!$B$13<=有効積算気温!I67,有効積算気温!$A67,\"\")","v":"2014-06-05"},{"$f":"IF(表示!$B$13<=有効積算気温!J67,有効積算気温!$A67,\"\")","v":"2014-06-05"},{"$f":"IF(表示!$B$13<=有効積算気温!K67,有効積算気温!$A67,\"\")","v":"2014-06-05"},{"$f":"IF(表示!$B$13<=有効積算気温!L67,有効積算気温!$A67,\"\")","v":"2014-06-05"},{"$f":"IF(表示!$B$13<=有効積算気温!M67,有効積算気温!$A67,\"\")","v":"2014-06-05"},{"$f":"IF(表示!$B$13<=有効積算気温!N67,有効積算気温!$A67,\"\")","v":"2014-06-05"},{"$f":"IF(表示!$B$13<=有効積算気温!O67,有効積算気温!$A67,\"\")","v":"2014-06-05"},{"$f":"IF(表示!$B$13<=有効積算気温!P67,有効積算気温!$A67,\"\")","v":"2014-06-05"},{"$f":"IF(表示!$B$13<=有効積算気温!Q67,有効積算気温!$A67,\"\")","v":"2014-06-05"},{"$f":"IF(表示!$B$13<=有効積算気温!R67,有効積算気温!$A67,\"\")","v":"2014-06-05"},{"$f":"IF(表示!$B$13<=有効積算気温!S67,有効積算気温!$A67,\"\")","v":"2014-06-05"},{"$f":"IF(表示!$B$13<=有効積算気温!T67,有効積算気温!$A67,\"\")","v":"2014-06-05"},{"$f":"IF(表示!$B$13<=有効積算気温!U67,有効積算気温!$A67,\"\")","v":"2014-06-05"},null,null,null,null,{"$f":"IF(表示!$B$13<=有効積算気温!Z67,有効積算気温!$A67,\"\")","v":"2014-06-05"}]
["2014-06-06",{"$f":"IF(表示!$B$13<=有効積算気温!B68,有効積算気温!$A68,\"\")","v":"2014-06-06"},{"$f":"IF(表示!$B$13<=有効積算気温!C68,有効積算気温!$A68,\"\")","v":"2014-06-06"},{"$f":"IF(表示!$B$13<=有効積算気温!D68,有効積算気温!$A68,\"\")","v":"2014-06-06"},{"$f":"IF(表示!$B$13<=有効積算気温!E68,有効積算気温!$A68,\"\")","v":"2014-06-06"},{"$f":"IF(表示!$B$13<=有効積算気温!F68,有効積算気温!$A68,\"\")","v":"2014-06-06"},{"$f":"IF(表示!$B$13<=有効積算気温!G68,有効積算気温!$A68,\"\")","v":"2014-06-06"},{"$f":"IF(表示!$B$13<=有効積算気温!H68,有効積算気温!$A68,\"\")","v":"2014-06-06"},{"$f":"IF(表示!$B$13<=有効積算気温!I68,有効積算気温!$A68,\"\")","v":"2014-06-06"},{"$f":"IF(表示!$B$13<=有効積算気温!J68,有効積算気温!$A68,\"\")","v":"2014-06-06"},{"$f":"IF(表示!$B$13<=有効積算気温!K68,有効積算気温!$A68,\"\")","v":"2014-06-06"},{"$f":"IF(表示!$B$13<=有効積算気温!L68,有効積算気温!$A68,\"\")","v":"2014-06-06"},{"$f":"IF(表示!$B$13<=有効積算気温!M68,有効積算気温!$A68,\"\")","v":"2014-06-06"},{"$f":"IF(表示!$B$13<=有効積算気温!N68,有効積算気温!$A68,\"\")","v":"2014-06-06"},{"$f":"IF(表示!$B$13<=有効積算気温!O68,有効積算気温!$A68,\"\")","v":"2014-06-06"},{"$f":"IF(表示!$B$13<=有効積算気温!P68,有効積算気温!$A68,\"\")","v":"2014-06-06"},{"$f":"IF(表示!$B$13<=有効積算気温!Q68,有効積算気温!$A68,\"\")","v":"2014-06-06"},{"$f":"IF(表示!$B$13<=有効積算気温!R68,有効積算気温!$A68,\"\")","v":"2014-06-06"},{"$f":"IF(表示!$B$13<=有効積算気温!S68,有効積算気温!$A68,\"\")","v":"2014-06-06"},{"$f":"IF(表示!$B$13<=有効積算気温!T68,有効積算気温!$A68,\"\")","v":"2014-06-06"},{"$f":"IF(表示!$B$13<=有効積算気温!U68,有効積算気温!$A68,\"\")","v":"2014-06-06"},null,null,null,null,{"$f":"IF(表示!$B$13<=有効積算気温!Z68,有効積算気温!$A68,\"\")","v":"2014-06-06"}]
["2014-06-07",{"$f":"IF(表示!$B$13<=有効積算気温!B69,有効積算気温!$A69,\"\")","v":"2014-06-07"},{"$f":"IF(表示!$B$13<=有効積算気温!C69,有効積算気温!$A69,\"\")","v":"2014-06-07"},{"$f":"IF(表示!$B$13<=有効積算気温!D69,有効積算気温!$A69,\"\")","v":"2014-06-07"},{"$f":"IF(表示!$B$13<=有効積算気温!E69,有効積算気温!$A69,\"\")","v":"2014-06-07"},{"$f":"IF(表示!$B$13<=有効積算気温!F69,有効積算気温!$A69,\"\")","v":"2014-06-07"},{"$f":"IF(表示!$B$13<=有効積算気温!G69,有効積算気温!$A69,\"\")","v":"2014-06-07"},{"$f":"IF(表示!$B$13<=有効積算気温!H69,有効積算気温!$A69,\"\")","v":"2014-06-07"},{"$f":"IF(表示!$B$13<=有効積算気温!I69,有効積算気温!$A69,\"\")","v":"2014-06-07"},{"$f":"IF(表示!$B$13<=有効積算気温!J69,有効積算気温!$A69,\"\")","v":"2014-06-07"},{"$f":"IF(表示!$B$13<=有効積算気温!K69,有効積算気温!$A69,\"\")","v":"2014-06-07"},{"$f":"IF(表示!$B$13<=有効積算気温!L69,有効積算気温!$A69,\"\")","v":"2014-06-07"},{"$f":"IF(表示!$B$13<=有効積算気温!M69,有効積算気温!$A69,\"\")","v":"2014-06-07"},{"$f":"IF(表示!$B$13<=有効積算気温!N69,有効積算気温!$A69,\"\")","v":"2014-06-07"},{"$f":"IF(表示!$B$13<=有効積算気温!O69,有効積算気温!$A69,\"\")","v":"2014-06-07"},{"$f":"IF(表示!$B$13<=有効積算気温!P69,有効積算気温!$A69,\"\")","v":"2014-06-07"},{"$f":"IF(表示!$B$13<=有効積算気温!Q69,有効積算気温!$A69,\"\")","v":"2014-06-07"},{"$f":"IF(表示!$B$13<=有効積算気温!R69,有効積算気温!$A69,\"\")","v":"2014-06-07"},{"$f":"IF(表示!$B$13<=有効積算気温!S69,有効積算気温!$A69,\"\")","v":"2014-06-07"},{"$f":"IF(表示!$B$13<=有効積算気温!T69,有効積算気温!$A69,\"\")","v":"2014-06-07"},{"$f":"IF(表示!$B$13<=有効積算気温!U69,有効積算気温!$A69,\"\")","v":"2014-06-07"},null,null,null,null,{"$f":"IF(表示!$B$13<=有効積算気温!Z69,有効積算気温!$A69,\"\")","v":"2014-06-07"}]
["2014-06-08",{"$f":"IF(表示!$B$13<=有効積算気温!B70,有効積算気温!$A70,\"\")","v":"2014-06-08"},{"$f":"IF(表示!$B$13<=有効積算気温!C70,有効積算気温!$A70,\"\")","v":"2014-06-08"},{"$f":"IF(表示!$B$13<=有効積算気温!D70,有効積算気温!$A70,\"\")","v":"2014-06-08"},{"$f":"IF(表示!$B$13<=有効積算気温!E70,有効積算気温!$A70,\"\")","v":"2014-06-08"},{"$f":"IF(表示!$B$13<=有効積算気温!F70,有効積算気温!$A70,\"\")","v":"2014-06-08"},{"$f":"IF(表示!$B$13<=有効積算気温!G70,有効積算気温!$A70,\"\")","v":"2014-06-08"},{"$f":"IF(表示!$B$13<=有効積算気温!H70,有効積算気温!$A70,\"\")","v":"2014-06-08"},{"$f":"IF(表示!$B$13<=有効積算気温!I70,有効積算気温!$A70,\"\")","v":"2014-06-08"},{"$f":"IF(表示!$B$13<=有効積算気温!J70,有効積算気温!$A70,\"\")","v":"2014-06-08"},{"$f":"IF(表示!$B$13<=有効積算気温!K70,有効積算気温!$A70,\"\")","v":"2014-06-08"},{"$f":"IF(表示!$B$13<=有効積算気温!L70,有効積算気温!$A70,\"\")","v":"2014-06-08"},{"$f":"IF(表示!$B$13<=有効積算気温!M70,有効積算気温!$A70,\"\")","v":"2014-06-08"},{"$f":"IF(表示!$B$13<=有効積算気温!N70,有効積算気温!$A70,\"\")","v":"2014-06-08"},{"$f":"IF(表示!$B$13<=有効積算気温!O70,有効積算気温!$A70,\"\")","v":"2014-06-08"},{"$f":"IF(表示!$B$13<=有効積算気温!P70,有効積算気温!$A70,\"\")","v":"2014-06-08"},{"$f":"IF(表示!$B$13<=有効積算気温!Q70,有効積算気温!$A70,\"\")","v":"2014-06-08"},{"$f":"IF(表示!$B$13<=有効積算気温!R70,有効積算気温!$A70,\"\")","v":"2014-06-08"},{"$f":"IF(表示!$B$13<=有効積算気温!S70,有効積算気温!$A70,\"\")","v":"2014-06-08"},{"$f":"IF(表示!$B$13<=有効積算気温!T70,有効積算気温!$A70,\"\")","v":"2014-06-08"},{"$f":"IF(表示!$B$13<=有効積算気温!U70,有効積算気温!$A70,\"\")","v":"2014-06-08"},null,null,null,null,{"$f":"IF(表示!$B$13<=有効積算気温!Z70,有効積算気温!$A70,\"\")","v":"2014-06-08"}]
["2014-06-09",{"$f":"IF(表示!$B$13<=有効積算気温!B71,有効積算気温!$A71,\"\")","v":"2014-06-09"},{"$f":"IF(表示!$B$13<=有効積算気温!C71,有効積算気温!$A71,\"\")","v":"2014-06-09"},{"$f":"IF(表示!$B$13<=有効積算気温!D71,有効積算気温!$A71,\"\")","v":"2014-06-09"},{"$f":"IF(表示!$B$13<=有効積算気温!E71,有効積算気温!$A71,\"\")","v":"2014-06-09"},{"$f":"IF(表示!$B$13<=有効積算気温!F71,有効積算気温!$A71,\"\")","v":"2014-06-09"},{"$f":"IF(表示!$B$13<=有効積算気温!G71,有効積算気温!$A71,\"\")","v":"2014-06-09"},{"$f":"IF(表示!$B$13<=有効積算気温!H71,有効積算気温!$A71,\"\")","v":"2014-06-09"},{"$f":"IF(表示!$B$13<=有効積算気温!I71,有効積算気温!$A71,\"\")","v":"2014-06-09"},{"$f":"IF(表示!$B$13<=有効積算気温!J71,有効積算気温!$A71,\"\")","v":"2014-06-09"},{"$f":"IF(表示!$B$13<=有効積算気温!K71,有効積算気温!$A71,\"\")","v":"2014-06-09"},{"$f":"IF(表示!$B$13<=有効積算気温!L71,有効積算気温!$A71,\"\")","v":"2014-06-09"},{"$f":"IF(表示!$B$13<=有効積算気温!M71,有効積算気温!$A71,\"\")","v":"2014-06-09"},{"$f":"IF(表示!$B$13<=有効積算気温!N71,有効積算気温!$A71,\"\")","v":"2014-06-09"},{"$f":"IF(表示!$B$13<=有効積算気温!O71,有効積算気温!$A71,\"\")","v":"2014-06-09"},{"$f":"IF(表示!$B$13<=有効積算気温!P71,有効積算気温!$A71,\"\")","v":"2014-06-09"},{"$f":"IF(表示!$B$13<=有効積算気温!Q71,有効積算気温!$A71,\"\")","v":"2014-06-09"},{"$f":"IF(表示!$B$13<=有効積算気温!R71,有効積算気温!$A71,\"\")","v":"2014-06-09"},{"$f":"IF(表示!$B$13<=有効積算気温!S71,有効積算気温!$A71,\"\")","v":"2014-06-09"},{"$f":"IF(表示!$B$13<=有効積算気温!T71,有効積算気温!$A71,\"\")","v":"2014-06-09"},{"$f":"IF(表示!$B$13<=有効積算気温!U71,有効積算気温!$A71,\"\")","v":"2014-06-09"},null,null,null,null,{"$f":"IF(表示!$B$13<=有効積算気温!Z71,有効積算気温!$A71,\"\")","v":"2014-06-09"}]
["2014-06-10",{"$f":"IF(表示!$B$13<=有効積算気温!B72,有効積算気温!$A72,\"\")","v":"2014-06-10"},{"$f":"IF(表示!$B$13<=有効積算気温!C72,有効積算気温!$A72,\"\")","v":"2014-06-10"},{"$f":"IF(表示!$B$13<=有効積算気温!D72,有効積算気温!$A72,\"\")","v":"2014-06-10"},{"$f":"IF(表示!$B$13<=有効積算気温!E72,有効積算気温!$A72,\"\")","v":"2014-06-10"},{"$f":"IF(表示!$B$13<=有効積算気温!F72,有効積算気温!$A72,\"\")","v":"2014-06-10"},{"$f":"IF(表示!$B$13<=有効積算気温!G72,有効積算気温!$A72,\"\")","v":"2014-06-10"},{"$f":"IF(表示!$B$13<=有効積算気温!H72,有効積算気温!$A72,\"\")","v":"2014-06-10"},{"$f":"IF(表示!$B$13<=有効積算気温!I72,有効積算気温!$A72,\"\")","v":"2014-06-10"},{"$f":"IF(表示!$B$13<=有効積算気温!J72,有効積算気温!$A72,\"\")","v":"2014-06-10"},{"$f":"IF(表示!$B$13<=有効積算気温!K72,有効積算気温!$A72,\"\")","v":"2014-06-10"},{"$f":"IF(表示!$B$13<=有効積算気温!L72,有効積算気温!$A72,\"\")","v":"2014-06-10"},{"$f":"IF(表示!$B$13<=有効積算気温!M72,有効積算気温!$A72,\"\")","v":"2014-06-10"},{"$f":"IF(表示!$B$13<=有効積算気温!N72,有効積算気温!$A72,\"\")","v":"2014-06-10"},{"$f":"IF(表示!$B$13<=有効積算気温!O72,有効積算気温!$A72,\"\")","v":"2014-06-10"},{"$f":"IF(表示!$B$13<=有効積算気温!P72,有効積算気温!$A72,\"\")","v":"2014-06-10"},{"$f":"IF(表示!$B$13<=有効積算気温!Q72,有効積算気温!$A72,\"\")","v":"2014-06-10"},{"$f":"IF(表示!$B$13<=有効積算気温!R72,有効積算気温!$A72,\"\")","v":"2014-06-10"},{"$f":"IF(表示!$B$13<=有効積算気温!S72,有効積算気温!$A72,\"\")","v":"2014-06-10"},{"$f":"IF(表示!$B$13<=有効積算気温!T72,有効積算気温!$A72,\"\")","v":"2014-06-10"},{"$f":"IF(表示!$B$13<=有効積算気温!U72,有効積算気温!$A72,\"\")","v":"2014-06-10"},null,null,null,null,{"$f":"IF(表示!$B$13<=有効積算気温!Z72,有効積算気温!$A72,\"\")","v":"2014-06-10"}]
["2014-06-11",{"$f":"IF(表示!$B$13<=有効積算気温!B73,有効積算気温!$A73,\"\")","v":"2014-06-11"},{"$f":"IF(表示!$B$13<=有効積算気温!C73,有効積算気温!$A73,\"\")","v":"2014-06-11"},{"$f":"IF(表示!$B$13<=有効積算気温!D73,有効積算気温!$A73,\"\")","v":"2014-06-11"},{"$f":"IF(表示!$B$13<=有効積算気温!E73,有効積算気温!$A73,\"\")","v":"2014-06-11"},{"$f":"IF(表示!$B$13<=有効積算気温!F73,有効積算気温!$A73,\"\")","v":"2014-06-11"},{"$f":"IF(表示!$B$13<=有効積算気温!G73,有効積算気温!$A73,\"\")","v":"2014-06-11"},{"$f":"IF(表示!$B$13<=有効積算気温!H73,有効積算気温!$A73,\"\")","v":"2014-06-11"},{"$f":"IF(表示!$B$13<=有効積算気温!I73,有効積算気温!$A73,\"\")","v":"2014-06-11"},{"$f":"IF(表示!$B$13<=有効積算気温!J73,有効積算気温!$A73,\"\")","v":"2014-06-11"},{"$f":"IF(表示!$B$13<=有効積算気温!K73,有効積算気温!$A73,\"\")","v":"2014-06-11"},{"$f":"IF(表示!$B$13<=有効積算気温!L73,有効積算気温!$A73,\"\")","v":"2014-06-11"},{"$f":"IF(表示!$B$13<=有効積算気温!M73,有効積算気温!$A73,\"\")","v":"2014-06-11"},{"$f":"IF(表示!$B$13<=有効積算気温!N73,有効積算気温!$A73,\"\")","v":"2014-06-11"},{"$f":"IF(表示!$B$13<=有効積算気温!O73,有効積算気温!$A73,\"\")","v":"2014-06-11"},{"$f":"IF(表示!$B$13<=有効積算気温!P73,有効積算気温!$A73,\"\")","v":"2014-06-11"},{"$f":"IF(表示!$B$13<=有効積算気温!Q73,有効積算気温!$A73,\"\")","v":"2014-06-11"},{"$f":"IF(表示!$B$13<=有効積算気温!R73,有効積算気温!$A73,\"\")","v":"2014-06-11"},{"$f":"IF(表示!$B$13<=有効積算気温!S73,有効積算気温!$A73,\"\")","v":"2014-06-11"},{"$f":"IF(表示!$B$13<=有効積算気温!T73,有効積算気温!$A73,\"\")","v":"2014-06-11"},{"$f":"IF(表示!$B$13<=有効積算気温!U73,有効積算気温!$A73,\"\")","v":"2014-06-11"},null,null,null,null,{"$f":"IF(表示!$B$13<=有効積算気温!Z73,有効積算気温!$A73,\"\")","v":"2014-06-11"}]
["2014-06-12",{"$f":"IF(表示!$B$13<=有効積算気温!B74,有効積算気温!$A74,\"\")","v":"2014-06-12"},{"$f":"IF(表示!$B$13<=有効積算気温!C74,有効積算気温!$A74,\"\")","v":"2014-06-12"},{"$f":"IF(表示!$B$13<=有効積算気温!D74,有効積算気温!$A74,\"\")","v":"2014-06-12"},{"$f":"IF(表示!$B$13<=有効積算気温!E74,有効積算気温!$A74,\"\")","v":"2014-06-12"},{"$f":"IF(表示!$B$13<=有効積算気温!F74,有効積算気温!$A74,\"\")","v":"2014-06-12"},{"$f":"IF(表示!$B$13<=有効積算気温!G74,有効積算気温!$A74,\"\")","v":"2014-06-12"},{"$f":"IF(表示!$B$13<=有効積算気温!H74,有効積算気温!$A74,\"\")","v":"2014-06-12"},{"$f":"IF(表示!$B$13<=有効積算気温!I74,有効積算気温!$A74,\"\")","v":"2014-06-12"},{"$f":"IF(表示!$B$13<=有効積算気温!J74,有効積算気温!$A74,\"\")","v":"2014-06-12"},{"$f":"IF(表示!$B$13<=有効積算気温!K74,有効積算気温!$A74,\"\")","v":"2014-06-12"},{"$f":"IF(表示!$B$13<=有効積算気温!L74,有効積算気温!$A74,\"\")","v":"2014-06-12"},{"$f":"IF(表示!$B$13<=有効積算気温!M74,有効積算気温!$A74,\"\")","v":"2014-06-12"},{"$f":"IF(表示!$B$13<=有効積算気温!N74,有効積算気温!$A74,\"\")","v":"2014-06-12"},{"$f":"IF(表示!$B$13<=有効積算気温!O74,有効積算気温!$A74,\"\")","v":"2014-06-12"},{"$f":"IF(表示!$B$13<=有効積算気温!P74,有効積算気温!$A74,\"\")","v":"2014-06-12"},{"$f":"IF(表示!$B$13<=有効積算気温!Q74,有効積算気温!$A74,\"\")","v":"2014-06-12"},{"$f":"IF(表示!$B$13<=有効積算気温!R74,有効積算気温!$A74,\"\")","v":"2014-06-12"},{"$f":"IF(表示!$B$13<=有効積算気温!S74,有効積算気温!$A74,\"\")","v":"2014-06-12"},{"$f":"IF(表示!$B$13<=有効積算気温!T74,有効積算気温!$A74,\"\")","v":"2014-06-12"},{"$f":"IF(表示!$B$13<=有効積算気温!U74,有効積算気温!$A74,\"\")","v":"2014-06-12"},null,null,null,null,{"$f":"IF(表示!$B$13<=有効積算気温!Z74,有効積算気温!$A74,\"\")","v":"2014-06-12"}]
["2014-06-13",{"$f":"IF(表示!$B$13<=有効積算気温!B75,有効積算気温!$A75,\"\")","v":"2014-06-13"},{"$f":"IF(表示!$B$13<=有効積算気温!C75,有効積算気温!$A75,\"\")","v":"2014-06-13"},{"$f":"IF(表示!$B$13<=有効積算気温!D75,有効積算気温!$A75,\"\")","v":"2014-06-13"},{"$f":"IF(表示!$B$13<=有効積算気温!E75,有効積算気温!$A75,\"\")","v":"2014-06-13"},{"$f":"IF(表示!$B$13<=有効積算気温!F75,有効積算気温!$A75,\"\")","v":"2014-06-13"},{"$f":"IF(表示!$B$13<=有効積算気温!G75,有効積算気温!$A75,\"\")","v":"2014-06-13"},{"$f":"IF(表示!$B$13<=有効積算気温!H75,有効積算気温!$A75,\"\")","v":"2014-06-13"},{"$f":"IF(表示!$B$13<=有効積算気温!I75,有効積算気温!$A75,\"\")","v":"2014-06-13"},{"$f":"IF(表示!$B$13<=有効積算気温!J75,有効積算気温!$A75,\"\")","v":"2014-06-13"},{"$f":"IF(表示!$B$13<=有効積算気温!K75,有効積算気温!$A75,\"\")","v":"2014-06-13"},{"$f":"IF(表示!$B$13<=有効積算気温!L75,有効積算気温!$A75,\"\")","v":"2014-06-13"},{"$f":"IF(表示!$B$13<=有効積算気温!M75,有効積算気温!$A75,\"\")","v":"2014-06-13"},{"$f":"IF(表示!$B$13<=有効積算気温!N75,有効積算気温!$A75,\"\")","v":"2014-06-13"},{"$f":"IF(表示!$B$13<=有効積算気温!O75,有効積算気温!$A75,\"\")","v":"2014-06-13"},{"$f":"IF(表示!$B$13<=有効積算気温!P75,有効積算気温!$A75,\"\")","v":"2014-06-13"},{"$f":"IF(表示!$B$13<=有効積算気温!Q75,有効積算気温!$A75,\"\")","v":"2014-06-13"},{"$f":"IF(表示!$B$13<=有効積算気温!R75,有効積算気温!$A75,\"\")","v":"2014-06-13"},{"$f":"IF(表示!$B$13<=有効積算気温!S75,有効積算気温!$A75,\"\")","v":"2014-06-13"},{"$f":"IF(表示!$B$13<=有効積算気温!T75,有効積算気温!$A75,\"\")","v":"2014-06-13"},{"$f":"IF(表示!$B$13<=有効積算気温!U75,有効積算気温!$A75,\"\")","v":"2014-06-13"},null,null,null,null,{"$f":"IF(表示!$B$13<=有効積算気温!Z75,有効積算気温!$A75,\"\")","v":"2014-06-13"}]
["2014-06-14",{"$f":"IF(表示!$B$13<=有効積算気温!B76,有効積算気温!$A76,\"\")","v":"2014-06-14"},{"$f":"IF(表示!$B$13<=有効積算気温!C76,有効積算気温!$A76,\"\")","v":"2014-06-14"},{"$f":"IF(表示!$B$13<=有効積算気温!D76,有効積算気温!$A76,\"\")","v":"2014-06-14"},{"$f":"IF(表示!$B$13<=有効積算気温!E76,有効積算気温!$A76,\"\")","v":"2014-06-14"},{"$f":"IF(表示!$B$13<=有効積算気温!F76,有効積算気温!$A76,\"\")","v":"2014-06-14"},{"$f":"IF(表示!$B$13<=有効積算気温!G76,有効積算気温!$A76,\"\")","v":"2014-06-14"},{"$f":"IF(表示!$B$13<=有効積算気温!H76,有効積算気温!$A76,\"\")","v":"2014-06-14"},{"$f":"IF(表示!$B$13<=有効積算気温!I76,有効積算気温!$A76,\"\")","v":"2014-06-14"},{"$f":"IF(表示!$B$13<=有効積算気温!J76,有効積算気温!$A76,\"\")","v":"2014-06-14"},{"$f":"IF(表示!$B$13<=有効積算気温!K76,有効積算気温!$A76,\"\")","v":"2014-06-14"},{"$f":"IF(表示!$B$13<=有効積算気温!L76,有効積算気温!$A76,\"\")","v":"2014-06-14"},{"$f":"IF(表示!$B$13<=有効積算気温!M76,有効積算気温!$A76,\"\")","v":"2014-06-14"},{"$f":"IF(表示!$B$13<=有効積算気温!N76,有効積算気温!$A76,\"\")","v":"2014-06-14"},{"$f":"IF(表示!$B$13<=有効積算気温!O76,有効積算気温!$A76,\"\")","v":"2014-06-14"},{"$f":"IF(表示!$B$13<=有効積算気温!P76,有効積算気温!$A76,\"\")","v":"2014-06-14"},{"$f":"IF(表示!$B$13<=有効積算気温!Q76,有効積算気温!$A76,\"\")","v":"2014-06-14"},{"$f":"IF(表示!$B$13<=有効積算気温!R76,有効積算気温!$A76,\"\")","v":"2014-06-14"},{"$f":"IF(表示!$B$13<=有効積算気温!S76,有効積算気温!$A76,\"\")","v":"2014-06-14"},{"$f":"IF(表示!$B$13<=有効積算気温!T76,有効積算気温!$A76,\"\")","v":"2014-06-14"},{"$f":"IF(表示!$B$13<=有効積算気温!U76,有効積算気温!$A76,\"\")","v":"2014-06-14"},null,null,null,null,{"$f":"IF(表示!$B$13<=有効積算気温!Z76,有効積算気温!$A76,\"\")","v":"2014-06-14"}]
["2014-06-15",{"$f":"IF(表示!$B$13<=有効積算気温!B77,有効積算気温!$A77,\"\")","v":"2014-06-15"},{"$f":"IF(表示!$B$13<=有効積算気温!C77,有効積算気温!$A77,\"\")","v":"2014-06-15"},{"$f":"IF(表示!$B$13<=有効積算気温!D77,有効積算気温!$A77,\"\")","v":"2014-06-15"},{"$f":"IF(表示!$B$13<=有効積算気温!E77,有効積算気温!$A77,\"\")","v":"2014-06-15"},{"$f":"IF(表示!$B$13<=有効積算気温!F77,有効積算気温!$A77,\"\")","v":"2014-06-15"},{"$f":"IF(表示!$B$13<=有効積算気温!G77,有効積算気温!$A77,\"\")","v":"2014-06-15"},{"$f":"IF(表示!$B$13<=有効積算気温!H77,有効積算気温!$A77,\"\")","v":"2014-06-15"},{"$f":"IF(表示!$B$13<=有効積算気温!I77,有効積算気温!$A77,\"\")","v":"2014-06-15"},{"$f":"IF(表示!$B$13<=有効積算気温!J77,有効積算気温!$A77,\"\")","v":"2014-06-15"},{"$f":"IF(表示!$B$13<=有効積算気温!K77,有効積算気温!$A77,\"\")","v":"2014-06-15"},{"$f":"IF(表示!$B$13<=有効積算気温!L77,有効積算気温!$A77,\"\")","v":"2014-06-15"},{"$f":"IF(表示!$B$13<=有効積算気温!M77,有効積算気温!$A77,\"\")","v":"2014-06-15"},{"$f":"IF(表示!$B$13<=有効積算気温!N77,有効積算気温!$A77,\"\")","v":"2014-06-15"},{"$f":"IF(表示!$B$13<=有効積算気温!O77,有効積算気温!$A77,\"\")","v":"2014-06-15"},{"$f":"IF(表示!$B$13<=有効積算気温!P77,有効積算気温!$A77,\"\")","v":"2014-06-15"},{"$f":"IF(表示!$B$13<=有効積算気温!Q77,有効積算気温!$A77,\"\")","v":"2014-06-15"},{"$f":"IF(表示!$B$13<=有効積算気温!R77,有効積算気温!$A77,\"\")","v":"2014-06-15"},{"$f":"IF(表示!$B$13<=有効積算気温!S77,有効積算気温!$A77,\"\")","v":"2014-06-15"},{"$f":"IF(表示!$B$13<=有効積算気温!T77,有効積算気温!$A77,\"\")","v":"2014-06-15"},{"$f":"IF(表示!$B$13<=有効積算気温!U77,有効積算気温!$A77,\"\")","v":"2014-06-15"},null,null,null,null,{"$f":"IF(表示!$B$13<=有効積算気温!Z77,有効積算気温!$A77,\"\")","v":"2014-06-15"}]
["2014-06-16",{"$f":"IF(表示!$B$13<=有効積算気温!B78,有効積算気温!$A78,\"\")","v":"2014-06-16"},{"$f":"IF(表示!$B$13<=有効積算気温!C78,有効積算気温!$A78,\"\")","v":"2014-06-16"},{"$f":"IF(表示!$B$13<=有効積算気温!D78,有効積算気温!$A78,\"\")","v":"2014-06-16"},{"$f":"IF(表示!$B$13<=有効積算気温!E78,有効積算気温!$A78,\"\")","v":"2014-06-16"},{"$f":"IF(表示!$B$13<=有効積算気温!F78,有効積算気温!$A78,\"\")","v":"2014-06-16"},{"$f":"IF(表示!$B$13<=有効積算気温!G78,有効積算気温!$A78,\"\")","v":"2014-06-16"},{"$f":"IF(表示!$B$13<=有効積算気温!H78,有効積算気温!$A78,\"\")","v":"2014-06-16"},{"$f":"IF(表示!$B$13<=有効積算気温!I78,有効積算気温!$A78,\"\")","v":"2014-06-16"},{"$f":"IF(表示!$B$13<=有効積算気温!J78,有効積算気温!$A78,\"\")","v":"2014-06-16"},{"$f":"IF(表示!$B$13<=有効積算気温!K78,有効積算気温!$A78,\"\")","v":"2014-06-16"},{"$f":"IF(表示!$B$13<=有効積算気温!L78,有効積算気温!$A78,\"\")","v":"2014-06-16"},{"$f":"IF(表示!$B$13<=有効積算気温!M78,有効積算気温!$A78,\"\")","v":"2014-06-16"},{"$f":"IF(表示!$B$13<=有効積算気温!N78,有効積算気温!$A78,\"\")","v":"2014-06-16"},{"$f":"IF(表示!$B$13<=有効積算気温!O78,有効積算気温!$A78,\"\")","v":"2014-06-16"},{"$f":"IF(表示!$B$13<=有効積算気温!P78,有効積算気温!$A78,\"\")","v":"2014-06-16"},{"$f":"IF(表示!$B$13<=有効積算気温!Q78,有効積算気温!$A78,\"\")","v":"2014-06-16"},{"$f":"IF(表示!$B$13<=有効積算気温!R78,有効積算気温!$A78,\"\")","v":"2014-06-16"},{"$f":"IF(表示!$B$13<=有効積算気温!S78,有効積算気温!$A78,\"\")","v":"2014-06-16"},{"$f":"IF(表示!$B$13<=有効積算気温!T78,有効積算気温!$A78,\"\")","v":"2014-06-16"},{"$f":"IF(表示!$B$13<=有効積算気温!U78,有効積算気温!$A78,\"\")","v":"2014-06-16"},null,null,null,null,{"$f":"IF(表示!$B$13<=有効積算気温!Z78,有効積算気温!$A78,\"\")","v":"2014-06-16"}]
["2014-06-17",{"$f":"IF(表示!$B$13<=有効積算気温!B79,有効積算気温!$A79,\"\")","v":"2014-06-17"},{"$f":"IF(表示!$B$13<=有効積算気温!C79,有効積算気温!$A79,\"\")","v":"2014-06-17"},{"$f":"IF(表示!$B$13<=有効積算気温!D79,有効積算気温!$A79,\"\")","v":"2014-06-17"},{"$f":"IF(表示!$B$13<=有効積算気温!E79,有効積算気温!$A79,\"\")","v":"2014-06-17"},{"$f":"IF(表示!$B$13<=有効積算気温!F79,有効積算気温!$A79,\"\")","v":"2014-06-17"},{"$f":"IF(表示!$B$13<=有効積算気温!G79,有効積算気温!$A79,\"\")","v":"2014-06-17"},{"$f":"IF(表示!$B$13<=有効積算気温!H79,有効積算気温!$A79,\"\")","v":"2014-06-17"},{"$f":"IF(表示!$B$13<=有効積算気温!I79,有効積算気温!$A79,\"\")","v":"2014-06-17"},{"$f":"IF(表示!$B$13<=有効積算気温!J79,有効積算気温!$A79,\"\")","v":"2014-06-17"},{"$f":"IF(表示!$B$13<=有効積算気温!K79,有効積算気温!$A79,\"\")","v":"2014-06-17"},{"$f":"IF(表示!$B$13<=有効積算気温!L79,有効積算気温!$A79,\"\")","v":"2014-06-17"},{"$f":"IF(表示!$B$13<=有効積算気温!M79,有効積算気温!$A79,\"\")","v":"2014-06-17"},{"$f":"IF(表示!$B$13<=有効積算気温!N79,有効積算気温!$A79,\"\")","v":"2014-06-17"},{"$f":"IF(表示!$B$13<=有効積算気温!O79,有効積算気温!$A79,\"\")","v":"2014-06-17"},{"$f":"IF(表示!$B$13<=有効積算気温!P79,有効積算気温!$A79,\"\")","v":"2014-06-17"},{"$f":"IF(表示!$B$13<=有効積算気温!Q79,有効積算気温!$A79,\"\")","v":"2014-06-17"},{"$f":"IF(表示!$B$13<=有効積算気温!R79,有効積算気温!$A79,\"\")","v":"2014-06-17"},{"$f":"IF(表示!$B$13<=有効積算気温!S79,有効積算気温!$A79,\"\")","v":"2014-06-17"},{"$f":"IF(表示!$B$13<=有効積算気温!T79,有効積算気温!$A79,\"\")","v":"2014-06-17"},{"$f":"IF(表示!$B$13<=有効積算気温!U79,有効積算気温!$A79,\"\")","v":"2014-06-17"},null,null,null,null,{"$f":"IF(表示!$B$13<=有効積算気温!Z79,有効積算気温!$A79,\"\")","v":"2014-06-17"}]
["2014-06-18",{"$f":"IF(表示!$B$13<=有効積算気温!B80,有効積算気温!$A80,\"\")","v":"2014-06-18"},{"$f":"IF(表示!$B$13<=有効積算気温!C80,有効積算気温!$A80,\"\")","v":"2014-06-18"},{"$f":"IF(表示!$B$13<=有効積算気温!D80,有効積算気温!$A80,\"\")","v":"2014-06-18"},{"$f":"IF(表示!$B$13<=有効積算気温!E80,有効積算気温!$A80,\"\")","v":"2014-06-18"},{"$f":"IF(表示!$B$13<=有効積算気温!F80,有効積算気温!$A80,\"\")","v":"2014-06-18"},{"$f":"IF(表示!$B$13<=有効積算気温!G80,有効積算気温!$A80,\"\")","v":"2014-06-18"},{"$f":"IF(表示!$B$13<=有効積算気温!H80,有効積算気温!$A80,\"\")","v":"2014-06-18"},{"$f":"IF(表示!$B$13<=有効積算気温!I80,有効積算気温!$A80,\"\")","v":"2014-06-18"},{"$f":"IF(表示!$B$13<=有効積算気温!J80,有効積算気温!$A80,\"\")","v":"2014-06-18"},{"$f":"IF(表示!$B$13<=有効積算気温!K80,有効積算気温!$A80,\"\")","v":"2014-06-18"},{"$f":"IF(表示!$B$13<=有効積算気温!L80,有効積算気温!$A80,\"\")","v":"2014-06-18"},{"$f":"IF(表示!$B$13<=有効積算気温!M80,有効積算気温!$A80,\"\")","v":"2014-06-18"},{"$f":"IF(表示!$B$13<=有効積算気温!N80,有効積算気温!$A80,\"\")","v":"2014-06-18"},{"$f":"IF(表示!$B$13<=有効積算気温!O80,有効積算気温!$A80,\"\")","v":"2014-06-18"},{"$f":"IF(表示!$B$13<=有効積算気温!P80,有効積算気温!$A80,\"\")","v":"2014-06-18"},{"$f":"IF(表示!$B$13<=有効積算気温!Q80,有効積算気温!$A80,\"\")","v":"2014-06-18"},{"$f":"IF(表示!$B$13<=有効積算気温!R80,有効積算気温!$A80,\"\")","v":"2014-06-18"},{"$f":"IF(表示!$B$13<=有効積算気温!S80,有効積算気温!$A80,\"\")","v":"2014-06-18"},{"$f":"IF(表示!$B$13<=有効積算気温!T80,有効積算気温!$A80,\"\")","v":"2014-06-18"},{"$f":"IF(表示!$B$13<=有効積算気温!U80,有効積算気温!$A80,\"\")","v":"2014-06-18"},null,null,null,null,{"$f":"IF(表示!$B$13<=有効積算気温!Z80,有効積算気温!$A80,\"\")","v":"2014-06-18"}]
["2014-06-19",{"$f":"IF(表示!$B$13<=有効積算気温!B81,有効積算気温!$A81,\"\")","v":"2014-06-19"},{"$f":"IF(表示!$B$13<=有効積算気温!C81,有効積算気温!$A81,\"\")","v":"2014-06-19"},{"$f":"IF(表示!$B$13<=有効積算気温!D81,有効積算気温!$A81,\"\")","v":"2014-06-19"},{"$f":"IF(表示!$B$13<=有効積算気温!E81,有効積算気温!$A81,\"\")","v":"2014-06-19"},{"$f":"IF(表示!$B$13<=有効積算気温!F81,有効積算気温!$A81,\"\")","v":"2014-06-19"},{"$f":"IF(表示!$B$13<=有効積算気温!G81,有効積算気温!$A81,\"\")","v":"2014-06-19"},{"$f":"IF(表示!$B$13<=有効積算気温!H81,有効積算気温!$A81,\"\")","v":"2014-06-19"},{"$f":"IF(表示!$B$13<=有効積算気温!I81,有効積算気温!$A81,\"\")","v":"2014-06-19"},{"$f":"IF(表示!$B$13<=有効積算気温!J81,有効積算気温!$A81,\"\")","v":"2014-06-19"},{"$f":"IF(表示!$B$13<=有効積算気温!K81,有効積算気温!$A81,\"\")","v":"2014-06-19"},{"$f":"IF(表示!$B$13<=有効積算気温!L81,有効積算気温!$A81,\"\")","v":"2014-06-19"},{"$f":"IF(表示!$B$13<=有効積算気温!M81,有効積算気温!$A81,\"\")","v":"2014-06-19"},{"$f":"IF(表示!$B$13<=有効積算気温!N81,有効積算気温!$A81,\"\")","v":"2014-06-19"},{"$f":"IF(表示!$B$13<=有効積算気温!O81,有効積算気温!$A81,\"\")","v":"2014-06-19"},{"$f":"IF(表示!$B$13<=有効積算気温!P81,有効積算気温!$A81,\"\")","v":"2014-06-19"},{"$f":"IF(表示!$B$13<=有効積算気温!Q81,有効積算気温!$A81,\"\")","v":"2014-06-19"},{"$f":"IF(表示!$B$13<=有効積算気温!R81,有効積算気温!$A81,\"\")","v":"2014-06-19"},{"$f":"IF(表示!$B$13<=有効積算気温!S81,有効積算気温!$A81,\"\")","v":"2014-06-19"},{"$f":"IF(表示!$B$13<=有効積算気温!T81,有効積算気温!$A81,\"\")","v":"2014-06-19"},{"$f":"IF(表示!$B$13<=有効積算気温!U81,有効積算気温!$A81,\"\")","v":"2014-06-19"},null,null,null,null,{"$f":"IF(表示!$B$13<=有効積算気温!Z81,有効積算気温!$A81,\"\")","v":"2014-06-19"}]
["2014-06-20",{"$f":"IF(表示!$B$13<=有効積算気温!B82,有効積算気温!$A82,\"\")","v":"2014-06-20"},{"$f":"IF(表示!$B$13<=有効積算気温!C82,有効積算気温!$A82,\"\")","v":"2014-06-20"},{"$f":"IF(表示!$B$13<=有効積算気温!D82,有効積算気温!$A82,\"\")","v":"2014-06-20"},{"$f":"IF(表示!$B$13<=有効積算気温!E82,有効積算気温!$A82,\"\")","v":"2014-06-20"},{"$f":"IF(表示!$B$13<=有効積算気温!F82,有効積算気温!$A82,\"\")","v":"2014-06-20"},{"$f":"IF(表示!$B$13<=有効積算気温!G82,有効積算気温!$A82,\"\")","v":"2014-06-20"},{"$f":"IF(表示!$B$13<=有効積算気温!H82,有効積算気温!$A82,\"\")","v":"2014-06-20"},{"$f":"IF(表示!$B$13<=有効積算気温!I82,有効積算気温!$A82,\"\")","v":"2014-06-20"},{"$f":"IF(表示!$B$13<=有効積算気温!J82,有効積算気温!$A82,\"\")","v":"2014-06-20"},{"$f":"IF(表示!$B$13<=有効積算気温!K82,有効積算気温!$A82,\"\")","v":"2014-06-20"},{"$f":"IF(表示!$B$13<=有効積算気温!L82,有効積算気温!$A82,\"\")","v":"2014-06-20"},{"$f":"IF(表示!$B$13<=有効積算気温!M82,有効積算気温!$A82,\"\")","v":"2014-06-20"},{"$f":"IF(表示!$B$13<=有効積算気温!N82,有効積算気温!$A82,\"\")","v":"2014-06-20"},{"$f":"IF(表示!$B$13<=有効積算気温!O82,有効積算気温!$A82,\"\")","v":"2014-06-20"},{"$f":"IF(表示!$B$13<=有効積算気温!P82,有効積算気温!$A82,\"\")","v":"2014-06-20"},{"$f":"IF(表示!$B$13<=有効積算気温!Q82,有効積算気温!$A82,\"\")","v":"2014-06-20"},{"$f":"IF(表示!$B$13<=有効積算気温!R82,有効積算気温!$A82,\"\")","v":"2014-06-20"},{"$f":"IF(表示!$B$13<=有効積算気温!S82,有効積算気温!$A82,\"\")","v":"2014-06-20"},{"$f":"IF(表示!$B$13<=有効積算気温!T82,有効積算気温!$A82,\"\")","v":"2014-06-20"},{"$f":"IF(表示!$B$13<=有効積算気温!U82,有効積算気温!$A82,\"\")","v":"2014-06-20"},null,null,null,null,{"$f":"IF(表示!$B$13<=有効積算気温!Z82,有効積算気温!$A82,\"\")","v":"2014-06-20"}]
["2014-06-21",{"$f":"IF(表示!$B$13<=有効積算気温!B83,有効積算気温!$A83,\"\")","v":"2014-06-21"},{"$f":"IF(表示!$B$13<=有効積算気温!C83,有効積算気温!$A83,\"\")","v":"2014-06-21"},{"$f":"IF(表示!$B$13<=有効積算気温!D83,有効積算気温!$A83,\"\")","v":"2014-06-21"},{"$f":"IF(表示!$B$13<=有効積算気温!E83,有効積算気温!$A83,\"\")","v":"2014-06-21"},{"$f":"IF(表示!$B$13<=有効積算気温!F83,有効積算気温!$A83,\"\")","v":"2014-06-21"},{"$f":"IF(表示!$B$13<=有効積算気温!G83,有効積算気温!$A83,\"\")","v":"2014-06-21"},{"$f":"IF(表示!$B$13<=有効積算気温!H83,有効積算気温!$A83,\"\")","v":"2014-06-21"},{"$f":"IF(表示!$B$13<=有効積算気温!I83,有効積算気温!$A83,\"\")","v":"2014-06-21"},{"$f":"IF(表示!$B$13<=有効積算気温!J83,有効積算気温!$A83,\"\")","v":"2014-06-21"},{"$f":"IF(表示!$B$13<=有効積算気温!K83,有効積算気温!$A83,\"\")","v":"2014-06-21"},{"$f":"IF(表示!$B$13<=有効積算気温!L83,有効積算気温!$A83,\"\")","v":"2014-06-21"},{"$f":"IF(表示!$B$13<=有効積算気温!M83,有効積算気温!$A83,\"\")","v":"2014-06-21"},{"$f":"IF(表示!$B$13<=有効積算気温!N83,有効積算気温!$A83,\"\")","v":"2014-06-21"},{"$f":"IF(表示!$B$13<=有効積算気温!O83,有効積算気温!$A83,\"\")","v":"2014-06-21"},{"$f":"IF(表示!$B$13<=有効積算気温!P83,有効積算気温!$A83,\"\")","v":"2014-06-21"},{"$f":"IF(表示!$B$13<=有効積算気温!Q83,有効積算気温!$A83,\"\")","v":"2014-06-21"},{"$f":"IF(表示!$B$13<=有効積算気温!R83,有効積算気温!$A83,\"\")","v":"2014-06-21"},{"$f":"IF(表示!$B$13<=有効積算気温!S83,有効積算気温!$A83,\"\")","v":"2014-06-21"},{"$f":"IF(表示!$B$13<=有効積算気温!T83,有効積算気温!$A83,\"\")","v":"2014-06-21"},{"$f":"IF(表示!$B$13<=有効積算気温!U83,有効積算気温!$A83,\"\")","v":"2014-06-21"},null,null,null,null,{"$f":"IF(表示!$B$13<=有効積算気温!Z83,有効積算気温!$A83,\"\")","v":"2014-06-21"}]
["2014-06-22",{"$f":"IF(表示!$B$13<=有効積算気温!B84,有効積算気温!$A84,\"\")","v":"2014-06-22"},{"$f":"IF(表示!$B$13<=有効積算気温!C84,有効積算気温!$A84,\"\")","v":"2014-06-22"},{"$f":"IF(表示!$B$13<=有効積算気温!D84,有効積算気温!$A84,\"\")","v":"2014-06-22"},{"$f":"IF(表示!$B$13<=有効積算気温!E84,有効積算気温!$A84,\"\")","v":"2014-06-22"},{"$f":"IF(表示!$B$13<=有効積算気温!F84,有効積算気温!$A84,\"\")","v":"2014-06-22"},{"$f":"IF(表示!$B$13<=有効積算気温!G84,有効積算気温!$A84,\"\")","v":"2014-06-22"},{"$f":"IF(表示!$B$13<=有効積算気温!H84,有効積算気温!$A84,\"\")","v":"2014-06-22"},{"$f":"IF(表示!$B$13<=有効積算気温!I84,有効積算気温!$A84,\"\")","v":"2014-06-22"},{"$f":"IF(表示!$B$13<=有効積算気温!J84,有効積算気温!$A84,\"\")","v":"2014-06-22"},{"$f":"IF(表示!$B$13<=有効積算気温!K84,有効積算気温!$A84,\"\")","v":"2014-06-22"},{"$f":"IF(表示!$B$13<=有効積算気温!L84,有効積算気温!$A84,\"\")","v":"2014-06-22"},{"$f":"IF(表示!$B$13<=有効積算気温!M84,有効積算気温!$A84,\"\")","v":"2014-06-22"},{"$f":"IF(表示!$B$13<=有効積算気温!N84,有効積算気温!$A84,\"\")","v":"2014-06-22"},{"$f":"IF(表示!$B$13<=有効積算気温!O84,有効積算気温!$A84,\"\")","v":"2014-06-22"},{"$f":"IF(表示!$B$13<=有効積算気温!P84,有効積算気温!$A84,\"\")","v":"2014-06-22"},{"$f":"IF(表示!$B$13<=有効積算気温!Q84,有効積算気温!$A84,\"\")","v":"2014-06-22"},{"$f":"IF(表示!$B$13<=有効積算気温!R84,有効積算気温!$A84,\"\")","v":"2014-06-22"},{"$f":"IF(表示!$B$13<=有効積算気温!S84,有効積算気温!$A84,\"\")","v":"2014-06-22"},{"$f":"IF(表示!$B$13<=有効積算気温!T84,有効積算気温!$A84,\"\")","v":"2014-06-22"},{"$f":"IF(表示!$B$13<=有効積算気温!U84,有効積算気温!$A84,\"\")","v":"2014-06-22"},null,null,null,null,{"$f":"IF(表示!$B$13<=有効積算気温!Z84,有効積算気温!$A84,\"\")","v":"2014-06-22"}]
["2014-06-23",{"$f":"IF(表示!$B$13<=有効積算気温!B85,有効積算気温!$A85,\"\")","v":"2014-06-23"},{"$f":"IF(表示!$B$13<=有効積算気温!C85,有効積算気温!$A85,\"\")","v":"2014-06-23"},{"$f":"IF(表示!$B$13<=有効積算気温!D85,有効積算気温!$A85,\"\")","v":"2014-06-23"},{"$f":"IF(表示!$B$13<=有効積算気温!E85,有効積算気温!$A85,\"\")","v":"2014-06-23"},{"$f":"IF(表示!$B$13<=有効積算気温!F85,有効積算気温!$A85,\"\")","v":"2014-06-23"},{"$f":"IF(表示!$B$13<=有効積算気温!G85,有効積算気温!$A85,\"\")","v":"2014-06-23"},{"$f":"IF(表示!$B$13<=有効積算気温!H85,有効積算気温!$A85,\"\")","v":"2014-06-23"},{"$f":"IF(表示!$B$13<=有効積算気温!I85,有効積算気温!$A85,\"\")","v":"2014-06-23"},{"$f":"IF(表示!$B$13<=有効積算気温!J85,有効積算気温!$A85,\"\")","v":"2014-06-23"},{"$f":"IF(表示!$B$13<=有効積算気温!K85,有効積算気温!$A85,\"\")","v":"2014-06-23"},{"$f":"IF(表示!$B$13<=有効積算気温!L85,有効積算気温!$A85,\"\")","v":"2014-06-23"},{"$f":"IF(表示!$B$13<=有効積算気温!M85,有効積算気温!$A85,\"\")","v":"2014-06-23"},{"$f":"IF(表示!$B$13<=有効積算気温!N85,有効積算気温!$A85,\"\")","v":"2014-06-23"},{"$f":"IF(表示!$B$13<=有効積算気温!O85,有効積算気温!$A85,\"\")","v":"2014-06-23"},{"$f":"IF(表示!$B$13<=有効積算気温!P85,有効積算気温!$A85,\"\")","v":"2014-06-23"},{"$f":"IF(表示!$B$13<=有効積算気温!Q85,有効積算気温!$A85,\"\")","v":"2014-06-23"},{"$f":"IF(表示!$B$13<=有効積算気温!R85,有効積算気温!$A85,\"\")","v":"2014-06-23"},{"$f":"IF(表示!$B$13<=有効積算気温!S85,有効積算気温!$A85,\"\")","v":"2014-06-23"},{"$f":"IF(表示!$B$13<=有効積算気温!T85,有効積算気温!$A85,\"\")","v":"2014-06-23"},{"$f":"IF(表示!$B$13<=有効積算気温!U85,有効積算気温!$A85,\"\")","v":"2014-06-23"},null,null,null,null,{"$f":"IF(表示!$B$13<=有効積算気温!Z85,有効積算気温!$A85,\"\")","v":"2014-06-23"}]
["2014-06-24",{"$f":"IF(表示!$B$13<=有効積算気温!B86,有効積算気温!$A86,\"\")","v":"2014-06-24"},{"$f":"IF(表示!$B$13<=有効積算気温!C86,有効積算気温!$A86,\"\")","v":"2014-06-24"},{"$f":"IF(表示!$B$13<=有効積算気温!D86,有効積算気温!$A86,\"\")","v":"2014-06-24"},{"$f":"IF(表示!$B$13<=有効積算気温!E86,有効積算気温!$A86,\"\")","v":"2014-06-24"},{"$f":"IF(表示!$B$13<=有効積算気温!F86,有効積算気温!$A86,\"\")","v":"2014-06-24"},{"$f":"IF(表示!$B$13<=有効積算気温!G86,有効積算気温!$A86,\"\")","v":"2014-06-24"},{"$f":"IF(表示!$B$13<=有効積算気温!H86,有効積算気温!$A86,\"\")","v":"2014-06-24"},{"$f":"IF(表示!$B$13<=有効積算気温!I86,有効積算気温!$A86,\"\")","v":"2014-06-24"},{"$f":"IF(表示!$B$13<=有効積算気温!J86,有効積算気温!$A86,\"\")","v":"2014-06-24"},{"$f":"IF(表示!$B$13<=有効積算気温!K86,有効積算気温!$A86,\"\")","v":"2014-06-24"},{"$f":"IF(表示!$B$13<=有効積算気温!L86,有効積算気温!$A86,\"\")","v":"2014-06-24"},{"$f":"IF(表示!$B$13<=有効積算気温!M86,有効積算気温!$A86,\"\")","v":"2014-06-24"},{"$f":"IF(表示!$B$13<=有効積算気温!N86,有効積算気温!$A86,\"\")","v":"2014-06-24"},{"$f":"IF(表示!$B$13<=有効積算気温!O86,有効積算気温!$A86,\"\")","v":"2014-06-24"},{"$f":"IF(表示!$B$13<=有効積算気温!P86,有効積算気温!$A86,\"\")","v":"2014-06-24"},{"$f":"IF(表示!$B$13<=有効積算気温!Q86,有効積算気温!$A86,\"\")","v":"2014-06-24"},{"$f":"IF(表示!$B$13<=有効積算気温!R86,有効積算気温!$A86,\"\")","v":"2014-06-24"},{"$f":"IF(表示!$B$13<=有効積算気温!S86,有効積算気温!$A86,\"\")","v":"2014-06-24"},{"$f":"IF(表示!$B$13<=有効積算気温!T86,有効積算気温!$A86,\"\")","v":"2014-06-24"},{"$f":"IF(表示!$B$13<=有効積算気温!U86,有効積算気温!$A86,\"\")","v":"2014-06-24"},null,null,null,null,{"$f":"IF(表示!$B$13<=有効積算気温!Z86,有効積算気温!$A86,\"\")","v":"2014-06-24"}]
["2014-06-25",{"$f":"IF(表示!$B$13<=有効積算気温!B87,有効積算気温!$A87,\"\")","v":"2014-06-25"},{"$f":"IF(表示!$B$13<=有効積算気温!C87,有効積算気温!$A87,\"\")","v":"2014-06-25"},{"$f":"IF(表示!$B$13<=有効積算気温!D87,有効積算気温!$A87,\"\")","v":"2014-06-25"},{"$f":"IF(表示!$B$13<=有効積算気温!E87,有効積算気温!$A87,\"\")","v":"2014-06-25"},{"$f":"IF(表示!$B$13<=有効積算気温!F87,有効積算気温!$A87,\"\")","v":"2014-06-25"},{"$f":"IF(表示!$B$13<=有効積算気温!G87,有効積算気温!$A87,\"\")","v":"2014-06-25"},{"$f":"IF(表示!$B$13<=有効積算気温!H87,有効積算気温!$A87,\"\")","v":"2014-06-25"},{"$f":"IF(表示!$B$13<=有効積算気温!I87,有効積算気温!$A87,\"\")","v":"2014-06-25"},{"$f":"IF(表示!$B$13<=有効積算気温!J87,有効積算気温!$A87,\"\")","v":"2014-06-25"},{"$f":"IF(表示!$B$13<=有効積算気温!K87,有効積算気温!$A87,\"\")","v":"2014-06-25"},{"$f":"IF(表示!$B$13<=有効積算気温!L87,有効積算気温!$A87,\"\")","v":"2014-06-25"},{"$f":"IF(表示!$B$13<=有効積算気温!M87,有効積算気温!$A87,\"\")","v":"2014-06-25"},{"$f":"IF(表示!$B$13<=有効積算気温!N87,有効積算気温!$A87,\"\")","v":"2014-06-25"},{"$f":"IF(表示!$B$13<=有効積算気温!O87,有効積算気温!$A87,\"\")","v":"2014-06-25"},{"$f":"IF(表示!$B$13<=有効積算気温!P87,有効積算気温!$A87,\"\")","v":"2014-06-25"},{"$f":"IF(表示!$B$13<=有効積算気温!Q87,有効積算気温!$A87,\"\")","v":"2014-06-25"},{"$f":"IF(表示!$B$13<=有効積算気温!R87,有効積算気温!$A87,\"\")","v":"2014-06-25"},{"$f":"IF(表示!$B$13<=有効積算気温!S87,有効積算気温!$A87,\"\")","v":"2014-06-25"},{"$f":"IF(表示!$B$13<=有効積算気温!T87,有効積算気温!$A87,\"\")","v":"2014-06-25"},{"$f":"IF(表示!$B$13<=有効積算気温!U87,有効積算気温!$A87,\"\")","v":"2014-06-25"},null,null,null,null,{"$f":"IF(表示!$B$13<=有効積算気温!Z87,有効積算気温!$A87,\"\")","v":"2014-06-25"}]
["2014-06-26",{"$f":"IF(表示!$B$13<=有効積算気温!B88,有効積算気温!$A88,\"\")","v":"2014-06-26"},{"$f":"IF(表示!$B$13<=有効積算気温!C88,有効積算気温!$A88,\"\")","v":"2014-06-26"},{"$f":"IF(表示!$B$13<=有効積算気温!D88,有効積算気温!$A88,\"\")","v":"2014-06-26"},{"$f":"IF(表示!$B$13<=有効積算気温!E88,有効積算気温!$A88,\"\")","v":"2014-06-26"},{"$f":"IF(表示!$B$13<=有効積算気温!F88,有効積算気温!$A88,\"\")","v":"2014-06-26"},{"$f":"IF(表示!$B$13<=有効積算気温!G88,有効積算気温!$A88,\"\")","v":"2014-06-26"},{"$f":"IF(表示!$B$13<=有効積算気温!H88,有効積算気温!$A88,\"\")","v":"2014-06-26"},{"$f":"IF(表示!$B$13<=有効積算気温!I88,有効積算気温!$A88,\"\")","v":"2014-06-26"},{"$f":"IF(表示!$B$13<=有効積算気温!J88,有効積算気温!$A88,\"\")","v":"2014-06-26"},{"$f":"IF(表示!$B$13<=有効積算気温!K88,有効積算気温!$A88,\"\")","v":"2014-06-26"},{"$f":"IF(表示!$B$13<=有効積算気温!L88,有効積算気温!$A88,\"\")","v":"2014-06-26"},{"$f":"IF(表示!$B$13<=有効積算気温!M88,有効積算気温!$A88,\"\")","v":"2014-06-26"},{"$f":"IF(表示!$B$13<=有効積算気温!N88,有効積算気温!$A88,\"\")","v":"2014-06-26"},{"$f":"IF(表示!$B$13<=有効積算気温!O88,有効積算気温!$A88,\"\")","v":"2014-06-26"},{"$f":"IF(表示!$B$13<=有効積算気温!P88,有効積算気温!$A88,\"\")","v":"2014-06-26"},{"$f":"IF(表示!$B$13<=有効積算気温!Q88,有効積算気温!$A88,\"\")","v":"2014-06-26"},{"$f":"IF(表示!$B$13<=有効積算気温!R88,有効積算気温!$A88,\"\")","v":"2014-06-26"},{"$f":"IF(表示!$B$13<=有効積算気温!S88,有効積算気温!$A88,\"\")","v":"2014-06-26"},{"$f":"IF(表示!$B$13<=有効積算気温!T88,有効積算気温!$A88,\"\")","v":"2014-06-26"},{"$f":"IF(表示!$B$13<=有効積算気温!U88,有効積算気温!$A88,\"\")","v":"2014-06-26"},null,null,null,null,{"$f":"IF(表示!$B$13<=有効積算気温!Z88,有効積算気温!$A88,\"\")","v":"2014-06-26"}]
["2014-06-27",{"$f":"IF(表示!$B$13<=有効積算気温!B89,有効積算気温!$A89,\"\")","v":"2014-06-27"},{"$f":"IF(表示!$B$13<=有効積算気温!C89,有効積算気温!$A89,\"\")","v":"2014-06-27"},{"$f":"IF(表示!$B$13<=有効積算気温!D89,有効積算気温!$A89,\"\")","v":"2014-06-27"},{"$f":"IF(表示!$B$13<=有効積算気温!E89,有効積算気温!$A89,\"\")","v":"2014-06-27"},{"$f":"IF(表示!$B$13<=有効積算気温!F89,有効積算気温!$A89,\"\")","v":"2014-06-27"},{"$f":"IF(表示!$B$13<=有効積算気温!G89,有効積算気温!$A89,\"\")","v":"2014-06-27"},{"$f":"IF(表示!$B$13<=有効積算気温!H89,有効積算気温!$A89,\"\")","v":"2014-06-27"},{"$f":"IF(表示!$B$13<=有効積算気温!I89,有効積算気温!$A89,\"\")","v":"2014-06-27"},{"$f":"IF(表示!$B$13<=有効積算気温!J89,有効積算気温!$A89,\"\")","v":"2014-06-27"},{"$f":"IF(表示!$B$13<=有効積算気温!K89,有効積算気温!$A89,\"\")","v":"2014-06-27"},{"$f":"IF(表示!$B$13<=有効積算気温!L89,有効積算気温!$A89,\"\")","v":"2014-06-27"},{"$f":"IF(表示!$B$13<=有効積算気温!M89,有効積算気温!$A89,\"\")","v":"2014-06-27"},{"$f":"IF(表示!$B$13<=有効積算気温!N89,有効積算気温!$A89,\"\")","v":"2014-06-27"},{"$f":"IF(表示!$B$13<=有効積算気温!O89,有効積算気温!$A89,\"\")","v":"2014-06-27"},{"$f":"IF(表示!$B$13<=有効積算気温!P89,有効積算気温!$A89,\"\")","v":"2014-06-27"},{"$f":"IF(表示!$B$13<=有効積算気温!Q89,有効積算気温!$A89,\"\")","v":"2014-06-27"},{"$f":"IF(表示!$B$13<=有効積算気温!R89,有効積算気温!$A89,\"\")","v":"2014-06-27"},{"$f":"IF(表示!$B$13<=有効積算気温!S89,有効積算気温!$A89,\"\")","v":"2014-06-27"},{"$f":"IF(表示!$B$13<=有効積算気温!T89,有効積算気温!$A89,\"\")","v":"2014-06-27"},{"$f":"IF(表示!$B$13<=有効積算気温!U89,有効積算気温!$A89,\"\")","v":"2014-06-27"},null,null,null,null,{"$f":"IF(表示!$B$13<=有効積算気温!Z89,有効積算気温!$A89,\"\")","v":"2014-06-27"}]
["2014-06-28",{"$f":"IF(表示!$B$13<=有効積算気温!B90,有効積算気温!$A90,\"\")","v":"2014-06-28"},{"$f":"IF(表示!$B$13<=有効積算気温!C90,有効積算気温!$A90,\"\")","v":"2014-06-28"},{"$f":"IF(表示!$B$13<=有効積算気温!D90,有効積算気温!$A90,\"\")","v":"2014-06-28"},{"$f":"IF(表示!$B$13<=有効積算気温!E90,有効積算気温!$A90,\"\")","v":"2014-06-28"},{"$f":"IF(表示!$B$13<=有効積算気温!F90,有効積算気温!$A90,\"\")","v":"2014-06-28"},{"$f":"IF(表示!$B$13<=有効積算気温!G90,有効積算気温!$A90,\"\")","v":"2014-06-28"},{"$f":"IF(表示!$B$13<=有効積算気温!H90,有効積算気温!$A90,\"\")","v":"2014-06-28"},{"$f":"IF(表示!$B$13<=有効積算気温!I90,有効積算気温!$A90,\"\")","v":"2014-06-28"},{"$f":"IF(表示!$B$13<=有効積算気温!J90,有効積算気温!$A90,\"\")","v":"2014-06-28"},{"$f":"IF(表示!$B$13<=有効積算気温!K90,有効積算気温!$A90,\"\")","v":"2014-06-28"},{"$f":"IF(表示!$B$13<=有効積算気温!L90,有効積算気温!$A90,\"\")","v":"2014-06-28"},{"$f":"IF(表示!$B$13<=有効積算気温!M90,有効積算気温!$A90,\"\")","v":"2014-06-28"},{"$f":"IF(表示!$B$13<=有効積算気温!N90,有効積算気温!$A90,\"\")","v":"2014-06-28"},{"$f":"IF(表示!$B$13<=有効積算気温!O90,有効積算気温!$A90,\"\")","v":"2014-06-28"},{"$f":"IF(表示!$B$13<=有効積算気温!P90,有効積算気温!$A90,\"\")","v":"2014-06-28"},{"$f":"IF(表示!$B$13<=有効積算気温!Q90,有効積算気温!$A90,\"\")","v":"2014-06-28"},{"$f":"IF(表示!$B$13<=有効積算気温!R90,有効積算気温!$A90,\"\")","v":"2014-06-28"},{"$f":"IF(表示!$B$13<=有効積算気温!S90,有効積算気温!$A90,\"\")","v":"2014-06-28"},{"$f":"IF(表示!$B$13<=有効積算気温!T90,有効積算気温!$A90,\"\")","v":"2014-06-28"},{"$f":"IF(表示!$B$13<=有効積算気温!U90,有効積算気温!$A90,\"\")","v":"2014-06-28"},null,null,null,null,{"$f":"IF(表示!$B$13<=有効積算気温!Z90,有効積算気温!$A90,\"\")","v":"2014-06-28"}]
["2014-06-29",{"$f":"IF(表示!$B$13<=有効積算気温!B91,有効積算気温!$A91,\"\")","v":"2014-06-29"},{"$f":"IF(表示!$B$13<=有効積算気温!C91,有効積算気温!$A91,\"\")","v":"2014-06-29"},{"$f":"IF(表示!$B$13<=有効積算気温!D91,有効積算気温!$A91,\"\")","v":"2014-06-29"},{"$f":"IF(表示!$B$13<=有効積算気温!E91,有効積算気温!$A91,\"\")","v":"2014-06-29"},{"$f":"IF(表示!$B$13<=有効積算気温!F91,有効積算気温!$A91,\"\")","v":"2014-06-29"},{"$f":"IF(表示!$B$13<=有効積算気温!G91,有効積算気温!$A91,\"\")","v":"2014-06-29"},{"$f":"IF(表示!$B$13<=有効積算気温!H91,有効積算気温!$A91,\"\")","v":"2014-06-29"},{"$f":"IF(表示!$B$13<=有効積算気温!I91,有効積算気温!$A91,\"\")","v":"2014-06-29"},{"$f":"IF(表示!$B$13<=有効積算気温!J91,有効積算気温!$A91,\"\")","v":"2014-06-29"},{"$f":"IF(表示!$B$13<=有効積算気温!K91,有効積算気温!$A91,\"\")","v":"2014-06-29"},{"$f":"IF(表示!$B$13<=有効積算気温!L91,有効積算気温!$A91,\"\")","v":"2014-06-29"},{"$f":"IF(表示!$B$13<=有効積算気温!M91,有効積算気温!$A91,\"\")","v":"2014-06-29"},{"$f":"IF(表示!$B$13<=有効積算気温!N91,有効積算気温!$A91,\"\")","v":"2014-06-29"},{"$f":"IF(表示!$B$13<=有効積算気温!O91,有効積算気温!$A91,\"\")","v":"2014-06-29"},{"$f":"IF(表示!$B$13<=有効積算気温!P91,有効積算気温!$A91,\"\")","v":"2014-06-29"},{"$f":"IF(表示!$B$13<=有効積算気温!Q91,有効積算気温!$A91,\"\")","v":"2014-06-29"},{"$f":"IF(表示!$B$13<=有効積算気温!R91,有効積算気温!$A91,\"\")","v":"2014-06-29"},{"$f":"IF(表示!$B$13<=有効積算気温!S91,有効積算気温!$A91,\"\")","v":"2014-06-29"},{"$f":"IF(表示!$B$13<=有効積算気温!T91,有効積算気温!$A91,\"\")","v":"2014-06-29"},{"$f":"IF(表示!$B$13<=有効積算気温!U91,有効積算気温!$A91,\"\")","v":"2014-06-29"},null,null,null,null,{"$f":"IF(表示!$B$13<=有効積算気温!Z91,有効積算気温!$A91,\"\")","v":"2014-06-29"}]
["2014-06-30",{"$f":"IF(表示!$B$13<=有効積算気温!B92,有効積算気温!$A92,\"\")","v":"2014-06-30"},{"$f":"IF(表示!$B$13<=有効積算気温!C92,有効積算気温!$A92,\"\")","v":"2014-06-30"},{"$f":"IF(表示!$B$13<=有効積算気温!D92,有効積算気温!$A92,\"\")","v":"2014-06-30"},{"$f":"IF(表示!$B$13<=有効積算気温!E92,有効積算気温!$A92,\"\")","v":"2014-06-30"},{"$f":"IF(表示!$B$13<=有効積算気温!F92,有効積算気温!$A92,\"\")","v":"2014-06-30"},{"$f":"IF(表示!$B$13<=有効積算気温!G92,有効積算気温!$A92,\"\")","v":"2014-06-30"},{"$f":"IF(表示!$B$13<=有効積算気温!H92,有効積算気温!$A92,\"\")","v":"2014-06-30"},{"$f":"IF(表示!$B$13<=有効積算気温!I92,有効積算気温!$A92,\"\")","v":"2014-06-30"},{"$f":"IF(表示!$B$13<=有効積算気温!J92,有効積算気温!$A92,\"\")","v":"2014-06-30"},{"$f":"IF(表示!$B$13<=有効積算気温!K92,有効積算気温!$A92,\"\")","v":"2014-06-30"},{"$f":"IF(表示!$B$13<=有効積算気温!L92,有効積算気温!$A92,\"\")","v":"2014-06-30"},{"$f":"IF(表示!$B$13<=有効積算気温!M92,有効積算気温!$A92,\"\")","v":"2014-06-30"},{"$f":"IF(表示!$B$13<=有効積算気温!N92,有効積算気温!$A92,\"\")","v":"2014-06-30"},{"$f":"IF(表示!$B$13<=有効積算気温!O92,有効積算気温!$A92,\"\")","v":"2014-06-30"},{"$f":"IF(表示!$B$13<=有効積算気温!P92,有効積算気温!$A92,\"\")","v":"2014-06-30"},{"$f":"IF(表示!$B$13<=有効積算気温!Q92,有効積算気温!$A92,\"\")","v":"2014-06-30"},{"$f":"IF(表示!$B$13<=有効積算気温!R92,有効積算気温!$A92,\"\")","v":"2014-06-30"},{"$f":"IF(表示!$B$13<=有効積算気温!S92,有効積算気温!$A92,\"\")","v":"2014-06-30"},{"$f":"IF(表示!$B$13<=有効積算気温!T92,有効積算気温!$A92,\"\")","v":"2014-06-30"},{"$f":"IF(表示!$B$13<=有効積算気温!U92,有効積算気温!$A92,\"\")","v":"2014-06-30"},null,null,null,null,{"$f":"IF(表示!$B$13<=有効積算気温!Z92,有効積算気温!$A92,\"\")","v":"2014-06-30"}]
["2014-07-01",{"$f":"IF(表示!$B$13<=有効積算気温!B93,有効積算気温!$A93,\"\")","v":"2014-07-01"},{"$f":"IF(表示!$B$13<=有効積算気温!C93,有効積算気温!$A93,\"\")","v":"2014-07-01"},{"$f":"IF(表示!$B$13<=有効積算気温!D93,有効積算気温!$A93,\"\")","v":"2014-07-01"},{"$f":"IF(表示!$B$13<=有効積算気温!E93,有効積算気温!$A93,\"\")","v":"2014-07-01"},{"$f":"IF(表示!$B$13<=有効積算気温!F93,有効積算気温!$A93,\"\")","v":"2014-07-01"},{"$f":"IF(表示!$B$13<=有効積算気温!G93,有効積算気温!$A93,\"\")","v":"2014-07-01"},{"$f":"IF(表示!$B$13<=有効積算気温!H93,有効積算気温!$A93,\"\")","v":"2014-07-01"},{"$f":"IF(表示!$B$13<=有効積算気温!I93,有効積算気温!$A93,\"\")","v":"2014-07-01"},{"$f":"IF(表示!$B$13<=有効積算気温!J93,有効積算気温!$A93,\"\")","v":"2014-07-01"},{"$f":"IF(表示!$B$13<=有効積算気温!K93,有効積算気温!$A93,\"\")","v":"2014-07-01"},{"$f":"IF(表示!$B$13<=有効積算気温!L93,有効積算気温!$A93,\"\")","v":"2014-07-01"},{"$f":"IF(表示!$B$13<=有効積算気温!M93,有効積算気温!$A93,\"\")","v":"2014-07-01"},{"$f":"IF(表示!$B$13<=有効積算気温!N93,有効積算気温!$A93,\"\")","v":"2014-07-01"},{"$f":"IF(表示!$B$13<=有効積算気温!O93,有効積算気温!$A93,\"\")","v":"2014-07-01"},{"$f":"IF(表示!$B$13<=有効積算気温!P93,有効積算気温!$A93,\"\")","v":"2014-07-01"},{"$f":"IF(表示!$B$13<=有効積算気温!Q93,有効積算気温!$A93,\"\")","v":"2014-07-01"},{"$f":"IF(表示!$B$13<=有効積算気温!R93,有効積算気温!$A93,\"\")","v":"2014-07-01"},{"$f":"IF(表示!$B$13<=有効積算気温!S93,有効積算気温!$A93,\"\")","v":"2014-07-01"},{"$f":"IF(表示!$B$13<=有効積算気温!T93,有効積算気温!$A93,\"\")","v":"2014-07-01"},{"$f":"IF(表示!$B$13<=有効積算気温!U93,有効積算気温!$A93,\"\")","v":"2014-07-01"},null,null,null,null,{"$f":"IF(表示!$B$13<=有効積算気温!Z93,有効積算気温!$A93,\"\")","v":"2014-07-01"}]
["2014-07-02",{"$f":"IF(表示!$B$13<=有効積算気温!B94,有効積算気温!$A94,\"\")","v":"2014-07-02"},{"$f":"IF(表示!$B$13<=有効積算気温!C94,有効積算気温!$A94,\"\")","v":"2014-07-02"},{"$f":"IF(表示!$B$13<=有効積算気温!D94,有効積算気温!$A94,\"\")","v":"2014-07-02"},{"$f":"IF(表示!$B$13<=有効積算気温!E94,有効積算気温!$A94,\"\")","v":"2014-07-02"},{"$f":"IF(表示!$B$13<=有効積算気温!F94,有効積算気温!$A94,\"\")","v":"2014-07-02"},{"$f":"IF(表示!$B$13<=有効積算気温!G94,有効積算気温!$A94,\"\")","v":"2014-07-02"},{"$f":"IF(表示!$B$13<=有効積算気温!H94,有効積算気温!$A94,\"\")","v":"2014-07-02"},{"$f":"IF(表示!$B$13<=有効積算気温!I94,有効積算気温!$A94,\"\")","v":"2014-07-02"},{"$f":"IF(表示!$B$13<=有効積算気温!J94,有効積算気温!$A94,\"\")","v":"2014-07-02"},{"$f":"IF(表示!$B$13<=有効積算気温!K94,有効積算気温!$A94,\"\")","v":"2014-07-02"},{"$f":"IF(表示!$B$13<=有効積算気温!L94,有効積算気温!$A94,\"\")","v":"2014-07-02"},{"$f":"IF(表示!$B$13<=有効積算気温!M94,有効積算気温!$A94,\"\")","v":"2014-07-02"},{"$f":"IF(表示!$B$13<=有効積算気温!N94,有効積算気温!$A94,\"\")","v":"2014-07-02"},{"$f":"IF(表示!$B$13<=有効積算気温!O94,有効積算気温!$A94,\"\")","v":"2014-07-02"},{"$f":"IF(表示!$B$13<=有効積算気温!P94,有効積算気温!$A94,\"\")","v":"2014-07-02"},{"$f":"IF(表示!$B$13<=有効積算気温!Q94,有効積算気温!$A94,\"\")","v":"2014-07-02"},{"$f":"IF(表示!$B$13<=有効積算気温!R94,有効積算気温!$A94,\"\")","v":"2014-07-02"},{"$f":"IF(表示!$B$13<=有効積算気温!S94,有効積算気温!$A94,\"\")","v":"2014-07-02"},{"$f":"IF(表示!$B$13<=有効積算気温!T94,有効積算気温!$A94,\"\")","v":"2014-07-02"},{"$f":"IF(表示!$B$13<=有効積算気温!U94,有効積算気温!$A94,\"\")","v":"2014-07-02"},null,null,null,null,{"$f":"IF(表示!$B$13<=有効積算気温!Z94,有効積算気温!$A94,\"\")","v":"2014-07-02"}]
["2014-07-03",{"$f":"IF(表示!$B$13<=有効積算気温!B95,有効積算気温!$A95,\"\")","v":"2014-07-03"},{"$f":"IF(表示!$B$13<=有効積算気温!C95,有効積算気温!$A95,\"\")","v":"2014-07-03"},{"$f":"IF(表示!$B$13<=有効積算気温!D95,有効積算気温!$A95,\"\")","v":"2014-07-03"},{"$f":"IF(表示!$B$13<=有効積算気温!E95,有効積算気温!$A95,\"\")","v":"2014-07-03"},{"$f":"IF(表示!$B$13<=有効積算気温!F95,有効積算気温!$A95,\"\")","v":"2014-07-03"},{"$f":"IF(表示!$B$13<=有効積算気温!G95,有効積算気温!$A95,\"\")","v":"2014-07-03"},{"$f":"IF(表示!$B$13<=有効積算気温!H95,有効積算気温!$A95,\"\")","v":"2014-07-03"},{"$f":"IF(表示!$B$13<=有効積算気温!I95,有効積算気温!$A95,\"\")","v":"2014-07-03"},{"$f":"IF(表示!$B$13<=有効積算気温!J95,有効積算気温!$A95,\"\")","v":"2014-07-03"},{"$f":"IF(表示!$B$13<=有効積算気温!K95,有効積算気温!$A95,\"\")","v":"2014-07-03"},{"$f":"IF(表示!$B$13<=有効積算気温!L95,有効積算気温!$A95,\"\")","v":"2014-07-03"},{"$f":"IF(表示!$B$13<=有効積算気温!M95,有効積算気温!$A95,\"\")","v":"2014-07-03"},{"$f":"IF(表示!$B$13<=有効積算気温!N95,有効積算気温!$A95,\"\")","v":"2014-07-03"},{"$f":"IF(表示!$B$13<=有効積算気温!O95,有効積算気温!$A95,\"\")","v":"2014-07-03"},{"$f":"IF(表示!$B$13<=有効積算気温!P95,有効積算気温!$A95,\"\")","v":"2014-07-03"},{"$f":"IF(表示!$B$13<=有効積算気温!Q95,有効積算気温!$A95,\"\")","v":"2014-07-03"},{"$f":"IF(表示!$B$13<=有効積算気温!R95,有効積算気温!$A95,\"\")","v":"2014-07-03"},{"$f":"IF(表示!$B$13<=有効積算気温!S95,有効積算気温!$A95,\"\")","v":"2014-07-03"},{"$f":"IF(表示!$B$13<=有効積算気温!T95,有効積算気温!$A95,\"\")","v":"2014-07-03"},{"$f":"IF(表示!$B$13<=有効積算気温!U95,有効積算気温!$A95,\"\")","v":"2014-07-03"},null,null,null,null,{"$f":"IF(表示!$B$13<=有効積算気温!Z95,有効積算気温!$A95,\"\")","v":"2014-07-03"}]
["2014-07-04",{"$f":"IF(表示!$B$13<=有効積算気温!B96,有効積算気温!$A96,\"\")","v":"2014-07-04"},{"$f":"IF(表示!$B$13<=有効積算気温!C96,有効積算気温!$A96,\"\")","v":"2014-07-04"},{"$f":"IF(表示!$B$13<=有効積算気温!D96,有効積算気温!$A96,\"\")","v":"2014-07-04"},{"$f":"IF(表示!$B$13<=有効積算気温!E96,有効積算気温!$A96,\"\")","v":"2014-07-04"},{"$f":"IF(表示!$B$13<=有効積算気温!F96,有効積算気温!$A96,\"\")","v":"2014-07-04"},{"$f":"IF(表示!$B$13<=有効積算気温!G96,有効積算気温!$A96,\"\")","v":"2014-07-04"},{"$f":"IF(表示!$B$13<=有効積算気温!H96,有効積算気温!$A96,\"\")","v":"2014-07-04"},{"$f":"IF(表示!$B$13<=有効積算気温!I96,有効積算気温!$A96,\"\")","v":"2014-07-04"},{"$f":"IF(表示!$B$13<=有効積算気温!J96,有効積算気温!$A96,\"\")","v":"2014-07-04"},{"$f":"IF(表示!$B$13<=有効積算気温!K96,有効積算気温!$A96,\"\")","v":"2014-07-04"},{"$f":"IF(表示!$B$13<=有効積算気温!L96,有効積算気温!$A96,\"\")","v":"2014-07-04"},{"$f":"IF(表示!$B$13<=有効積算気温!M96,有効積算気温!$A96,\"\")","v":"2014-07-04"},{"$f":"IF(表示!$B$13<=有効積算気温!N96,有効積算気温!$A96,\"\")","v":"2014-07-04"},{"$f":"IF(表示!$B$13<=有効積算気温!O96,有効積算気温!$A96,\"\")","v":"2014-07-04"},{"$f":"IF(表示!$B$13<=有効積算気温!P96,有効積算気温!$A96,\"\")","v":"2014-07-04"},{"$f":"IF(表示!$B$13<=有効積算気温!Q96,有効積算気温!$A96,\"\")","v":"2014-07-04"},{"$f":"IF(表示!$B$13<=有効積算気温!R96,有効積算気温!$A96,\"\")","v":"2014-07-04"},{"$f":"IF(表示!$B$13<=有効積算気温!S96,有効積算気温!$A96,\"\")","v":"2014-07-04"},{"$f":"IF(表示!$B$13<=有効積算気温!T96,有効積算気温!$A96,\"\")","v":"2014-07-04"},{"$f":"IF(表示!$B$13<=有効積算気温!U96,有効積算気温!$A96,\"\")","v":"2014-07-04"},null,null,null,null,{"$f":"IF(表示!$B$13<=有効積算気温!Z96,有効積算気温!$A96,\"\")","v":"2014-07-04"}]
["2014-07-05",{"$f":"IF(表示!$B$13<=有効積算気温!B97,有効積算気温!$A97,\"\")","v":"2014-07-05"},{"$f":"IF(表示!$B$13<=有効積算気温!C97,有効積算気温!$A97,\"\")","v":"2014-07-05"},{"$f":"IF(表示!$B$13<=有効積算気温!D97,有効積算気温!$A97,\"\")","v":"2014-07-05"},{"$f":"IF(表示!$B$13<=有効積算気温!E97,有効積算気温!$A97,\"\")","v":"2014-07-05"},{"$f":"IF(表示!$B$13<=有効積算気温!F97,有効積算気温!$A97,\"\")","v":"2014-07-05"},{"$f":"IF(表示!$B$13<=有効積算気温!G97,有効積算気温!$A97,\"\")","v":"2014-07-05"},{"$f":"IF(表示!$B$13<=有効積算気温!H97,有効積算気温!$A97,\"\")","v":"2014-07-05"},{"$f":"IF(表示!$B$13<=有効積算気温!I97,有効積算気温!$A97,\"\")","v":"2014-07-05"},{"$f":"IF(表示!$B$13<=有効積算気温!J97,有効積算気温!$A97,\"\")","v":"2014-07-05"},{"$f":"IF(表示!$B$13<=有効積算気温!K97,有効積算気温!$A97,\"\")","v":"2014-07-05"},{"$f":"IF(表示!$B$13<=有効積算気温!L97,有効積算気温!$A97,\"\")","v":"2014-07-05"},{"$f":"IF(表示!$B$13<=有効積算気温!M97,有効積算気温!$A97,\"\")","v":"2014-07-05"},{"$f":"IF(表示!$B$13<=有効積算気温!N97,有効積算気温!$A97,\"\")","v":"2014-07-05"},{"$f":"IF(表示!$B$13<=有効積算気温!O97,有効積算気温!$A97,\"\")","v":"2014-07-05"},{"$f":"IF(表示!$B$13<=有効積算気温!P97,有効積算気温!$A97,\"\")","v":"2014-07-05"},{"$f":"IF(表示!$B$13<=有効積算気温!Q97,有効積算気温!$A97,\"\")","v":"2014-07-05"},{"$f":"IF(表示!$B$13<=有効積算気温!R97,有効積算気温!$A97,\"\")","v":"2014-07-05"},{"$f":"IF(表示!$B$13<=有効積算気温!S97,有効積算気温!$A97,\"\")","v":"2014-07-05"},{"$f":"IF(表示!$B$13<=有効積算気温!T97,有効積算気温!$A97,\"\")","v":"2014-07-05"},{"$f":"IF(表示!$B$13<=有効積算気温!U97,有効積算気温!$A97,\"\")","v":"2014-07-05"},null,null,null,null,{"$f":"IF(表示!$B$13<=有効積算気温!Z97,有効積算気温!$A97,\"\")","v":"2014-07-05"}]
["2014-07-06",{"$f":"IF(表示!$B$13<=有効積算気温!B98,有効積算気温!$A98,\"\")","v":"2014-07-06"},{"$f":"IF(表示!$B$13<=有効積算気温!C98,有効積算気温!$A98,\"\")","v":"2014-07-06"},{"$f":"IF(表示!$B$13<=有効積算気温!D98,有効積算気温!$A98,\"\")","v":"2014-07-06"},{"$f":"IF(表示!$B$13<=有効積算気温!E98,有効積算気温!$A98,\"\")","v":"2014-07-06"},{"$f":"IF(表示!$B$13<=有効積算気温!F98,有効積算気温!$A98,\"\")","v":"2014-07-06"},{"$f":"IF(表示!$B$13<=有効積算気温!G98,有効積算気温!$A98,\"\")","v":"2014-07-06"},{"$f":"IF(表示!$B$13<=有効積算気温!H98,有効積算気温!$A98,\"\")","v":"2014-07-06"},{"$f":"IF(表示!$B$13<=有効積算気温!I98,有効積算気温!$A98,\"\")","v":"2014-07-06"},{"$f":"IF(表示!$B$13<=有効積算気温!J98,有効積算気温!$A98,\"\")","v":"2014-07-06"},{"$f":"IF(表示!$B$13<=有効積算気温!K98,有効積算気温!$A98,\"\")","v":"2014-07-06"},{"$f":"IF(表示!$B$13<=有効積算気温!L98,有効積算気温!$A98,\"\")","v":"2014-07-06"},{"$f":"IF(表示!$B$13<=有効積算気温!M98,有効積算気温!$A98,\"\")","v":"2014-07-06"},{"$f":"IF(表示!$B$13<=有効積算気温!N98,有効積算気温!$A98,\"\")","v":"2014-07-06"},{"$f":"IF(表示!$B$13<=有効積算気温!O98,有効積算気温!$A98,\"\")","v":"2014-07-06"},{"$f":"IF(表示!$B$13<=有効積算気温!P98,有効積算気温!$A98,\"\")","v":"2014-07-06"},{"$f":"IF(表示!$B$13<=有効積算気温!Q98,有効積算気温!$A98,\"\")","v":"2014-07-06"},{"$f":"IF(表示!$B$13<=有効積算気温!R98,有効積算気温!$A98,\"\")","v":"2014-07-06"},{"$f":"IF(表示!$B$13<=有効積算気温!S98,有効積算気温!$A98,\"\")","v":"2014-07-06"},{"$f":"IF(表示!$B$13<=有効積算気温!T98,有効積算気温!$A98,\"\")","v":"2014-07-06"},{"$f":"IF(表示!$B$13<=有効積算気温!U98,有効積算気温!$A98,\"\")","v":"2014-07-06"},null,null,null,null,{"$f":"IF(表示!$B$13<=有効積算気温!Z98,有効積算気温!$A98,\"\")","v":"2014-07-06"}]
["2014-07-07",{"$f":"IF(表示!$B$13<=有効積算気温!B99,有効積算気温!$A99,\"\")","v":"2014-07-07"},{"$f":"IF(表示!$B$13<=有効積算気温!C99,有効積算気温!$A99,\"\")","v":"2014-07-07"},{"$f":"IF(表示!$B$13<=有効積算気温!D99,有効積算気温!$A99,\"\")","v":"2014-07-07"},{"$f":"IF(表示!$B$13<=有効積算気温!E99,有効積算気温!$A99,\"\")","v":"2014-07-07"},{"$f":"IF(表示!$B$13<=有効積算気温!F99,有効積算気温!$A99,\"\")","v":"2014-07-07"},{"$f":"IF(表示!$B$13<=有効積算気温!G99,有効積算気温!$A99,\"\")","v":"2014-07-07"},{"$f":"IF(表示!$B$13<=有効積算気温!H99,有効積算気温!$A99,\"\")","v":"2014-07-07"},{"$f":"IF(表示!$B$13<=有効積算気温!I99,有効積算気温!$A99,\"\")","v":"2014-07-07"},{"$f":"IF(表示!$B$13<=有効積算気温!J99,有効積算気温!$A99,\"\")","v":"2014-07-07"},{"$f":"IF(表示!$B$13<=有効積算気温!K99,有効積算気温!$A99,\"\")","v":"2014-07-07"},{"$f":"IF(表示!$B$13<=有効積算気温!L99,有効積算気温!$A99,\"\")","v":"2014-07-07"},{"$f":"IF(表示!$B$13<=有効積算気温!M99,有効積算気温!$A99,\"\")","v":"2014-07-07"},{"$f":"IF(表示!$B$13<=有効積算気温!N99,有効積算気温!$A99,\"\")","v":"2014-07-07"},{"$f":"IF(表示!$B$13<=有効積算気温!O99,有効積算気温!$A99,\"\")","v":"2014-07-07"},{"$f":"IF(表示!$B$13<=有効積算気温!P99,有効積算気温!$A99,\"\")","v":"2014-07-07"},{"$f":"IF(表示!$B$13<=有効積算気温!Q99,有効積算気温!$A99,\"\")","v":"2014-07-07"},{"$f":"IF(表示!$B$13<=有効積算気温!R99,有効積算気温!$A99,\"\")","v":"2014-07-07"},{"$f":"IF(表示!$B$13<=有効積算気温!S99,有効積算気温!$A99,\"\")","v":"2014-07-07"},{"$f":"IF(表示!$B$13<=有効積算気温!T99,有効積算気温!$A99,\"\")","v":"2014-07-07"},{"$f":"IF(表示!$B$13<=有効積算気温!U99,有効積算気温!$A99,\"\")","v":"2014-07-07"},null,null,null,null,{"$f":"IF(表示!$B$13<=有効積算気温!Z99,有効積算気温!$A99,\"\")","v":"2014-07-07"}]
["2014-07-08",{"$f":"IF(表示!$B$13<=有効積算気温!B100,有効積算気温!$A100,\"\")","v":"2014-07-08"},{"$f":"IF(表示!$B$13<=有効積算気温!C100,有効積算気温!$A100,\"\")","v":"2014-07-08"},{"$f":"IF(表示!$B$13<=有効積算気温!D100,有効積算気温!$A100,\"\")","v":"2014-07-08"},{"$f":"IF(表示!$B$13<=有効積算気温!E100,有効積算気温!$A100,\"\")","v":"2014-07-08"},{"$f":"IF(表示!$B$13<=有効積算気温!F100,有効積算気温!$A100,\"\")","v":"2014-07-08"},{"$f":"IF(表示!$B$13<=有効積算気温!G100,有効積算気温!$A100,\"\")","v":"2014-07-08"},{"$f":"IF(表示!$B$13<=有効積算気温!H100,有効積算気温!$A100,\"\")","v":"2014-07-08"},{"$f":"IF(表示!$B$13<=有効積算気温!I100,有効積算気温!$A100,\"\")","v":"2014-07-08"},{"$f":"IF(表示!$B$13<=有効積算気温!J100,有効積算気温!$A100,\"\")","v":"2014-07-08"},{"$f":"IF(表示!$B$13<=有効積算気温!K100,有効積算気温!$A100,\"\")","v":"2014-07-08"},{"$f":"IF(表示!$B$13<=有効積算気温!L100,有効積算気温!$A100,\"\")","v":"2014-07-08"},{"$f":"IF(表示!$B$13<=有効積算気温!M100,有効積算気温!$A100,\"\")","v":"2014-07-08"},{"$f":"IF(表示!$B$13<=有効積算気温!N100,有効積算気温!$A100,\"\")","v":"2014-07-08"},{"$f":"IF(表示!$B$13<=有効積算気温!O100,有効積算気温!$A100,\"\")","v":"2014-07-08"},{"$f":"IF(表示!$B$13<=有効積算気温!P100,有効積算気温!$A100,\"\")","v":"2014-07-08"},{"$f":"IF(表示!$B$13<=有効積算気温!Q100,有効積算気温!$A100,\"\")","v":"2014-07-08"},{"$f":"IF(表示!$B$13<=有効積算気温!R100,有効積算気温!$A100,\"\")","v":"2014-07-08"},{"$f":"IF(表示!$B$13<=有効積算気温!S100,有効積算気温!$A100,\"\")","v":"2014-07-08"},{"$f":"IF(表示!$B$13<=有効積算気温!T100,有効積算気温!$A100,\"\")","v":"2014-07-08"},{"$f":"IF(表示!$B$13<=有効積算気温!U100,有効積算気温!$A100,\"\")","v":"2014-07-08"},null,null,null,null,{"$f":"IF(表示!$B$13<=有効積算気温!Z100,有効積算気温!$A100,\"\")","v":"2014-07-08"}]
["2014-07-09",{"$f":"IF(表示!$B$13<=有効積算気温!B101,有効積算気温!$A101,\"\")","v":"2014-07-09"},{"$f":"IF(表示!$B$13<=有効積算気温!C101,有効積算気温!$A101,\"\")","v":"2014-07-09"},{"$f":"IF(表示!$B$13<=有効積算気温!D101,有効積算気温!$A101,\"\")","v":"2014-07-09"},{"$f":"IF(表示!$B$13<=有効積算気温!E101,有効積算気温!$A101,\"\")","v":"2014-07-09"},{"$f":"IF(表示!$B$13<=有効積算気温!F101,有効積算気温!$A101,\"\")","v":"2014-07-09"},{"$f":"IF(表示!$B$13<=有効積算気温!G101,有効積算気温!$A101,\"\")","v":"2014-07-09"},{"$f":"IF(表示!$B$13<=有効積算気温!H101,有効積算気温!$A101,\"\")","v":"2014-07-09"},{"$f":"IF(表示!$B$13<=有効積算気温!I101,有効積算気温!$A101,\"\")","v":"2014-07-09"},{"$f":"IF(表示!$B$13<=有効積算気温!J101,有効積算気温!$A101,\"\")","v":"2014-07-09"},{"$f":"IF(表示!$B$13<=有効積算気温!K101,有効積算気温!$A101,\"\")","v":"2014-07-09"},{"$f":"IF(表示!$B$13<=有効積算気温!L101,有効積算気温!$A101,\"\")","v":"2014-07-09"},{"$f":"IF(表示!$B$13<=有効積算気温!M101,有効積算気温!$A101,\"\")","v":"2014-07-09"},{"$f":"IF(表示!$B$13<=有効積算気温!N101,有効積算気温!$A101,\"\")","v":"2014-07-09"},{"$f":"IF(表示!$B$13<=有効積算気温!O101,有効積算気温!$A101,\"\")","v":"2014-07-09"},{"$f":"IF(表示!$B$13<=有効積算気温!P101,有効積算気温!$A101,\"\")","v":"2014-07-09"},{"$f":"IF(表示!$B$13<=有効積算気温!Q101,有効積算気温!$A101,\"\")","v":"2014-07-09"},{"$f":"IF(表示!$B$13<=有効積算気温!R101,有効積算気温!$A101,\"\")","v":"2014-07-09"},{"$f":"IF(表示!$B$13<=有効積算気温!S101,有効積算気温!$A101,\"\")","v":"2014-07-09"},{"$f":"IF(表示!$B$13<=有効積算気温!T101,有効積算気温!$A101,\"\")","v":"2014-07-09"},{"$f":"IF(表示!$B$13<=有効積算気温!U101,有効積算気温!$A101,\"\")","v":"2014-07-09"},null,null,null,null,{"$f":"IF(表示!$B$13<=有効積算気温!Z101,有効積算気温!$A101,\"\")","v":"2014-07-09"}]
["2014-07-10",{"$f":"IF(表示!$B$13<=有効積算気温!B102,有効積算気温!$A102,\"\")","v":"2014-07-10"},{"$f":"IF(表示!$B$13<=有効積算気温!C102,有効積算気温!$A102,\"\")","v":"2014-07-10"},{"$f":"IF(表示!$B$13<=有効積算気温!D102,有効積算気温!$A102,\"\")","v":"2014-07-10"},{"$f":"IF(表示!$B$13<=有効積算気温!E102,有効積算気温!$A102,\"\")","v":"2014-07-10"},{"$f":"IF(表示!$B$13<=有効積算気温!F102,有効積算気温!$A102,\"\")","v":"2014-07-10"},{"$f":"IF(表示!$B$13<=有効積算気温!G102,有効積算気温!$A102,\"\")","v":"2014-07-10"},{"$f":"IF(表示!$B$13<=有効積算気温!H102,有効積算気温!$A102,\"\")","v":"2014-07-10"},{"$f":"IF(表示!$B$13<=有効積算気温!I102,有効積算気温!$A102,\"\")","v":"2014-07-10"},{"$f":"IF(表示!$B$13<=有効積算気温!J102,有効積算気温!$A102,\"\")","v":"2014-07-10"},{"$f":"IF(表示!$B$13<=有効積算気温!K102,有効積算気温!$A102,\"\")","v":"2014-07-10"},{"$f":"IF(表示!$B$13<=有効積算気温!L102,有効積算気温!$A102,\"\")","v":"2014-07-10"},{"$f":"IF(表示!$B$13<=有効積算気温!M102,有効積算気温!$A102,\"\")","v":"2014-07-10"},{"$f":"IF(表示!$B$13<=有効積算気温!N102,有効積算気温!$A102,\"\")","v":"2014-07-10"},{"$f":"IF(表示!$B$13<=有効積算気温!O102,有効積算気温!$A102,\"\")","v":"2014-07-10"},{"$f":"IF(表示!$B$13<=有効積算気温!P102,有効積算気温!$A102,\"\")","v":"2014-07-10"},{"$f":"IF(表示!$B$13<=有効積算気温!Q102,有効積算気温!$A102,\"\")","v":"2014-07-10"},{"$f":"IF(表示!$B$13<=有効積算気温!R102,有効積算気温!$A102,\"\")","v":"2014-07-10"},{"$f":"IF(表示!$B$13<=有効積算気温!S102,有効積算気温!$A102,\"\")","v":"2014-07-10"},{"$f":"IF(表示!$B$13<=有効積算気温!T102,有効積算気温!$A102,\"\")","v":"2014-07-10"},{"$f":"IF(表示!$B$13<=有効積算気温!U102,有効積算気温!$A102,\"\")","v":"2014-07-10"},null,null,null,null,{"$f":"IF(表示!$B$13<=有効積算気温!Z102,有効積算気温!$A102,\"\")","v":"2014-07-10"}]
["2014-07-11",{"$f":"IF(表示!$B$13<=有効積算気温!B103,有効積算気温!$A103,\"\")","v":"2014-07-11"},{"$f":"IF(表示!$B$13<=有効積算気温!C103,有効積算気温!$A103,\"\")","v":"2014-07-11"},{"$f":"IF(表示!$B$13<=有効積算気温!D103,有効積算気温!$A103,\"\")","v":"2014-07-11"},{"$f":"IF(表示!$B$13<=有効積算気温!E103,有効積算気温!$A103,\"\")","v":"2014-07-11"},{"$f":"IF(表示!$B$13<=有効積算気温!F103,有効積算気温!$A103,\"\")","v":"2014-07-11"},{"$f":"IF(表示!$B$13<=有効積算気温!G103,有効積算気温!$A103,\"\")","v":"2014-07-11"},{"$f":"IF(表示!$B$13<=有効積算気温!H103,有効積算気温!$A103,\"\")","v":"2014-07-11"},{"$f":"IF(表示!$B$13<=有効積算気温!I103,有効積算気温!$A103,\"\")","v":"2014-07-11"},{"$f":"IF(表示!$B$13<=有効積算気温!J103,有効積算気温!$A103,\"\")","v":"2014-07-11"},{"$f":"IF(表示!$B$13<=有効積算気温!K103,有効積算気温!$A103,\"\")","v":"2014-07-11"},{"$f":"IF(表示!$B$13<=有効積算気温!L103,有効積算気温!$A103,\"\")","v":"2014-07-11"},{"$f":"IF(表示!$B$13<=有効積算気温!M103,有効積算気温!$A103,\"\")","v":"2014-07-11"},{"$f":"IF(表示!$B$13<=有効積算気温!N103,有効積算気温!$A103,\"\")","v":"2014-07-11"},{"$f":"IF(表示!$B$13<=有効積算気温!O103,有効積算気温!$A103,\"\")","v":"2014-07-11"},{"$f":"IF(表示!$B$13<=有効積算気温!P103,有効積算気温!$A103,\"\")","v":"2014-07-11"},{"$f":"IF(表示!$B$13<=有効積算気温!Q103,有効積算気温!$A103,\"\")","v":"2014-07-11"},{"$f":"IF(表示!$B$13<=有効積算気温!R103,有効積算気温!$A103,\"\")","v":"2014-07-11"},{"$f":"IF(表示!$B$13<=有効積算気温!S103,有効積算気温!$A103,\"\")","v":"2014-07-11"},{"$f":"IF(表示!$B$13<=有効積算気温!T103,有効積算気温!$A103,\"\")","v":"2014-07-11"},{"$f":"IF(表示!$B$13<=有効積算気温!U103,有効積算気温!$A103,\"\")","v":"2014-07-11"},null,null,null,null,{"$f":"IF(表示!$B$13<=有効積算気温!Z103,有効積算気温!$A103,\"\")","v":"2014-07-11"}]
["2014-07-12",{"$f":"IF(表示!$B$13<=有効積算気温!B104,有効積算気温!$A104,\"\")","v":"2014-07-12"},{"$f":"IF(表示!$B$13<=有効積算気温!C104,有効積算気温!$A104,\"\")","v":"2014-07-12"},{"$f":"IF(表示!$B$13<=有効積算気温!D104,有効積算気温!$A104,\"\")","v":"2014-07-12"},{"$f":"IF(表示!$B$13<=有効積算気温!E104,有効積算気温!$A104,\"\")","v":"2014-07-12"},{"$f":"IF(表示!$B$13<=有効積算気温!F104,有効積算気温!$A104,\"\")","v":"2014-07-12"},{"$f":"IF(表示!$B$13<=有効積算気温!G104,有効積算気温!$A104,\"\")","v":"2014-07-12"},{"$f":"IF(表示!$B$13<=有効積算気温!H104,有効積算気温!$A104,\"\")","v":"2014-07-12"},{"$f":"IF(表示!$B$13<=有効積算気温!I104,有効積算気温!$A104,\"\")","v":"2014-07-12"},{"$f":"IF(表示!$B$13<=有効積算気温!J104,有効積算気温!$A104,\"\")","v":"2014-07-12"},{"$f":"IF(表示!$B$13<=有効積算気温!K104,有効積算気温!$A104,\"\")","v":"2014-07-12"},{"$f":"IF(表示!$B$13<=有効積算気温!L104,有効積算気温!$A104,\"\")","v":"2014-07-12"},{"$f":"IF(表示!$B$13<=有効積算気温!M104,有効積算気温!$A104,\"\")","v":"2014-07-12"},{"$f":"IF(表示!$B$13<=有効積算気温!N104,有効積算気温!$A104,\"\")","v":"2014-07-12"},{"$f":"IF(表示!$B$13<=有効積算気温!O104,有効積算気温!$A104,\"\")","v":"2014-07-12"},{"$f":"IF(表示!$B$13<=有効積算気温!P104,有効積算気温!$A104,\"\")","v":"2014-07-12"},{"$f":"IF(表示!$B$13<=有効積算気温!Q104,有効積算気温!$A104,\"\")","v":"2014-07-12"},{"$f":"IF(表示!$B$13<=有効積算気温!R104,有効積算気温!$A104,\"\")","v":"2014-07-12"},{"$f":"IF(表示!$B$13<=有効積算気温!S104,有効積算気温!$A104,\"\")","v":"2014-07-12"},{"$f":"IF(表示!$B$13<=有効積算気温!T104,有効積算気温!$A104,\"\")","v":"2014-07-12"},{"$f":"IF(表示!$B$13<=有効積算気温!U104,有効積算気温!$A104,\"\")","v":"2014-07-12"},null,null,null,null,{"$f":"IF(表示!$B$13<=有効積算気温!Z104,有効積算気温!$A104,\"\")","v":"2014-07-12"}]
["2014-07-13",{"$f":"IF(表示!$B$13<=有効積算気温!B105,有効積算気温!$A105,\"\")","v":"2014-07-13"},{"$f":"IF(表示!$B$13<=有効積算気温!C105,有効積算気温!$A105,\"\")","v":"2014-07-13"},{"$f":"IF(表示!$B$13<=有効積算気温!D105,有効積算気温!$A105,\"\")","v":"2014-07-13"},{"$f":"IF(表示!$B$13<=有効積算気温!E105,有効積算気温!$A105,\"\")","v":"2014-07-13"},{"$f":"IF(表示!$B$13<=有効積算気温!F105,有効積算気温!$A105,\"\")","v":"2014-07-13"},{"$f":"IF(表示!$B$13<=有効積算気温!G105,有効積算気温!$A105,\"\")","v":"2014-07-13"},{"$f":"IF(表示!$B$13<=有効積算気温!H105,有効積算気温!$A105,\"\")","v":"2014-07-13"},{"$f":"IF(表示!$B$13<=有効積算気温!I105,有効積算気温!$A105,\"\")","v":"2014-07-13"},{"$f":"IF(表示!$B$13<=有効積算気温!J105,有効積算気温!$A105,\"\")","v":"2014-07-13"},{"$f":"IF(表示!$B$13<=有効積算気温!K105,有効積算気温!$A105,\"\")","v":"2014-07-13"},{"$f":"IF(表示!$B$13<=有効積算気温!L105,有効積算気温!$A105,\"\")","v":"2014-07-13"},{"$f":"IF(表示!$B$13<=有効積算気温!M105,有効積算気温!$A105,\"\")","v":"2014-07-13"},{"$f":"IF(表示!$B$13<=有効積算気温!N105,有効積算気温!$A105,\"\")","v":"2014-07-13"},{"$f":"IF(表示!$B$13<=有効積算気温!O105,有効積算気温!$A105,\"\")","v":"2014-07-13"},{"$f":"IF(表示!$B$13<=有効積算気温!P105,有効積算気温!$A105,\"\")","v":"2014-07-13"},{"$f":"IF(表示!$B$13<=有効積算気温!Q105,有効積算気温!$A105,\"\")","v":"2014-07-13"},{"$f":"IF(表示!$B$13<=有効積算気温!R105,有効積算気温!$A105,\"\")","v":"2014-07-13"},{"$f":"IF(表示!$B$13<=有効積算気温!S105,有効積算気温!$A105,\"\")","v":"2014-07-13"},{"$f":"IF(表示!$B$13<=有効積算気温!T105,有効積算気温!$A105,\"\")","v":"2014-07-13"},{"$f":"IF(表示!$B$13<=有効積算気温!U105,有効積算気温!$A105,\"\")","v":"2014-07-13"},null,null,null,null,{"$f":"IF(表示!$B$13<=有効積算気温!Z105,有効積算気温!$A105,\"\")","v":"2014-07-13"}]
["2014-07-14",{"$f":"IF(表示!$B$13<=有効積算気温!B106,有効積算気温!$A106,\"\")","v":"2014-07-14"},{"$f":"IF(表示!$B$13<=有効積算気温!C106,有効積算気温!$A106,\"\")","v":"2014-07-14"},{"$f":"IF(表示!$B$13<=有効積算気温!D106,有効積算気温!$A106,\"\")","v":"2014-07-14"},{"$f":"IF(表示!$B$13<=有効積算気温!E106,有効積算気温!$A106,\"\")","v":"2014-07-14"},{"$f":"IF(表示!$B$13<=有効積算気温!F106,有効積算気温!$A106,\"\")","v":"2014-07-14"},{"$f":"IF(表示!$B$13<=有効積算気温!G106,有効積算気温!$A106,\"\")","v":"2014-07-14"},{"$f":"IF(表示!$B$13<=有効積算気温!H106,有効積算気温!$A106,\"\")","v":"2014-07-14"},{"$f":"IF(表示!$B$13<=有効積算気温!I106,有効積算気温!$A106,\"\")","v":"2014-07-14"},{"$f":"IF(表示!$B$13<=有効積算気温!J106,有効積算気温!$A106,\"\")","v":"2014-07-14"},{"$f":"IF(表示!$B$13<=有効積算気温!K106,有効積算気温!$A106,\"\")","v":"2014-07-14"},{"$f":"IF(表示!$B$13<=有効積算気温!L106,有効積算気温!$A106,\"\")","v":"2014-07-14"},{"$f":"IF(表示!$B$13<=有効積算気温!M106,有効積算気温!$A106,\"\")","v":"2014-07-14"},{"$f":"IF(表示!$B$13<=有効積算気温!N106,有効積算気温!$A106,\"\")","v":"2014-07-14"},{"$f":"IF(表示!$B$13<=有効積算気温!O106,有効積算気温!$A106,\"\")","v":"2014-07-14"},{"$f":"IF(表示!$B$13<=有効積算気温!P106,有効積算気温!$A106,\"\")","v":"2014-07-14"},{"$f":"IF(表示!$B$13<=有効積算気温!Q106,有効積算気温!$A106,\"\")","v":"2014-07-14"},{"$f":"IF(表示!$B$13<=有効積算気温!R106,有効積算気温!$A106,\"\")","v":"2014-07-14"},{"$f":"IF(表示!$B$13<=有効積算気温!S106,有効積算気温!$A106,\"\")","v":"2014-07-14"},{"$f":"IF(表示!$B$13<=有効積算気温!T106,有効積算気温!$A106,\"\")","v":"2014-07-14"},{"$f":"IF(表示!$B$13<=有効積算気温!U106,有効積算気温!$A106,\"\")","v":"2014-07-14"},null,null,null,null,{"$f":"IF(表示!$B$13<=有効積算気温!Z106,有効積算気温!$A106,\"\")","v":"2014-07-14"}]
["2014-07-15",{"$f":"IF(表示!$B$13<=有効積算気温!B107,有効積算気温!$A107,\"\")","v":"2014-07-15"},{"$f":"IF(表示!$B$13<=有効積算気温!C107,有効積算気温!$A107,\"\")","v":"2014-07-15"},{"$f":"IF(表示!$B$13<=有効積算気温!D107,有効積算気温!$A107,\"\")","v":"2014-07-15"},{"$f":"IF(表示!$B$13<=有効積算気温!E107,有効積算気温!$A107,\"\")","v":"2014-07-15"},{"$f":"IF(表示!$B$13<=有効積算気温!F107,有効積算気温!$A107,\"\")","v":"2014-07-15"},{"$f":"IF(表示!$B$13<=有効積算気温!G107,有効積算気温!$A107,\"\")","v":"2014-07-15"},{"$f":"IF(表示!$B$13<=有効積算気温!H107,有効積算気温!$A107,\"\")","v":"2014-07-15"},{"$f":"IF(表示!$B$13<=有効積算気温!I107,有効積算気温!$A107,\"\")","v":"2014-07-15"},{"$f":"IF(表示!$B$13<=有効積算気温!J107,有効積算気温!$A107,\"\")","v":"2014-07-15"},{"$f":"IF(表示!$B$13<=有効積算気温!K107,有効積算気温!$A107,\"\")","v":"2014-07-15"},{"$f":"IF(表示!$B$13<=有効積算気温!L107,有効積算気温!$A107,\"\")","v":"2014-07-15"},{"$f":"IF(表示!$B$13<=有効積算気温!M107,有効積算気温!$A107,\"\")","v":"2014-07-15"},{"$f":"IF(表示!$B$13<=有効積算気温!N107,有効積算気温!$A107,\"\")","v":"2014-07-15"},{"$f":"IF(表示!$B$13<=有効積算気温!O107,有効積算気温!$A107,\"\")","v":"2014-07-15"},{"$f":"IF(表示!$B$13<=有効積算気温!P107,有効積算気温!$A107,\"\")","v":"2014-07-15"},{"$f":"IF(表示!$B$13<=有効積算気温!Q107,有効積算気温!$A107,\"\")","v":"2014-07-15"},{"$f":"IF(表示!$B$13<=有効積算気温!R107,有効積算気温!$A107,\"\")","v":"2014-07-15"},{"$f":"IF(表示!$B$13<=有効積算気温!S107,有効積算気温!$A107,\"\")","v":"2014-07-15"},{"$f":"IF(表示!$B$13<=有効積算気温!T107,有効積算気温!$A107,\"\")","v":"2014-07-15"},{"$f":"IF(表示!$B$13<=有効積算気温!U107,有効積算気温!$A107,\"\")","v":"2014-07-15"},null,null,null,null,{"$f":"IF(表示!$B$13<=有効積算気温!Z107,有効積算気温!$A107,\"\")","v":"2014-07-15"}]
["2014-07-16",{"$f":"IF(表示!$B$13<=有効積算気温!B108,有効積算気温!$A108,\"\")","v":"2014-07-16"},{"$f":"IF(表示!$B$13<=有効積算気温!C108,有効積算気温!$A108,\"\")","v":"2014-07-16"},{"$f":"IF(表示!$B$13<=有効積算気温!D108,有効積算気温!$A108,\"\")","v":"2014-07-16"},{"$f":"IF(表示!$B$13<=有効積算気温!E108,有効積算気温!$A108,\"\")","v":"2014-07-16"},{"$f":"IF(表示!$B$13<=有効積算気温!F108,有効積算気温!$A108,\"\")","v":"2014-07-16"},{"$f":"IF(表示!$B$13<=有効積算気温!G108,有効積算気温!$A108,\"\")","v":"2014-07-16"},{"$f":"IF(表示!$B$13<=有効積算気温!H108,有効積算気温!$A108,\"\")","v":"2014-07-16"},{"$f":"IF(表示!$B$13<=有効積算気温!I108,有効積算気温!$A108,\"\")","v":"2014-07-16"},{"$f":"IF(表示!$B$13<=有効積算気温!J108,有効積算気温!$A108,\"\")","v":"2014-07-16"},{"$f":"IF(表示!$B$13<=有効積算気温!K108,有効積算気温!$A108,\"\")","v":"2014-07-16"},{"$f":"IF(表示!$B$13<=有効積算気温!L108,有効積算気温!$A108,\"\")","v":"2014-07-16"},{"$f":"IF(表示!$B$13<=有効積算気温!M108,有効積算気温!$A108,\"\")","v":"2014-07-16"},{"$f":"IF(表示!$B$13<=有効積算気温!N108,有効積算気温!$A108,\"\")","v":"2014-07-16"},{"$f":"IF(表示!$B$13<=有効積算気温!O108,有効積算気温!$A108,\"\")","v":"2014-07-16"},{"$f":"IF(表示!$B$13<=有効積算気温!P108,有効積算気温!$A108,\"\")","v":"2014-07-16"},{"$f":"IF(表示!$B$13<=有効積算気温!Q108,有効積算気温!$A108,\"\")","v":"2014-07-16"},{"$f":"IF(表示!$B$13<=有効積算気温!R108,有効積算気温!$A108,\"\")","v":"2014-07-16"},{"$f":"IF(表示!$B$13<=有効積算気温!S108,有効積算気温!$A108,\"\")","v":"2014-07-16"},{"$f":"IF(表示!$B$13<=有効積算気温!T108,有効積算気温!$A108,\"\")","v":"2014-07-16"},{"$f":"IF(表示!$B$13<=有効積算気温!U108,有効積算気温!$A108,\"\")","v":"2014-07-16"},null,null,null,null,{"$f":"IF(表示!$B$13<=有効積算気温!Z108,有効積算気温!$A108,\"\")","v":"2014-07-16"}]
["2014-07-17",{"$f":"IF(表示!$B$13<=有効積算気温!B109,有効積算気温!$A109,\"\")","v":"2014-07-17"},{"$f":"IF(表示!$B$13<=有効積算気温!C109,有効積算気温!$A109,\"\")","v":"2014-07-17"},{"$f":"IF(表示!$B$13<=有効積算気温!D109,有効積算気温!$A109,\"\")","v":"2014-07-17"},{"$f":"IF(表示!$B$13<=有効積算気温!E109,有効積算気温!$A109,\"\")","v":"2014-07-17"},{"$f":"IF(表示!$B$13<=有効積算気温!F109,有効積算気温!$A109,\"\")","v":"2014-07-17"},{"$f":"IF(表示!$B$13<=有効積算気温!G109,有効積算気温!$A109,\"\")","v":"2014-07-17"},{"$f":"IF(表示!$B$13<=有効積算気温!H109,有効積算気温!$A109,\"\")","v":"2014-07-17"},{"$f":"IF(表示!$B$13<=有効積算気温!I109,有効積算気温!$A109,\"\")","v":"2014-07-17"},{"$f":"IF(表示!$B$13<=有効積算気温!J109,有効積算気温!$A109,\"\")","v":"2014-07-17"},{"$f":"IF(表示!$B$13<=有効積算気温!K109,有効積算気温!$A109,\"\")","v":"2014-07-17"},{"$f":"IF(表示!$B$13<=有効積算気温!L109,有効積算気温!$A109,\"\")","v":"2014-07-17"},{"$f":"IF(表示!$B$13<=有効積算気温!M109,有効積算気温!$A109,\"\")","v":"2014-07-17"},{"$f":"IF(表示!$B$13<=有効積算気温!N109,有効積算気温!$A109,\"\")","v":"2014-07-17"},{"$f":"IF(表示!$B$13<=有効積算気温!O109,有効積算気温!$A109,\"\")","v":"2014-07-17"},{"$f":"IF(表示!$B$13<=有効積算気温!P109,有効積算気温!$A109,\"\")","v":"2014-07-17"},{"$f":"IF(表示!$B$13<=有効積算気温!Q109,有効積算気温!$A109,\"\")","v":"2014-07-17"},{"$f":"IF(表示!$B$13<=有効積算気温!R109,有効積算気温!$A109,\"\")","v":"2014-07-17"},{"$f":"IF(表示!$B$13<=有効積算気温!S109,有効積算気温!$A109,\"\")","v":"2014-07-17"},{"$f":"IF(表示!$B$13<=有効積算気温!T109,有効積算気温!$A109,\"\")","v":"2014-07-17"},{"$f":"IF(表示!$B$13<=有効積算気温!U109,有効積算気温!$A109,\"\")","v":"2014-07-17"},null,null,null,null,{"$f":"IF(表示!$B$13<=有効積算気温!Z109,有効積算気温!$A109,\"\")","v":"2014-07-17"}]
["2014-07-18",{"$f":"IF(表示!$B$13<=有効積算気温!B110,有効積算気温!$A110,\"\")","v":"2014-07-18"},{"$f":"IF(表示!$B$13<=有効積算気温!C110,有効積算気温!$A110,\"\")","v":"2014-07-18"},{"$f":"IF(表示!$B$13<=有効積算気温!D110,有効積算気温!$A110,\"\")","v":"2014-07-18"},{"$f":"IF(表示!$B$13<=有効積算気温!E110,有効積算気温!$A110,\"\")","v":"2014-07-18"},{"$f":"IF(表示!$B$13<=有効積算気温!F110,有効積算気温!$A110,\"\")","v":"2014-07-18"},{"$f":"IF(表示!$B$13<=有効積算気温!G110,有効積算気温!$A110,\"\")","v":"2014-07-18"},{"$f":"IF(表示!$B$13<=有効積算気温!H110,有効積算気温!$A110,\"\")","v":"2014-07-18"},{"$f":"IF(表示!$B$13<=有効積算気温!I110,有効積算気温!$A110,\"\")","v":"2014-07-18"},{"$f":"IF(表示!$B$13<=有効積算気温!J110,有効積算気温!$A110,\"\")","v":"2014-07-18"},{"$f":"IF(表示!$B$13<=有効積算気温!K110,有効積算気温!$A110,\"\")","v":"2014-07-18"},{"$f":"IF(表示!$B$13<=有効積算気温!L110,有効積算気温!$A110,\"\")","v":"2014-07-18"},{"$f":"IF(表示!$B$13<=有効積算気温!M110,有効積算気温!$A110,\"\")","v":"2014-07-18"},{"$f":"IF(表示!$B$13<=有効積算気温!N110,有効積算気温!$A110,\"\")","v":"2014-07-18"},{"$f":"IF(表示!$B$13<=有効積算気温!O110,有効積算気温!$A110,\"\")","v":"2014-07-18"},{"$f":"IF(表示!$B$13<=有効積算気温!P110,有効積算気温!$A110,\"\")","v":"2014-07-18"},{"$f":"IF(表示!$B$13<=有効積算気温!Q110,有効積算気温!$A110,\"\")","v":"2014-07-18"},{"$f":"IF(表示!$B$13<=有効積算気温!R110,有効積算気温!$A110,\"\")","v":"2014-07-18"},{"$f":"IF(表示!$B$13<=有効積算気温!S110,有効積算気温!$A110,\"\")","v":"2014-07-18"},{"$f":"IF(表示!$B$13<=有効積算気温!T110,有効積算気温!$A110,\"\")","v":"2014-07-18"},{"$f":"IF(表示!$B$13<=有効積算気温!U110,有効積算気温!$A110,\"\")","v":"2014-07-18"},null,null,null,null,{"$f":"IF(表示!$B$13<=有効積算気温!Z110,有効積算気温!$A110,\"\")","v":"2014-07-18"}]
["2014-07-19",{"$f":"IF(表示!$B$13<=有効積算気温!B111,有効積算気温!$A111,\"\")","v":"2014-07-19"},{"$f":"IF(表示!$B$13<=有効積算気温!C111,有効積算気温!$A111,\"\")","v":"2014-07-19"},{"$f":"IF(表示!$B$13<=有効積算気温!D111,有効積算気温!$A111,\"\")","v":"2014-07-19"},{"$f":"IF(表示!$B$13<=有効積算気温!E111,有効積算気温!$A111,\"\")","v":"2014-07-19"},{"$f":"IF(表示!$B$13<=有効積算気温!F111,有効積算気温!$A111,\"\")","v":"2014-07-19"},{"$f":"IF(表示!$B$13<=有効積算気温!G111,有効積算気温!$A111,\"\")","v":"2014-07-19"},{"$f":"IF(表示!$B$13<=有効積算気温!H111,有効積算気温!$A111,\"\")","v":"2014-07-19"},{"$f":"IF(表示!$B$13<=有効積算気温!I111,有効積算気温!$A111,\"\")","v":"2014-07-19"},{"$f":"IF(表示!$B$13<=有効積算気温!J111,有効積算気温!$A111,\"\")","v":"2014-07-19"},{"$f":"IF(表示!$B$13<=有効積算気温!K111,有効積算気温!$A111,\"\")","v":"2014-07-19"},{"$f":"IF(表示!$B$13<=有効積算気温!L111,有効積算気温!$A111,\"\")","v":"2014-07-19"},{"$f":"IF(表示!$B$13<=有効積算気温!M111,有効積算気温!$A111,\"\")","v":"2014-07-19"},{"$f":"IF(表示!$B$13<=有効積算気温!N111,有効積算気温!$A111,\"\")","v":"2014-07-19"},{"$f":"IF(表示!$B$13<=有効積算気温!O111,有効積算気温!$A111,\"\")","v":"2014-07-19"},{"$f":"IF(表示!$B$13<=有効積算気温!P111,有効積算気温!$A111,\"\")","v":"2014-07-19"},{"$f":"IF(表示!$B$13<=有効積算気温!Q111,有効積算気温!$A111,\"\")","v":"2014-07-19"},{"$f":"IF(表示!$B$13<=有効積算気温!R111,有効積算気温!$A111,\"\")","v":"2014-07-19"},{"$f":"IF(表示!$B$13<=有効積算気温!S111,有効積算気温!$A111,\"\")","v":"2014-07-19"},{"$f":"IF(表示!$B$13<=有効積算気温!T111,有効積算気温!$A111,\"\")","v":"2014-07-19"},{"$f":"IF(表示!$B$13<=有効積算気温!U111,有効積算気温!$A111,\"\")","v":"2014-07-19"},null,null,null,null,{"$f":"IF(表示!$B$13<=有効積算気温!Z111,有効積算気温!$A111,\"\")","v":"2014-07-19"}]
["2014-07-20",{"$f":"IF(表示!$B$13<=有効積算気温!B112,有効積算気温!$A112,\"\")","v":"2014-07-20"},{"$f":"IF(表示!$B$13<=有効積算気温!C112,有効積算気温!$A112,\"\")","v":"2014-07-20"},{"$f":"IF(表示!$B$13<=有効積算気温!D112,有効積算気温!$A112,\"\")","v":"2014-07-20"},{"$f":"IF(表示!$B$13<=有効積算気温!E112,有効積算気温!$A112,\"\")","v":"2014-07-20"},{"$f":"IF(表示!$B$13<=有効積算気温!F112,有効積算気温!$A112,\"\")","v":"2014-07-20"},{"$f":"IF(表示!$B$13<=有効積算気温!G112,有効積算気温!$A112,\"\")","v":"2014-07-20"},{"$f":"IF(表示!$B$13<=有効積算気温!H112,有効積算気温!$A112,\"\")","v":"2014-07-20"},{"$f":"IF(表示!$B$13<=有効積算気温!I112,有効積算気温!$A112,\"\")","v":"2014-07-20"},{"$f":"IF(表示!$B$13<=有効積算気温!J112,有効積算気温!$A112,\"\")","v":"2014-07-20"},{"$f":"IF(表示!$B$13<=有効積算気温!K112,有効積算気温!$A112,\"\")","v":"2014-07-20"},{"$f":"IF(表示!$B$13<=有効積算気温!L112,有効積算気温!$A112,\"\")","v":"2014-07-20"},{"$f":"IF(表示!$B$13<=有効積算気温!M112,有効積算気温!$A112,\"\")","v":"2014-07-20"},{"$f":"IF(表示!$B$13<=有効積算気温!N112,有効積算気温!$A112,\"\")","v":"2014-07-20"},{"$f":"IF(表示!$B$13<=有効積算気温!O112,有効積算気温!$A112,\"\")","v":"2014-07-20"},{"$f":"IF(表示!$B$13<=有効積算気温!P112,有効積算気温!$A112,\"\")","v":"2014-07-20"},{"$f":"IF(表示!$B$13<=有効積算気温!Q112,有効積算気温!$A112,\"\")","v":"2014-07-20"},{"$f":"IF(表示!$B$13<=有効積算気温!R112,有効積算気温!$A112,\"\")","v":"2014-07-20"},{"$f":"IF(表示!$B$13<=有効積算気温!S112,有効積算気温!$A112,\"\")","v":"2014-07-20"},{"$f":"IF(表示!$B$13<=有効積算気温!T112,有効積算気温!$A112,\"\")","v":"2014-07-20"},{"$f":"IF(表示!$B$13<=有効積算気温!U112,有効積算気温!$A112,\"\")","v":"2014-07-20"},null,null,null,null,{"$f":"IF(表示!$B$13<=有効積算気温!Z112,有効積算気温!$A112,\"\")","v":"2014-07-20"}]
["2014-07-21",{"$f":"IF(表示!$B$13<=有効積算気温!B113,有効積算気温!$A113,\"\")","v":"2014-07-21"},{"$f":"IF(表示!$B$13<=有効積算気温!C113,有効積算気温!$A113,\"\")","v":"2014-07-21"},{"$f":"IF(表示!$B$13<=有効積算気温!D113,有効積算気温!$A113,\"\")","v":"2014-07-21"},{"$f":"IF(表示!$B$13<=有効積算気温!E113,有効積算気温!$A113,\"\")","v":"2014-07-21"},{"$f":"IF(表示!$B$13<=有効積算気温!F113,有効積算気温!$A113,\"\")","v":"2014-07-21"},{"$f":"IF(表示!$B$13<=有効積算気温!G113,有効積算気温!$A113,\"\")","v":"2014-07-21"},{"$f":"IF(表示!$B$13<=有効積算気温!H113,有効積算気温!$A113,\"\")","v":"2014-07-21"},{"$f":"IF(表示!$B$13<=有効積算気温!I113,有効積算気温!$A113,\"\")","v":"2014-07-21"},{"$f":"IF(表示!$B$13<=有効積算気温!J113,有効積算気温!$A113,\"\")","v":"2014-07-21"},{"$f":"IF(表示!$B$13<=有効積算気温!K113,有効積算気温!$A113,\"\")","v":"2014-07-21"},{"$f":"IF(表示!$B$13<=有効積算気温!L113,有効積算気温!$A113,\"\")","v":"2014-07-21"},{"$f":"IF(表示!$B$13<=有効積算気温!M113,有効積算気温!$A113,\"\")","v":"2014-07-21"},{"$f":"IF(表示!$B$13<=有効積算気温!N113,有効積算気温!$A113,\"\")","v":"2014-07-21"},{"$f":"IF(表示!$B$13<=有効積算気温!O113,有効積算気温!$A113,\"\")","v":"2014-07-21"},{"$f":"IF(表示!$B$13<=有効積算気温!P113,有効積算気温!$A113,\"\")","v":"2014-07-21"},{"$f":"IF(表示!$B$13<=有効積算気温!Q113,有効積算気温!$A113,\"\")","v":"2014-07-21"},{"$f":"IF(表示!$B$13<=有効積算気温!R113,有効積算気温!$A113,\"\")","v":"2014-07-21"},{"$f":"IF(表示!$B$13<=有効積算気温!S113,有効積算気温!$A113,\"\")","v":"2014-07-21"},{"$f":"IF(表示!$B$13<=有効積算気温!T113,有効積算気温!$A113,\"\")","v":"2014-07-21"},{"$f":"IF(表示!$B$13<=有効積算気温!U113,有効積算気温!$A113,\"\")","v":"2014-07-21"},null,null,null,null,{"$f":"IF(表示!$B$13<=有効積算気温!Z113,有効積算気温!$A113,\"\")","v":"2014-07-21"}]
["2014-07-22",{"$f":"IF(表示!$B$13<=有効積算気温!B114,有効積算気温!$A114,\"\")","v":"2014-07-22"},{"$f":"IF(表示!$B$13<=有効積算気温!C114,有効積算気温!$A114,\"\")","v":"2014-07-22"},{"$f":"IF(表示!$B$13<=有効積算気温!D114,有効積算気温!$A114,\"\")","v":"2014-07-22"},{"$f":"IF(表示!$B$13<=有効積算気温!E114,有効積算気温!$A114,\"\")","v":"2014-07-22"},{"$f":"IF(表示!$B$13<=有効積算気温!F114,有効積算気温!$A114,\"\")","v":"2014-07-22"},{"$f":"IF(表示!$B$13<=有効積算気温!G114,有効積算気温!$A114,\"\")","v":"2014-07-22"},{"$f":"IF(表示!$B$13<=有効積算気温!H114,有効積算気温!$A114,\"\")","v":"2014-07-22"},{"$f":"IF(表示!$B$13<=有効積算気温!I114,有効積算気温!$A114,\"\")","v":"2014-07-22"},{"$f":"IF(表示!$B$13<=有効積算気温!J114,有効積算気温!$A114,\"\")","v":"2014-07-22"},{"$f":"IF(表示!$B$13<=有効積算気温!K114,有効積算気温!$A114,\"\")","v":"2014-07-22"},{"$f":"IF(表示!$B$13<=有効積算気温!L114,有効積算気温!$A114,\"\")","v":"2014-07-22"},{"$f":"IF(表示!$B$13<=有効積算気温!M114,有効積算気温!$A114,\"\")","v":"2014-07-22"},{"$f":"IF(表示!$B$13<=有効積算気温!N114,有効積算気温!$A114,\"\")","v":"2014-07-22"},{"$f":"IF(表示!$B$13<=有効積算気温!O114,有効積算気温!$A114,\"\")","v":"2014-07-22"},{"$f":"IF(表示!$B$13<=有効積算気温!P114,有効積算気温!$A114,\"\")","v":"2014-07-22"},{"$f":"IF(表示!$B$13<=有効積算気温!Q114,有効積算気温!$A114,\"\")","v":"2014-07-22"},{"$f":"IF(表示!$B$13<=有効積算気温!R114,有効積算気温!$A114,\"\")","v":"2014-07-22"},{"$f":"IF(表示!$B$13<=有効積算気温!S114,有効積算気温!$A114,\"\")","v":"2014-07-22"},{"$f":"IF(表示!$B$13<=有効積算気温!T114,有効積算気温!$A114,\"\")","v":"2014-07-22"},{"$f":"IF(表示!$B$13<=有効積算気温!U114,有効積算気温!$A114,\"\")","v":"2014-07-22"},null,null,null,null,{"$f":"IF(表示!$B$13<=有効積算気温!Z114,有効積算気温!$A114,\"\")","v":"2014-07-22"}]
["2014-07-23",{"$f":"IF(表示!$B$13<=有効積算気温!B115,有効積算気温!$A115,\"\")","v":"2014-07-23"},{"$f":"IF(表示!$B$13<=有効積算気温!C115,有効積算気温!$A115,\"\")","v":"2014-07-23"},{"$f":"IF(表示!$B$13<=有効積算気温!D115,有効積算気温!$A115,\"\")","v":"2014-07-23"},{"$f":"IF(表示!$B$13<=有効積算気温!E115,有効積算気温!$A115,\"\")","v":"2014-07-23"},{"$f":"IF(表示!$B$13<=有効積算気温!F115,有効積算気温!$A115,\"\")","v":"2014-07-23"},{"$f":"IF(表示!$B$13<=有効積算気温!G115,有効積算気温!$A115,\"\")","v":"2014-07-23"},{"$f":"IF(表示!$B$13<=有効積算気温!H115,有効積算気温!$A115,\"\")","v":"2014-07-23"},{"$f":"IF(表示!$B$13<=有効積算気温!I115,有効積算気温!$A115,\"\")","v":"2014-07-23"},{"$f":"IF(表示!$B$13<=有効積算気温!J115,有効積算気温!$A115,\"\")","v":"2014-07-23"},{"$f":"IF(表示!$B$13<=有効積算気温!K115,有効積算気温!$A115,\"\")","v":"2014-07-23"},{"$f":"IF(表示!$B$13<=有効積算気温!L115,有効積算気温!$A115,\"\")","v":"2014-07-23"},{"$f":"IF(表示!$B$13<=有効積算気温!M115,有効積算気温!$A115,\"\")","v":"2014-07-23"},{"$f":"IF(表示!$B$13<=有効積算気温!N115,有効積算気温!$A115,\"\")","v":"2014-07-23"},{"$f":"IF(表示!$B$13<=有効積算気温!O115,有効積算気温!$A115,\"\")","v":"2014-07-23"},{"$f":"IF(表示!$B$13<=有効積算気温!P115,有効積算気温!$A115,\"\")","v":"2014-07-23"},{"$f":"IF(表示!$B$13<=有効積算気温!Q115,有効積算気温!$A115,\"\")","v":"2014-07-23"},{"$f":"IF(表示!$B$13<=有効積算気温!R115,有効積算気温!$A115,\"\")","v":"2014-07-23"},{"$f":"IF(表示!$B$13<=有効積算気温!S115,有効積算気温!$A115,\"\")","v":"2014-07-23"},{"$f":"IF(表示!$B$13<=有効積算気温!T115,有効積算気温!$A115,\"\")","v":"2014-07-23"},{"$f":"IF(表示!$B$13<=有効積算気温!U115,有効積算気温!$A115,\"\")","v":"2014-07-23"},null,null,null,null,{"$f":"IF(表示!$B$13<=有効積算気温!Z115,有効積算気温!$A115,\"\")","v":"2014-07-23"}]
["2014-07-24",{"$f":"IF(表示!$B$13<=有効積算気温!B116,有効積算気温!$A116,\"\")","v":"2014-07-24"},{"$f":"IF(表示!$B$13<=有効積算気温!C116,有効積算気温!$A116,\"\")","v":"2014-07-24"},{"$f":"IF(表示!$B$13<=有効積算気温!D116,有効積算気温!$A116,\"\")","v":"2014-07-24"},{"$f":"IF(表示!$B$13<=有効積算気温!E116,有効積算気温!$A116,\"\")","v":"2014-07-24"},{"$f":"IF(表示!$B$13<=有効積算気温!F116,有効積算気温!$A116,\"\")","v":"2014-07-24"},{"$f":"IF(表示!$B$13<=有効積算気温!G116,有効積算気温!$A116,\"\")","v":"2014-07-24"},{"$f":"IF(表示!$B$13<=有効積算気温!H116,有効積算気温!$A116,\"\")","v":"2014-07-24"},{"$f":"IF(表示!$B$13<=有効積算気温!I116,有効積算気温!$A116,\"\")","v":"2014-07-24"},{"$f":"IF(表示!$B$13<=有効積算気温!J116,有効積算気温!$A116,\"\")","v":"2014-07-24"},{"$f":"IF(表示!$B$13<=有効積算気温!K116,有効積算気温!$A116,\"\")","v":"2014-07-24"},{"$f":"IF(表示!$B$13<=有効積算気温!L116,有効積算気温!$A116,\"\")","v":"2014-07-24"},{"$f":"IF(表示!$B$13<=有効積算気温!M116,有効積算気温!$A116,\"\")","v":"2014-07-24"},{"$f":"IF(表示!$B$13<=有効積算気温!N116,有効積算気温!$A116,\"\")","v":"2014-07-24"},{"$f":"IF(表示!$B$13<=有効積算気温!O116,有効積算気温!$A116,\"\")","v":"2014-07-24"},{"$f":"IF(表示!$B$13<=有効積算気温!P116,有効積算気温!$A116,\"\")","v":"2014-07-24"},{"$f":"IF(表示!$B$13<=有効積算気温!Q116,有効積算気温!$A116,\"\")","v":"2014-07-24"},{"$f":"IF(表示!$B$13<=有効積算気温!R116,有効積算気温!$A116,\"\")","v":"2014-07-24"},{"$f":"IF(表示!$B$13<=有効積算気温!S116,有効積算気温!$A116,\"\")","v":"2014-07-24"},{"$f":"IF(表示!$B$13<=有効積算気温!T116,有効積算気温!$A116,\"\")","v":"2014-07-24"},{"$f":"IF(表示!$B$13<=有効積算気温!U116,有効積算気温!$A116,\"\")","v":"2014-07-24"},null,null,null,null,{"$f":"IF(表示!$B$13<=有効積算気温!Z116,有効積算気温!$A116,\"\")","v":"2014-07-24"}]
["2014-07-25",{"$f":"IF(表示!$B$13<=有効積算気温!B117,有効積算気温!$A117,\"\")","v":"2014-07-25"},{"$f":"IF(表示!$B$13<=有効積算気温!C117,有効積算気温!$A117,\"\")","v":"2014-07-25"},{"$f":"IF(表示!$B$13<=有効積算気温!D117,有効積算気温!$A117,\"\")","v":"2014-07-25"},{"$f":"IF(表示!$B$13<=有効積算気温!E117,有効積算気温!$A117,\"\")","v":"2014-07-25"},{"$f":"IF(表示!$B$13<=有効積算気温!F117,有効積算気温!$A117,\"\")","v":"2014-07-25"},{"$f":"IF(表示!$B$13<=有効積算気温!G117,有効積算気温!$A117,\"\")","v":"2014-07-25"},{"$f":"IF(表示!$B$13<=有効積算気温!H117,有効積算気温!$A117,\"\")","v":"2014-07-25"},{"$f":"IF(表示!$B$13<=有効積算気温!I117,有効積算気温!$A117,\"\")","v":"2014-07-25"},{"$f":"IF(表示!$B$13<=有効積算気温!J117,有効積算気温!$A117,\"\")","v":"2014-07-25"},{"$f":"IF(表示!$B$13<=有効積算気温!K117,有効積算気温!$A117,\"\")","v":"2014-07-25"},{"$f":"IF(表示!$B$13<=有効積算気温!L117,有効積算気温!$A117,\"\")","v":"2014-07-25"},{"$f":"IF(表示!$B$13<=有効積算気温!M117,有効積算気温!$A117,\"\")","v":"2014-07-25"},{"$f":"IF(表示!$B$13<=有効積算気温!N117,有効積算気温!$A117,\"\")","v":"2014-07-25"},{"$f":"IF(表示!$B$13<=有効積算気温!O117,有効積算気温!$A117,\"\")","v":"2014-07-25"},{"$f":"IF(表示!$B$13<=有効積算気温!P117,有効積算気温!$A117,\"\")","v":"2014-07-25"},{"$f":"IF(表示!$B$13<=有効積算気温!Q117,有効積算気温!$A117,\"\")","v":"2014-07-25"},{"$f":"IF(表示!$B$13<=有効積算気温!R117,有効積算気温!$A117,\"\")","v":"2014-07-25"},{"$f":"IF(表示!$B$13<=有効積算気温!S117,有効積算気温!$A117,\"\")","v":"2014-07-25"},{"$f":"IF(表示!$B$13<=有効積算気温!T117,有効積算気温!$A117,\"\")","v":"2014-07-25"},{"$f":"IF(表示!$B$13<=有効積算気温!U117,有効積算気温!$A117,\"\")","v":"2014-07-25"},null,null,null,null,{"$f":"IF(表示!$B$13<=有効積算気温!Z117,有効積算気温!$A117,\"\")","v":"2014-07-25"}]
["2014-07-26",{"$f":"IF(表示!$B$13<=有効積算気温!B118,有効積算気温!$A118,\"\")","v":"2014-07-26"},{"$f":"IF(表示!$B$13<=有効積算気温!C118,有効積算気温!$A118,\"\")","v":"2014-07-26"},{"$f":"IF(表示!$B$13<=有効積算気温!D118,有効積算気温!$A118,\"\")","v":"2014-07-26"},{"$f":"IF(表示!$B$13<=有効積算気温!E118,有効積算気温!$A118,\"\")","v":"2014-07-26"},{"$f":"IF(表示!$B$13<=有効積算気温!F118,有効積算気温!$A118,\"\")","v":"2014-07-26"},{"$f":"IF(表示!$B$13<=有効積算気温!G118,有効積算気温!$A118,\"\")","v":"2014-07-26"},{"$f":"IF(表示!$B$13<=有効積算気温!H118,有効積算気温!$A118,\"\")","v":"2014-07-26"},{"$f":"IF(表示!$B$13<=有効積算気温!I118,有効積算気温!$A118,\"\")","v":"2014-07-26"},{"$f":"IF(表示!$B$13<=有効積算気温!J118,有効積算気温!$A118,\"\")","v":"2014-07-26"},{"$f":"IF(表示!$B$13<=有効積算気温!K118,有効積算気温!$A118,\"\")","v":"2014-07-26"},{"$f":"IF(表示!$B$13<=有効積算気温!L118,有効積算気温!$A118,\"\")","v":"2014-07-26"},{"$f":"IF(表示!$B$13<=有効積算気温!M118,有効積算気温!$A118,\"\")","v":"2014-07-26"},{"$f":"IF(表示!$B$13<=有効積算気温!N118,有効積算気温!$A118,\"\")","v":"2014-07-26"},{"$f":"IF(表示!$B$13<=有効積算気温!O118,有効積算気温!$A118,\"\")","v":"2014-07-26"},{"$f":"IF(表示!$B$13<=有効積算気温!P118,有効積算気温!$A118,\"\")","v":"2014-07-26"},{"$f":"IF(表示!$B$13<=有効積算気温!Q118,有効積算気温!$A118,\"\")","v":"2014-07-26"},{"$f":"IF(表示!$B$13<=有効積算気温!R118,有効積算気温!$A118,\"\")","v":"2014-07-26"},{"$f":"IF(表示!$B$13<=有効積算気温!S118,有効積算気温!$A118,\"\")","v":"2014-07-26"},{"$f":"IF(表示!$B$13<=有効積算気温!T118,有効積算気温!$A118,\"\")","v":"2014-07-26"},{"$f":"IF(表示!$B$13<=有効積算気温!U118,有効積算気温!$A118,\"\")","v":"2014-07-26"},null,null,null,null,{"$f":"IF(表示!$B$13<=有効積算気温!Z118,有効積算気温!$A118,\"\")","v":"2014-07-26"}]
["2014-07-27",{"$f":"IF(表示!$B$13<=有効積算気温!B119,有効積算気温!$A119,\"\")","v":"2014-07-27"},{"$f":"IF(表示!$B$13<=有効積算気温!C119,有効積算気温!$A119,\"\")","v":"2014-07-27"},{"$f":"IF(表示!$B$13<=有効積算気温!D119,有効積算気温!$A119,\"\")","v":"2014-07-27"},{"$f":"IF(表示!$B$13<=有効積算気温!E119,有効積算気温!$A119,\"\")","v":"2014-07-27"},{"$f":"IF(表示!$B$13<=有効積算気温!F119,有効積算気温!$A119,\"\")","v":"2014-07-27"},{"$f":"IF(表示!$B$13<=有効積算気温!G119,有効積算気温!$A119,\"\")","v":"2014-07-27"},{"$f":"IF(表示!$B$13<=有効積算気温!H119,有効積算気温!$A119,\"\")","v":"2014-07-27"},{"$f":"IF(表示!$B$13<=有効積算気温!I119,有効積算気温!$A119,\"\")","v":"2014-07-27"},{"$f":"IF(表示!$B$13<=有効積算気温!J119,有効積算気温!$A119,\"\")","v":"2014-07-27"},{"$f":"IF(表示!$B$13<=有効積算気温!K119,有効積算気温!$A119,\"\")","v":"2014-07-27"},{"$f":"IF(表示!$B$13<=有効積算気温!L119,有効積算気温!$A119,\"\")","v":"2014-07-27"},{"$f":"IF(表示!$B$13<=有効積算気温!M119,有効積算気温!$A119,\"\")","v":"2014-07-27"},{"$f":"IF(表示!$B$13<=有効積算気温!N119,有効積算気温!$A119,\"\")","v":"2014-07-27"},{"$f":"IF(表示!$B$13<=有効積算気温!O119,有効積算気温!$A119,\"\")","v":"2014-07-27"},{"$f":"IF(表示!$B$13<=有効積算気温!P119,有効積算気温!$A119,\"\")","v":"2014-07-27"},{"$f":"IF(表示!$B$13<=有効積算気温!Q119,有効積算気温!$A119,\"\")","v":"2014-07-27"},{"$f":"IF(表示!$B$13<=有効積算気温!R119,有効積算気温!$A119,\"\")","v":"2014-07-27"},{"$f":"IF(表示!$B$13<=有効積算気温!S119,有効積算気温!$A119,\"\")","v":"2014-07-27"},{"$f":"IF(表示!$B$13<=有効積算気温!T119,有効積算気温!$A119,\"\")","v":"2014-07-27"},{"$f":"IF(表示!$B$13<=有効積算気温!U119,有効積算気温!$A119,\"\")","v":"2014-07-27"},null,null,null,null,{"$f":"IF(表示!$B$13<=有効積算気温!Z119,有効積算気温!$A119,\"\")","v":"2014-07-27"}]
["2014-07-28",{"$f":"IF(表示!$B$13<=有効積算気温!B120,有効積算気温!$A120,\"\")","v":"2014-07-28"},{"$f":"IF(表示!$B$13<=有効積算気温!C120,有効積算気温!$A120,\"\")","v":"2014-07-28"},{"$f":"IF(表示!$B$13<=有効積算気温!D120,有効積算気温!$A120,\"\")","v":"2014-07-28"},{"$f":"IF(表示!$B$13<=有効積算気温!E120,有効積算気温!$A120,\"\")","v":"2014-07-28"},{"$f":"IF(表示!$B$13<=有効積算気温!F120,有効積算気温!$A120,\"\")","v":"2014-07-28"},{"$f":"IF(表示!$B$13<=有効積算気温!G120,有効積算気温!$A120,\"\")","v":"2014-07-28"},{"$f":"IF(表示!$B$13<=有効積算気温!H120,有効積算気温!$A120,\"\")","v":"2014-07-28"},{"$f":"IF(表示!$B$13<=有効積算気温!I120,有効積算気温!$A120,\"\")","v":"2014-07-28"},{"$f":"IF(表示!$B$13<=有効積算気温!J120,有効積算気温!$A120,\"\")","v":"2014-07-28"},{"$f":"IF(表示!$B$13<=有効積算気温!K120,有効積算気温!$A120,\"\")","v":"2014-07-28"},{"$f":"IF(表示!$B$13<=有効積算気温!L120,有効積算気温!$A120,\"\")","v":"2014-07-28"},{"$f":"IF(表示!$B$13<=有効積算気温!M120,有効積算気温!$A120,\"\")","v":"2014-07-28"},{"$f":"IF(表示!$B$13<=有効積算気温!N120,有効積算気温!$A120,\"\")","v":"2014-07-28"},{"$f":"IF(表示!$B$13<=有効積算気温!O120,有効積算気温!$A120,\"\")","v":"2014-07-28"},{"$f":"IF(表示!$B$13<=有効積算気温!P120,有効積算気温!$A120,\"\")","v":"2014-07-28"},{"$f":"IF(表示!$B$13<=有効積算気温!Q120,有効積算気温!$A120,\"\")","v":"2014-07-28"},{"$f":"IF(表示!$B$13<=有効積算気温!R120,有効積算気温!$A120,\"\")","v":"2014-07-28"},{"$f":"IF(表示!$B$13<=有効積算気温!S120,有効積算気温!$A120,\"\")","v":"2014-07-28"},{"$f":"IF(表示!$B$13<=有効積算気温!T120,有効積算気温!$A120,\"\")","v":"2014-07-28"},{"$f":"IF(表示!$B$13<=有効積算気温!U120,有効積算気温!$A120,\"\")","v":"2014-07-28"},null,null,null,null,{"$f":"IF(表示!$B$13<=有効積算気温!Z120,有効積算気温!$A120,\"\")","v":"2014-07-28"}]
["2014-07-29",{"$f":"IF(表示!$B$13<=有効積算気温!B121,有効積算気温!$A121,\"\")","v":"2014-07-29"},{"$f":"IF(表示!$B$13<=有効積算気温!C121,有効積算気温!$A121,\"\")","v":"2014-07-29"},{"$f":"IF(表示!$B$13<=有効積算気温!D121,有効積算気温!$A121,\"\")","v":"2014-07-29"},{"$f":"IF(表示!$B$13<=有効積算気温!E121,有効積算気温!$A121,\"\")","v":"2014-07-29"},{"$f":"IF(表示!$B$13<=有効積算気温!F121,有効積算気温!$A121,\"\")","v":"2014-07-29"},{"$f":"IF(表示!$B$13<=有効積算気温!G121,有効積算気温!$A121,\"\")","v":"2014-07-29"},{"$f":"IF(表示!$B$13<=有効積算気温!H121,有効積算気温!$A121,\"\")","v":"2014-07-29"},{"$f":"IF(表示!$B$13<=有効積算気温!I121,有効積算気温!$A121,\"\")","v":"2014-07-29"},{"$f":"IF(表示!$B$13<=有効積算気温!J121,有効積算気温!$A121,\"\")","v":"2014-07-29"},{"$f":"IF(表示!$B$13<=有効積算気温!K121,有効積算気温!$A121,\"\")","v":"2014-07-29"},{"$f":"IF(表示!$B$13<=有効積算気温!L121,有効積算気温!$A121,\"\")","v":"2014-07-29"},{"$f":"IF(表示!$B$13<=有効積算気温!M121,有効積算気温!$A121,\"\")","v":"2014-07-29"},{"$f":"IF(表示!$B$13<=有効積算気温!N121,有効積算気温!$A121,\"\")","v":"2014-07-29"},{"$f":"IF(表示!$B$13<=有効積算気温!O121,有効積算気温!$A121,\"\")","v":"2014-07-29"},{"$f":"IF(表示!$B$13<=有効積算気温!P121,有効積算気温!$A121,\"\")","v":"2014-07-29"},{"$f":"IF(表示!$B$13<=有効積算気温!Q121,有効積算気温!$A121,\"\")","v":"2014-07-29"},{"$f":"IF(表示!$B$13<=有効積算気温!R121,有効積算気温!$A121,\"\")","v":"2014-07-29"},{"$f":"IF(表示!$B$13<=有効積算気温!S121,有効積算気温!$A121,\"\")","v":"2014-07-29"},{"$f":"IF(表示!$B$13<=有効積算気温!T121,有効積算気温!$A121,\"\")","v":"2014-07-29"},{"$f":"IF(表示!$B$13<=有効積算気温!U121,有効積算気温!$A121,\"\")","v":"2014-07-29"},null,null,null,null,{"$f":"IF(表示!$B$13<=有効積算気温!Z121,有効積算気温!$A121,\"\")","v":"2014-07-29"}]
["2014-07-30",{"$f":"IF(表示!$B$13<=有効積算気温!B122,有効積算気温!$A122,\"\")","v":"2014-07-30"},{"$f":"IF(表示!$B$13<=有効積算気温!C122,有効積算気温!$A122,\"\")","v":"2014-07-30"},{"$f":"IF(表示!$B$13<=有効積算気温!D122,有効積算気温!$A122,\"\")","v":"2014-07-30"},{"$f":"IF(表示!$B$13<=有効積算気温!E122,有効積算気温!$A122,\"\")","v":"2014-07-30"},{"$f":"IF(表示!$B$13<=有効積算気温!F122,有効積算気温!$A122,\"\")","v":"2014-07-30"},{"$f":"IF(表示!$B$13<=有効積算気温!G122,有効積算気温!$A122,\"\")","v":"2014-07-30"},{"$f":"IF(表示!$B$13<=有効積算気温!H122,有効積算気温!$A122,\"\")","v":"2014-07-30"},{"$f":"IF(表示!$B$13<=有効積算気温!I122,有効積算気温!$A122,\"\")","v":"2014-07-30"},{"$f":"IF(表示!$B$13<=有効積算気温!J122,有効積算気温!$A122,\"\")","v":"2014-07-30"},{"$f":"IF(表示!$B$13<=有効積算気温!K122,有効積算気温!$A122,\"\")","v":"2014-07-30"},{"$f":"IF(表示!$B$13<=有効積算気温!L122,有効積算気温!$A122,\"\")","v":"2014-07-30"},{"$f":"IF(表示!$B$13<=有効積算気温!M122,有効積算気温!$A122,\"\")","v":"2014-07-30"},{"$f":"IF(表示!$B$13<=有効積算気温!N122,有効積算気温!$A122,\"\")","v":"2014-07-30"},{"$f":"IF(表示!$B$13<=有効積算気温!O122,有効積算気温!$A122,\"\")","v":"2014-07-30"},{"$f":"IF(表示!$B$13<=有効積算気温!P122,有効積算気温!$A122,\"\")","v":"2014-07-30"},{"$f":"IF(表示!$B$13<=有効積算気温!Q122,有効積算気温!$A122,\"\")","v":"2014-07-30"},{"$f":"IF(表示!$B$13<=有効積算気温!R122,有効積算気温!$A122,\"\")","v":"2014-07-30"},{"$f":"IF(表示!$B$13<=有効積算気温!S122,有効積算気温!$A122,\"\")","v":"2014-07-30"},{"$f":"IF(表示!$B$13<=有効積算気温!T122,有効積算気温!$A122,\"\")","v":"2014-07-30"},{"$f":"IF(表示!$B$13<=有効積算気温!U122,有効積算気温!$A122,\"\")","v":"2014-07-30"},null,null,null,null,{"$f":"IF(表示!$B$13<=有効積算気温!Z122,有効積算気温!$A122,\"\")","v":"2014-07-30"}]
["2014-07-31",{"$f":"IF(表示!$B$13<=有効積算気温!B123,有効積算気温!$A123,\"\")","v":"2014-07-31"},{"$f":"IF(表示!$B$13<=有効積算気温!C123,有効積算気温!$A123,\"\")","v":"2014-07-31"},{"$f":"IF(表示!$B$13<=有効積算気温!D123,有効積算気温!$A123,\"\")","v":"2014-07-31"},{"$f":"IF(表示!$B$13<=有効積算気温!E123,有効積算気温!$A123,\"\")","v":"2014-07-31"},{"$f":"IF(表示!$B$13<=有効積算気温!F123,有効積算気温!$A123,\"\")","v":"2014-07-31"},{"$f":"IF(表示!$B$13<=有効積算気温!G123,有効積算気温!$A123,\"\")","v":"2014-07-31"},{"$f":"IF(表示!$B$13<=有効積算気温!H123,有効積算気温!$A123,\"\")","v":"2014-07-31"},{"$f":"IF(表示!$B$13<=有効積算気温!I123,有効積算気温!$A123,\"\")","v":"2014-07-31"},{"$f":"IF(表示!$B$13<=有効積算気温!J123,有効積算気温!$A123,\"\")","v":"2014-07-31"},{"$f":"IF(表示!$B$13<=有効積算気温!K123,有効積算気温!$A123,\"\")","v":"2014-07-31"},{"$f":"IF(表示!$B$13<=有効積算気温!L123,有効積算気温!$A123,\"\")","v":"2014-07-31"},{"$f":"IF(表示!$B$13<=有効積算気温!M123,有効積算気温!$A123,\"\")","v":"2014-07-31"},{"$f":"IF(表示!$B$13<=有効積算気温!N123,有効積算気温!$A123,\"\")","v":"2014-07-31"},{"$f":"IF(表示!$B$13<=有効積算気温!O123,有効積算気温!$A123,\"\")","v":"2014-07-31"},{"$f":"IF(表示!$B$13<=有効積算気温!P123,有効積算気温!$A123,\"\")","v":"2014-07-31"},{"$f":"IF(表示!$B$13<=有効積算気温!Q123,有効積算気温!$A123,\"\")","v":"2014-07-31"},{"$f":"IF(表示!$B$13<=有効積算気温!R123,有効積算気温!$A123,\"\")","v":"2014-07-31"},{"$f":"IF(表示!$B$13<=有効積算気温!S123,有効積算気温!$A123,\"\")","v":"2014-07-31"},{"$f":"IF(表示!$B$13<=有効積算気温!T123,有効積算気温!$A123,\"\")","v":"2014-07-31"},{"$f":"IF(表示!$B$13<=有効積算気温!U123,有効積算気温!$A123,\"\")","v":"2014-07-31"},null,null,null,null,{"$f":"IF(表示!$B$13<=有効積算気温!Z123,有効積算気温!$A123,\"\")","v":"2014-07-31"}]
["2014-08-01",{"$f":"IF(表示!$B$13<=有効積算気温!B124,有効積算気温!$A124,\"\")","v":"2014-08-01"},{"$f":"IF(表示!$B$13<=有効積算気温!C124,有効積算気温!$A124,\"\")","v":"2014-08-01"},{"$f":"IF(表示!$B$13<=有効積算気温!D124,有効積算気温!$A124,\"\")","v":"2014-08-01"},{"$f":"IF(表示!$B$13<=有効積算気温!E124,有効積算気温!$A124,\"\")","v":"2014-08-01"},{"$f":"IF(表示!$B$13<=有効積算気温!F124,有効積算気温!$A124,\"\")","v":"2014-08-01"},{"$f":"IF(表示!$B$13<=有効積算気温!G124,有効積算気温!$A124,\"\")","v":"2014-08-01"},{"$f":"IF(表示!$B$13<=有効積算気温!H124,有効積算気温!$A124,\"\")","v":"2014-08-01"},{"$f":"IF(表示!$B$13<=有効積算気温!I124,有効積算気温!$A124,\"\")","v":"2014-08-01"},{"$f":"IF(表示!$B$13<=有効積算気温!J124,有効積算気温!$A124,\"\")","v":"2014-08-01"},{"$f":"IF(表示!$B$13<=有効積算気温!K124,有効積算気温!$A124,\"\")","v":"2014-08-01"},{"$f":"IF(表示!$B$13<=有効積算気温!L124,有効積算気温!$A124,\"\")","v":"2014-08-01"},{"$f":"IF(表示!$B$13<=有効積算気温!M124,有効積算気温!$A124,\"\")","v":"2014-08-01"},{"$f":"IF(表示!$B$13<=有効積算気温!N124,有効積算気温!$A124,\"\")","v":"2014-08-01"},{"$f":"IF(表示!$B$13<=有効積算気温!O124,有効積算気温!$A124,\"\")","v":"2014-08-01"},{"$f":"IF(表示!$B$13<=有効積算気温!P124,有効積算気温!$A124,\"\")","v":"2014-08-01"},{"$f":"IF(表示!$B$13<=有効積算気温!Q124,有効積算気温!$A124,\"\")","v":"2014-08-01"},{"$f":"IF(表示!$B$13<=有効積算気温!R124,有効積算気温!$A124,\"\")","v":"2014-08-01"},{"$f":"IF(表示!$B$13<=有効積算気温!S124,有効積算気温!$A124,\"\")","v":"2014-08-01"},{"$f":"IF(表示!$B$13<=有効積算気温!T124,有効積算気温!$A124,\"\")","v":"2014-08-01"},{"$f":"IF(表示!$B$13<=有効積算気温!U124,有効積算気温!$A124,\"\")","v":"2014-08-01"},null,null,null,null,{"$f":"IF(表示!$B$13<=有効積算気温!Z124,有効積算気温!$A124,\"\")","v":"2014-08-01"}]
["2014-08-02",{"$f":"IF(表示!$B$13<=有効積算気温!B125,有効積算気温!$A125,\"\")","v":"2014-08-02"},{"$f":"IF(表示!$B$13<=有効積算気温!C125,有効積算気温!$A125,\"\")","v":"2014-08-02"},{"$f":"IF(表示!$B$13<=有効積算気温!D125,有効積算気温!$A125,\"\")","v":"2014-08-02"},{"$f":"IF(表示!$B$13<=有効積算気温!E125,有効積算気温!$A125,\"\")","v":"2014-08-02"},{"$f":"IF(表示!$B$13<=有効積算気温!F125,有効積算気温!$A125,\"\")","v":"2014-08-02"},{"$f":"IF(表示!$B$13<=有効積算気温!G125,有効積算気温!$A125,\"\")","v":"2014-08-02"},{"$f":"IF(表示!$B$13<=有効積算気温!H125,有効積算気温!$A125,\"\")","v":"2014-08-02"},{"$f":"IF(表示!$B$13<=有効積算気温!I125,有効積算気温!$A125,\"\")","v":"2014-08-02"},{"$f":"IF(表示!$B$13<=有効積算気温!J125,有効積算気温!$A125,\"\")","v":"2014-08-02"},{"$f":"IF(表示!$B$13<=有効積算気温!K125,有効積算気温!$A125,\"\")","v":"2014-08-02"},{"$f":"IF(表示!$B$13<=有効積算気温!L125,有効積算気温!$A125,\"\")","v":"2014-08-02"},{"$f":"IF(表示!$B$13<=有効積算気温!M125,有効積算気温!$A125,\"\")","v":"2014-08-02"},{"$f":"IF(表示!$B$13<=有効積算気温!N125,有効積算気温!$A125,\"\")","v":"2014-08-02"},{"$f":"IF(表示!$B$13<=有効積算気温!O125,有効積算気温!$A125,\"\")","v":"2014-08-02"},{"$f":"IF(表示!$B$13<=有効積算気温!P125,有効積算気温!$A125,\"\")","v":"2014-08-02"},{"$f":"IF(表示!$B$13<=有効積算気温!Q125,有効積算気温!$A125,\"\")","v":"2014-08-02"},{"$f":"IF(表示!$B$13<=有効積算気温!R125,有効積算気温!$A125,\"\")","v":"2014-08-02"},{"$f":"IF(表示!$B$13<=有効積算気温!S125,有効積算気温!$A125,\"\")","v":"2014-08-02"},{"$f":"IF(表示!$B$13<=有効積算気温!T125,有効積算気温!$A125,\"\")","v":"2014-08-02"},{"$f":"IF(表示!$B$13<=有効積算気温!U125,有効積算気温!$A125,\"\")","v":"2014-08-02"},null,null,null,null,{"$f":"IF(表示!$B$13<=有効積算気温!Z125,有効積算気温!$A125,\"\")","v":"2014-08-02"}]
["2014-08-03",{"$f":"IF(表示!$B$13<=有効積算気温!B126,有効積算気温!$A126,\"\")","v":"2014-08-03"},{"$f":"IF(表示!$B$13<=有効積算気温!C126,有効積算気温!$A126,\"\")","v":"2014-08-03"},{"$f":"IF(表示!$B$13<=有効積算気温!D126,有効積算気温!$A126,\"\")","v":"2014-08-03"},{"$f":"IF(表示!$B$13<=有効積算気温!E126,有効積算気温!$A126,\"\")","v":"2014-08-03"},{"$f":"IF(表示!$B$13<=有効積算気温!F126,有効積算気温!$A126,\"\")","v":"2014-08-03"},{"$f":"IF(表示!$B$13<=有効積算気温!G126,有効積算気温!$A126,\"\")","v":"2014-08-03"},{"$f":"IF(表示!$B$13<=有効積算気温!H126,有効積算気温!$A126,\"\")","v":"2014-08-03"},{"$f":"IF(表示!$B$13<=有効積算気温!I126,有効積算気温!$A126,\"\")","v":"2014-08-03"},{"$f":"IF(表示!$B$13<=有効積算気温!J126,有効積算気温!$A126,\"\")","v":"2014-08-03"},{"$f":"IF(表示!$B$13<=有効積算気温!K126,有効積算気温!$A126,\"\")","v":"2014-08-03"},{"$f":"IF(表示!$B$13<=有効積算気温!L126,有効積算気温!$A126,\"\")","v":"2014-08-03"},{"$f":"IF(表示!$B$13<=有効積算気温!M126,有効積算気温!$A126,\"\")","v":"2014-08-03"},{"$f":"IF(表示!$B$13<=有効積算気温!N126,有効積算気温!$A126,\"\")","v":"2014-08-03"},{"$f":"IF(表示!$B$13<=有効積算気温!O126,有効積算気温!$A126,\"\")","v":"2014-08-03"},{"$f":"IF(表示!$B$13<=有効積算気温!P126,有効積算気温!$A126,\"\")","v":"2014-08-03"},{"$f":"IF(表示!$B$13<=有効積算気温!Q126,有効積算気温!$A126,\"\")","v":"2014-08-03"},{"$f":"IF(表示!$B$13<=有効積算気温!R126,有効積算気温!$A126,\"\")","v":"2014-08-03"},{"$f":"IF(表示!$B$13<=有効積算気温!S126,有効積算気温!$A126,\"\")","v":"2014-08-03"},{"$f":"IF(表示!$B$13<=有効積算気温!T126,有効積算気温!$A126,\"\")","v":"2014-08-03"},{"$f":"IF(表示!$B$13<=有効積算気温!U126,有効積算気温!$A126,\"\")","v":"2014-08-03"},null,null,null,null,{"$f":"IF(表示!$B$13<=有効積算気温!Z126,有効積算気温!$A126,\"\")","v":"2014-08-03"}]
["2014-08-04",{"$f":"IF(表示!$B$13<=有効積算気温!B127,有効積算気温!$A127,\"\")","v":"2014-08-04"},{"$f":"IF(表示!$B$13<=有効積算気温!C127,有効積算気温!$A127,\"\")","v":"2014-08-04"},{"$f":"IF(表示!$B$13<=有効積算気温!D127,有効積算気温!$A127,\"\")","v":"2014-08-04"},{"$f":"IF(表示!$B$13<=有効積算気温!E127,有効積算気温!$A127,\"\")","v":"2014-08-04"},{"$f":"IF(表示!$B$13<=有効積算気温!F127,有効積算気温!$A127,\"\")","v":"2014-08-04"},{"$f":"IF(表示!$B$13<=有効積算気温!G127,有効積算気温!$A127,\"\")","v":"2014-08-04"},{"$f":"IF(表示!$B$13<=有効積算気温!H127,有効積算気温!$A127,\"\")","v":"2014-08-04"},{"$f":"IF(表示!$B$13<=有効積算気温!I127,有効積算気温!$A127,\"\")","v":"2014-08-04"},{"$f":"IF(表示!$B$13<=有効積算気温!J127,有効積算気温!$A127,\"\")","v":"2014-08-04"},{"$f":"IF(表示!$B$13<=有効積算気温!K127,有効積算気温!$A127,\"\")","v":"2014-08-04"},{"$f":"IF(表示!$B$13<=有効積算気温!L127,有効積算気温!$A127,\"\")","v":"2014-08-04"},{"$f":"IF(表示!$B$13<=有効積算気温!M127,有効積算気温!$A127,\"\")","v":"2014-08-04"},{"$f":"IF(表示!$B$13<=有効積算気温!N127,有効積算気温!$A127,\"\")","v":"2014-08-04"},{"$f":"IF(表示!$B$13<=有効積算気温!O127,有効積算気温!$A127,\"\")","v":"2014-08-04"},{"$f":"IF(表示!$B$13<=有効積算気温!P127,有効積算気温!$A127,\"\")","v":"2014-08-04"},{"$f":"IF(表示!$B$13<=有効積算気温!Q127,有効積算気温!$A127,\"\")","v":"2014-08-04"},{"$f":"IF(表示!$B$13<=有効積算気温!R127,有効積算気温!$A127,\"\")","v":"2014-08-04"},{"$f":"IF(表示!$B$13<=有効積算気温!S127,有効積算気温!$A127,\"\")","v":"2014-08-04"},{"$f":"IF(表示!$B$13<=有効積算気温!T127,有効積算気温!$A127,\"\")","v":"2014-08-04"},{"$f":"IF(表示!$B$13<=有効積算気温!U127,有効積算気温!$A127,\"\")","v":"2014-08-04"},null,null,null,null,{"$f":"IF(表示!$B$13<=有効積算気温!Z127,有効積算気温!$A127,\"\")","v":"2014-08-04"}]
["2014-08-05",{"$f":"IF(表示!$B$13<=有効積算気温!B128,有効積算気温!$A128,\"\")","v":"2014-08-05"},{"$f":"IF(表示!$B$13<=有効積算気温!C128,有効積算気温!$A128,\"\")","v":"2014-08-05"},{"$f":"IF(表示!$B$13<=有効積算気温!D128,有効積算気温!$A128,\"\")","v":"2014-08-05"},{"$f":"IF(表示!$B$13<=有効積算気温!E128,有効積算気温!$A128,\"\")","v":"2014-08-05"},{"$f":"IF(表示!$B$13<=有効積算気温!F128,有効積算気温!$A128,\"\")","v":"2014-08-05"},{"$f":"IF(表示!$B$13<=有効積算気温!G128,有効積算気温!$A128,\"\")","v":"2014-08-05"},{"$f":"IF(表示!$B$13<=有効積算気温!H128,有効積算気温!$A128,\"\")","v":"2014-08-05"},{"$f":"IF(表示!$B$13<=有効積算気温!I128,有効積算気温!$A128,\"\")","v":"2014-08-05"},{"$f":"IF(表示!$B$13<=有効積算気温!J128,有効積算気温!$A128,\"\")","v":"2014-08-05"},{"$f":"IF(表示!$B$13<=有効積算気温!K128,有効積算気温!$A128,\"\")","v":"2014-08-05"},{"$f":"IF(表示!$B$13<=有効積算気温!L128,有効積算気温!$A128,\"\")","v":"2014-08-05"},{"$f":"IF(表示!$B$13<=有効積算気温!M128,有効積算気温!$A128,\"\")","v":"2014-08-05"},{"$f":"IF(表示!$B$13<=有効積算気温!N128,有効積算気温!$A128,\"\")","v":"2014-08-05"},{"$f":"IF(表示!$B$13<=有効積算気温!O128,有効積算気温!$A128,\"\")","v":"2014-08-05"},{"$f":"IF(表示!$B$13<=有効積算気温!P128,有効積算気温!$A128,\"\")","v":"2014-08-05"},{"$f":"IF(表示!$B$13<=有効積算気温!Q128,有効積算気温!$A128,\"\")","v":"2014-08-05"},{"$f":"IF(表示!$B$13<=有効積算気温!R128,有効積算気温!$A128,\"\")","v":"2014-08-05"},{"$f":"IF(表示!$B$13<=有効積算気温!S128,有効積算気温!$A128,\"\")","v":"2014-08-05"},{"$f":"IF(表示!$B$13<=有効積算気温!T128,有効積算気温!$A128,\"\")","v":"2014-08-05"},{"$f":"IF(表示!$B$13<=有効積算気温!U128,有効積算気温!$A128,\"\")","v":"2014-08-05"},null,null,null,null,{"$f":"IF(表示!$B$13<=有効積算気温!Z128,有効積算気温!$A128,\"\")","v":"2014-08-05"}]
["2014-08-06",{"$f":"IF(表示!$B$13<=有効積算気温!B129,有効積算気温!$A129,\"\")","v":"2014-08-06"},{"$f":"IF(表示!$B$13<=有効積算気温!C129,有効積算気温!$A129,\"\")","v":"2014-08-06"},{"$f":"IF(表示!$B$13<=有効積算気温!D129,有効積算気温!$A129,\"\")","v":"2014-08-06"},{"$f":"IF(表示!$B$13<=有効積算気温!E129,有効積算気温!$A129,\"\")","v":"2014-08-06"},{"$f":"IF(表示!$B$13<=有効積算気温!F129,有効積算気温!$A129,\"\")","v":"2014-08-06"},{"$f":"IF(表示!$B$13<=有効積算気温!G129,有効積算気温!$A129,\"\")","v":"2014-08-06"},{"$f":"IF(表示!$B$13<=有効積算気温!H129,有効積算気温!$A129,\"\")","v":"2014-08-06"},{"$f":"IF(表示!$B$13<=有効積算気温!I129,有効積算気温!$A129,\"\")","v":"2014-08-06"},{"$f":"IF(表示!$B$13<=有効積算気温!J129,有効積算気温!$A129,\"\")","v":"2014-08-06"},{"$f":"IF(表示!$B$13<=有効積算気温!K129,有効積算気温!$A129,\"\")","v":"2014-08-06"},{"$f":"IF(表示!$B$13<=有効積算気温!L129,有効積算気温!$A129,\"\")","v":"2014-08-06"},{"$f":"IF(表示!$B$13<=有効積算気温!M129,有効積算気温!$A129,\"\")","v":"2014-08-06"},{"$f":"IF(表示!$B$13<=有効積算気温!N129,有効積算気温!$A129,\"\")","v":"2014-08-06"},{"$f":"IF(表示!$B$13<=有効積算気温!O129,有効積算気温!$A129,\"\")","v":"2014-08-06"},{"$f":"IF(表示!$B$13<=有効積算気温!P129,有効積算気温!$A129,\"\")","v":"2014-08-06"},{"$f":"IF(表示!$B$13<=有効積算気温!Q129,有効積算気温!$A129,\"\")","v":"2014-08-06"},{"$f":"IF(表示!$B$13<=有効積算気温!R129,有効積算気温!$A129,\"\")","v":"2014-08-06"},{"$f":"IF(表示!$B$13<=有効積算気温!S129,有効積算気温!$A129,\"\")","v":"2014-08-06"},{"$f":"IF(表示!$B$13<=有効積算気温!T129,有効積算気温!$A129,\"\")","v":"2014-08-06"},{"$f":"IF(表示!$B$13<=有効積算気温!U129,有効積算気温!$A129,\"\")","v":"2014-08-06"},null,null,null,null,{"$f":"IF(表示!$B$13<=有効積算気温!Z129,有効積算気温!$A129,\"\")","v":"2014-08-06"}]
["2014-08-07",{"$f":"IF(表示!$B$13<=有効積算気温!B130,有効積算気温!$A130,\"\")","v":"2014-08-07"},{"$f":"IF(表示!$B$13<=有効積算気温!C130,有効積算気温!$A130,\"\")","v":"2014-08-07"},{"$f":"IF(表示!$B$13<=有効積算気温!D130,有効積算気温!$A130,\"\")","v":"2014-08-07"},{"$f":"IF(表示!$B$13<=有効積算気温!E130,有効積算気温!$A130,\"\")","v":"2014-08-07"},{"$f":"IF(表示!$B$13<=有効積算気温!F130,有効積算気温!$A130,\"\")","v":"2014-08-07"},{"$f":"IF(表示!$B$13<=有効積算気温!G130,有効積算気温!$A130,\"\")","v":"2014-08-07"},{"$f":"IF(表示!$B$13<=有効積算気温!H130,有効積算気温!$A130,\"\")","v":"2014-08-07"},{"$f":"IF(表示!$B$13<=有効積算気温!I130,有効積算気温!$A130,\"\")","v":"2014-08-07"},{"$f":"IF(表示!$B$13<=有効積算気温!J130,有効積算気温!$A130,\"\")","v":"2014-08-07"},{"$f":"IF(表示!$B$13<=有効積算気温!K130,有効積算気温!$A130,\"\")","v":"2014-08-07"},{"$f":"IF(表示!$B$13<=有効積算気温!L130,有効積算気温!$A130,\"\")","v":"2014-08-07"},{"$f":"IF(表示!$B$13<=有効積算気温!M130,有効積算気温!$A130,\"\")","v":"2014-08-07"},{"$f":"IF(表示!$B$13<=有効積算気温!N130,有効積算気温!$A130,\"\")","v":"2014-08-07"},{"$f":"IF(表示!$B$13<=有効積算気温!O130,有効積算気温!$A130,\"\")","v":"2014-08-07"},{"$f":"IF(表示!$B$13<=有効積算気温!P130,有効積算気温!$A130,\"\")","v":"2014-08-07"},{"$f":"IF(表示!$B$13<=有効積算気温!Q130,有効積算気温!$A130,\"\")","v":"2014-08-07"},{"$f":"IF(表示!$B$13<=有効積算気温!R130,有効積算気温!$A130,\"\")","v":"2014-08-07"},{"$f":"IF(表示!$B$13<=有効積算気温!S130,有効積算気温!$A130,\"\")","v":"2014-08-07"},{"$f":"IF(表示!$B$13<=有効積算気温!T130,有効積算気温!$A130,\"\")","v":"2014-08-07"},{"$f":"IF(表示!$B$13<=有効積算気温!U130,有効積算気温!$A130,\"\")","v":"2014-08-07"},null,null,null,null,{"$f":"IF(表示!$B$13<=有効積算気温!Z130,有効積算気温!$A130,\"\")","v":"2014-08-07"}]
["2014-08-08",{"$f":"IF(表示!$B$13<=有効積算気温!B131,有効積算気温!$A131,\"\")","v":"2014-08-08"},{"$f":"IF(表示!$B$13<=有効積算気温!C131,有効積算気温!$A131,\"\")","v":"2014-08-08"},{"$f":"IF(表示!$B$13<=有効積算気温!D131,有効積算気温!$A131,\"\")","v":"2014-08-08"},{"$f":"IF(表示!$B$13<=有効積算気温!E131,有効積算気温!$A131,\"\")","v":"2014-08-08"},{"$f":"IF(表示!$B$13<=有効積算気温!F131,有効積算気温!$A131,\"\")","v":"2014-08-08"},{"$f":"IF(表示!$B$13<=有効積算気温!G131,有効積算気温!$A131,\"\")","v":"2014-08-08"},{"$f":"IF(表示!$B$13<=有効積算気温!H131,有効積算気温!$A131,\"\")","v":"2014-08-08"},{"$f":"IF(表示!$B$13<=有効積算気温!I131,有効積算気温!$A131,\"\")","v":"2014-08-08"},{"$f":"IF(表示!$B$13<=有効積算気温!J131,有効積算気温!$A131,\"\")","v":"2014-08-08"},{"$f":"IF(表示!$B$13<=有効積算気温!K131,有効積算気温!$A131,\"\")","v":"2014-08-08"},{"$f":"IF(表示!$B$13<=有効積算気温!L131,有効積算気温!$A131,\"\")","v":"2014-08-08"},{"$f":"IF(表示!$B$13<=有効積算気温!M131,有効積算気温!$A131,\"\")","v":"2014-08-08"},{"$f":"IF(表示!$B$13<=有効積算気温!N131,有効積算気温!$A131,\"\")","v":"2014-08-08"},{"$f":"IF(表示!$B$13<=有効積算気温!O131,有効積算気温!$A131,\"\")","v":"2014-08-08"},{"$f":"IF(表示!$B$13<=有効積算気温!P131,有効積算気温!$A131,\"\")","v":"2014-08-08"},{"$f":"IF(表示!$B$13<=有効積算気温!Q131,有効積算気温!$A131,\"\")","v":"2014-08-08"},{"$f":"IF(表示!$B$13<=有効積算気温!R131,有効積算気温!$A131,\"\")","v":"2014-08-08"},{"$f":"IF(表示!$B$13<=有効積算気温!S131,有効積算気温!$A131,\"\")","v":"2014-08-08"},{"$f":"IF(表示!$B$13<=有効積算気温!T131,有効積算気温!$A131,\"\")","v":"2014-08-08"},{"$f":"IF(表示!$B$13<=有効積算気温!U131,有効積算気温!$A131,\"\")","v":"2014-08-08"},null,null,null,null,{"$f":"IF(表示!$B$13<=有効積算気温!Z131,有効積算気温!$A131,\"\")","v":"2014-08-08"}]
["2014-08-09",{"$f":"IF(表示!$B$13<=有効積算気温!B132,有効積算気温!$A132,\"\")","v":"2014-08-09"},{"$f":"IF(表示!$B$13<=有効積算気温!C132,有効積算気温!$A132,\"\")","v":"2014-08-09"},{"$f":"IF(表示!$B$13<=有効積算気温!D132,有効積算気温!$A132,\"\")","v":"2014-08-09"},{"$f":"IF(表示!$B$13<=有効積算気温!E132,有効積算気温!$A132,\"\")","v":"2014-08-09"},{"$f":"IF(表示!$B$13<=有効積算気温!F132,有効積算気温!$A132,\"\")","v":"2014-08-09"},{"$f":"IF(表示!$B$13<=有効積算気温!G132,有効積算気温!$A132,\"\")","v":"2014-08-09"},{"$f":"IF(表示!$B$13<=有効積算気温!H132,有効積算気温!$A132,\"\")","v":"2014-08-09"},{"$f":"IF(表示!$B$13<=有効積算気温!I132,有効積算気温!$A132,\"\")","v":"2014-08-09"},{"$f":"IF(表示!$B$13<=有効積算気温!J132,有効積算気温!$A132,\"\")","v":"2014-08-09"},{"$f":"IF(表示!$B$13<=有効積算気温!K132,有効積算気温!$A132,\"\")","v":"2014-08-09"},{"$f":"IF(表示!$B$13<=有効積算気温!L132,有効積算気温!$A132,\"\")","v":"2014-08-09"},{"$f":"IF(表示!$B$13<=有効積算気温!M132,有効積算気温!$A132,\"\")","v":"2014-08-09"},{"$f":"IF(表示!$B$13<=有効積算気温!N132,有効積算気温!$A132,\"\")","v":"2014-08-09"},{"$f":"IF(表示!$B$13<=有効積算気温!O132,有効積算気温!$A132,\"\")","v":"2014-08-09"},{"$f":"IF(表示!$B$13<=有効積算気温!P132,有効積算気温!$A132,\"\")","v":"2014-08-09"},{"$f":"IF(表示!$B$13<=有効積算気温!Q132,有効積算気温!$A132,\"\")","v":"2014-08-09"},{"$f":"IF(表示!$B$13<=有効積算気温!R132,有効積算気温!$A132,\"\")","v":"2014-08-09"},{"$f":"IF(表示!$B$13<=有効積算気温!S132,有効積算気温!$A132,\"\")","v":"2014-08-09"},{"$f":"IF(表示!$B$13<=有効積算気温!T132,有効積算気温!$A132,\"\")","v":"2014-08-09"},{"$f":"IF(表示!$B$13<=有効積算気温!U132,有効積算気温!$A132,\"\")","v":"2014-08-09"},null,null,null,null,{"$f":"IF(表示!$B$13<=有効積算気温!Z132,有効積算気温!$A132,\"\")","v":"2014-08-09"}]
["2014-08-10",{"$f":"IF(表示!$B$13<=有効積算気温!B133,有効積算気温!$A133,\"\")","v":"2014-08-10"},{"$f":"IF(表示!$B$13<=有効積算気温!C133,有効積算気温!$A133,\"\")","v":"2014-08-10"},{"$f":"IF(表示!$B$13<=有効積算気温!D133,有効積算気温!$A133,\"\")","v":"2014-08-10"},{"$f":"IF(表示!$B$13<=有効積算気温!E133,有効積算気温!$A133,\"\")","v":"2014-08-10"},{"$f":"IF(表示!$B$13<=有効積算気温!F133,有効積算気温!$A133,\"\")","v":"2014-08-10"},{"$f":"IF(表示!$B$13<=有効積算気温!G133,有効積算気温!$A133,\"\")","v":"2014-08-10"},{"$f":"IF(表示!$B$13<=有効積算気温!H133,有効積算気温!$A133,\"\")","v":"2014-08-10"},{"$f":"IF(表示!$B$13<=有効積算気温!I133,有効積算気温!$A133,\"\")","v":"2014-08-10"},{"$f":"IF(表示!$B$13<=有効積算気温!J133,有効積算気温!$A133,\"\")","v":"2014-08-10"},{"$f":"IF(表示!$B$13<=有効積算気温!K133,有効積算気温!$A133,\"\")","v":"2014-08-10"},{"$f":"IF(表示!$B$13<=有効積算気温!L133,有効積算気温!$A133,\"\")","v":"2014-08-10"},{"$f":"IF(表示!$B$13<=有効積算気温!M133,有効積算気温!$A133,\"\")","v":"2014-08-10"},{"$f":"IF(表示!$B$13<=有効積算気温!N133,有効積算気温!$A133,\"\")","v":"2014-08-10"},{"$f":"IF(表示!$B$13<=有効積算気温!O133,有効積算気温!$A133,\"\")","v":"2014-08-10"},{"$f":"IF(表示!$B$13<=有効積算気温!P133,有効積算気温!$A133,\"\")","v":"2014-08-10"},{"$f":"IF(表示!$B$13<=有効積算気温!Q133,有効積算気温!$A133,\"\")","v":"2014-08-10"},{"$f":"IF(表示!$B$13<=有効積算気温!R133,有効積算気温!$A133,\"\")","v":"2014-08-10"},{"$f":"IF(表示!$B$13<=有効積算気温!S133,有効積算気温!$A133,\"\")","v":"2014-08-10"},{"$f":"IF(表示!$B$13<=有効積算気温!T133,有効積算気温!$A133,\"\")","v":"2014-08-10"},{"$f":"IF(表示!$B$13<=有効積算気温!U133,有効積算気温!$A133,\"\")","v":"2014-08-10"},null,null,null,null,{"$f":"IF(表示!$B$13<=有効積算気温!Z133,有効積算気温!$A133,\"\")","v":"2014-08-10"}]
["2014-08-11",{"$f":"IF(表示!$B$13<=有効積算気温!B134,有効積算気温!$A134,\"\")","v":"2014-08-11"},{"$f":"IF(表示!$B$13<=有効積算気温!C134,有効積算気温!$A134,\"\")","v":"2014-08-11"},{"$f":"IF(表示!$B$13<=有効積算気温!D134,有効積算気温!$A134,\"\")","v":"2014-08-11"},{"$f":"IF(表示!$B$13<=有効積算気温!E134,有効積算気温!$A134,\"\")","v":"2014-08-11"},{"$f":"IF(表示!$B$13<=有効積算気温!F134,有効積算気温!$A134,\"\")","v":"2014-08-11"},{"$f":"IF(表示!$B$13<=有効積算気温!G134,有効積算気温!$A134,\"\")","v":"2014-08-11"},{"$f":"IF(表示!$B$13<=有効積算気温!H134,有効積算気温!$A134,\"\")","v":"2014-08-11"},{"$f":"IF(表示!$B$13<=有効積算気温!I134,有効積算気温!$A134,\"\")","v":"2014-08-11"},{"$f":"IF(表示!$B$13<=有効積算気温!J134,有効積算気温!$A134,\"\")","v":"2014-08-11"},{"$f":"IF(表示!$B$13<=有効積算気温!K134,有効積算気温!$A134,\"\")","v":"2014-08-11"},{"$f":"IF(表示!$B$13<=有効積算気温!L134,有効積算気温!$A134,\"\")","v":"2014-08-11"},{"$f":"IF(表示!$B$13<=有効積算気温!M134,有効積算気温!$A134,\"\")","v":"2014-08-11"},{"$f":"IF(表示!$B$13<=有効積算気温!N134,有効積算気温!$A134,\"\")","v":"2014-08-11"},{"$f":"IF(表示!$B$13<=有効積算気温!O134,有効積算気温!$A134,\"\")","v":"2014-08-11"},{"$f":"IF(表示!$B$13<=有効積算気温!P134,有効積算気温!$A134,\"\")","v":"2014-08-11"},{"$f":"IF(表示!$B$13<=有効積算気温!Q134,有効積算気温!$A134,\"\")","v":"2014-08-11"},{"$f":"IF(表示!$B$13<=有効積算気温!R134,有効積算気温!$A134,\"\")","v":"2014-08-11"},{"$f":"IF(表示!$B$13<=有効積算気温!S134,有効積算気温!$A134,\"\")","v":"2014-08-11"},{"$f":"IF(表示!$B$13<=有効積算気温!T134,有効積算気温!$A134,\"\")","v":"2014-08-11"},{"$f":"IF(表示!$B$13<=有効積算気温!U134,有効積算気温!$A134,\"\")","v":"2014-08-11"},null,null,null,null,{"$f":"IF(表示!$B$13<=有効積算気温!Z134,有効積算気温!$A134,\"\")","v":"2014-08-11"}]
["2014-08-12",{"$f":"IF(表示!$B$13<=有効積算気温!B135,有効積算気温!$A135,\"\")","v":"2014-08-12"},{"$f":"IF(表示!$B$13<=有効積算気温!C135,有効積算気温!$A135,\"\")","v":"2014-08-12"},{"$f":"IF(表示!$B$13<=有効積算気温!D135,有効積算気温!$A135,\"\")","v":"2014-08-12"},{"$f":"IF(表示!$B$13<=有効積算気温!E135,有効積算気温!$A135,\"\")","v":"2014-08-12"},{"$f":"IF(表示!$B$13<=有効積算気温!F135,有効積算気温!$A135,\"\")","v":"2014-08-12"},{"$f":"IF(表示!$B$13<=有効積算気温!G135,有効積算気温!$A135,\"\")","v":"2014-08-12"},{"$f":"IF(表示!$B$13<=有効積算気温!H135,有効積算気温!$A135,\"\")","v":"2014-08-12"},{"$f":"IF(表示!$B$13<=有効積算気温!I135,有効積算気温!$A135,\"\")","v":"2014-08-12"},{"$f":"IF(表示!$B$13<=有効積算気温!J135,有効積算気温!$A135,\"\")","v":"2014-08-12"},{"$f":"IF(表示!$B$13<=有効積算気温!K135,有効積算気温!$A135,\"\")","v":"2014-08-12"},{"$f":"IF(表示!$B$13<=有効積算気温!L135,有効積算気温!$A135,\"\")","v":"2014-08-12"},{"$f":"IF(表示!$B$13<=有効積算気温!M135,有効積算気温!$A135,\"\")","v":"2014-08-12"},{"$f":"IF(表示!$B$13<=有効積算気温!N135,有効積算気温!$A135,\"\")","v":"2014-08-12"},{"$f":"IF(表示!$B$13<=有効積算気温!O135,有効積算気温!$A135,\"\")","v":"2014-08-12"},{"$f":"IF(表示!$B$13<=有効積算気温!P135,有効積算気温!$A135,\"\")","v":"2014-08-12"},{"$f":"IF(表示!$B$13<=有効積算気温!Q135,有効積算気温!$A135,\"\")","v":"2014-08-12"},{"$f":"IF(表示!$B$13<=有効積算気温!R135,有効積算気温!$A135,\"\")","v":"2014-08-12"},{"$f":"IF(表示!$B$13<=有効積算気温!S135,有効積算気温!$A135,\"\")","v":"2014-08-12"},{"$f":"IF(表示!$B$13<=有効積算気温!T135,有効積算気温!$A135,\"\")","v":"2014-08-12"},{"$f":"IF(表示!$B$13<=有効積算気温!U135,有効積算気温!$A135,\"\")","v":"2014-08-12"},null,null,null,null,{"$f":"IF(表示!$B$13<=有効積算気温!Z135,有効積算気温!$A135,\"\")","v":"2014-08-12"}]
["2014-08-13",{"$f":"IF(表示!$B$13<=有効積算気温!B136,有効積算気温!$A136,\"\")","v":"2014-08-13"},{"$f":"IF(表示!$B$13<=有効積算気温!C136,有効積算気温!$A136,\"\")","v":"2014-08-13"},{"$f":"IF(表示!$B$13<=有効積算気温!D136,有効積算気温!$A136,\"\")","v":"2014-08-13"},{"$f":"IF(表示!$B$13<=有効積算気温!E136,有効積算気温!$A136,\"\")","v":"2014-08-13"},{"$f":"IF(表示!$B$13<=有効積算気温!F136,有効積算気温!$A136,\"\")","v":"2014-08-13"},{"$f":"IF(表示!$B$13<=有効積算気温!G136,有効積算気温!$A136,\"\")","v":"2014-08-13"},{"$f":"IF(表示!$B$13<=有効積算気温!H136,有効積算気温!$A136,\"\")","v":"2014-08-13"},{"$f":"IF(表示!$B$13<=有効積算気温!I136,有効積算気温!$A136,\"\")","v":"2014-08-13"},{"$f":"IF(表示!$B$13<=有効積算気温!J136,有効積算気温!$A136,\"\")","v":"2014-08-13"},{"$f":"IF(表示!$B$13<=有効積算気温!K136,有効積算気温!$A136,\"\")","v":"2014-08-13"},{"$f":"IF(表示!$B$13<=有効積算気温!L136,有効積算気温!$A136,\"\")","v":"2014-08-13"},{"$f":"IF(表示!$B$13<=有効積算気温!M136,有効積算気温!$A136,\"\")","v":"2014-08-13"},{"$f":"IF(表示!$B$13<=有効積算気温!N136,有効積算気温!$A136,\"\")","v":"2014-08-13"},{"$f":"IF(表示!$B$13<=有効積算気温!O136,有効積算気温!$A136,\"\")","v":"2014-08-13"},{"$f":"IF(表示!$B$13<=有効積算気温!P136,有効積算気温!$A136,\"\")","v":"2014-08-13"},{"$f":"IF(表示!$B$13<=有効積算気温!Q136,有効積算気温!$A136,\"\")","v":"2014-08-13"},{"$f":"IF(表示!$B$13<=有効積算気温!R136,有効積算気温!$A136,\"\")","v":"2014-08-13"},{"$f":"IF(表示!$B$13<=有効積算気温!S136,有効積算気温!$A136,\"\")","v":"2014-08-13"},{"$f":"IF(表示!$B$13<=有効積算気温!T136,有効積算気温!$A136,\"\")","v":"2014-08-13"},{"$f":"IF(表示!$B$13<=有効積算気温!U136,有効積算気温!$A136,\"\")","v":"2014-08-13"},null,null,null,null,{"$f":"IF(表示!$B$13<=有効積算気温!Z136,有効積算気温!$A136,\"\")","v":"2014-08-13"}]
["2014-08-14",{"$f":"IF(表示!$B$13<=有効積算気温!B137,有効積算気温!$A137,\"\")","v":"2014-08-14"},{"$f":"IF(表示!$B$13<=有効積算気温!C137,有効積算気温!$A137,\"\")","v":"2014-08-14"},{"$f":"IF(表示!$B$13<=有効積算気温!D137,有効積算気温!$A137,\"\")","v":"2014-08-14"},{"$f":"IF(表示!$B$13<=有効積算気温!E137,有効積算気温!$A137,\"\")","v":"2014-08-14"},{"$f":"IF(表示!$B$13<=有効積算気温!F137,有効積算気温!$A137,\"\")","v":"2014-08-14"},{"$f":"IF(表示!$B$13<=有効積算気温!G137,有効積算気温!$A137,\"\")","v":"2014-08-14"},{"$f":"IF(表示!$B$13<=有効積算気温!H137,有効積算気温!$A137,\"\")","v":"2014-08-14"},{"$f":"IF(表示!$B$13<=有効積算気温!I137,有効積算気温!$A137,\"\")","v":"2014-08-14"},{"$f":"IF(表示!$B$13<=有効積算気温!J137,有効積算気温!$A137,\"\")","v":"2014-08-14"},{"$f":"IF(表示!$B$13<=有効積算気温!K137,有効積算気温!$A137,\"\")","v":"2014-08-14"},{"$f":"IF(表示!$B$13<=有効積算気温!L137,有効積算気温!$A137,\"\")","v":"2014-08-14"},{"$f":"IF(表示!$B$13<=有効積算気温!M137,有効積算気温!$A137,\"\")","v":"2014-08-14"},{"$f":"IF(表示!$B$13<=有効積算気温!N137,有効積算気温!$A137,\"\")","v":"2014-08-14"},{"$f":"IF(表示!$B$13<=有効積算気温!O137,有効積算気温!$A137,\"\")","v":"2014-08-14"},{"$f":"IF(表示!$B$13<=有効積算気温!P137,有効積算気温!$A137,\"\")","v":"2014-08-14"},{"$f":"IF(表示!$B$13<=有効積算気温!Q137,有効積算気温!$A137,\"\")","v":"2014-08-14"},{"$f":"IF(表示!$B$13<=有効積算気温!R137,有効積算気温!$A137,\"\")","v":"2014-08-14"},{"$f":"IF(表示!$B$13<=有効積算気温!S137,有効積算気温!$A137,\"\")","v":"2014-08-14"},{"$f":"IF(表示!$B$13<=有効積算気温!T137,有効積算気温!$A137,\"\")","v":"2014-08-14"},{"$f":"IF(表示!$B$13<=有効積算気温!U137,有効積算気温!$A137,\"\")","v":"2014-08-14"},null,null,null,null,{"$f":"IF(表示!$B$13<=有効積算気温!Z137,有効積算気温!$A137,\"\")","v":"2014-08-14"}]
["2014-08-15",{"$f":"IF(表示!$B$13<=有効積算気温!B138,有効積算気温!$A138,\"\")","v":"2014-08-15"},{"$f":"IF(表示!$B$13<=有効積算気温!C138,有効積算気温!$A138,\"\")","v":"2014-08-15"},{"$f":"IF(表示!$B$13<=有効積算気温!D138,有効積算気温!$A138,\"\")","v":"2014-08-15"},{"$f":"IF(表示!$B$13<=有効積算気温!E138,有効積算気温!$A138,\"\")","v":"2014-08-15"},{"$f":"IF(表示!$B$13<=有効積算気温!F138,有効積算気温!$A138,\"\")","v":"2014-08-15"},{"$f":"IF(表示!$B$13<=有効積算気温!G138,有効積算気温!$A138,\"\")","v":"2014-08-15"},{"$f":"IF(表示!$B$13<=有効積算気温!H138,有効積算気温!$A138,\"\")","v":"2014-08-15"},{"$f":"IF(表示!$B$13<=有効積算気温!I138,有効積算気温!$A138,\"\")","v":"2014-08-15"},{"$f":"IF(表示!$B$13<=有効積算気温!J138,有効積算気温!$A138,\"\")","v":"2014-08-15"},{"$f":"IF(表示!$B$13<=有効積算気温!K138,有効積算気温!$A138,\"\")","v":"2014-08-15"},{"$f":"IF(表示!$B$13<=有効積算気温!L138,有効積算気温!$A138,\"\")","v":"2014-08-15"},{"$f":"IF(表示!$B$13<=有効積算気温!M138,有効積算気温!$A138,\"\")","v":"2014-08-15"},{"$f":"IF(表示!$B$13<=有効積算気温!N138,有効積算気温!$A138,\"\")","v":"2014-08-15"},{"$f":"IF(表示!$B$13<=有効積算気温!O138,有効積算気温!$A138,\"\")","v":"2014-08-15"},{"$f":"IF(表示!$B$13<=有効積算気温!P138,有効積算気温!$A138,\"\")","v":"2014-08-15"},{"$f":"IF(表示!$B$13<=有効積算気温!Q138,有効積算気温!$A138,\"\")","v":"2014-08-15"},{"$f":"IF(表示!$B$13<=有効積算気温!R138,有効積算気温!$A138,\"\")","v":"2014-08-15"},{"$f":"IF(表示!$B$13<=有効積算気温!S138,有効積算気温!$A138,\"\")","v":"2014-08-15"},{"$f":"IF(表示!$B$13<=有効積算気温!T138,有効積算気温!$A138,\"\")","v":"2014-08-15"},{"$f":"IF(表示!$B$13<=有効積算気温!U138,有効積算気温!$A138,\"\")","v":"2014-08-15"},null,null,null,null,{"$f":"IF(表示!$B$13<=有効積算気温!Z138,有効積算気温!$A138,\"\")","v":"2014-08-15"}]
["2014-08-16",{"$f":"IF(表示!$B$13<=有効積算気温!B139,有効積算気温!$A139,\"\")","v":"2014-08-16"},{"$f":"IF(表示!$B$13<=有効積算気温!C139,有効積算気温!$A139,\"\")","v":"2014-08-16"},{"$f":"IF(表示!$B$13<=有効積算気温!D139,有効積算気温!$A139,\"\")","v":"2014-08-16"},{"$f":"IF(表示!$B$13<=有効積算気温!E139,有効積算気温!$A139,\"\")","v":"2014-08-16"},{"$f":"IF(表示!$B$13<=有効積算気温!F139,有効積算気温!$A139,\"\")","v":"2014-08-16"},{"$f":"IF(表示!$B$13<=有効積算気温!G139,有効積算気温!$A139,\"\")","v":"2014-08-16"},{"$f":"IF(表示!$B$13<=有効積算気温!H139,有効積算気温!$A139,\"\")","v":"2014-08-16"},{"$f":"IF(表示!$B$13<=有効積算気温!I139,有効積算気温!$A139,\"\")","v":"2014-08-16"},{"$f":"IF(表示!$B$13<=有効積算気温!J139,有効積算気温!$A139,\"\")","v":"2014-08-16"},{"$f":"IF(表示!$B$13<=有効積算気温!K139,有効積算気温!$A139,\"\")","v":"2014-08-16"},{"$f":"IF(表示!$B$13<=有効積算気温!L139,有効積算気温!$A139,\"\")","v":"2014-08-16"},{"$f":"IF(表示!$B$13<=有効積算気温!M139,有効積算気温!$A139,\"\")","v":"2014-08-16"},{"$f":"IF(表示!$B$13<=有効積算気温!N139,有効積算気温!$A139,\"\")","v":"2014-08-16"},{"$f":"IF(表示!$B$13<=有効積算気温!O139,有効積算気温!$A139,\"\")","v":"2014-08-16"},{"$f":"IF(表示!$B$13<=有効積算気温!P139,有効積算気温!$A139,\"\")","v":"2014-08-16"},{"$f":"IF(表示!$B$13<=有効積算気温!Q139,有効積算気温!$A139,\"\")","v":"2014-08-16"},{"$f":"IF(表示!$B$13<=有効積算気温!R139,有効積算気温!$A139,\"\")","v":"2014-08-16"},{"$f":"IF(表示!$B$13<=有効積算気温!S139,有効積算気温!$A139,\"\")","v":"2014-08-16"},{"$f":"IF(表示!$B$13<=有効積算気温!T139,有効積算気温!$A139,\"\")","v":"2014-08-16"},{"$f":"IF(表示!$B$13<=有効積算気温!U139,有効積算気温!$A139,\"\")","v":"2014-08-16"},null,null,null,null,{"$f":"IF(表示!$B$13<=有効積算気温!Z139,有効積算気温!$A139,\"\")","v":"2014-08-16"}]
["2014-08-17",{"$f":"IF(表示!$B$13<=有効積算気温!B140,有効積算気温!$A140,\"\")","v":"2014-08-17"},{"$f":"IF(表示!$B$13<=有効積算気温!C140,有効積算気温!$A140,\"\")","v":"2014-08-17"},{"$f":"IF(表示!$B$13<=有効積算気温!D140,有効積算気温!$A140,\"\")","v":"2014-08-17"},{"$f":"IF(表示!$B$13<=有効積算気温!E140,有効積算気温!$A140,\"\")","v":"2014-08-17"},{"$f":"IF(表示!$B$13<=有効積算気温!F140,有効積算気温!$A140,\"\")","v":"2014-08-17"},{"$f":"IF(表示!$B$13<=有効積算気温!G140,有効積算気温!$A140,\"\")","v":"2014-08-17"},{"$f":"IF(表示!$B$13<=有効積算気温!H140,有効積算気温!$A140,\"\")","v":"2014-08-17"},{"$f":"IF(表示!$B$13<=有効積算気温!I140,有効積算気温!$A140,\"\")","v":"2014-08-17"},{"$f":"IF(表示!$B$13<=有効積算気温!J140,有効積算気温!$A140,\"\")","v":"2014-08-17"},{"$f":"IF(表示!$B$13<=有効積算気温!K140,有効積算気温!$A140,\"\")","v":"2014-08-17"},{"$f":"IF(表示!$B$13<=有効積算気温!L140,有効積算気温!$A140,\"\")","v":"2014-08-17"},{"$f":"IF(表示!$B$13<=有効積算気温!M140,有効積算気温!$A140,\"\")","v":"2014-08-17"},{"$f":"IF(表示!$B$13<=有効積算気温!N140,有効積算気温!$A140,\"\")","v":"2014-08-17"},{"$f":"IF(表示!$B$13<=有効積算気温!O140,有効積算気温!$A140,\"\")","v":"2014-08-17"},{"$f":"IF(表示!$B$13<=有効積算気温!P140,有効積算気温!$A140,\"\")","v":"2014-08-17"},{"$f":"IF(表示!$B$13<=有効積算気温!Q140,有効積算気温!$A140,\"\")","v":"2014-08-17"},{"$f":"IF(表示!$B$13<=有効積算気温!R140,有効積算気温!$A140,\"\")","v":"2014-08-17"},{"$f":"IF(表示!$B$13<=有効積算気温!S140,有効積算気温!$A140,\"\")","v":"2014-08-17"},{"$f":"IF(表示!$B$13<=有効積算気温!T140,有効積算気温!$A140,\"\")","v":"2014-08-17"},{"$f":"IF(表示!$B$13<=有効積算気温!U140,有効積算気温!$A140,\"\")","v":"2014-08-17"},null,null,null,null,{"$f":"IF(表示!$B$13<=有効積算気温!Z140,有効積算気温!$A140,\"\")","v":"2014-08-17"}]
["2014-08-18",{"$f":"IF(表示!$B$13<=有効積算気温!B141,有効積算気温!$A141,\"\")","v":"2014-08-18"},{"$f":"IF(表示!$B$13<=有効積算気温!C141,有効積算気温!$A141,\"\")","v":"2014-08-18"},{"$f":"IF(表示!$B$13<=有効積算気温!D141,有効積算気温!$A141,\"\")","v":"2014-08-18"},{"$f":"IF(表示!$B$13<=有効積算気温!E141,有効積算気温!$A141,\"\")","v":"2014-08-18"},{"$f":"IF(表示!$B$13<=有効積算気温!F141,有効積算気温!$A141,\"\")","v":"2014-08-18"},{"$f":"IF(表示!$B$13<=有効積算気温!G141,有効積算気温!$A141,\"\")","v":"2014-08-18"},{"$f":"IF(表示!$B$13<=有効積算気温!H141,有効積算気温!$A141,\"\")","v":"2014-08-18"},{"$f":"IF(表示!$B$13<=有効積算気温!I141,有効積算気温!$A141,\"\")","v":"2014-08-18"},{"$f":"IF(表示!$B$13<=有効積算気温!J141,有効積算気温!$A141,\"\")","v":"2014-08-18"},{"$f":"IF(表示!$B$13<=有効積算気温!K141,有効積算気温!$A141,\"\")","v":"2014-08-18"},{"$f":"IF(表示!$B$13<=有効積算気温!L141,有効積算気温!$A141,\"\")","v":"2014-08-18"},{"$f":"IF(表示!$B$13<=有効積算気温!M141,有効積算気温!$A141,\"\")","v":"2014-08-18"},{"$f":"IF(表示!$B$13<=有効積算気温!N141,有効積算気温!$A141,\"\")","v":"2014-08-18"},{"$f":"IF(表示!$B$13<=有効積算気温!O141,有効積算気温!$A141,\"\")","v":"2014-08-18"},{"$f":"IF(表示!$B$13<=有効積算気温!P141,有効積算気温!$A141,\"\")","v":"2014-08-18"},{"$f":"IF(表示!$B$13<=有効積算気温!Q141,有効積算気温!$A141,\"\")","v":""},{"$f":"IF(表示!$B$13<=有効積算気温!R141,有効積算気温!$A141,\"\")","v":""},{"$f":"IF(表示!$B$13<=有効積算気温!S141,有効積算気温!$A141,\"\")","v":"2014-08-18"},{"$f":"IF(表示!$B$13<=有効積算気温!T141,有効積算気温!$A141,\"\")","v":""},{"$f":"IF(表示!$B$13<=有効積算気温!U141,有効積算気温!$A141,\"\")","v":"2014-08-18"},null,null,null,null,{"$f":"IF(表示!$B$13<=有効積算気温!Z141,有効積算気温!$A141,\"\")","v":"2014-08-18"}]
["2014-08-19",{"$f":"IF(表示!$B$13<=有効積算気温!B142,有効積算気温!$A142,\"\")","v":"2014-08-19"},{"$f":"IF(表示!$B$13<=有効積算気温!C142,有効積算気温!$A142,\"\")","v":"2014-08-19"},{"$f":"IF(表示!$B$13<=有効積算気温!D142,有効積算気温!$A142,\"\")","v":"2014-08-19"},{"$f":"IF(表示!$B$13<=有効積算気温!E142,有効積算気温!$A142,\"\")","v":"2014-08-19"},{"$f":"IF(表示!$B$13<=有効積算気温!F142,有効積算気温!$A142,\"\")","v":"2014-08-19"},{"$f":"IF(表示!$B$13<=有効積算気温!G142,有効積算気温!$A142,\"\")","v":"2014-08-19"},{"$f":"IF(表示!$B$13<=有効積算気温!H142,有効積算気温!$A142,\"\")","v":"2014-08-19"},{"$f":"IF(表示!$B$13<=有効積算気温!I142,有効積算気温!$A142,\"\")","v":"2014-08-19"},{"$f":"IF(表示!$B$13<=有効積算気温!J142,有効積算気温!$A142,\"\")","v":"2014-08-19"},{"$f":"IF(表示!$B$13<=有効積算気温!K142,有効積算気温!$A142,\"\")","v":"2014-08-19"},{"$f":"IF(表示!$B$13<=有効積算気温!L142,有効積算気温!$A142,\"\")","v":""},{"$f":"IF(表示!$B$13<=有効積算気温!M142,有効積算気温!$A142,\"\")","v":"2014-08-19"},{"$f":"IF(表示!$B$13<=有効積算気温!N142,有効積算気温!$A142,\"\")","v":"2014-08-19"},{"$f":"IF(表示!$B$13<=有効積算気温!O142,有効積算気温!$A142,\"\")","v":"2014-08-19"},{"$f":"IF(表示!$B$13<=有効積算気温!P142,有効積算気温!$A142,\"\")","v":"2014-08-19"},{"$f":"IF(表示!$B$13<=有効積算気温!Q142,有効積算気温!$A142,\"\")","v":""},{"$f":"IF(表示!$B$13<=有効積算気温!R142,有効積算気温!$A142,\"\")","v":""},{"$f":"IF(表示!$B$13<=有効積算気温!S142,有効積算気温!$A142,\"\")","v":"2014-08-19"},{"$f":"IF(表示!$B$13<=有効積算気温!T142,有効積算気温!$A142,\"\")","v":""},{"$f":"IF(表示!$B$13<=有効積算気温!U142,有効積算気温!$A142,\"\")","v":"2014-08-19"},null,null,null,null,{"$f":"IF(表示!$B$13<=有効積算気温!Z142,有効積算気温!$A142,\"\")","v":"2014-08-19"}]
["2014-08-20",{"$f":"IF(表示!$B$13<=有効積算気温!B143,有効積算気温!$A143,\"\")","v":"2014-08-20"},{"$f":"IF(表示!$B$13<=有効積算気温!C143,有効積算気温!$A143,\"\")","v":"2014-08-20"},{"$f":"IF(表示!$B$13<=有効積算気温!D143,有効積算気温!$A143,\"\")","v":""},{"$f":"IF(表示!$B$13<=有効積算気温!E143,有効積算気温!$A143,\"\")","v":""},{"$f":"IF(表示!$B$13<=有効積算気温!F143,有効積算気温!$A143,\"\")","v":""},{"$f":"IF(表示!$B$13<=有効積算気温!G143,有効積算気温!$A143,\"\")","v":"2014-08-20"},{"$f":"IF(表示!$B$13<=有効積算気温!H143,有効積算気温!$A143,\"\")","v":"2014-08-20"},{"$f":"IF(表示!$B$13<=有効積算気温!I143,有効積算気温!$A143,\"\")","v":"2014-08-20"},{"$f":"IF(表示!$B$13<=有効積算気温!J143,有効積算気温!$A143,\"\")","v":"2014-08-20"},{"$f":"IF(表示!$B$13<=有効積算気温!K143,有効積算気温!$A143,\"\")","v":"2014-08-20"},{"$f":"IF(表示!$B$13<=有効積算気温!L143,有効積算気温!$A143,\"\")","v":""},{"$f":"IF(表示!$B$13<=有効積算気温!M143,有効積算気温!$A143,\"\")","v":"2014-08-20"},{"$f":"IF(表示!$B$13<=有効積算気温!N143,有効積算気温!$A143,\"\")","v":"2014-08-20"},{"$f":"IF(表示!$B$13<=有効積算気温!O143,有効積算気温!$A143,\"\")","v":"2014-08-20"},{"$f":"IF(表示!$B$13<=有効積算気温!P143,有効積算気温!$A143,\"\")","v":"2014-08-20"},{"$f":"IF(表示!$B$13<=有効積算気温!Q143,有効積算気温!$A143,\"\")","v":""},{"$f":"IF(表示!$B$13<=有効積算気温!R143,有効積算気温!$A143,\"\")","v":""},{"$f":"IF(表示!$B$13<=有効積算気温!S143,有効積算気温!$A143,\"\")","v":"2014-08-20"},{"$f":"IF(表示!$B$13<=有効積算気温!T143,有効積算気温!$A143,\"\")","v":""},{"$f":"IF(表示!$B$13<=有効積算気温!U143,有効積算気温!$A143,\"\")","v":"2014-08-20"},null,null,null,null,{"$f":"IF(表示!$B$13<=有効積算気温!Z143,有効積算気温!$A143,\"\")","v":"2014-08-20"}]
["2014-08-21",{"$f":"IF(表示!$B$13<=有効積算気温!B144,有効積算気温!$A144,\"\")","v":"2014-08-21"},{"$f":"IF(表示!$B$13<=有効積算気温!C144,有効積算気温!$A144,\"\")","v":"2014-08-21"},{"$f":"IF(表示!$B$13<=有効積算気温!D144,有効積算気温!$A144,\"\")","v":""},{"$f":"IF(表示!$B$13<=有効積算気温!E144,有効積算気温!$A144,\"\")","v":""},{"$f":"IF(表示!$B$13<=有効積算気温!F144,有効積算気温!$A144,\"\")","v":""},{"$f":"IF(表示!$B$13<=有効積算気温!G144,有効積算気温!$A144,\"\")","v":"2014-08-21"},{"$f":"IF(表示!$B$13<=有効積算気温!H144,有効積算気温!$A144,\"\")","v":"2014-08-21"},{"$f":"IF(表示!$B$13<=有効積算気温!I144,有効積算気温!$A144,\"\")","v":"2014-08-21"},{"$f":"IF(表示!$B$13<=有効積算気温!J144,有効積算気温!$A144,\"\")","v":"2014-08-21"},{"$f":"IF(表示!$B$13<=有効積算気温!K144,有効積算気温!$A144,\"\")","v":"2014-08-21"},{"$f":"IF(表示!$B$13<=有効積算気温!L144,有効積算気温!$A144,\"\")","v":""},{"$f":"IF(表示!$B$13<=有効積算気温!M144,有効積算気温!$A144,\"\")","v":"2014-08-21"},{"$f":"IF(表示!$B$13<=有効積算気温!N144,有効積算気温!$A144,\"\")","v":"2014-08-21"},{"$f":"IF(表示!$B$13<=有効積算気温!O144,有効積算気温!$A144,\"\")","v":"2014-08-21"},{"$f":"IF(表示!$B$13<=有効積算気温!P144,有効積算気温!$A144,\"\")","v":"2014-08-21"},{"$f":"IF(表示!$B$13<=有効積算気温!Q144,有効積算気温!$A144,\"\")","v":""},{"$f":"IF(表示!$B$13<=有効積算気温!R144,有効積算気温!$A144,\"\")","v":""},{"$f":"IF(表示!$B$13<=有効積算気温!S144,有効積算気温!$A144,\"\")","v":"2014-08-21"},{"$f":"IF(表示!$B$13<=有効積算気温!T144,有効積算気温!$A144,\"\")","v":""},{"$f":"IF(表示!$B$13<=有効積算気温!U144,有効積算気温!$A144,\"\")","v":"2014-08-21"},null,null,null,null,{"$f":"IF(表示!$B$13<=有効積算気温!Z144,有効積算気温!$A144,\"\")","v":"2014-08-21"}]
["2014-08-22",{"$f":"IF(表示!$B$13<=有効積算気温!B145,有効積算気温!$A145,\"\")","v":"2014-08-22"},{"$f":"IF(表示!$B$13<=有効積算気温!C145,有効積算気温!$A145,\"\")","v":"2014-08-22"},{"$f":"IF(表示!$B$13<=有効積算気温!D145,有効積算気温!$A145,\"\")","v":""},{"$f":"IF(表示!$B$13<=有効積算気温!E145,有効積算気温!$A145,\"\")","v":""},{"$f":"IF(表示!$B$13<=有効積算気温!F145,有効積算気温!$A145,\"\")","v":""},{"$f":"IF(表示!$B$13<=有効積算気温!G145,有効積算気温!$A145,\"\")","v":""},{"$f":"IF(表示!$B$13<=有効積算気温!H145,有効積算気温!$A145,\"\")","v":"2014-08-22"},{"$f":"IF(表示!$B$13<=有効積算気温!I145,有効積算気温!$A145,\"\")","v":"2014-08-22"},{"$f":"IF(表示!$B$13<=有効積算気温!J145,有効積算気温!$A145,\"\")","v":""},{"$f":"IF(表示!$B$13<=有効積算気温!K145,有効積算気温!$A145,\"\")","v":"2014-08-22"},{"$f":"IF(表示!$B$13<=有効積算気温!L145,有効積算気温!$A145,\"\")","v":""},{"$f":"IF(表示!$B$13<=有効積算気温!M145,有効積算気温!$A145,\"\")","v":"2014-08-22"},{"$f":"IF(表示!$B$13<=有効積算気温!N145,有効積算気温!$A145,\"\")","v":"2014-08-22"},{"$f":"IF(表示!$B$13<=有効積算気温!O145,有効積算気温!$A145,\"\")","v":"2014-08-22"},{"$f":"IF(表示!$B$13<=有効積算気温!P145,有効積算気温!$A145,\"\")","v":"2014-08-22"},{"$f":"IF(表示!$B$13<=有効積算気温!Q145,有効積算気温!$A145,\"\")","v":""},{"$f":"IF(表示!$B$13<=有効積算気温!R145,有効積算気温!$A145,\"\")","v":""},{"$f":"IF(表示!$B$13<=有効積算気温!S145,有効積算気温!$A145,\"\")","v":"2014-08-22"},{"$f":"IF(表示!$B$13<=有効積算気温!T145,有効積算気温!$A145,\"\")","v":""},{"$f":"IF(表示!$B$13<=有効積算気温!U145,有効積算気温!$A145,\"\")","v":""},null,null,null,null,{"$f":"IF(表示!$B$13<=有効積算気温!Z145,有効積算気温!$A145,\"\")","v":""}]
["2014-08-23",{"$f":"IF(表示!$B$13<=有効積算気温!B146,有効積算気温!$A146,\"\")","v":"2014-08-23"},{"$f":"IF(表示!$B$13<=有効積算気温!C146,有効積算気温!$A146,\"\")","v":"2014-08-23"},{"$f":"IF(表示!$B$13<=有効積算気温!D146,有効積算気温!$A146,\"\")","v":""},{"$f":"IF(表示!$B$13<=有効積算気温!E146,有効積算気温!$A146,\"\")","v":""},{"$f":"IF(表示!$B$13<=有効積算気温!F146,有効積算気温!$A146,\"\")","v":""},{"$f":"IF(表示!$B$13<=有効積算気温!G146,有効積算気温!$A146,\"\")","v":""},{"$f":"IF(表示!$B$13<=有効積算気温!H146,有効積算気温!$A146,\"\")","v":"2014-08-23"},{"$f":"IF(表示!$B$13<=有効積算気温!I146,有効積算気温!$A146,\"\")","v":"2014-08-23"},{"$f":"IF(表示!$B$13<=有効積算気温!J146,有効積算気温!$A146,\"\")","v":""},{"$f":"IF(表示!$B$13<=有効積算気温!K146,有効積算気温!$A146,\"\")","v":"2014-08-23"},{"$f":"IF(表示!$B$13<=有効積算気温!L146,有効積算気温!$A146,\"\")","v":""},{"$f":"IF(表示!$B$13<=有効積算気温!M146,有効積算気温!$A146,\"\")","v":"2014-08-23"},{"$f":"IF(表示!$B$13<=有効積算気温!N146,有効積算気温!$A146,\"\")","v":"2014-08-23"},{"$f":"IF(表示!$B$13<=有効積算気温!O146,有効積算気温!$A146,\"\")","v":"2014-08-23"},{"$f":"IF(表示!$B$13<=有効積算気温!P146,有効積算気温!$A146,\"\")","v":"2014-08-23"},{"$f":"IF(表示!$B$13<=有効積算気温!Q146,有効積算気温!$A146,\"\")","v":""},{"$f":"IF(表示!$B$13<=有効積算気温!R146,有効積算気温!$A146,\"\")","v":""},{"$f":"IF(表示!$B$13<=有効積算気温!S146,有効積算気温!$A146,\"\")","v":"2014-08-23"},{"$f":"IF(表示!$B$13<=有効積算気温!T146,有効積算気温!$A146,\"\")","v":""},{"$f":"IF(表示!$B$13<=有効積算気温!U146,有効積算気温!$A146,\"\")","v":""},null,null,null,null,{"$f":"IF(表示!$B$13<=有効積算気温!Z146,有効積算気温!$A146,\"\")","v":""}]
["2014-08-24",{"$f":"IF(表示!$B$13<=有効積算気温!B147,有効積算気温!$A147,\"\")","v":"2014-08-24"},{"$f":"IF(表示!$B$13<=有効積算気温!C147,有効積算気温!$A147,\"\")","v":"2014-08-24"},{"$f":"IF(表示!$B$13<=有効積算気温!D147,有効積算気温!$A147,\"\")","v":""},{"$f":"IF(表示!$B$13<=有効積算気温!E147,有効積算気温!$A147,\"\")","v":""},{"$f":"IF(表示!$B$13<=有効積算気温!F147,有効積算気温!$A147,\"\")","v":""},{"$f":"IF(表示!$B$13<=有効積算気温!G147,有効積算気温!$A147,\"\")","v":""},{"$f":"IF(表示!$B$13<=有効積算気温!H147,有効積算気温!$A147,\"\")","v":"2014-08-24"},{"$f":"IF(表示!$B$13<=有効積算気温!I147,有効積算気温!$A147,\"\")","v":""},{"$f":"IF(表示!$B$13<=有効積算気温!J147,有効積算気温!$A147,\"\")","v":""},{"$f":"IF(表示!$B$13<=有効積算気温!K147,有効積算気温!$A147,\"\")","v":"2014-08-24"},{"$f":"IF(表示!$B$13<=有効積算気温!L147,有効積算気温!$A147,\"\")","v":""},{"$f":"IF(表示!$B$13<=有効積算気温!M147,有効積算気温!$A147,\"\")","v":"2014-08-24"},{"$f":"IF(表示!$B$13<=有効積算気温!N147,有効積算気温!$A147,\"\")","v":"2014-08-24"},{"$f":"IF(表示!$B$13<=有効積算気温!O147,有効積算気温!$A147,\"\")","v":"2014-08-24"},{"$f":"IF(表示!$B$13<=有効積算気温!P147,有効積算気温!$A147,\"\")","v":""},{"$f":"IF(表示!$B$13<=有効積算気温!Q147,有効積算気温!$A147,\"\")","v":""},{"$f":"IF(表示!$B$13<=有効積算気温!R147,有効積算気温!$A147,\"\")","v":""},{"$f":"IF(表示!$B$13<=有効積算気温!S147,有効積算気温!$A147,\"\")","v":""},{"$f":"IF(表示!$B$13<=有効積算気温!T147,有効積算気温!$A147,\"\")","v":""},{"$f":"IF(表示!$B$13<=有効積算気温!U147,有効積算気温!$A147,\"\")","v":""},null,null,null,null,{"$f":"IF(表示!$B$13<=有効積算気温!Z147,有効積算気温!$A147,\"\")","v":""}]
["2014-08-25",{"$f":"IF(表示!$B$13<=有効積算気温!B148,有効積算気温!$A148,\"\")","v":""},{"$f":"IF(表示!$B$13<=有効積算気温!C148,有効積算気温!$A148,\"\")","v":"2014-08-25"},{"$f":"IF(表示!$B$13<=有効積算気温!D148,有効積算気温!$A148,\"\")","v":""},{"$f":"IF(表示!$B$13<=有効積算気温!E148,有効積算気温!$A148,\"\")","v":""},{"$f":"IF(表示!$B$13<=有効積算気温!F148,有効積算気温!$A148,\"\")","v":""},{"$f":"IF(表示!$B$13<=有効積算気温!G148,有効積算気温!$A148,\"\")","v":""},{"$f":"IF(表示!$B$13<=有効積算気温!H148,有効積算気温!$A148,\"\")","v":""},{"$f":"IF(表示!$B$13<=有効積算気温!I148,有効積算気温!$A148,\"\")","v":""},{"$f":"IF(表示!$B$13<=有効積算気温!J148,有効積算気温!$A148,\"\")","v":""},{"$f":"IF(表示!$B$13<=有効積算気温!K148,有効積算気温!$A148,\"\")","v":""},{"$f":"IF(表示!$B$13<=有効積算気温!L148,有効積算気温!$A148,\"\")","v":""},{"$f":"IF(表示!$B$13<=有効積算気温!M148,有効積算気温!$A148,\"\")","v":"2014-08-25"},{"$f":"IF(表示!$B$13<=有効積算気温!N148,有効積算気温!$A148,\"\")","v":""},{"$f":"IF(表示!$B$13<=有効積算気温!O148,有効積算気温!$A148,\"\")","v":"2014-08-25"},{"$f":"IF(表示!$B$13<=有効積算気温!P148,有効積算気温!$A148,\"\")","v":""},{"$f":"IF(表示!$B$13<=有効積算気温!Q148,有効積算気温!$A148,\"\")","v":""},{"$f":"IF(表示!$B$13<=有効積算気温!R148,有効積算気温!$A148,\"\")","v":""},{"$f":"IF(表示!$B$13<=有効積算気温!S148,有効積算気温!$A148,\"\")","v":""},{"$f":"IF(表示!$B$13<=有効積算気温!T148,有効積算気温!$A148,\"\")","v":""},{"$f":"IF(表示!$B$13<=有効積算気温!U148,有効積算気温!$A148,\"\")","v":""},null,null,null,null,{"$f":"IF(表示!$B$13<=有効積算気温!Z148,有効積算気温!$A148,\"\")","v":""}]
["2014-08-26",{"$f":"IF(表示!$B$13<=有効積算気温!B149,有効積算気温!$A149,\"\")","v":""},{"$f":"IF(表示!$B$13<=有効積算気温!C149,有効積算気温!$A149,\"\")","v":""},{"$f":"IF(表示!$B$13<=有効積算気温!D149,有効積算気温!$A149,\"\")","v":""},{"$f":"IF(表示!$B$13<=有効積算気温!E149,有効積算気温!$A149,\"\")","v":""},{"$f":"IF(表示!$B$13<=有効積算気温!F149,有効積算気温!$A149,\"\")","v":""},{"$f":"IF(表示!$B$13<=有効積算気温!G149,有効積算気温!$A149,\"\")","v":""},{"$f":"IF(表示!$B$13<=有効積算気温!H149,有効積算気温!$A149,\"\")","v":""},{"$f":"IF(表示!$B$13<=有効積算気温!I149,有効積算気温!$A149,\"\")","v":""},{"$f":"IF(表示!$B$13<=有効積算気温!J149,有効積算気温!$A149,\"\")","v":""},{"$f":"IF(表示!$B$13<=有効積算気温!K149,有効積算気温!$A149,\"\")","v":""},{"$f":"IF(表示!$B$13<=有効積算気温!L149,有効積算気温!$A149,\"\")","v":""},{"$f":"IF(表示!$B$13<=有効積算気温!M149,有効積算気温!$A149,\"\")","v":"2014-08-26"},{"$f":"IF(表示!$B$13<=有効積算気温!N149,有効積算気温!$A149,\"\")","v":""},{"$f":"IF(表示!$B$13<=有効積算気温!O149,有効積算気温!$A149,\"\")","v":"2014-08-26"},{"$f":"IF(表示!$B$13<=有効積算気温!P149,有効積算気温!$A149,\"\")","v":""},{"$f":"IF(表示!$B$13<=有効積算気温!Q149,有効積算気温!$A149,\"\")","v":""},{"$f":"IF(表示!$B$13<=有効積算気温!R149,有効積算気温!$A149,\"\")","v":""},{"$f":"IF(表示!$B$13<=有効積算気温!S149,有効積算気温!$A149,\"\")","v":""},{"$f":"IF(表示!$B$13<=有効積算気温!T149,有効積算気温!$A149,\"\")","v":""},{"$f":"IF(表示!$B$13<=有効積算気温!U149,有効積算気温!$A149,\"\")","v":""},null,null,null,null,{"$f":"IF(表示!$B$13<=有効積算気温!Z149,有効積算気温!$A149,\"\")","v":""}]
["2014-08-27",{"$f":"IF(表示!$B$13<=有効積算気温!B150,有効積算気温!$A150,\"\")","v":""},{"$f":"IF(表示!$B$13<=有効積算気温!C150,有効積算気温!$A150,\"\")","v":""},{"$f":"IF(表示!$B$13<=有効積算気温!D150,有効積算気温!$A150,\"\")","v":""},{"$f":"IF(表示!$B$13<=有効積算気温!E150,有効積算気温!$A150,\"\")","v":""},{"$f":"IF(表示!$B$13<=有効積算気温!F150,有効積算気温!$A150,\"\")","v":""},{"$f":"IF(表示!$B$13<=有効積算気温!G150,有効積算気温!$A150,\"\")","v":""},{"$f":"IF(表示!$B$13<=有効積算気温!H150,有効積算気温!$A150,\"\")","v":""},{"$f":"IF(表示!$B$13<=有効積算気温!I150,有効積算気温!$A150,\"\")","v":""},{"$f":"IF(表示!$B$13<=有効積算気温!J150,有効積算気温!$A150,\"\")","v":""},{"$f":"IF(表示!$B$13<=有効積算気温!K150,有効積算気温!$A150,\"\")","v":""},{"$f":"IF(表示!$B$13<=有効積算気温!L150,有効積算気温!$A150,\"\")","v":""},{"$f":"IF(表示!$B$13<=有効積算気温!M150,有効積算気温!$A150,\"\")","v":"2014-08-27"},{"$f":"IF(表示!$B$13<=有効積算気温!N150,有効積算気温!$A150,\"\")","v":""},{"$f":"IF(表示!$B$13<=有効積算気温!O150,有効積算気温!$A150,\"\")","v":"2014-08-27"},{"$f":"IF(表示!$B$13<=有効積算気温!P150,有効積算気温!$A150,\"\")","v":""},{"$f":"IF(表示!$B$13<=有効積算気温!Q150,有効積算気温!$A150,\"\")","v":""},{"$f":"IF(表示!$B$13<=有効積算気温!R150,有効積算気温!$A150,\"\")","v":""},{"$f":"IF(表示!$B$13<=有効積算気温!S150,有効積算気温!$A150,\"\")","v":""},{"$f":"IF(表示!$B$13<=有効積算気温!T150,有効積算気温!$A150,\"\")","v":""},{"$f":"IF(表示!$B$13<=有効積算気温!U150,有効積算気温!$A150,\"\")","v":""},null,null,null,null,{"$f":"IF(表示!$B$13<=有効積算気温!Z150,有効積算気温!$A150,\"\")","v":""}]
["2014-08-28",{"$f":"IF(表示!$B$13<=有効積算気温!B151,有効積算気温!$A151,\"\")","v":""},{"$f":"IF(表示!$B$13<=有効積算気温!C151,有効積算気温!$A151,\"\")","v":""},{"$f":"IF(表示!$B$13<=有効積算気温!D151,有効積算気温!$A151,\"\")","v":""},{"$f":"IF(表示!$B$13<=有効積算気温!E151,有効積算気温!$A151,\"\")","v":""},{"$f":"IF(表示!$B$13<=有効積算気温!F151,有効積算気温!$A151,\"\")","v":""},{"$f":"IF(表示!$B$13<=有効積算気温!G151,有効積算気温!$A151,\"\")","v":""},{"$f":"IF(表示!$B$13<=有効積算気温!H151,有効積算気温!$A151,\"\")","v":""},{"$f":"IF(表示!$B$13<=有効積算気温!I151,有効積算気温!$A151,\"\")","v":""},{"$f":"IF(表示!$B$13<=有効積算気温!J151,有効積算気温!$A151,\"\")","v":""},{"$f":"IF(表示!$B$13<=有効積算気温!K151,有効積算気温!$A151,\"\")","v":""},{"$f":"IF(表示!$B$13<=有効積算気温!L151,有効積算気温!$A151,\"\")","v":""},{"$f":"IF(表示!$B$13<=有効積算気温!M151,有効積算気温!$A151,\"\")","v":"2014-08-28"},{"$f":"IF(表示!$B$13<=有効積算気温!N151,有効積算気温!$A151,\"\")","v":""},{"$f":"IF(表示!$B$13<=有効積算気温!O151,有効積算気温!$A151,\"\")","v":"2014-08-28"},{"$f":"IF(表示!$B$13<=有効積算気温!P151,有効積算気温!$A151,\"\")","v":""},{"$f":"IF(表示!$B$13<=有効積算気温!Q151,有効積算気温!$A151,\"\")","v":""},{"$f":"IF(表示!$B$13<=有効積算気温!R151,有効積算気温!$A151,\"\")","v":""},{"$f":"IF(表示!$B$13<=有効積算気温!S151,有効積算気温!$A151,\"\")","v":""},{"$f":"IF(表示!$B$13<=有効積算気温!T151,有効積算気温!$A151,\"\")","v":""},{"$f":"IF(表示!$B$13<=有効積算気温!U151,有効積算気温!$A151,\"\")","v":""},null,null,null,null,{"$f":"IF(表示!$B$13<=有効積算気温!Z151,有効積算気温!$A151,\"\")","v":""}]
["2014-08-29",{"$f":"IF(表示!$B$13<=有効積算気温!B152,有効積算気温!$A152,\"\")","v":""},{"$f":"IF(表示!$B$13<=有効積算気温!C152,有効積算気温!$A152,\"\")","v":""},{"$f":"IF(表示!$B$13<=有効積算気温!D152,有効積算気温!$A152,\"\")","v":""},{"$f":"IF(表示!$B$13<=有効積算気温!E152,有効積算気温!$A152,\"\")","v":""},{"$f":"IF(表示!$B$13<=有効積算気温!F152,有効積算気温!$A152,\"\")","v":""},{"$f":"IF(表示!$B$13<=有効積算気温!G152,有効積算気温!$A152,\"\")","v":""},{"$f":"IF(表示!$B$13<=有効積算気温!H152,有効積算気温!$A152,\"\")","v":""},{"$f":"IF(表示!$B$13<=有効積算気温!I152,有効積算気温!$A152,\"\")","v":""},{"$f":"IF(表示!$B$13<=有効積算気温!J152,有効積算気温!$A152,\"\")","v":""},{"$f":"IF(表示!$B$13<=有効積算気温!K152,有効積算気温!$A152,\"\")","v":""},{"$f":"IF(表示!$B$13<=有効積算気温!L152,有効積算気温!$A152,\"\")","v":""},{"$f":"IF(表示!$B$13<=有効積算気温!M152,有効積算気温!$A152,\"\")","v":""},{"$f":"IF(表示!$B$13<=有効積算気温!N152,有効積算気温!$A152,\"\")","v":""},{"$f":"IF(表示!$B$13<=有効積算気温!O152,有効積算気温!$A152,\"\")","v":"2014-08-29"},{"$f":"IF(表示!$B$13<=有効積算気温!P152,有効積算気温!$A152,\"\")","v":""},{"$f":"IF(表示!$B$13<=有効積算気温!Q152,有効積算気温!$A152,\"\")","v":""},{"$f":"IF(表示!$B$13<=有効積算気温!R152,有効積算気温!$A152,\"\")","v":""},{"$f":"IF(表示!$B$13<=有効積算気温!S152,有効積算気温!$A152,\"\")","v":""},{"$f":"IF(表示!$B$13<=有効積算気温!T152,有効積算気温!$A152,\"\")","v":""},{"$f":"IF(表示!$B$13<=有効積算気温!U152,有効積算気温!$A152,\"\")","v":""},null,null,null,null,{"$f":"IF(表示!$B$13<=有効積算気温!Z152,有効積算気温!$A152,\"\")","v":""}]
["2014-08-30",{"$f":"IF(表示!$B$13<=有効積算気温!B153,有効積算気温!$A153,\"\")","v":""},{"$f":"IF(表示!$B$13<=有効積算気温!C153,有効積算気温!$A153,\"\")","v":""},{"$f":"IF(表示!$B$13<=有効積算気温!D153,有効積算気温!$A153,\"\")","v":""},{"$f":"IF(表示!$B$13<=有効積算気温!E153,有効積算気温!$A153,\"\")","v":""},{"$f":"IF(表示!$B$13<=有効積算気温!F153,有効積算気温!$A153,\"\")","v":""},{"$f":"IF(表示!$B$13<=有効積算気温!G153,有効積算気温!$A153,\"\")","v":""},{"$f":"IF(表示!$B$13<=有効積算気温!H153,有効積算気温!$A153,\"\")","v":""},{"$f":"IF(表示!$B$13<=有効積算気温!I153,有効積算気温!$A153,\"\")","v":""},{"$f":"IF(表示!$B$13<=有効積算気温!J153,有効積算気温!$A153,\"\")","v":""},{"$f":"IF(表示!$B$13<=有効積算気温!K153,有効積算気温!$A153,\"\")","v":""},{"$f":"IF(表示!$B$13<=有効積算気温!L153,有効積算気温!$A153,\"\")","v":""},{"$f":"IF(表示!$B$13<=有効積算気温!M153,有効積算気温!$A153,\"\")","v":""},{"$f":"IF(表示!$B$13<=有効積算気温!N153,有効積算気温!$A153,\"\")","v":""},{"$f":"IF(表示!$B$13<=有効積算気温!O153,有効積算気温!$A153,\"\")","v":"2014-08-30"},{"$f":"IF(表示!$B$13<=有効積算気温!P153,有効積算気温!$A153,\"\")","v":""},{"$f":"IF(表示!$B$13<=有効積算気温!Q153,有効積算気温!$A153,\"\")","v":""},{"$f":"IF(表示!$B$13<=有効積算気温!R153,有効積算気温!$A153,\"\")","v":""},{"$f":"IF(表示!$B$13<=有効積算気温!S153,有効積算気温!$A153,\"\")","v":""},{"$f":"IF(表示!$B$13<=有効積算気温!T153,有効積算気温!$A153,\"\")","v":""},{"$f":"IF(表示!$B$13<=有効積算気温!U153,有効積算気温!$A153,\"\")","v":""},null,null,null,null,{"$f":"IF(表示!$B$13<=有効積算気温!Z153,有効積算気温!$A153,\"\")","v":""}]
["2014-08-31",{"$f":"IF(表示!$B$13<=有効積算気温!B154,有効積算気温!$A154,\"\")","v":""},{"$f":"IF(表示!$B$13<=有効積算気温!C154,有効積算気温!$A154,\"\")","v":""},{"$f":"IF(表示!$B$13<=有効積算気温!D154,有効積算気温!$A154,\"\")","v":""},{"$f":"IF(表示!$B$13<=有効積算気温!E154,有効積算気温!$A154,\"\")","v":""},{"$f":"IF(表示!$B$13<=有効積算気温!F154,有効積算気温!$A154,\"\")","v":""},{"$f":"IF(表示!$B$13<=有効積算気温!G154,有効積算気温!$A154,\"\")","v":""},{"$f":"IF(表示!$B$13<=有効積算気温!H154,有効積算気温!$A154,\"\")","v":""},{"$f":"IF(表示!$B$13<=有効積算気温!I154,有効積算気温!$A154,\"\")","v":""},{"$f":"IF(表示!$B$13<=有効積算気温!J154,有効積算気温!$A154,\"\")","v":""},{"$f":"IF(表示!$B$13<=有効積算気温!K154,有効積算気温!$A154,\"\")","v":""},{"$f":"IF(表示!$B$13<=有効積算気温!L154,有効積算気温!$A154,\"\")","v":""},{"$f":"IF(表示!$B$13<=有効積算気温!M154,有効積算気温!$A154,\"\")","v":""},{"$f":"IF(表示!$B$13<=有効積算気温!N154,有効積算気温!$A154,\"\")","v":""},{"$f":"IF(表示!$B$13<=有効積算気温!O154,有効積算気温!$A154,\"\")","v":"2014-08-31"},{"$f":"IF(表示!$B$13<=有効積算気温!P154,有効積算気温!$A154,\"\")","v":""},{"$f":"IF(表示!$B$13<=有効積算気温!Q154,有効積算気温!$A154,\"\")","v":""},{"$f":"IF(表示!$B$13<=有効積算気温!R154,有効積算気温!$A154,\"\")","v":""},{"$f":"IF(表示!$B$13<=有効積算気温!S154,有効積算気温!$A154,\"\")","v":""},{"$f":"IF(表示!$B$13<=有効積算気温!T154,有効積算気温!$A154,\"\")","v":""},{"$f":"IF(表示!$B$13<=有効積算気温!U154,有効積算気温!$A154,\"\")","v":""},null,null,null,null,{"$f":"IF(表示!$B$13<=有効積算気温!Z154,有効積算気温!$A154,\"\")","v":""}]
["2014-09-01",{"$f":"IF(表示!$B$13<=有効積算気温!B155,有効積算気温!$A155,\"\")","v":""},{"$f":"IF(表示!$B$13<=有効積算気温!C155,有効積算気温!$A155,\"\")","v":""},{"$f":"IF(表示!$B$13<=有効積算気温!D155,有効積算気温!$A155,\"\")","v":""},{"$f":"IF(表示!$B$13<=有効積算気温!E155,有効積算気温!$A155,\"\")","v":""},{"$f":"IF(表示!$B$13<=有効積算気温!F155,有効積算気温!$A155,\"\")","v":""},{"$f":"IF(表示!$B$13<=有効積算気温!G155,有効積算気温!$A155,\"\")","v":""},{"$f":"IF(表示!$B$13<=有効積算気温!H155,有効積算気温!$A155,\"\")","v":""},{"$f":"IF(表示!$B$13<=有効積算気温!I155,有効積算気温!$A155,\"\")","v":""},{"$f":"IF(表示!$B$13<=有効積算気温!J155,有効積算気温!$A155,\"\")","v":""},{"$f":"IF(表示!$B$13<=有効積算気温!K155,有効積算気温!$A155,\"\")","v":""},{"$f":"IF(表示!$B$13<=有効積算気温!L155,有効積算気温!$A155,\"\")","v":""},{"$f":"IF(表示!$B$13<=有効積算気温!M155,有効積算気温!$A155,\"\")","v":""},{"$f":"IF(表示!$B$13<=有効積算気温!N155,有効積算気温!$A155,\"\")","v":""},{"$f":"IF(表示!$B$13<=有効積算気温!O155,有効積算気温!$A155,\"\")","v":"2014-09-01"},{"$f":"IF(表示!$B$13<=有効積算気温!P155,有効積算気温!$A155,\"\")","v":""},{"$f":"IF(表示!$B$13<=有効積算気温!Q155,有効積算気温!$A155,\"\")","v":""},{"$f":"IF(表示!$B$13<=有効積算気温!R155,有効積算気温!$A155,\"\")","v":""},{"$f":"IF(表示!$B$13<=有効積算気温!S155,有効積算気温!$A155,\"\")","v":""},{"$f":"IF(表示!$B$13<=有効積算気温!T155,有効積算気温!$A155,\"\")","v":""},{"$f":"IF(表示!$B$13<=有効積算気温!U155,有効積算気温!$A155,\"\")","v":""},null,null,null,null,{"$f":"IF(表示!$B$13<=有効積算気温!Z155,有効積算気温!$A155,\"\")","v":""}]
["2014-09-02",{"$f":"IF(表示!$B$13<=有効積算気温!B156,有効積算気温!$A156,\"\")","v":""},{"$f":"IF(表示!$B$13<=有効積算気温!C156,有効積算気温!$A156,\"\")","v":""},{"$f":"IF(表示!$B$13<=有効積算気温!D156,有効積算気温!$A156,\"\")","v":""},{"$f":"IF(表示!$B$13<=有効積算気温!E156,有効積算気温!$A156,\"\")","v":""},{"$f":"IF(表示!$B$13<=有効積算気温!F156,有効積算気温!$A156,\"\")","v":""},{"$f":"IF(表示!$B$13<=有効積算気温!G156,有効積算気温!$A156,\"\")","v":""},{"$f":"IF(表示!$B$13<=有効積算気温!H156,有効積算気温!$A156,\"\")","v":""},{"$f":"IF(表示!$B$13<=有効積算気温!I156,有効積算気温!$A156,\"\")","v":""},{"$f":"IF(表示!$B$13<=有効積算気温!J156,有効積算気温!$A156,\"\")","v":""},{"$f":"IF(表示!$B$13<=有効積算気温!K156,有効積算気温!$A156,\"\")","v":""},{"$f":"IF(表示!$B$13<=有効積算気温!L156,有効積算気温!$A156,\"\")","v":""},{"$f":"IF(表示!$B$13<=有効積算気温!M156,有効積算気温!$A156,\"\")","v":""},{"$f":"IF(表示!$B$13<=有効積算気温!N156,有効積算気温!$A156,\"\")","v":""},{"$f":"IF(表示!$B$13<=有効積算気温!O156,有効積算気温!$A156,\"\")","v":""},{"$f":"IF(表示!$B$13<=有効積算気温!P156,有効積算気温!$A156,\"\")","v":""},{"$f":"IF(表示!$B$13<=有効積算気温!Q156,有効積算気温!$A156,\"\")","v":""},{"$f":"IF(表示!$B$13<=有効積算気温!R156,有効積算気温!$A156,\"\")","v":""},{"$f":"IF(表示!$B$13<=有効積算気温!S156,有効積算気温!$A156,\"\")","v":""},{"$f":"IF(表示!$B$13<=有効積算気温!T156,有効積算気温!$A156,\"\")","v":""},{"$f":"IF(表示!$B$13<=有効積算気温!U156,有効積算気温!$A156,\"\")","v":""},null,null,null,null,{"$f":"IF(表示!$B$13<=有効積算気温!Z156,有効積算気温!$A156,\"\")","v":""}]
["2014-09-03",{"$f":"IF(表示!$B$13<=有効積算気温!B157,有効積算気温!$A157,\"\")","v":""},{"$f":"IF(表示!$B$13<=有効積算気温!C157,有効積算気温!$A157,\"\")","v":""},{"$f":"IF(表示!$B$13<=有効積算気温!D157,有効積算気温!$A157,\"\")","v":""},{"$f":"IF(表示!$B$13<=有効積算気温!E157,有効積算気温!$A157,\"\")","v":""},{"$f":"IF(表示!$B$13<=有効積算気温!F157,有効積算気温!$A157,\"\")","v":""},{"$f":"IF(表示!$B$13<=有効積算気温!G157,有効積算気温!$A157,\"\")","v":""},{"$f":"IF(表示!$B$13<=有効積算気温!H157,有効積算気温!$A157,\"\")","v":""},{"$f":"IF(表示!$B$13<=有効積算気温!I157,有効積算気温!$A157,\"\")","v":""},{"$f":"IF(表示!$B$13<=有効積算気温!J157,有効積算気温!$A157,\"\")","v":""},{"$f":"IF(表示!$B$13<=有効積算気温!K157,有効積算気温!$A157,\"\")","v":""},{"$f":"IF(表示!$B$13<=有効積算気温!L157,有効積算気温!$A157,\"\")","v":""},{"$f":"IF(表示!$B$13<=有効積算気温!M157,有効積算気温!$A157,\"\")","v":""},{"$f":"IF(表示!$B$13<=有効積算気温!N157,有効積算気温!$A157,\"\")","v":""},{"$f":"IF(表示!$B$13<=有効積算気温!O157,有効積算気温!$A157,\"\")","v":""},{"$f":"IF(表示!$B$13<=有効積算気温!P157,有効積算気温!$A157,\"\")","v":""},{"$f":"IF(表示!$B$13<=有効積算気温!Q157,有効積算気温!$A157,\"\")","v":""},{"$f":"IF(表示!$B$13<=有効積算気温!R157,有効積算気温!$A157,\"\")","v":""},{"$f":"IF(表示!$B$13<=有効積算気温!S157,有効積算気温!$A157,\"\")","v":""},{"$f":"IF(表示!$B$13<=有効積算気温!T157,有効積算気温!$A157,\"\")","v":""},{"$f":"IF(表示!$B$13<=有効積算気温!U157,有効積算気温!$A157,\"\")","v":""},null,null,null,null,{"$f":"IF(表示!$B$13<=有効積算気温!Z157,有効積算気温!$A157,\"\")","v":""}]
["2014-09-04",{"$f":"IF(表示!$B$13<=有効積算気温!B158,有効積算気温!$A158,\"\")","v":""},{"$f":"IF(表示!$B$13<=有効積算気温!C158,有効積算気温!$A158,\"\")","v":""},{"$f":"IF(表示!$B$13<=有効積算気温!D158,有効積算気温!$A158,\"\")","v":""},{"$f":"IF(表示!$B$13<=有効積算気温!E158,有効積算気温!$A158,\"\")","v":""},{"$f":"IF(表示!$B$13<=有効積算気温!F158,有効積算気温!$A158,\"\")","v":""},{"$f":"IF(表示!$B$13<=有効積算気温!G158,有効積算気温!$A158,\"\")","v":""},{"$f":"IF(表示!$B$13<=有効積算気温!H158,有効積算気温!$A158,\"\")","v":""},{"$f":"IF(表示!$B$13<=有効積算気温!I158,有効積算気温!$A158,\"\")","v":""},{"$f":"IF(表示!$B$13<=有効積算気温!J158,有効積算気温!$A158,\"\")","v":""},{"$f":"IF(表示!$B$13<=有効積算気温!K158,有効積算気温!$A158,\"\")","v":""},{"$f":"IF(表示!$B$13<=有効積算気温!L158,有効積算気温!$A158,\"\")","v":""},{"$f":"IF(表示!$B$13<=有効積算気温!M158,有効積算気温!$A158,\"\")","v":""},{"$f":"IF(表示!$B$13<=有効積算気温!N158,有効積算気温!$A158,\"\")","v":""},{"$f":"IF(表示!$B$13<=有効積算気温!O158,有効積算気温!$A158,\"\")","v":""},{"$f":"IF(表示!$B$13<=有効積算気温!P158,有効積算気温!$A158,\"\")","v":""},{"$f":"IF(表示!$B$13<=有効積算気温!Q158,有効積算気温!$A158,\"\")","v":""},{"$f":"IF(表示!$B$13<=有効積算気温!R158,有効積算気温!$A158,\"\")","v":""},{"$f":"IF(表示!$B$13<=有効積算気温!S158,有効積算気温!$A158,\"\")","v":""},{"$f":"IF(表示!$B$13<=有効積算気温!T158,有効積算気温!$A158,\"\")","v":""},{"$f":"IF(表示!$B$13<=有効積算気温!U158,有効積算気温!$A158,\"\")","v":""},null,null,null,null,{"$f":"IF(表示!$B$13<=有効積算気温!Z158,有効積算気温!$A158,\"\")","v":""}]
["2014-09-05",{"$f":"IF(表示!$B$13<=有効積算気温!B159,有効積算気温!$A159,\"\")","v":""},{"$f":"IF(表示!$B$13<=有効積算気温!C159,有効積算気温!$A159,\"\")","v":""},{"$f":"IF(表示!$B$13<=有効積算気温!D159,有効積算気温!$A159,\"\")","v":""},{"$f":"IF(表示!$B$13<=有効積算気温!E159,有効積算気温!$A159,\"\")","v":""},{"$f":"IF(表示!$B$13<=有効積算気温!F159,有効積算気温!$A159,\"\")","v":""},{"$f":"IF(表示!$B$13<=有効積算気温!G159,有効積算気温!$A159,\"\")","v":""},{"$f":"IF(表示!$B$13<=有効積算気温!H159,有効積算気温!$A159,\"\")","v":""},{"$f":"IF(表示!$B$13<=有効積算気温!I159,有効積算気温!$A159,\"\")","v":""},{"$f":"IF(表示!$B$13<=有効積算気温!J159,有効積算気温!$A159,\"\")","v":""},{"$f":"IF(表示!$B$13<=有効積算気温!K159,有効積算気温!$A159,\"\")","v":""},{"$f":"IF(表示!$B$13<=有効積算気温!L159,有効積算気温!$A159,\"\")","v":""},{"$f":"IF(表示!$B$13<=有効積算気温!M159,有効積算気温!$A159,\"\")","v":""},{"$f":"IF(表示!$B$13<=有効積算気温!N159,有効積算気温!$A159,\"\")","v":""},{"$f":"IF(表示!$B$13<=有効積算気温!O159,有効積算気温!$A159,\"\")","v":""},{"$f":"IF(表示!$B$13<=有効積算気温!P159,有効積算気温!$A159,\"\")","v":""},{"$f":"IF(表示!$B$13<=有効積算気温!Q159,有効積算気温!$A159,\"\")","v":""},{"$f":"IF(表示!$B$13<=有効積算気温!R159,有効積算気温!$A159,\"\")","v":""},{"$f":"IF(表示!$B$13<=有効積算気温!S159,有効積算気温!$A159,\"\")","v":""},{"$f":"IF(表示!$B$13<=有効積算気温!T159,有効積算気温!$A159,\"\")","v":""},{"$f":"IF(表示!$B$13<=有効積算気温!U159,有効積算気温!$A159,\"\")","v":""},null,null,null,null,{"$f":"IF(表示!$B$13<=有効積算気温!Z159,有効積算気温!$A159,\"\")","v":""}]
["2014-09-06",{"$f":"IF(表示!$B$13<=有効積算気温!B160,有効積算気温!$A160,\"\")","v":""},{"$f":"IF(表示!$B$13<=有効積算気温!C160,有効積算気温!$A160,\"\")","v":""},{"$f":"IF(表示!$B$13<=有効積算気温!D160,有効積算気温!$A160,\"\")","v":""},{"$f":"IF(表示!$B$13<=有効積算気温!E160,有効積算気温!$A160,\"\")","v":""},{"$f":"IF(表示!$B$13<=有効積算気温!F160,有効積算気温!$A160,\"\")","v":""},{"$f":"IF(表示!$B$13<=有効積算気温!G160,有効積算気温!$A160,\"\")","v":""},{"$f":"IF(表示!$B$13<=有効積算気温!H160,有効積算気温!$A160,\"\")","v":""},{"$f":"IF(表示!$B$13<=有効積算気温!I160,有効積算気温!$A160,\"\")","v":""},{"$f":"IF(表示!$B$13<=有効積算気温!J160,有効積算気温!$A160,\"\")","v":""},{"$f":"IF(表示!$B$13<=有効積算気温!K160,有効積算気温!$A160,\"\")","v":""},{"$f":"IF(表示!$B$13<=有効積算気温!L160,有効積算気温!$A160,\"\")","v":""},{"$f":"IF(表示!$B$13<=有効積算気温!M160,有効積算気温!$A160,\"\")","v":""},{"$f":"IF(表示!$B$13<=有効積算気温!N160,有効積算気温!$A160,\"\")","v":""},{"$f":"IF(表示!$B$13<=有効積算気温!O160,有効積算気温!$A160,\"\")","v":""},{"$f":"IF(表示!$B$13<=有効積算気温!P160,有効積算気温!$A160,\"\")","v":""},{"$f":"IF(表示!$B$13<=有効積算気温!Q160,有効積算気温!$A160,\"\")","v":""},{"$f":"IF(表示!$B$13<=有効積算気温!R160,有効積算気温!$A160,\"\")","v":""},{"$f":"IF(表示!$B$13<=有効積算気温!S160,有効積算気温!$A160,\"\")","v":""},{"$f":"IF(表示!$B$13<=有効積算気温!T160,有効積算気温!$A160,\"\")","v":""},{"$f":"IF(表示!$B$13<=有効積算気温!U160,有効積算気温!$A160,\"\")","v":""},null,null,null,null,{"$f":"IF(表示!$B$13<=有効積算気温!Z160,有効積算気温!$A160,\"\")","v":""}]
["2014-09-07",{"$f":"IF(表示!$B$13<=有効積算気温!B161,有効積算気温!$A161,\"\")","v":""},{"$f":"IF(表示!$B$13<=有効積算気温!C161,有効積算気温!$A161,\"\")","v":""},{"$f":"IF(表示!$B$13<=有効積算気温!D161,有効積算気温!$A161,\"\")","v":""},{"$f":"IF(表示!$B$13<=有効積算気温!E161,有効積算気温!$A161,\"\")","v":""},{"$f":"IF(表示!$B$13<=有効積算気温!F161,有効積算気温!$A161,\"\")","v":""},{"$f":"IF(表示!$B$13<=有効積算気温!G161,有効積算気温!$A161,\"\")","v":""},{"$f":"IF(表示!$B$13<=有効積算気温!H161,有効積算気温!$A161,\"\")","v":""},{"$f":"IF(表示!$B$13<=有効積算気温!I161,有効積算気温!$A161,\"\")","v":""},{"$f":"IF(表示!$B$13<=有効積算気温!J161,有効積算気温!$A161,\"\")","v":""},{"$f":"IF(表示!$B$13<=有効積算気温!K161,有効積算気温!$A161,\"\")","v":""},{"$f":"IF(表示!$B$13<=有効積算気温!L161,有効積算気温!$A161,\"\")","v":""},{"$f":"IF(表示!$B$13<=有効積算気温!M161,有効積算気温!$A161,\"\")","v":""},{"$f":"IF(表示!$B$13<=有効積算気温!N161,有効積算気温!$A161,\"\")","v":""},{"$f":"IF(表示!$B$13<=有効積算気温!O161,有効積算気温!$A161,\"\")","v":""},{"$f":"IF(表示!$B$13<=有効積算気温!P161,有効積算気温!$A161,\"\")","v":""},{"$f":"IF(表示!$B$13<=有効積算気温!Q161,有効積算気温!$A161,\"\")","v":""},{"$f":"IF(表示!$B$13<=有効積算気温!R161,有効積算気温!$A161,\"\")","v":""},{"$f":"IF(表示!$B$13<=有効積算気温!S161,有効積算気温!$A161,\"\")","v":""},{"$f":"IF(表示!$B$13<=有効積算気温!T161,有効積算気温!$A161,\"\")","v":""},{"$f":"IF(表示!$B$13<=有効積算気温!U161,有効積算気温!$A161,\"\")","v":""},null,null,null,null,{"$f":"IF(表示!$B$13<=有効積算気温!Z161,有効積算気温!$A161,\"\")","v":""}]
["2014-09-08",{"$f":"IF(表示!$B$13<=有効積算気温!B162,有効積算気温!$A162,\"\")","v":""},{"$f":"IF(表示!$B$13<=有効積算気温!C162,有効積算気温!$A162,\"\")","v":""},{"$f":"IF(表示!$B$13<=有効積算気温!D162,有効積算気温!$A162,\"\")","v":""},{"$f":"IF(表示!$B$13<=有効積算気温!E162,有効積算気温!$A162,\"\")","v":""},{"$f":"IF(表示!$B$13<=有効積算気温!F162,有効積算気温!$A162,\"\")","v":""},{"$f":"IF(表示!$B$13<=有効積算気温!G162,有効積算気温!$A162,\"\")","v":""},{"$f":"IF(表示!$B$13<=有効積算気温!H162,有効積算気温!$A162,\"\")","v":""},{"$f":"IF(表示!$B$13<=有効積算気温!I162,有効積算気温!$A162,\"\")","v":""},{"$f":"IF(表示!$B$13<=有効積算気温!J162,有効積算気温!$A162,\"\")","v":""},{"$f":"IF(表示!$B$13<=有効積算気温!K162,有効積算気温!$A162,\"\")","v":""},{"$f":"IF(表示!$B$13<=有効積算気温!L162,有効積算気温!$A162,\"\")","v":""},{"$f":"IF(表示!$B$13<=有効積算気温!M162,有効積算気温!$A162,\"\")","v":""},{"$f":"IF(表示!$B$13<=有効積算気温!N162,有効積算気温!$A162,\"\")","v":""},{"$f":"IF(表示!$B$13<=有効積算気温!O162,有効積算気温!$A162,\"\")","v":""},{"$f":"IF(表示!$B$13<=有効積算気温!P162,有効積算気温!$A162,\"\")","v":""},{"$f":"IF(表示!$B$13<=有効積算気温!Q162,有効積算気温!$A162,\"\")","v":""},{"$f":"IF(表示!$B$13<=有効積算気温!R162,有効積算気温!$A162,\"\")","v":""},{"$f":"IF(表示!$B$13<=有効積算気温!S162,有効積算気温!$A162,\"\")","v":""},{"$f":"IF(表示!$B$13<=有効積算気温!T162,有効積算気温!$A162,\"\")","v":""},{"$f":"IF(表示!$B$13<=有効積算気温!U162,有効積算気温!$A162,\"\")","v":""},null,null,null,null,{"$f":"IF(表示!$B$13<=有効積算気温!Z162,有効積算気温!$A162,\"\")","v":""}]
["2014-09-09",{"$f":"IF(表示!$B$13<=有効積算気温!B163,有効積算気温!$A163,\"\")","v":""},{"$f":"IF(表示!$B$13<=有効積算気温!C163,有効積算気温!$A163,\"\")","v":""},{"$f":"IF(表示!$B$13<=有効積算気温!D163,有効積算気温!$A163,\"\")","v":""},{"$f":"IF(表示!$B$13<=有効積算気温!E163,有効積算気温!$A163,\"\")","v":""},{"$f":"IF(表示!$B$13<=有効積算気温!F163,有効積算気温!$A163,\"\")","v":""},{"$f":"IF(表示!$B$13<=有効積算気温!G163,有効積算気温!$A163,\"\")","v":""},{"$f":"IF(表示!$B$13<=有効積算気温!H163,有効積算気温!$A163,\"\")","v":""},{"$f":"IF(表示!$B$13<=有効積算気温!I163,有効積算気温!$A163,\"\")","v":""},{"$f":"IF(表示!$B$13<=有効積算気温!J163,有効積算気温!$A163,\"\")","v":""},{"$f":"IF(表示!$B$13<=有効積算気温!K163,有効積算気温!$A163,\"\")","v":""},{"$f":"IF(表示!$B$13<=有効積算気温!L163,有効積算気温!$A163,\"\")","v":""},{"$f":"IF(表示!$B$13<=有効積算気温!M163,有効積算気温!$A163,\"\")","v":""},{"$f":"IF(表示!$B$13<=有効積算気温!N163,有効積算気温!$A163,\"\")","v":""},{"$f":"IF(表示!$B$13<=有効積算気温!O163,有効積算気温!$A163,\"\")","v":""},{"$f":"IF(表示!$B$13<=有効積算気温!P163,有効積算気温!$A163,\"\")","v":""},{"$f":"IF(表示!$B$13<=有効積算気温!Q163,有効積算気温!$A163,\"\")","v":""},{"$f":"IF(表示!$B$13<=有効積算気温!R163,有効積算気温!$A163,\"\")","v":""},{"$f":"IF(表示!$B$13<=有効積算気温!S163,有効積算気温!$A163,\"\")","v":""},{"$f":"IF(表示!$B$13<=有効積算気温!T163,有効積算気温!$A163,\"\")","v":""},{"$f":"IF(表示!$B$13<=有効積算気温!U163,有効積算気温!$A163,\"\")","v":""},null,null,null,null,{"$f":"IF(表示!$B$13<=有効積算気温!Z163,有効積算気温!$A163,\"\")","v":""}]
["2014-09-10",{"$f":"IF(表示!$B$13<=有効積算気温!B164,有効積算気温!$A164,\"\")","v":""},{"$f":"IF(表示!$B$13<=有効積算気温!C164,有効積算気温!$A164,\"\")","v":""},{"$f":"IF(表示!$B$13<=有効積算気温!D164,有効積算気温!$A164,\"\")","v":""},{"$f":"IF(表示!$B$13<=有効積算気温!E164,有効積算気温!$A164,\"\")","v":""},{"$f":"IF(表示!$B$13<=有効積算気温!F164,有効積算気温!$A164,\"\")","v":""},{"$f":"IF(表示!$B$13<=有効積算気温!G164,有効積算気温!$A164,\"\")","v":""},{"$f":"IF(表示!$B$13<=有効積算気温!H164,有効積算気温!$A164,\"\")","v":""},{"$f":"IF(表示!$B$13<=有効積算気温!I164,有効積算気温!$A164,\"\")","v":""},{"$f":"IF(表示!$B$13<=有効積算気温!J164,有効積算気温!$A164,\"\")","v":""},{"$f":"IF(表示!$B$13<=有効積算気温!K164,有効積算気温!$A164,\"\")","v":""},{"$f":"IF(表示!$B$13<=有効積算気温!L164,有効積算気温!$A164,\"\")","v":""},{"$f":"IF(表示!$B$13<=有効積算気温!M164,有効積算気温!$A164,\"\")","v":""},{"$f":"IF(表示!$B$13<=有効積算気温!N164,有効積算気温!$A164,\"\")","v":""},{"$f":"IF(表示!$B$13<=有効積算気温!O164,有効積算気温!$A164,\"\")","v":""},{"$f":"IF(表示!$B$13<=有効積算気温!P164,有効積算気温!$A164,\"\")","v":""},{"$f":"IF(表示!$B$13<=有効積算気温!Q164,有効積算気温!$A164,\"\")","v":""},{"$f":"IF(表示!$B$13<=有効積算気温!R164,有効積算気温!$A164,\"\")","v":""},{"$f":"IF(表示!$B$13<=有効積算気温!S164,有効積算気温!$A164,\"\")","v":""},{"$f":"IF(表示!$B$13<=有効積算気温!T164,有効積算気温!$A164,\"\")","v":""},{"$f":"IF(表示!$B$13<=有効積算気温!U164,有効積算気温!$A164,\"\")","v":""},null,null,null,null,{"$f":"IF(表示!$B$13<=有効積算気温!Z164,有効積算気温!$A164,\"\")","v":""}]
["2014-09-11",{"$f":"IF(表示!$B$13<=有効積算気温!B165,有効積算気温!$A165,\"\")","v":""},{"$f":"IF(表示!$B$13<=有効積算気温!C165,有効積算気温!$A165,\"\")","v":""},{"$f":"IF(表示!$B$13<=有効積算気温!D165,有効積算気温!$A165,\"\")","v":""},{"$f":"IF(表示!$B$13<=有効積算気温!E165,有効積算気温!$A165,\"\")","v":""},{"$f":"IF(表示!$B$13<=有効積算気温!F165,有効積算気温!$A165,\"\")","v":""},{"$f":"IF(表示!$B$13<=有効積算気温!G165,有効積算気温!$A165,\"\")","v":""},{"$f":"IF(表示!$B$13<=有効積算気温!H165,有効積算気温!$A165,\"\")","v":""},{"$f":"IF(表示!$B$13<=有効積算気温!I165,有効積算気温!$A165,\"\")","v":""},{"$f":"IF(表示!$B$13<=有効積算気温!J165,有効積算気温!$A165,\"\")","v":""},{"$f":"IF(表示!$B$13<=有効積算気温!K165,有効積算気温!$A165,\"\")","v":""},{"$f":"IF(表示!$B$13<=有効積算気温!L165,有効積算気温!$A165,\"\")","v":""},{"$f":"IF(表示!$B$13<=有効積算気温!M165,有効積算気温!$A165,\"\")","v":""},{"$f":"IF(表示!$B$13<=有効積算気温!N165,有効積算気温!$A165,\"\")","v":""},{"$f":"IF(表示!$B$13<=有効積算気温!O165,有効積算気温!$A165,\"\")","v":""},{"$f":"IF(表示!$B$13<=有効積算気温!P165,有効積算気温!$A165,\"\")","v":""},{"$f":"IF(表示!$B$13<=有効積算気温!Q165,有効積算気温!$A165,\"\")","v":""},{"$f":"IF(表示!$B$13<=有効積算気温!R165,有効積算気温!$A165,\"\")","v":""},{"$f":"IF(表示!$B$13<=有効積算気温!S165,有効積算気温!$A165,\"\")","v":""},{"$f":"IF(表示!$B$13<=有効積算気温!T165,有効積算気温!$A165,\"\")","v":""},{"$f":"IF(表示!$B$13<=有効積算気温!U165,有効積算気温!$A165,\"\")","v":""},null,null,null,null,{"$f":"IF(表示!$B$13<=有効積算気温!Z165,有効積算気温!$A165,\"\")","v":""}]
["2014-09-12",{"$f":"IF(表示!$B$13<=有効積算気温!B166,有効積算気温!$A166,\"\")","v":""},{"$f":"IF(表示!$B$13<=有効積算気温!C166,有効積算気温!$A166,\"\")","v":""},{"$f":"IF(表示!$B$13<=有効積算気温!D166,有効積算気温!$A166,\"\")","v":""},{"$f":"IF(表示!$B$13<=有効積算気温!E166,有効積算気温!$A166,\"\")","v":""},{"$f":"IF(表示!$B$13<=有効積算気温!F166,有効積算気温!$A166,\"\")","v":""},{"$f":"IF(表示!$B$13<=有効積算気温!G166,有効積算気温!$A166,\"\")","v":""},{"$f":"IF(表示!$B$13<=有効積算気温!H166,有効積算気温!$A166,\"\")","v":""},{"$f":"IF(表示!$B$13<=有効積算気温!I166,有効積算気温!$A166,\"\")","v":""},{"$f":"IF(表示!$B$13<=有効積算気温!J166,有効積算気温!$A166,\"\")","v":""},{"$f":"IF(表示!$B$13<=有効積算気温!K166,有効積算気温!$A166,\"\")","v":""},{"$f":"IF(表示!$B$13<=有効積算気温!L166,有効積算気温!$A166,\"\")","v":""},{"$f":"IF(表示!$B$13<=有効積算気温!M166,有効積算気温!$A166,\"\")","v":""},{"$f":"IF(表示!$B$13<=有効積算気温!N166,有効積算気温!$A166,\"\")","v":""},{"$f":"IF(表示!$B$13<=有効積算気温!O166,有効積算気温!$A166,\"\")","v":""},{"$f":"IF(表示!$B$13<=有効積算気温!P166,有効積算気温!$A166,\"\")","v":""},{"$f":"IF(表示!$B$13<=有効積算気温!Q166,有効積算気温!$A166,\"\")","v":""},{"$f":"IF(表示!$B$13<=有効積算気温!R166,有効積算気温!$A166,\"\")","v":""},{"$f":"IF(表示!$B$13<=有効積算気温!S166,有効積算気温!$A166,\"\")","v":""},{"$f":"IF(表示!$B$13<=有効積算気温!T166,有効積算気温!$A166,\"\")","v":""},{"$f":"IF(表示!$B$13<=有効積算気温!U166,有効積算気温!$A166,\"\")","v":""},null,null,null,null,{"$f":"IF(表示!$B$13<=有効積算気温!Z166,有効積算気温!$A166,\"\")","v":""}]
["2014-09-13",{"$f":"IF(表示!$B$13<=有効積算気温!B167,有効積算気温!$A167,\"\")","v":""},{"$f":"IF(表示!$B$13<=有効積算気温!C167,有効積算気温!$A167,\"\")","v":""},{"$f":"IF(表示!$B$13<=有効積算気温!D167,有効積算気温!$A167,\"\")","v":""},{"$f":"IF(表示!$B$13<=有効積算気温!E167,有効積算気温!$A167,\"\")","v":""},{"$f":"IF(表示!$B$13<=有効積算気温!F167,有効積算気温!$A167,\"\")","v":""},{"$f":"IF(表示!$B$13<=有効積算気温!G167,有効積算気温!$A167,\"\")","v":""},{"$f":"IF(表示!$B$13<=有効積算気温!H167,有効積算気温!$A167,\"\")","v":""},{"$f":"IF(表示!$B$13<=有効積算気温!I167,有効積算気温!$A167,\"\")","v":""},{"$f":"IF(表示!$B$13<=有効積算気温!J167,有効積算気温!$A167,\"\")","v":""},{"$f":"IF(表示!$B$13<=有効積算気温!K167,有効積算気温!$A167,\"\")","v":""},{"$f":"IF(表示!$B$13<=有効積算気温!L167,有効積算気温!$A167,\"\")","v":""},{"$f":"IF(表示!$B$13<=有効積算気温!M167,有効積算気温!$A167,\"\")","v":""},{"$f":"IF(表示!$B$13<=有効積算気温!N167,有効積算気温!$A167,\"\")","v":""},{"$f":"IF(表示!$B$13<=有効積算気温!O167,有効積算気温!$A167,\"\")","v":""},{"$f":"IF(表示!$B$13<=有効積算気温!P167,有効積算気温!$A167,\"\")","v":""},{"$f":"IF(表示!$B$13<=有効積算気温!Q167,有効積算気温!$A167,\"\")","v":""},{"$f":"IF(表示!$B$13<=有効積算気温!R167,有効積算気温!$A167,\"\")","v":""},{"$f":"IF(表示!$B$13<=有効積算気温!S167,有効積算気温!$A167,\"\")","v":""},{"$f":"IF(表示!$B$13<=有効積算気温!T167,有効積算気温!$A167,\"\")","v":""},{"$f":"IF(表示!$B$13<=有効積算気温!U167,有効積算気温!$A167,\"\")","v":""},null,null,null,null,{"$f":"IF(表示!$B$13<=有効積算気温!Z167,有効積算気温!$A167,\"\")","v":""}]
["2014-09-14",{"$f":"IF(表示!$B$13<=有効積算気温!B168,有効積算気温!$A168,\"\")","v":""},{"$f":"IF(表示!$B$13<=有効積算気温!C168,有効積算気温!$A168,\"\")","v":""},{"$f":"IF(表示!$B$13<=有効積算気温!D168,有効積算気温!$A168,\"\")","v":""},{"$f":"IF(表示!$B$13<=有効積算気温!E168,有効積算気温!$A168,\"\")","v":""},{"$f":"IF(表示!$B$13<=有効積算気温!F168,有効積算気温!$A168,\"\")","v":""},{"$f":"IF(表示!$B$13<=有効積算気温!G168,有効積算気温!$A168,\"\")","v":""},{"$f":"IF(表示!$B$13<=有効積算気温!H168,有効積算気温!$A168,\"\")","v":""},{"$f":"IF(表示!$B$13<=有効積算気温!I168,有効積算気温!$A168,\"\")","v":""},{"$f":"IF(表示!$B$13<=有効積算気温!J168,有効積算気温!$A168,\"\")","v":""},{"$f":"IF(表示!$B$13<=有効積算気温!K168,有効積算気温!$A168,\"\")","v":""},{"$f":"IF(表示!$B$13<=有効積算気温!L168,有効積算気温!$A168,\"\")","v":""},{"$f":"IF(表示!$B$13<=有効積算気温!M168,有効積算気温!$A168,\"\")","v":""},{"$f":"IF(表示!$B$13<=有効積算気温!N168,有効積算気温!$A168,\"\")","v":""},{"$f":"IF(表示!$B$13<=有効積算気温!O168,有効積算気温!$A168,\"\")","v":""},{"$f":"IF(表示!$B$13<=有効積算気温!P168,有効積算気温!$A168,\"\")","v":""},{"$f":"IF(表示!$B$13<=有効積算気温!Q168,有効積算気温!$A168,\"\")","v":""},{"$f":"IF(表示!$B$13<=有効積算気温!R168,有効積算気温!$A168,\"\")","v":""},{"$f":"IF(表示!$B$13<=有効積算気温!S168,有効積算気温!$A168,\"\")","v":""},{"$f":"IF(表示!$B$13<=有効積算気温!T168,有効積算気温!$A168,\"\")","v":""},{"$f":"IF(表示!$B$13<=有効積算気温!U168,有効積算気温!$A168,\"\")","v":""},null,null,null,null,{"$f":"IF(表示!$B$13<=有効積算気温!Z168,有効積算気温!$A168,\"\")","v":""}]
["2014-09-15",{"$f":"IF(表示!$B$13<=有効積算気温!B169,有効積算気温!$A169,\"\")","v":""},{"$f":"IF(表示!$B$13<=有効積算気温!C169,有効積算気温!$A169,\"\")","v":""},{"$f":"IF(表示!$B$13<=有効積算気温!D169,有効積算気温!$A169,\"\")","v":""},{"$f":"IF(表示!$B$13<=有効積算気温!E169,有効積算気温!$A169,\"\")","v":""},{"$f":"IF(表示!$B$13<=有効積算気温!F169,有効積算気温!$A169,\"\")","v":""},{"$f":"IF(表示!$B$13<=有効積算気温!G169,有効積算気温!$A169,\"\")","v":""},{"$f":"IF(表示!$B$13<=有効積算気温!H169,有効積算気温!$A169,\"\")","v":""},{"$f":"IF(表示!$B$13<=有効積算気温!I169,有効積算気温!$A169,\"\")","v":""},{"$f":"IF(表示!$B$13<=有効積算気温!J169,有効積算気温!$A169,\"\")","v":""},{"$f":"IF(表示!$B$13<=有効積算気温!K169,有効積算気温!$A169,\"\")","v":""},{"$f":"IF(表示!$B$13<=有効積算気温!L169,有効積算気温!$A169,\"\")","v":""},{"$f":"IF(表示!$B$13<=有効積算気温!M169,有効積算気温!$A169,\"\")","v":""},{"$f":"IF(表示!$B$13<=有効積算気温!N169,有効積算気温!$A169,\"\")","v":""},{"$f":"IF(表示!$B$13<=有効積算気温!O169,有効積算気温!$A169,\"\")","v":""},{"$f":"IF(表示!$B$13<=有効積算気温!P169,有効積算気温!$A169,\"\")","v":""},{"$f":"IF(表示!$B$13<=有効積算気温!Q169,有効積算気温!$A169,\"\")","v":""},{"$f":"IF(表示!$B$13<=有効積算気温!R169,有効積算気温!$A169,\"\")","v":""},{"$f":"IF(表示!$B$13<=有効積算気温!S169,有効積算気温!$A169,\"\")","v":""},{"$f":"IF(表示!$B$13<=有効積算気温!T169,有効積算気温!$A169,\"\")","v":""},{"$f":"IF(表示!$B$13<=有効積算気温!U169,有効積算気温!$A169,\"\")","v":""},null,null,null,null,{"$f":"IF(表示!$B$13<=有効積算気温!Z169,有効積算気温!$A169,\"\")","v":""}]
["2014-09-16",{"$f":"IF(表示!$B$13<=有効積算気温!B170,有効積算気温!$A170,\"\")","v":""},{"$f":"IF(表示!$B$13<=有効積算気温!C170,有効積算気温!$A170,\"\")","v":""},{"$f":"IF(表示!$B$13<=有効積算気温!D170,有効積算気温!$A170,\"\")","v":""},{"$f":"IF(表示!$B$13<=有効積算気温!E170,有効積算気温!$A170,\"\")","v":""},{"$f":"IF(表示!$B$13<=有効積算気温!F170,有効積算気温!$A170,\"\")","v":""},{"$f":"IF(表示!$B$13<=有効積算気温!G170,有効積算気温!$A170,\"\")","v":""},{"$f":"IF(表示!$B$13<=有効積算気温!H170,有効積算気温!$A170,\"\")","v":""},{"$f":"IF(表示!$B$13<=有効積算気温!I170,有効積算気温!$A170,\"\")","v":""},{"$f":"IF(表示!$B$13<=有効積算気温!J170,有効積算気温!$A170,\"\")","v":""},{"$f":"IF(表示!$B$13<=有効積算気温!K170,有効積算気温!$A170,\"\")","v":""},{"$f":"IF(表示!$B$13<=有効積算気温!L170,有効積算気温!$A170,\"\")","v":""},{"$f":"IF(表示!$B$13<=有効積算気温!M170,有効積算気温!$A170,\"\")","v":""},{"$f":"IF(表示!$B$13<=有効積算気温!N170,有効積算気温!$A170,\"\")","v":""},{"$f":"IF(表示!$B$13<=有効積算気温!O170,有効積算気温!$A170,\"\")","v":""},{"$f":"IF(表示!$B$13<=有効積算気温!P170,有効積算気温!$A170,\"\")","v":""},{"$f":"IF(表示!$B$13<=有効積算気温!Q170,有効積算気温!$A170,\"\")","v":""},{"$f":"IF(表示!$B$13<=有効積算気温!R170,有効積算気温!$A170,\"\")","v":""},{"$f":"IF(表示!$B$13<=有効積算気温!S170,有効積算気温!$A170,\"\")","v":""},{"$f":"IF(表示!$B$13<=有効積算気温!T170,有効積算気温!$A170,\"\")","v":""},{"$f":"IF(表示!$B$13<=有効積算気温!U170,有効積算気温!$A170,\"\")","v":""},null,null,null,null,{"$f":"IF(表示!$B$13<=有効積算気温!Z170,有効積算気温!$A170,\"\")","v":""}]
["2014-09-17",{"$f":"IF(表示!$B$13<=有効積算気温!B171,有効積算気温!$A171,\"\")","v":""},{"$f":"IF(表示!$B$13<=有効積算気温!C171,有効積算気温!$A171,\"\")","v":""},{"$f":"IF(表示!$B$13<=有効積算気温!D171,有効積算気温!$A171,\"\")","v":""},{"$f":"IF(表示!$B$13<=有効積算気温!E171,有効積算気温!$A171,\"\")","v":""},{"$f":"IF(表示!$B$13<=有効積算気温!F171,有効積算気温!$A171,\"\")","v":""},{"$f":"IF(表示!$B$13<=有効積算気温!G171,有効積算気温!$A171,\"\")","v":""},{"$f":"IF(表示!$B$13<=有効積算気温!H171,有効積算気温!$A171,\"\")","v":""},{"$f":"IF(表示!$B$13<=有効積算気温!I171,有効積算気温!$A171,\"\")","v":""},{"$f":"IF(表示!$B$13<=有効積算気温!J171,有効積算気温!$A171,\"\")","v":""},{"$f":"IF(表示!$B$13<=有効積算気温!K171,有効積算気温!$A171,\"\")","v":""},{"$f":"IF(表示!$B$13<=有効積算気温!L171,有効積算気温!$A171,\"\")","v":""},{"$f":"IF(表示!$B$13<=有効積算気温!M171,有効積算気温!$A171,\"\")","v":""},{"$f":"IF(表示!$B$13<=有効積算気温!N171,有効積算気温!$A171,\"\")","v":""},{"$f":"IF(表示!$B$13<=有効積算気温!O171,有効積算気温!$A171,\"\")","v":""},{"$f":"IF(表示!$B$13<=有効積算気温!P171,有効積算気温!$A171,\"\")","v":""},{"$f":"IF(表示!$B$13<=有効積算気温!Q171,有効積算気温!$A171,\"\")","v":""},{"$f":"IF(表示!$B$13<=有効積算気温!R171,有効積算気温!$A171,\"\")","v":""},{"$f":"IF(表示!$B$13<=有効積算気温!S171,有効積算気温!$A171,\"\")","v":""},{"$f":"IF(表示!$B$13<=有効積算気温!T171,有効積算気温!$A171,\"\")","v":""},{"$f":"IF(表示!$B$13<=有効積算気温!U171,有効積算気温!$A171,\"\")","v":""},null,null,null,null,{"$f":"IF(表示!$B$13<=有効積算気温!Z171,有効積算気温!$A171,\"\")","v":""}]
["2014-09-18",{"$f":"IF(表示!$B$13<=有効積算気温!B172,有効積算気温!$A172,\"\")","v":""},{"$f":"IF(表示!$B$13<=有効積算気温!C172,有効積算気温!$A172,\"\")","v":""},{"$f":"IF(表示!$B$13<=有効積算気温!D172,有効積算気温!$A172,\"\")","v":""},{"$f":"IF(表示!$B$13<=有効積算気温!E172,有効積算気温!$A172,\"\")","v":""},{"$f":"IF(表示!$B$13<=有効積算気温!F172,有効積算気温!$A172,\"\")","v":""},{"$f":"IF(表示!$B$13<=有効積算気温!G172,有効積算気温!$A172,\"\")","v":""},{"$f":"IF(表示!$B$13<=有効積算気温!H172,有効積算気温!$A172,\"\")","v":""},{"$f":"IF(表示!$B$13<=有効積算気温!I172,有効積算気温!$A172,\"\")","v":""},{"$f":"IF(表示!$B$13<=有効積算気温!J172,有効積算気温!$A172,\"\")","v":""},{"$f":"IF(表示!$B$13<=有効積算気温!K172,有効積算気温!$A172,\"\")","v":""},{"$f":"IF(表示!$B$13<=有効積算気温!L172,有効積算気温!$A172,\"\")","v":""},{"$f":"IF(表示!$B$13<=有効積算気温!M172,有効積算気温!$A172,\"\")","v":""},{"$f":"IF(表示!$B$13<=有効積算気温!N172,有効積算気温!$A172,\"\")","v":""},{"$f":"IF(表示!$B$13<=有効積算気温!O172,有効積算気温!$A172,\"\")","v":""},{"$f":"IF(表示!$B$13<=有効積算気温!P172,有効積算気温!$A172,\"\")","v":""},{"$f":"IF(表示!$B$13<=有効積算気温!Q172,有効積算気温!$A172,\"\")","v":""},{"$f":"IF(表示!$B$13<=有効積算気温!R172,有効積算気温!$A172,\"\")","v":""},{"$f":"IF(表示!$B$13<=有効積算気温!S172,有効積算気温!$A172,\"\")","v":""},{"$f":"IF(表示!$B$13<=有効積算気温!T172,有効積算気温!$A172,\"\")","v":""},{"$f":"IF(表示!$B$13<=有効積算気温!U172,有効積算気温!$A172,\"\")","v":""},null,null,null,null,{"$f":"IF(表示!$B$13<=有効積算気温!Z172,有効積算気温!$A172,\"\")","v":""}]
["2014-09-19",{"$f":"IF(表示!$B$13<=有効積算気温!B173,有効積算気温!$A173,\"\")","v":""},{"$f":"IF(表示!$B$13<=有効積算気温!C173,有効積算気温!$A173,\"\")","v":""},{"$f":"IF(表示!$B$13<=有効積算気温!D173,有効積算気温!$A173,\"\")","v":""},{"$f":"IF(表示!$B$13<=有効積算気温!E173,有効積算気温!$A173,\"\")","v":""},{"$f":"IF(表示!$B$13<=有効積算気温!F173,有効積算気温!$A173,\"\")","v":""},{"$f":"IF(表示!$B$13<=有効積算気温!G173,有効積算気温!$A173,\"\")","v":""},{"$f":"IF(表示!$B$13<=有効積算気温!H173,有効積算気温!$A173,\"\")","v":""},{"$f":"IF(表示!$B$13<=有効積算気温!I173,有効積算気温!$A173,\"\")","v":""},{"$f":"IF(表示!$B$13<=有効積算気温!J173,有効積算気温!$A173,\"\")","v":""},{"$f":"IF(表示!$B$13<=有効積算気温!K173,有効積算気温!$A173,\"\")","v":""},{"$f":"IF(表示!$B$13<=有効積算気温!L173,有効積算気温!$A173,\"\")","v":""},{"$f":"IF(表示!$B$13<=有効積算気温!M173,有効積算気温!$A173,\"\")","v":""},{"$f":"IF(表示!$B$13<=有効積算気温!N173,有効積算気温!$A173,\"\")","v":""},{"$f":"IF(表示!$B$13<=有効積算気温!O173,有効積算気温!$A173,\"\")","v":""},{"$f":"IF(表示!$B$13<=有効積算気温!P173,有効積算気温!$A173,\"\")","v":""},{"$f":"IF(表示!$B$13<=有効積算気温!Q173,有効積算気温!$A173,\"\")","v":""},{"$f":"IF(表示!$B$13<=有効積算気温!R173,有効積算気温!$A173,\"\")","v":""},{"$f":"IF(表示!$B$13<=有効積算気温!S173,有効積算気温!$A173,\"\")","v":""},{"$f":"IF(表示!$B$13<=有効積算気温!T173,有効積算気温!$A173,\"\")","v":""},{"$f":"IF(表示!$B$13<=有効積算気温!U173,有効積算気温!$A173,\"\")","v":""},null,null,null,null,{"$f":"IF(表示!$B$13<=有効積算気温!Z173,有効積算気温!$A173,\"\")","v":""}]
["2014-09-20",{"$f":"IF(表示!$B$13<=有効積算気温!B174,有効積算気温!$A174,\"\")","v":""},{"$f":"IF(表示!$B$13<=有効積算気温!C174,有効積算気温!$A174,\"\")","v":""},{"$f":"IF(表示!$B$13<=有効積算気温!D174,有効積算気温!$A174,\"\")","v":""},{"$f":"IF(表示!$B$13<=有効積算気温!E174,有効積算気温!$A174,\"\")","v":""},{"$f":"IF(表示!$B$13<=有効積算気温!F174,有効積算気温!$A174,\"\")","v":""},{"$f":"IF(表示!$B$13<=有効積算気温!G174,有効積算気温!$A174,\"\")","v":""},{"$f":"IF(表示!$B$13<=有効積算気温!H174,有効積算気温!$A174,\"\")","v":""},{"$f":"IF(表示!$B$13<=有効積算気温!I174,有効積算気温!$A174,\"\")","v":""},{"$f":"IF(表示!$B$13<=有効積算気温!J174,有効積算気温!$A174,\"\")","v":""},{"$f":"IF(表示!$B$13<=有効積算気温!K174,有効積算気温!$A174,\"\")","v":""},{"$f":"IF(表示!$B$13<=有効積算気温!L174,有効積算気温!$A174,\"\")","v":""},{"$f":"IF(表示!$B$13<=有効積算気温!M174,有効積算気温!$A174,\"\")","v":""},{"$f":"IF(表示!$B$13<=有効積算気温!N174,有効積算気温!$A174,\"\")","v":""},{"$f":"IF(表示!$B$13<=有効積算気温!O174,有効積算気温!$A174,\"\")","v":""},{"$f":"IF(表示!$B$13<=有効積算気温!P174,有効積算気温!$A174,\"\")","v":""},{"$f":"IF(表示!$B$13<=有効積算気温!Q174,有効積算気温!$A174,\"\")","v":""},{"$f":"IF(表示!$B$13<=有効積算気温!R174,有効積算気温!$A174,\"\")","v":""},{"$f":"IF(表示!$B$13<=有効積算気温!S174,有効積算気温!$A174,\"\")","v":""},{"$f":"IF(表示!$B$13<=有効積算気温!T174,有効積算気温!$A174,\"\")","v":""},{"$f":"IF(表示!$B$13<=有効積算気温!U174,有効積算気温!$A174,\"\")","v":""},null,null,null,null,{"$f":"IF(表示!$B$13<=有効積算気温!Z174,有効積算気温!$A174,\"\")","v":""}]
["2014-09-21",{"$f":"IF(表示!$B$13<=有効積算気温!B175,有効積算気温!$A175,\"\")","v":""},{"$f":"IF(表示!$B$13<=有効積算気温!C175,有効積算気温!$A175,\"\")","v":""},{"$f":"IF(表示!$B$13<=有効積算気温!D175,有効積算気温!$A175,\"\")","v":""},{"$f":"IF(表示!$B$13<=有効積算気温!E175,有効積算気温!$A175,\"\")","v":""},{"$f":"IF(表示!$B$13<=有効積算気温!F175,有効積算気温!$A175,\"\")","v":""},{"$f":"IF(表示!$B$13<=有効積算気温!G175,有効積算気温!$A175,\"\")","v":""},{"$f":"IF(表示!$B$13<=有効積算気温!H175,有効積算気温!$A175,\"\")","v":""},{"$f":"IF(表示!$B$13<=有効積算気温!I175,有効積算気温!$A175,\"\")","v":""},{"$f":"IF(表示!$B$13<=有効積算気温!J175,有効積算気温!$A175,\"\")","v":""},{"$f":"IF(表示!$B$13<=有効積算気温!K175,有効積算気温!$A175,\"\")","v":""},{"$f":"IF(表示!$B$13<=有効積算気温!L175,有効積算気温!$A175,\"\")","v":""},{"$f":"IF(表示!$B$13<=有効積算気温!M175,有効積算気温!$A175,\"\")","v":""},{"$f":"IF(表示!$B$13<=有効積算気温!N175,有効積算気温!$A175,\"\")","v":""},{"$f":"IF(表示!$B$13<=有効積算気温!O175,有効積算気温!$A175,\"\")","v":""},{"$f":"IF(表示!$B$13<=有効積算気温!P175,有効積算気温!$A175,\"\")","v":""},{"$f":"IF(表示!$B$13<=有効積算気温!Q175,有効積算気温!$A175,\"\")","v":""},{"$f":"IF(表示!$B$13<=有効積算気温!R175,有効積算気温!$A175,\"\")","v":""},{"$f":"IF(表示!$B$13<=有効積算気温!S175,有効積算気温!$A175,\"\")","v":""},{"$f":"IF(表示!$B$13<=有効積算気温!T175,有効積算気温!$A175,\"\")","v":""},{"$f":"IF(表示!$B$13<=有効積算気温!U175,有効積算気温!$A175,\"\")","v":""},null,null,null,null,{"$f":"IF(表示!$B$13<=有効積算気温!Z175,有効積算気温!$A175,\"\")","v":""}]
["2014-09-22",{"$f":"IF(表示!$B$13<=有効積算気温!B176,有効積算気温!$A176,\"\")","v":""},{"$f":"IF(表示!$B$13<=有効積算気温!C176,有効積算気温!$A176,\"\")","v":""},{"$f":"IF(表示!$B$13<=有効積算気温!D176,有効積算気温!$A176,\"\")","v":""},{"$f":"IF(表示!$B$13<=有効積算気温!E176,有効積算気温!$A176,\"\")","v":""},{"$f":"IF(表示!$B$13<=有効積算気温!F176,有効積算気温!$A176,\"\")","v":""},{"$f":"IF(表示!$B$13<=有効積算気温!G176,有効積算気温!$A176,\"\")","v":""},{"$f":"IF(表示!$B$13<=有効積算気温!H176,有効積算気温!$A176,\"\")","v":""},{"$f":"IF(表示!$B$13<=有効積算気温!I176,有効積算気温!$A176,\"\")","v":""},{"$f":"IF(表示!$B$13<=有効積算気温!J176,有効積算気温!$A176,\"\")","v":""},{"$f":"IF(表示!$B$13<=有効積算気温!K176,有効積算気温!$A176,\"\")","v":""},{"$f":"IF(表示!$B$13<=有効積算気温!L176,有効積算気温!$A176,\"\")","v":""},{"$f":"IF(表示!$B$13<=有効積算気温!M176,有効積算気温!$A176,\"\")","v":""},{"$f":"IF(表示!$B$13<=有効積算気温!N176,有効積算気温!$A176,\"\")","v":""},{"$f":"IF(表示!$B$13<=有効積算気温!O176,有効積算気温!$A176,\"\")","v":""},{"$f":"IF(表示!$B$13<=有効積算気温!P176,有効積算気温!$A176,\"\")","v":""},{"$f":"IF(表示!$B$13<=有効積算気温!Q176,有効積算気温!$A176,\"\")","v":""},{"$f":"IF(表示!$B$13<=有効積算気温!R176,有効積算気温!$A176,\"\")","v":""},{"$f":"IF(表示!$B$13<=有効積算気温!S176,有効積算気温!$A176,\"\")","v":""},{"$f":"IF(表示!$B$13<=有効積算気温!T176,有効積算気温!$A176,\"\")","v":""},{"$f":"IF(表示!$B$13<=有効積算気温!U176,有効積算気温!$A176,\"\")","v":""},null,null,null,null,{"$f":"IF(表示!$B$13<=有効積算気温!Z176,有効積算気温!$A176,\"\")","v":""}]
["2014-09-23",{"$f":"IF(表示!$B$13<=有効積算気温!B177,有効積算気温!$A177,\"\")","v":""},{"$f":"IF(表示!$B$13<=有効積算気温!C177,有効積算気温!$A177,\"\")","v":""},{"$f":"IF(表示!$B$13<=有効積算気温!D177,有効積算気温!$A177,\"\")","v":""},{"$f":"IF(表示!$B$13<=有効積算気温!E177,有効積算気温!$A177,\"\")","v":""},{"$f":"IF(表示!$B$13<=有効積算気温!F177,有効積算気温!$A177,\"\")","v":""},{"$f":"IF(表示!$B$13<=有効積算気温!G177,有効積算気温!$A177,\"\")","v":""},{"$f":"IF(表示!$B$13<=有効積算気温!H177,有効積算気温!$A177,\"\")","v":""},{"$f":"IF(表示!$B$13<=有効積算気温!I177,有効積算気温!$A177,\"\")","v":""},{"$f":"IF(表示!$B$13<=有効積算気温!J177,有効積算気温!$A177,\"\")","v":""},{"$f":"IF(表示!$B$13<=有効積算気温!K177,有効積算気温!$A177,\"\")","v":""},{"$f":"IF(表示!$B$13<=有効積算気温!L177,有効積算気温!$A177,\"\")","v":""},{"$f":"IF(表示!$B$13<=有効積算気温!M177,有効積算気温!$A177,\"\")","v":""},{"$f":"IF(表示!$B$13<=有効積算気温!N177,有効積算気温!$A177,\"\")","v":""},{"$f":"IF(表示!$B$13<=有効積算気温!O177,有効積算気温!$A177,\"\")","v":""},{"$f":"IF(表示!$B$13<=有効積算気温!P177,有効積算気温!$A177,\"\")","v":""},{"$f":"IF(表示!$B$13<=有効積算気温!Q177,有効積算気温!$A177,\"\")","v":""},{"$f":"IF(表示!$B$13<=有効積算気温!R177,有効積算気温!$A177,\"\")","v":""},{"$f":"IF(表示!$B$13<=有効積算気温!S177,有効積算気温!$A177,\"\")","v":""},{"$f":"IF(表示!$B$13<=有効積算気温!T177,有効積算気温!$A177,\"\")","v":""},{"$f":"IF(表示!$B$13<=有効積算気温!U177,有効積算気温!$A177,\"\")","v":""},null,null,null,null,{"$f":"IF(表示!$B$13<=有効積算気温!Z177,有効積算気温!$A177,\"\")","v":""}]
["2014-09-24",{"$f":"IF(表示!$B$13<=有効積算気温!B178,有効積算気温!$A178,\"\")","v":""},{"$f":"IF(表示!$B$13<=有効積算気温!C178,有効積算気温!$A178,\"\")","v":""},{"$f":"IF(表示!$B$13<=有効積算気温!D178,有効積算気温!$A178,\"\")","v":""},{"$f":"IF(表示!$B$13<=有効積算気温!E178,有効積算気温!$A178,\"\")","v":""},{"$f":"IF(表示!$B$13<=有効積算気温!F178,有効積算気温!$A178,\"\")","v":""},{"$f":"IF(表示!$B$13<=有効積算気温!G178,有効積算気温!$A178,\"\")","v":""},{"$f":"IF(表示!$B$13<=有効積算気温!H178,有効積算気温!$A178,\"\")","v":""},{"$f":"IF(表示!$B$13<=有効積算気温!I178,有効積算気温!$A178,\"\")","v":""},{"$f":"IF(表示!$B$13<=有効積算気温!J178,有効積算気温!$A178,\"\")","v":""},{"$f":"IF(表示!$B$13<=有効積算気温!K178,有効積算気温!$A178,\"\")","v":""},{"$f":"IF(表示!$B$13<=有効積算気温!L178,有効積算気温!$A178,\"\")","v":""},{"$f":"IF(表示!$B$13<=有効積算気温!M178,有効積算気温!$A178,\"\")","v":""},{"$f":"IF(表示!$B$13<=有効積算気温!N178,有効積算気温!$A178,\"\")","v":""},{"$f":"IF(表示!$B$13<=有効積算気温!O178,有効積算気温!$A178,\"\")","v":""},{"$f":"IF(表示!$B$13<=有効積算気温!P178,有効積算気温!$A178,\"\")","v":""},{"$f":"IF(表示!$B$13<=有効積算気温!Q178,有効積算気温!$A178,\"\")","v":""},{"$f":"IF(表示!$B$13<=有効積算気温!R178,有効積算気温!$A178,\"\")","v":""},{"$f":"IF(表示!$B$13<=有効積算気温!S178,有効積算気温!$A178,\"\")","v":""},{"$f":"IF(表示!$B$13<=有効積算気温!T178,有効積算気温!$A178,\"\")","v":""},{"$f":"IF(表示!$B$13<=有効積算気温!U178,有効積算気温!$A178,\"\")","v":""},null,null,null,null,{"$f":"IF(表示!$B$13<=有効積算気温!Z178,有効積算気温!$A178,\"\")","v":""}]
["2014-09-25",{"$f":"IF(表示!$B$13<=有効積算気温!B179,有効積算気温!$A179,\"\")","v":""},{"$f":"IF(表示!$B$13<=有効積算気温!C179,有効積算気温!$A179,\"\")","v":""},{"$f":"IF(表示!$B$13<=有効積算気温!D179,有効積算気温!$A179,\"\")","v":""},{"$f":"IF(表示!$B$13<=有効積算気温!E179,有効積算気温!$A179,\"\")","v":""},{"$f":"IF(表示!$B$13<=有効積算気温!F179,有効積算気温!$A179,\"\")","v":""},{"$f":"IF(表示!$B$13<=有効積算気温!G179,有効積算気温!$A179,\"\")","v":""},{"$f":"IF(表示!$B$13<=有効積算気温!H179,有効積算気温!$A179,\"\")","v":""},{"$f":"IF(表示!$B$13<=有効積算気温!I179,有効積算気温!$A179,\"\")","v":""},{"$f":"IF(表示!$B$13<=有効積算気温!J179,有効積算気温!$A179,\"\")","v":""},{"$f":"IF(表示!$B$13<=有効積算気温!K179,有効積算気温!$A179,\"\")","v":""},{"$f":"IF(表示!$B$13<=有効積算気温!L179,有効積算気温!$A179,\"\")","v":""},{"$f":"IF(表示!$B$13<=有効積算気温!M179,有効積算気温!$A179,\"\")","v":""},{"$f":"IF(表示!$B$13<=有効積算気温!N179,有効積算気温!$A179,\"\")","v":""},{"$f":"IF(表示!$B$13<=有効積算気温!O179,有効積算気温!$A179,\"\")","v":""},{"$f":"IF(表示!$B$13<=有効積算気温!P179,有効積算気温!$A179,\"\")","v":""},{"$f":"IF(表示!$B$13<=有効積算気温!Q179,有効積算気温!$A179,\"\")","v":""},{"$f":"IF(表示!$B$13<=有効積算気温!R179,有効積算気温!$A179,\"\")","v":""},{"$f":"IF(表示!$B$13<=有効積算気温!S179,有効積算気温!$A179,\"\")","v":""},{"$f":"IF(表示!$B$13<=有効積算気温!T179,有効積算気温!$A179,\"\")","v":""},{"$f":"IF(表示!$B$13<=有効積算気温!U179,有効積算気温!$A179,\"\")","v":""},null,null,null,null,{"$f":"IF(表示!$B$13<=有効積算気温!Z179,有効積算気温!$A179,\"\")","v":""}]
["2014-09-26",{"$f":"IF(表示!$B$13<=有効積算気温!B180,有効積算気温!$A180,\"\")","v":""},{"$f":"IF(表示!$B$13<=有効積算気温!C180,有効積算気温!$A180,\"\")","v":""},{"$f":"IF(表示!$B$13<=有効積算気温!D180,有効積算気温!$A180,\"\")","v":""},{"$f":"IF(表示!$B$13<=有効積算気温!E180,有効積算気温!$A180,\"\")","v":""},{"$f":"IF(表示!$B$13<=有効積算気温!F180,有効積算気温!$A180,\"\")","v":""},{"$f":"IF(表示!$B$13<=有効積算気温!G180,有効積算気温!$A180,\"\")","v":""},{"$f":"IF(表示!$B$13<=有効積算気温!H180,有効積算気温!$A180,\"\")","v":""},{"$f":"IF(表示!$B$13<=有効積算気温!I180,有効積算気温!$A180,\"\")","v":""},{"$f":"IF(表示!$B$13<=有効積算気温!J180,有効積算気温!$A180,\"\")","v":""},{"$f":"IF(表示!$B$13<=有効積算気温!K180,有効積算気温!$A180,\"\")","v":""},{"$f":"IF(表示!$B$13<=有効積算気温!L180,有効積算気温!$A180,\"\")","v":""},{"$f":"IF(表示!$B$13<=有効積算気温!M180,有効積算気温!$A180,\"\")","v":""},{"$f":"IF(表示!$B$13<=有効積算気温!N180,有効積算気温!$A180,\"\")","v":""},{"$f":"IF(表示!$B$13<=有効積算気温!O180,有効積算気温!$A180,\"\")","v":""},{"$f":"IF(表示!$B$13<=有効積算気温!P180,有効積算気温!$A180,\"\")","v":""},{"$f":"IF(表示!$B$13<=有効積算気温!Q180,有効積算気温!$A180,\"\")","v":""},{"$f":"IF(表示!$B$13<=有効積算気温!R180,有効積算気温!$A180,\"\")","v":""},{"$f":"IF(表示!$B$13<=有効積算気温!S180,有効積算気温!$A180,\"\")","v":""},{"$f":"IF(表示!$B$13<=有効積算気温!T180,有効積算気温!$A180,\"\")","v":""},{"$f":"IF(表示!$B$13<=有効積算気温!U180,有効積算気温!$A180,\"\")","v":""},null,null,null,null,{"$f":"IF(表示!$B$13<=有効積算気温!Z180,有効積算気温!$A180,\"\")","v":""}]
["2014-09-27",{"$f":"IF(表示!$B$13<=有効積算気温!B181,有効積算気温!$A181,\"\")","v":""},{"$f":"IF(表示!$B$13<=有効積算気温!C181,有効積算気温!$A181,\"\")","v":""},{"$f":"IF(表示!$B$13<=有効積算気温!D181,有効積算気温!$A181,\"\")","v":""},{"$f":"IF(表示!$B$13<=有効積算気温!E181,有効積算気温!$A181,\"\")","v":""},{"$f":"IF(表示!$B$13<=有効積算気温!F181,有効積算気温!$A181,\"\")","v":""},{"$f":"IF(表示!$B$13<=有効積算気温!G181,有効積算気温!$A181,\"\")","v":""},{"$f":"IF(表示!$B$13<=有効積算気温!H181,有効積算気温!$A181,\"\")","v":""},{"$f":"IF(表示!$B$13<=有効積算気温!I181,有効積算気温!$A181,\"\")","v":""},{"$f":"IF(表示!$B$13<=有効積算気温!J181,有効積算気温!$A181,\"\")","v":""},{"$f":"IF(表示!$B$13<=有効積算気温!K181,有効積算気温!$A181,\"\")","v":""},{"$f":"IF(表示!$B$13<=有効積算気温!L181,有効積算気温!$A181,\"\")","v":""},{"$f":"IF(表示!$B$13<=有効積算気温!M181,有効積算気温!$A181,\"\")","v":""},{"$f":"IF(表示!$B$13<=有効積算気温!N181,有効積算気温!$A181,\"\")","v":""},{"$f":"IF(表示!$B$13<=有効積算気温!O181,有効積算気温!$A181,\"\")","v":""},{"$f":"IF(表示!$B$13<=有効積算気温!P181,有効積算気温!$A181,\"\")","v":""},{"$f":"IF(表示!$B$13<=有効積算気温!Q181,有効積算気温!$A181,\"\")","v":""},{"$f":"IF(表示!$B$13<=有効積算気温!R181,有効積算気温!$A181,\"\")","v":""},{"$f":"IF(表示!$B$13<=有効積算気温!S181,有効積算気温!$A181,\"\")","v":""},{"$f":"IF(表示!$B$13<=有効積算気温!T181,有効積算気温!$A181,\"\")","v":""},{"$f":"IF(表示!$B$13<=有効積算気温!U181,有効積算気温!$A181,\"\")","v":""},null,null,null,null,{"$f":"IF(表示!$B$13<=有効積算気温!Z181,有効積算気温!$A181,\"\")","v":""}]
["2014-09-28",{"$f":"IF(表示!$B$13<=有効積算気温!B182,有効積算気温!$A182,\"\")","v":""},{"$f":"IF(表示!$B$13<=有効積算気温!C182,有効積算気温!$A182,\"\")","v":""},{"$f":"IF(表示!$B$13<=有効積算気温!D182,有効積算気温!$A182,\"\")","v":""},{"$f":"IF(表示!$B$13<=有効積算気温!E182,有効積算気温!$A182,\"\")","v":""},{"$f":"IF(表示!$B$13<=有効積算気温!F182,有効積算気温!$A182,\"\")","v":""},{"$f":"IF(表示!$B$13<=有効積算気温!G182,有効積算気温!$A182,\"\")","v":""},{"$f":"IF(表示!$B$13<=有効積算気温!H182,有効積算気温!$A182,\"\")","v":""},{"$f":"IF(表示!$B$13<=有効積算気温!I182,有効積算気温!$A182,\"\")","v":""},{"$f":"IF(表示!$B$13<=有効積算気温!J182,有効積算気温!$A182,\"\")","v":""},{"$f":"IF(表示!$B$13<=有効積算気温!K182,有効積算気温!$A182,\"\")","v":""},{"$f":"IF(表示!$B$13<=有効積算気温!L182,有効積算気温!$A182,\"\")","v":""},{"$f":"IF(表示!$B$13<=有効積算気温!M182,有効積算気温!$A182,\"\")","v":""},{"$f":"IF(表示!$B$13<=有効積算気温!N182,有効積算気温!$A182,\"\")","v":""},{"$f":"IF(表示!$B$13<=有効積算気温!O182,有効積算気温!$A182,\"\")","v":""},{"$f":"IF(表示!$B$13<=有効積算気温!P182,有効積算気温!$A182,\"\")","v":""},{"$f":"IF(表示!$B$13<=有効積算気温!Q182,有効積算気温!$A182,\"\")","v":""},{"$f":"IF(表示!$B$13<=有効積算気温!R182,有効積算気温!$A182,\"\")","v":""},{"$f":"IF(表示!$B$13<=有効積算気温!S182,有効積算気温!$A182,\"\")","v":""},{"$f":"IF(表示!$B$13<=有効積算気温!T182,有効積算気温!$A182,\"\")","v":""},{"$f":"IF(表示!$B$13<=有効積算気温!U182,有効積算気温!$A182,\"\")","v":""},null,null,null,null,{"$f":"IF(表示!$B$13<=有効積算気温!Z182,有効積算気温!$A182,\"\")","v":""}]
["2014-09-29",{"$f":"IF(表示!$B$13<=有効積算気温!B183,有効積算気温!$A183,\"\")","v":""},{"$f":"IF(表示!$B$13<=有効積算気温!C183,有効積算気温!$A183,\"\")","v":""},{"$f":"IF(表示!$B$13<=有効積算気温!D183,有効積算気温!$A183,\"\")","v":""},{"$f":"IF(表示!$B$13<=有効積算気温!E183,有効積算気温!$A183,\"\")","v":""},{"$f":"IF(表示!$B$13<=有効積算気温!F183,有効積算気温!$A183,\"\")","v":""},{"$f":"IF(表示!$B$13<=有効積算気温!G183,有効積算気温!$A183,\"\")","v":""},{"$f":"IF(表示!$B$13<=有効積算気温!H183,有効積算気温!$A183,\"\")","v":""},{"$f":"IF(表示!$B$13<=有効積算気温!I183,有効積算気温!$A183,\"\")","v":""},{"$f":"IF(表示!$B$13<=有効積算気温!J183,有効積算気温!$A183,\"\")","v":""},{"$f":"IF(表示!$B$13<=有効積算気温!K183,有効積算気温!$A183,\"\")","v":""},{"$f":"IF(表示!$B$13<=有効積算気温!L183,有効積算気温!$A183,\"\")","v":""},{"$f":"IF(表示!$B$13<=有効積算気温!M183,有効積算気温!$A183,\"\")","v":""},{"$f":"IF(表示!$B$13<=有効積算気温!N183,有効積算気温!$A183,\"\")","v":""},{"$f":"IF(表示!$B$13<=有効積算気温!O183,有効積算気温!$A183,\"\")","v":""},{"$f":"IF(表示!$B$13<=有効積算気温!P183,有効積算気温!$A183,\"\")","v":""},{"$f":"IF(表示!$B$13<=有効積算気温!Q183,有効積算気温!$A183,\"\")","v":""},{"$f":"IF(表示!$B$13<=有効積算気温!R183,有効積算気温!$A183,\"\")","v":""},{"$f":"IF(表示!$B$13<=有効積算気温!S183,有効積算気温!$A183,\"\")","v":""},{"$f":"IF(表示!$B$13<=有効積算気温!T183,有効積算気温!$A183,\"\")","v":""},{"$f":"IF(表示!$B$13<=有効積算気温!U183,有効積算気温!$A183,\"\")","v":""},null,null,null,null,{"$f":"IF(表示!$B$13<=有効積算気温!Z183,有効積算気温!$A183,\"\")","v":""}]
["2014-09-30",{"$f":"IF(表示!$B$13<=有効積算気温!B184,有効積算気温!$A184,\"\")","v":""},{"$f":"IF(表示!$B$13<=有効積算気温!C184,有効積算気温!$A184,\"\")","v":""},{"$f":"IF(表示!$B$13<=有効積算気温!D184,有効積算気温!$A184,\"\")","v":""},{"$f":"IF(表示!$B$13<=有効積算気温!E184,有効積算気温!$A184,\"\")","v":""},{"$f":"IF(表示!$B$13<=有効積算気温!F184,有効積算気温!$A184,\"\")","v":""},{"$f":"IF(表示!$B$13<=有効積算気温!G184,有効積算気温!$A184,\"\")","v":""},{"$f":"IF(表示!$B$13<=有効積算気温!H184,有効積算気温!$A184,\"\")","v":""},{"$f":"IF(表示!$B$13<=有効積算気温!I184,有効積算気温!$A184,\"\")","v":""},{"$f":"IF(表示!$B$13<=有効積算気温!J184,有効積算気温!$A184,\"\")","v":""},{"$f":"IF(表示!$B$13<=有効積算気温!K184,有効積算気温!$A184,\"\")","v":""},{"$f":"IF(表示!$B$13<=有効積算気温!L184,有効積算気温!$A184,\"\")","v":""},{"$f":"IF(表示!$B$13<=有効積算気温!M184,有効積算気温!$A184,\"\")","v":""},{"$f":"IF(表示!$B$13<=有効積算気温!N184,有効積算気温!$A184,\"\")","v":""},{"$f":"IF(表示!$B$13<=有効積算気温!O184,有効積算気温!$A184,\"\")","v":""},{"$f":"IF(表示!$B$13<=有効積算気温!P184,有効積算気温!$A184,\"\")","v":""},{"$f":"IF(表示!$B$13<=有効積算気温!Q184,有効積算気温!$A184,\"\")","v":""},{"$f":"IF(表示!$B$13<=有効積算気温!R184,有効積算気温!$A184,\"\")","v":""},{"$f":"IF(表示!$B$13<=有効積算気温!S184,有効積算気温!$A184,\"\")","v":""},{"$f":"IF(表示!$B$13<=有効積算気温!T184,有効積算気温!$A184,\"\")","v":""},{"$f":"IF(表示!$B$13<=有効積算気温!U184,有効積算気温!$A184,\"\")","v":""},null,null,null,null,{"$f":"IF(表示!$B$13<=有効積算気温!Z184,有効積算気温!$A184,\"\")","v":""}]
["2014-10-01",{"$f":"IF(表示!$B$13<=有効積算気温!B185,有効積算気温!$A185,\"\")","v":""},{"$f":"IF(表示!$B$13<=有効積算気温!C185,有効積算気温!$A185,\"\")","v":""},{"$f":"IF(表示!$B$13<=有効積算気温!D185,有効積算気温!$A185,\"\")","v":""},{"$f":"IF(表示!$B$13<=有効積算気温!E185,有効積算気温!$A185,\"\")","v":""},{"$f":"IF(表示!$B$13<=有効積算気温!F185,有効積算気温!$A185,\"\")","v":""},{"$f":"IF(表示!$B$13<=有効積算気温!G185,有効積算気温!$A185,\"\")","v":""},{"$f":"IF(表示!$B$13<=有効積算気温!H185,有効積算気温!$A185,\"\")","v":""},{"$f":"IF(表示!$B$13<=有効積算気温!I185,有効積算気温!$A185,\"\")","v":""},{"$f":"IF(表示!$B$13<=有効積算気温!J185,有効積算気温!$A185,\"\")","v":""},{"$f":"IF(表示!$B$13<=有効積算気温!K185,有効積算気温!$A185,\"\")","v":""},{"$f":"IF(表示!$B$13<=有効積算気温!L185,有効積算気温!$A185,\"\")","v":""},{"$f":"IF(表示!$B$13<=有効積算気温!M185,有効積算気温!$A185,\"\")","v":""},{"$f":"IF(表示!$B$13<=有効積算気温!N185,有効積算気温!$A185,\"\")","v":""},{"$f":"IF(表示!$B$13<=有効積算気温!O185,有効積算気温!$A185,\"\")","v":""},{"$f":"IF(表示!$B$13<=有効積算気温!P185,有効積算気温!$A185,\"\")","v":""},{"$f":"IF(表示!$B$13<=有効積算気温!Q185,有効積算気温!$A185,\"\")","v":""},{"$f":"IF(表示!$B$13<=有効積算気温!R185,有効積算気温!$A185,\"\")","v":""},{"$f":"IF(表示!$B$13<=有効積算気温!S185,有効積算気温!$A185,\"\")","v":""},{"$f":"IF(表示!$B$13<=有効積算気温!T185,有効積算気温!$A185,\"\")","v":""},{"$f":"IF(表示!$B$13<=有効積算気温!U185,有効積算気温!$A185,\"\")","v":""},null,null,null,null,{"$f":"IF(表示!$B$13<=有効積算気温!Z185,有効積算気温!$A185,\"\")","v":""}]
["2014-10-02",{"$f":"IF(表示!$B$13<=有効積算気温!B186,有効積算気温!$A186,\"\")","v":""},{"$f":"IF(表示!$B$13<=有効積算気温!C186,有効積算気温!$A186,\"\")","v":""},{"$f":"IF(表示!$B$13<=有効積算気温!D186,有効積算気温!$A186,\"\")","v":""},{"$f":"IF(表示!$B$13<=有効積算気温!E186,有効積算気温!$A186,\"\")","v":""},{"$f":"IF(表示!$B$13<=有効積算気温!F186,有効積算気温!$A186,\"\")","v":""},{"$f":"IF(表示!$B$13<=有効積算気温!G186,有効積算気温!$A186,\"\")","v":""},{"$f":"IF(表示!$B$13<=有効積算気温!H186,有効積算気温!$A186,\"\")","v":""},{"$f":"IF(表示!$B$13<=有効積算気温!I186,有効積算気温!$A186,\"\")","v":""},{"$f":"IF(表示!$B$13<=有効積算気温!J186,有効積算気温!$A186,\"\")","v":""},{"$f":"IF(表示!$B$13<=有効積算気温!K186,有効積算気温!$A186,\"\")","v":""},{"$f":"IF(表示!$B$13<=有効積算気温!L186,有効積算気温!$A186,\"\")","v":""},{"$f":"IF(表示!$B$13<=有効積算気温!M186,有効積算気温!$A186,\"\")","v":""},{"$f":"IF(表示!$B$13<=有効積算気温!N186,有効積算気温!$A186,\"\")","v":""},{"$f":"IF(表示!$B$13<=有効積算気温!O186,有効積算気温!$A186,\"\")","v":""},{"$f":"IF(表示!$B$13<=有効積算気温!P186,有効積算気温!$A186,\"\")","v":""},{"$f":"IF(表示!$B$13<=有効積算気温!Q186,有効積算気温!$A186,\"\")","v":""},{"$f":"IF(表示!$B$13<=有効積算気温!R186,有効積算気温!$A186,\"\")","v":""},{"$f":"IF(表示!$B$13<=有効積算気温!S186,有効積算気温!$A186,\"\")","v":""},{"$f":"IF(表示!$B$13<=有効積算気温!T186,有効積算気温!$A186,\"\")","v":""},{"$f":"IF(表示!$B$13<=有効積算気温!U186,有効積算気温!$A186,\"\")","v":""},null,null,null,null,{"$f":"IF(表示!$B$13<=有効積算気温!Z186,有効積算気温!$A186,\"\")","v":""}]
["2014-10-03",{"$f":"IF(表示!$B$13<=有効積算気温!B187,有効積算気温!$A187,\"\")","v":""},{"$f":"IF(表示!$B$13<=有効積算気温!C187,有効積算気温!$A187,\"\")","v":""},{"$f":"IF(表示!$B$13<=有効積算気温!D187,有効積算気温!$A187,\"\")","v":""},{"$f":"IF(表示!$B$13<=有効積算気温!E187,有効積算気温!$A187,\"\")","v":""},{"$f":"IF(表示!$B$13<=有効積算気温!F187,有効積算気温!$A187,\"\")","v":""},{"$f":"IF(表示!$B$13<=有効積算気温!G187,有効積算気温!$A187,\"\")","v":""},{"$f":"IF(表示!$B$13<=有効積算気温!H187,有効積算気温!$A187,\"\")","v":""},{"$f":"IF(表示!$B$13<=有効積算気温!I187,有効積算気温!$A187,\"\")","v":""},{"$f":"IF(表示!$B$13<=有効積算気温!J187,有効積算気温!$A187,\"\")","v":""},{"$f":"IF(表示!$B$13<=有効積算気温!K187,有効積算気温!$A187,\"\")","v":""},{"$f":"IF(表示!$B$13<=有効積算気温!L187,有効積算気温!$A187,\"\")","v":""},{"$f":"IF(表示!$B$13<=有効積算気温!M187,有効積算気温!$A187,\"\")","v":""},{"$f":"IF(表示!$B$13<=有効積算気温!N187,有効積算気温!$A187,\"\")","v":""},{"$f":"IF(表示!$B$13<=有効積算気温!O187,有効積算気温!$A187,\"\")","v":""},{"$f":"IF(表示!$B$13<=有効積算気温!P187,有効積算気温!$A187,\"\")","v":""},{"$f":"IF(表示!$B$13<=有効積算気温!Q187,有効積算気温!$A187,\"\")","v":""},{"$f":"IF(表示!$B$13<=有効積算気温!R187,有効積算気温!$A187,\"\")","v":""},{"$f":"IF(表示!$B$13<=有効積算気温!S187,有効積算気温!$A187,\"\")","v":""},{"$f":"IF(表示!$B$13<=有効積算気温!T187,有効積算気温!$A187,\"\")","v":""},{"$f":"IF(表示!$B$13<=有効積算気温!U187,有効積算気温!$A187,\"\")","v":""},null,null,null,null,{"$f":"IF(表示!$B$13<=有効積算気温!Z187,有効積算気温!$A187,\"\")","v":""}]
["2014-10-04",{"$f":"IF(表示!$B$13<=有効積算気温!B188,有効積算気温!$A188,\"\")","v":""},{"$f":"IF(表示!$B$13<=有効積算気温!C188,有効積算気温!$A188,\"\")","v":""},{"$f":"IF(表示!$B$13<=有効積算気温!D188,有効積算気温!$A188,\"\")","v":""},{"$f":"IF(表示!$B$13<=有効積算気温!E188,有効積算気温!$A188,\"\")","v":""},{"$f":"IF(表示!$B$13<=有効積算気温!F188,有効積算気温!$A188,\"\")","v":""},{"$f":"IF(表示!$B$13<=有効積算気温!G188,有効積算気温!$A188,\"\")","v":""},{"$f":"IF(表示!$B$13<=有効積算気温!H188,有効積算気温!$A188,\"\")","v":""},{"$f":"IF(表示!$B$13<=有効積算気温!I188,有効積算気温!$A188,\"\")","v":""},{"$f":"IF(表示!$B$13<=有効積算気温!J188,有効積算気温!$A188,\"\")","v":""},{"$f":"IF(表示!$B$13<=有効積算気温!K188,有効積算気温!$A188,\"\")","v":""},{"$f":"IF(表示!$B$13<=有効積算気温!L188,有効積算気温!$A188,\"\")","v":""},{"$f":"IF(表示!$B$13<=有効積算気温!M188,有効積算気温!$A188,\"\")","v":""},{"$f":"IF(表示!$B$13<=有効積算気温!N188,有効積算気温!$A188,\"\")","v":""},{"$f":"IF(表示!$B$13<=有効積算気温!O188,有効積算気温!$A188,\"\")","v":""},{"$f":"IF(表示!$B$13<=有効積算気温!P188,有効積算気温!$A188,\"\")","v":""},{"$f":"IF(表示!$B$13<=有効積算気温!Q188,有効積算気温!$A188,\"\")","v":""},{"$f":"IF(表示!$B$13<=有効積算気温!R188,有効積算気温!$A188,\"\")","v":""},{"$f":"IF(表示!$B$13<=有効積算気温!S188,有効積算気温!$A188,\"\")","v":""},{"$f":"IF(表示!$B$13<=有効積算気温!T188,有効積算気温!$A188,\"\")","v":""},{"$f":"IF(表示!$B$13<=有効積算気温!U188,有効積算気温!$A188,\"\")","v":""},null,null,null,null,{"$f":"IF(表示!$B$13<=有効積算気温!Z188,有効積算気温!$A188,\"\")","v":""}]
["2014-10-05",{"$f":"IF(表示!$B$13<=有効積算気温!B189,有効積算気温!$A189,\"\")","v":""},{"$f":"IF(表示!$B$13<=有効積算気温!C189,有効積算気温!$A189,\"\")","v":""},{"$f":"IF(表示!$B$13<=有効積算気温!D189,有効積算気温!$A189,\"\")","v":""},{"$f":"IF(表示!$B$13<=有効積算気温!E189,有効積算気温!$A189,\"\")","v":""},{"$f":"IF(表示!$B$13<=有効積算気温!F189,有効積算気温!$A189,\"\")","v":""},{"$f":"IF(表示!$B$13<=有効積算気温!G189,有効積算気温!$A189,\"\")","v":""},{"$f":"IF(表示!$B$13<=有効積算気温!H189,有効積算気温!$A189,\"\")","v":""},{"$f":"IF(表示!$B$13<=有効積算気温!I189,有効積算気温!$A189,\"\")","v":""},{"$f":"IF(表示!$B$13<=有効積算気温!J189,有効積算気温!$A189,\"\")","v":""},{"$f":"IF(表示!$B$13<=有効積算気温!K189,有効積算気温!$A189,\"\")","v":""},{"$f":"IF(表示!$B$13<=有効積算気温!L189,有効積算気温!$A189,\"\")","v":""},{"$f":"IF(表示!$B$13<=有効積算気温!M189,有効積算気温!$A189,\"\")","v":""},{"$f":"IF(表示!$B$13<=有効積算気温!N189,有効積算気温!$A189,\"\")","v":""},{"$f":"IF(表示!$B$13<=有効積算気温!O189,有効積算気温!$A189,\"\")","v":""},{"$f":"IF(表示!$B$13<=有効積算気温!P189,有効積算気温!$A189,\"\")","v":""},{"$f":"IF(表示!$B$13<=有効積算気温!Q189,有効積算気温!$A189,\"\")","v":""},{"$f":"IF(表示!$B$13<=有効積算気温!R189,有効積算気温!$A189,\"\")","v":""},{"$f":"IF(表示!$B$13<=有効積算気温!S189,有効積算気温!$A189,\"\")","v":""},{"$f":"IF(表示!$B$13<=有効積算気温!T189,有効積算気温!$A189,\"\")","v":""},{"$f":"IF(表示!$B$13<=有効積算気温!U189,有効積算気温!$A189,\"\")","v":""},null,null,null,null,{"$f":"IF(表示!$B$13<=有効積算気温!Z189,有効積算気温!$A189,\"\")","v":""}]
["2014-10-06",{"$f":"IF(表示!$B$13<=有効積算気温!B190,有効積算気温!$A190,\"\")","v":""},{"$f":"IF(表示!$B$13<=有効積算気温!C190,有効積算気温!$A190,\"\")","v":""},{"$f":"IF(表示!$B$13<=有効積算気温!D190,有効積算気温!$A190,\"\")","v":""},{"$f":"IF(表示!$B$13<=有効積算気温!E190,有効積算気温!$A190,\"\")","v":""},{"$f":"IF(表示!$B$13<=有効積算気温!F190,有効積算気温!$A190,\"\")","v":""},{"$f":"IF(表示!$B$13<=有効積算気温!G190,有効積算気温!$A190,\"\")","v":""},{"$f":"IF(表示!$B$13<=有効積算気温!H190,有効積算気温!$A190,\"\")","v":""},{"$f":"IF(表示!$B$13<=有効積算気温!I190,有効積算気温!$A190,\"\")","v":""},{"$f":"IF(表示!$B$13<=有効積算気温!J190,有効積算気温!$A190,\"\")","v":""},{"$f":"IF(表示!$B$13<=有効積算気温!K190,有効積算気温!$A190,\"\")","v":""},{"$f":"IF(表示!$B$13<=有効積算気温!L190,有効積算気温!$A190,\"\")","v":""},{"$f":"IF(表示!$B$13<=有効積算気温!M190,有効積算気温!$A190,\"\")","v":""},{"$f":"IF(表示!$B$13<=有効積算気温!N190,有効積算気温!$A190,\"\")","v":""},{"$f":"IF(表示!$B$13<=有効積算気温!O190,有効積算気温!$A190,\"\")","v":""},{"$f":"IF(表示!$B$13<=有効積算気温!P190,有効積算気温!$A190,\"\")","v":""},{"$f":"IF(表示!$B$13<=有効積算気温!Q190,有効積算気温!$A190,\"\")","v":""},{"$f":"IF(表示!$B$13<=有効積算気温!R190,有効積算気温!$A190,\"\")","v":""},{"$f":"IF(表示!$B$13<=有効積算気温!S190,有効積算気温!$A190,\"\")","v":""},{"$f":"IF(表示!$B$13<=有効積算気温!T190,有効積算気温!$A190,\"\")","v":""},{"$f":"IF(表示!$B$13<=有効積算気温!U190,有効積算気温!$A190,\"\")","v":""},null,null,null,null,{"$f":"IF(表示!$B$13<=有効積算気温!Z190,有効積算気温!$A190,\"\")","v":""}]
["2014-10-07",{"$f":"IF(表示!$B$13<=有効積算気温!B191,有効積算気温!$A191,\"\")","v":""},{"$f":"IF(表示!$B$13<=有効積算気温!C191,有効積算気温!$A191,\"\")","v":""},{"$f":"IF(表示!$B$13<=有効積算気温!D191,有効積算気温!$A191,\"\")","v":""},{"$f":"IF(表示!$B$13<=有効積算気温!E191,有効積算気温!$A191,\"\")","v":""},{"$f":"IF(表示!$B$13<=有効積算気温!F191,有効積算気温!$A191,\"\")","v":""},{"$f":"IF(表示!$B$13<=有効積算気温!G191,有効積算気温!$A191,\"\")","v":""},{"$f":"IF(表示!$B$13<=有効積算気温!H191,有効積算気温!$A191,\"\")","v":""},{"$f":"IF(表示!$B$13<=有効積算気温!I191,有効積算気温!$A191,\"\")","v":""},{"$f":"IF(表示!$B$13<=有効積算気温!J191,有効積算気温!$A191,\"\")","v":""},{"$f":"IF(表示!$B$13<=有効積算気温!K191,有効積算気温!$A191,\"\")","v":""},{"$f":"IF(表示!$B$13<=有効積算気温!L191,有効積算気温!$A191,\"\")","v":""},{"$f":"IF(表示!$B$13<=有効積算気温!M191,有効積算気温!$A191,\"\")","v":""},{"$f":"IF(表示!$B$13<=有効積算気温!N191,有効積算気温!$A191,\"\")","v":""},{"$f":"IF(表示!$B$13<=有効積算気温!O191,有効積算気温!$A191,\"\")","v":""},{"$f":"IF(表示!$B$13<=有効積算気温!P191,有効積算気温!$A191,\"\")","v":""},{"$f":"IF(表示!$B$13<=有効積算気温!Q191,有効積算気温!$A191,\"\")","v":""},{"$f":"IF(表示!$B$13<=有効積算気温!R191,有効積算気温!$A191,\"\")","v":""},{"$f":"IF(表示!$B$13<=有効積算気温!S191,有効積算気温!$A191,\"\")","v":""},{"$f":"IF(表示!$B$13<=有効積算気温!T191,有効積算気温!$A191,\"\")","v":""},{"$f":"IF(表示!$B$13<=有効積算気温!U191,有効積算気温!$A191,\"\")","v":""},null,null,null,null,{"$f":"IF(表示!$B$13<=有効積算気温!Z191,有効積算気温!$A191,\"\")","v":""}]
["2014-10-08",{"$f":"IF(表示!$B$13<=有効積算気温!B192,有効積算気温!$A192,\"\")","v":""},{"$f":"IF(表示!$B$13<=有効積算気温!C192,有効積算気温!$A192,\"\")","v":""},{"$f":"IF(表示!$B$13<=有効積算気温!D192,有効積算気温!$A192,\"\")","v":""},{"$f":"IF(表示!$B$13<=有効積算気温!E192,有効積算気温!$A192,\"\")","v":""},{"$f":"IF(表示!$B$13<=有効積算気温!F192,有効積算気温!$A192,\"\")","v":""},{"$f":"IF(表示!$B$13<=有効積算気温!G192,有効積算気温!$A192,\"\")","v":""},{"$f":"IF(表示!$B$13<=有効積算気温!H192,有効積算気温!$A192,\"\")","v":""},{"$f":"IF(表示!$B$13<=有効積算気温!I192,有効積算気温!$A192,\"\")","v":""},{"$f":"IF(表示!$B$13<=有効積算気温!J192,有効積算気温!$A192,\"\")","v":""},{"$f":"IF(表示!$B$13<=有効積算気温!K192,有効積算気温!$A192,\"\")","v":""},{"$f":"IF(表示!$B$13<=有効積算気温!L192,有効積算気温!$A192,\"\")","v":""},{"$f":"IF(表示!$B$13<=有効積算気温!M192,有効積算気温!$A192,\"\")","v":""},{"$f":"IF(表示!$B$13<=有効積算気温!N192,有効積算気温!$A192,\"\")","v":""},{"$f":"IF(表示!$B$13<=有効積算気温!O192,有効積算気温!$A192,\"\")","v":""},{"$f":"IF(表示!$B$13<=有効積算気温!P192,有効積算気温!$A192,\"\")","v":""},{"$f":"IF(表示!$B$13<=有効積算気温!Q192,有効積算気温!$A192,\"\")","v":""},{"$f":"IF(表示!$B$13<=有効積算気温!R192,有効積算気温!$A192,\"\")","v":""},{"$f":"IF(表示!$B$13<=有効積算気温!S192,有効積算気温!$A192,\"\")","v":""},{"$f":"IF(表示!$B$13<=有効積算気温!T192,有効積算気温!$A192,\"\")","v":""},{"$f":"IF(表示!$B$13<=有効積算気温!U192,有効積算気温!$A192,\"\")","v":""},null,null,null,null,{"$f":"IF(表示!$B$13<=有効積算気温!Z192,有効積算気温!$A192,\"\")","v":""}]
["2014-10-09",{"$f":"IF(表示!$B$13<=有効積算気温!B193,有効積算気温!$A193,\"\")","v":""},{"$f":"IF(表示!$B$13<=有効積算気温!C193,有効積算気温!$A193,\"\")","v":""},{"$f":"IF(表示!$B$13<=有効積算気温!D193,有効積算気温!$A193,\"\")","v":""},{"$f":"IF(表示!$B$13<=有効積算気温!E193,有効積算気温!$A193,\"\")","v":""},{"$f":"IF(表示!$B$13<=有効積算気温!F193,有効積算気温!$A193,\"\")","v":""},{"$f":"IF(表示!$B$13<=有効積算気温!G193,有効積算気温!$A193,\"\")","v":""},{"$f":"IF(表示!$B$13<=有効積算気温!H193,有効積算気温!$A193,\"\")","v":""},{"$f":"IF(表示!$B$13<=有効積算気温!I193,有効積算気温!$A193,\"\")","v":""},{"$f":"IF(表示!$B$13<=有効積算気温!J193,有効積算気温!$A193,\"\")","v":""},{"$f":"IF(表示!$B$13<=有効積算気温!K193,有効積算気温!$A193,\"\")","v":""},{"$f":"IF(表示!$B$13<=有効積算気温!L193,有効積算気温!$A193,\"\")","v":""},{"$f":"IF(表示!$B$13<=有効積算気温!M193,有効積算気温!$A193,\"\")","v":""},{"$f":"IF(表示!$B$13<=有効積算気温!N193,有効積算気温!$A193,\"\")","v":""},{"$f":"IF(表示!$B$13<=有効積算気温!O193,有効積算気温!$A193,\"\")","v":""},{"$f":"IF(表示!$B$13<=有効積算気温!P193,有効積算気温!$A193,\"\")","v":""},{"$f":"IF(表示!$B$13<=有効積算気温!Q193,有効積算気温!$A193,\"\")","v":""},{"$f":"IF(表示!$B$13<=有効積算気温!R193,有効積算気温!$A193,\"\")","v":""},{"$f":"IF(表示!$B$13<=有効積算気温!S193,有効積算気温!$A193,\"\")","v":""},{"$f":"IF(表示!$B$13<=有効積算気温!T193,有効積算気温!$A193,\"\")","v":""},{"$f":"IF(表示!$B$13<=有効積算気温!U193,有効積算気温!$A193,\"\")","v":""},null,null,null,null,{"$f":"IF(表示!$B$13<=有効積算気温!Z193,有効積算気温!$A193,\"\")","v":""}]
["2014-10-10",{"$f":"IF(表示!$B$13<=有効積算気温!B194,有効積算気温!$A194,\"\")","v":""},{"$f":"IF(表示!$B$13<=有効積算気温!C194,有効積算気温!$A194,\"\")","v":""},{"$f":"IF(表示!$B$13<=有効積算気温!D194,有効積算気温!$A194,\"\")","v":""},{"$f":"IF(表示!$B$13<=有効積算気温!E194,有効積算気温!$A194,\"\")","v":""},{"$f":"IF(表示!$B$13<=有効積算気温!F194,有効積算気温!$A194,\"\")","v":""},{"$f":"IF(表示!$B$13<=有効積算気温!G194,有効積算気温!$A194,\"\")","v":""},{"$f":"IF(表示!$B$13<=有効積算気温!H194,有効積算気温!$A194,\"\")","v":""},{"$f":"IF(表示!$B$13<=有効積算気温!I194,有効積算気温!$A194,\"\")","v":""},{"$f":"IF(表示!$B$13<=有効積算気温!J194,有効積算気温!$A194,\"\")","v":""},{"$f":"IF(表示!$B$13<=有効積算気温!K194,有効積算気温!$A194,\"\")","v":""},{"$f":"IF(表示!$B$13<=有効積算気温!L194,有効積算気温!$A194,\"\")","v":""},{"$f":"IF(表示!$B$13<=有効積算気温!M194,有効積算気温!$A194,\"\")","v":""},{"$f":"IF(表示!$B$13<=有効積算気温!N194,有効積算気温!$A194,\"\")","v":""},{"$f":"IF(表示!$B$13<=有効積算気温!O194,有効積算気温!$A194,\"\")","v":""},{"$f":"IF(表示!$B$13<=有効積算気温!P194,有効積算気温!$A194,\"\")","v":""},{"$f":"IF(表示!$B$13<=有効積算気温!Q194,有効積算気温!$A194,\"\")","v":""},{"$f":"IF(表示!$B$13<=有効積算気温!R194,有効積算気温!$A194,\"\")","v":""},{"$f":"IF(表示!$B$13<=有効積算気温!S194,有効積算気温!$A194,\"\")","v":""},{"$f":"IF(表示!$B$13<=有効積算気温!T194,有効積算気温!$A194,\"\")","v":""},{"$f":"IF(表示!$B$13<=有効積算気温!U194,有効積算気温!$A194,\"\")","v":""},null,null,null,null,{"$f":"IF(表示!$B$13<=有効積算気温!Z194,有効積算気温!$A194,\"\")","v":""}]
["2014-10-11",{"$f":"IF(表示!$B$13<=有効積算気温!B195,有効積算気温!$A195,\"\")","v":""},{"$f":"IF(表示!$B$13<=有効積算気温!C195,有効積算気温!$A195,\"\")","v":""},{"$f":"IF(表示!$B$13<=有効積算気温!D195,有効積算気温!$A195,\"\")","v":""},{"$f":"IF(表示!$B$13<=有効積算気温!E195,有効積算気温!$A195,\"\")","v":""},{"$f":"IF(表示!$B$13<=有効積算気温!F195,有効積算気温!$A195,\"\")","v":""},{"$f":"IF(表示!$B$13<=有効積算気温!G195,有効積算気温!$A195,\"\")","v":""},{"$f":"IF(表示!$B$13<=有効積算気温!H195,有効積算気温!$A195,\"\")","v":""},{"$f":"IF(表示!$B$13<=有効積算気温!I195,有効積算気温!$A195,\"\")","v":""},{"$f":"IF(表示!$B$13<=有効積算気温!J195,有効積算気温!$A195,\"\")","v":""},{"$f":"IF(表示!$B$13<=有効積算気温!K195,有効積算気温!$A195,\"\")","v":""},{"$f":"IF(表示!$B$13<=有効積算気温!L195,有効積算気温!$A195,\"\")","v":""},{"$f":"IF(表示!$B$13<=有効積算気温!M195,有効積算気温!$A195,\"\")","v":""},{"$f":"IF(表示!$B$13<=有効積算気温!N195,有効積算気温!$A195,\"\")","v":""},{"$f":"IF(表示!$B$13<=有効積算気温!O195,有効積算気温!$A195,\"\")","v":""},{"$f":"IF(表示!$B$13<=有効積算気温!P195,有効積算気温!$A195,\"\")","v":""},{"$f":"IF(表示!$B$13<=有効積算気温!Q195,有効積算気温!$A195,\"\")","v":""},{"$f":"IF(表示!$B$13<=有効積算気温!R195,有効積算気温!$A195,\"\")","v":""},{"$f":"IF(表示!$B$13<=有効積算気温!S195,有効積算気温!$A195,\"\")","v":""},{"$f":"IF(表示!$B$13<=有効積算気温!T195,有効積算気温!$A195,\"\")","v":""},{"$f":"IF(表示!$B$13<=有効積算気温!U195,有効積算気温!$A195,\"\")","v":""},null,null,null,null,{"$f":"IF(表示!$B$13<=有効積算気温!Z195,有効積算気温!$A195,\"\")","v":""}]
["2014-10-12",{"$f":"IF(表示!$B$13<=有効積算気温!B196,有効積算気温!$A196,\"\")","v":""},{"$f":"IF(表示!$B$13<=有効積算気温!C196,有効積算気温!$A196,\"\")","v":""},{"$f":"IF(表示!$B$13<=有効積算気温!D196,有効積算気温!$A196,\"\")","v":""},{"$f":"IF(表示!$B$13<=有効積算気温!E196,有効積算気温!$A196,\"\")","v":""},{"$f":"IF(表示!$B$13<=有効積算気温!F196,有効積算気温!$A196,\"\")","v":""},{"$f":"IF(表示!$B$13<=有効積算気温!G196,有効積算気温!$A196,\"\")","v":""},{"$f":"IF(表示!$B$13<=有効積算気温!H196,有効積算気温!$A196,\"\")","v":""},{"$f":"IF(表示!$B$13<=有効積算気温!I196,有効積算気温!$A196,\"\")","v":""},{"$f":"IF(表示!$B$13<=有効積算気温!J196,有効積算気温!$A196,\"\")","v":""},{"$f":"IF(表示!$B$13<=有効積算気温!K196,有効積算気温!$A196,\"\")","v":""},{"$f":"IF(表示!$B$13<=有効積算気温!L196,有効積算気温!$A196,\"\")","v":""},{"$f":"IF(表示!$B$13<=有効積算気温!M196,有効積算気温!$A196,\"\")","v":""},{"$f":"IF(表示!$B$13<=有効積算気温!N196,有効積算気温!$A196,\"\")","v":""},{"$f":"IF(表示!$B$13<=有効積算気温!O196,有効積算気温!$A196,\"\")","v":""},{"$f":"IF(表示!$B$13<=有効積算気温!P196,有効積算気温!$A196,\"\")","v":""},{"$f":"IF(表示!$B$13<=有効積算気温!Q196,有効積算気温!$A196,\"\")","v":""},{"$f":"IF(表示!$B$13<=有効積算気温!R196,有効積算気温!$A196,\"\")","v":""},{"$f":"IF(表示!$B$13<=有効積算気温!S196,有効積算気温!$A196,\"\")","v":""},{"$f":"IF(表示!$B$13<=有効積算気温!T196,有効積算気温!$A196,\"\")","v":""},{"$f":"IF(表示!$B$13<=有効積算気温!U196,有効積算気温!$A196,\"\")","v":""},null,null,null,null,{"$f":"IF(表示!$B$13<=有効積算気温!Z196,有効積算気温!$A196,\"\")","v":""}]
["2014-10-13",{"$f":"IF(表示!$B$13<=有効積算気温!B197,有効積算気温!$A197,\"\")","v":""},{"$f":"IF(表示!$B$13<=有効積算気温!C197,有効積算気温!$A197,\"\")","v":""},{"$f":"IF(表示!$B$13<=有効積算気温!D197,有効積算気温!$A197,\"\")","v":""},{"$f":"IF(表示!$B$13<=有効積算気温!E197,有効積算気温!$A197,\"\")","v":""},{"$f":"IF(表示!$B$13<=有効積算気温!F197,有効積算気温!$A197,\"\")","v":""},{"$f":"IF(表示!$B$13<=有効積算気温!G197,有効積算気温!$A197,\"\")","v":""},{"$f":"IF(表示!$B$13<=有効積算気温!H197,有効積算気温!$A197,\"\")","v":""},{"$f":"IF(表示!$B$13<=有効積算気温!I197,有効積算気温!$A197,\"\")","v":""},{"$f":"IF(表示!$B$13<=有効積算気温!J197,有効積算気温!$A197,\"\")","v":""},{"$f":"IF(表示!$B$13<=有効積算気温!K197,有効積算気温!$A197,\"\")","v":""},{"$f":"IF(表示!$B$13<=有効積算気温!L197,有効積算気温!$A197,\"\")","v":""},{"$f":"IF(表示!$B$13<=有効積算気温!M197,有効積算気温!$A197,\"\")","v":""},{"$f":"IF(表示!$B$13<=有効積算気温!N197,有効積算気温!$A197,\"\")","v":""},{"$f":"IF(表示!$B$13<=有効積算気温!O197,有効積算気温!$A197,\"\")","v":""},{"$f":"IF(表示!$B$13<=有効積算気温!P197,有効積算気温!$A197,\"\")","v":""},{"$f":"IF(表示!$B$13<=有効積算気温!Q197,有効積算気温!$A197,\"\")","v":""},{"$f":"IF(表示!$B$13<=有効積算気温!R197,有効積算気温!$A197,\"\")","v":""},{"$f":"IF(表示!$B$13<=有効積算気温!S197,有効積算気温!$A197,\"\")","v":""},{"$f":"IF(表示!$B$13<=有効積算気温!T197,有効積算気温!$A197,\"\")","v":""},{"$f":"IF(表示!$B$13<=有効積算気温!U197,有効積算気温!$A197,\"\")","v":""},null,null,null,null,{"$f":"IF(表示!$B$13<=有効積算気温!Z197,有効積算気温!$A197,\"\")","v":""}]
["2014-10-14",{"$f":"IF(表示!$B$13<=有効積算気温!B198,有効積算気温!$A198,\"\")","v":""},{"$f":"IF(表示!$B$13<=有効積算気温!C198,有効積算気温!$A198,\"\")","v":""},{"$f":"IF(表示!$B$13<=有効積算気温!D198,有効積算気温!$A198,\"\")","v":""},{"$f":"IF(表示!$B$13<=有効積算気温!E198,有効積算気温!$A198,\"\")","v":""},{"$f":"IF(表示!$B$13<=有効積算気温!F198,有効積算気温!$A198,\"\")","v":""},{"$f":"IF(表示!$B$13<=有効積算気温!G198,有効積算気温!$A198,\"\")","v":""},{"$f":"IF(表示!$B$13<=有効積算気温!H198,有効積算気温!$A198,\"\")","v":""},{"$f":"IF(表示!$B$13<=有効積算気温!I198,有効積算気温!$A198,\"\")","v":""},{"$f":"IF(表示!$B$13<=有効積算気温!J198,有効積算気温!$A198,\"\")","v":""},{"$f":"IF(表示!$B$13<=有効積算気温!K198,有効積算気温!$A198,\"\")","v":""},{"$f":"IF(表示!$B$13<=有効積算気温!L198,有効積算気温!$A198,\"\")","v":""},{"$f":"IF(表示!$B$13<=有効積算気温!M198,有効積算気温!$A198,\"\")","v":""},{"$f":"IF(表示!$B$13<=有効積算気温!N198,有効積算気温!$A198,\"\")","v":""},{"$f":"IF(表示!$B$13<=有効積算気温!O198,有効積算気温!$A198,\"\")","v":""},{"$f":"IF(表示!$B$13<=有効積算気温!P198,有効積算気温!$A198,\"\")","v":""},{"$f":"IF(表示!$B$13<=有効積算気温!Q198,有効積算気温!$A198,\"\")","v":""},{"$f":"IF(表示!$B$13<=有効積算気温!R198,有効積算気温!$A198,\"\")","v":""},{"$f":"IF(表示!$B$13<=有効積算気温!S198,有効積算気温!$A198,\"\")","v":""},{"$f":"IF(表示!$B$13<=有効積算気温!T198,有効積算気温!$A198,\"\")","v":""},{"$f":"IF(表示!$B$13<=有効積算気温!U198,有効積算気温!$A198,\"\")","v":""},null,null,null,null,{"$f":"IF(表示!$B$13<=有効積算気温!Z198,有効積算気温!$A198,\"\")","v":""}]
["2014-10-15",{"$f":"IF(表示!$B$13<=有効積算気温!B199,有効積算気温!$A199,\"\")","v":""},{"$f":"IF(表示!$B$13<=有効積算気温!C199,有効積算気温!$A199,\"\")","v":""},{"$f":"IF(表示!$B$13<=有効積算気温!D199,有効積算気温!$A199,\"\")","v":""},{"$f":"IF(表示!$B$13<=有効積算気温!E199,有効積算気温!$A199,\"\")","v":""},{"$f":"IF(表示!$B$13<=有効積算気温!F199,有効積算気温!$A199,\"\")","v":""},{"$f":"IF(表示!$B$13<=有効積算気温!G199,有効積算気温!$A199,\"\")","v":""},{"$f":"IF(表示!$B$13<=有効積算気温!H199,有効積算気温!$A199,\"\")","v":""},{"$f":"IF(表示!$B$13<=有効積算気温!I199,有効積算気温!$A199,\"\")","v":""},{"$f":"IF(表示!$B$13<=有効積算気温!J199,有効積算気温!$A199,\"\")","v":""},{"$f":"IF(表示!$B$13<=有効積算気温!K199,有効積算気温!$A199,\"\")","v":""},{"$f":"IF(表示!$B$13<=有効積算気温!L199,有効積算気温!$A199,\"\")","v":""},{"$f":"IF(表示!$B$13<=有効積算気温!M199,有効積算気温!$A199,\"\")","v":""},{"$f":"IF(表示!$B$13<=有効積算気温!N199,有効積算気温!$A199,\"\")","v":""},{"$f":"IF(表示!$B$13<=有効積算気温!O199,有効積算気温!$A199,\"\")","v":""},{"$f":"IF(表示!$B$13<=有効積算気温!P199,有効積算気温!$A199,\"\")","v":""},{"$f":"IF(表示!$B$13<=有効積算気温!Q199,有効積算気温!$A199,\"\")","v":""},{"$f":"IF(表示!$B$13<=有効積算気温!R199,有効積算気温!$A199,\"\")","v":""},{"$f":"IF(表示!$B$13<=有効積算気温!S199,有効積算気温!$A199,\"\")","v":""},{"$f":"IF(表示!$B$13<=有効積算気温!T199,有効積算気温!$A199,\"\")","v":""},{"$f":"IF(表示!$B$13<=有効積算気温!U199,有効積算気温!$A199,\"\")","v":""},null,null,null,null,{"$f":"IF(表示!$B$13<=有効積算気温!Z199,有効積算気温!$A199,\"\")","v":""}]
["2014-10-16",{"$f":"IF(表示!$B$13<=有効積算気温!B200,有効積算気温!$A200,\"\")","v":""},{"$f":"IF(表示!$B$13<=有効積算気温!C200,有効積算気温!$A200,\"\")","v":""},{"$f":"IF(表示!$B$13<=有効積算気温!D200,有効積算気温!$A200,\"\")","v":""},{"$f":"IF(表示!$B$13<=有効積算気温!E200,有効積算気温!$A200,\"\")","v":""},{"$f":"IF(表示!$B$13<=有効積算気温!F200,有効積算気温!$A200,\"\")","v":""},{"$f":"IF(表示!$B$13<=有効積算気温!G200,有効積算気温!$A200,\"\")","v":""},{"$f":"IF(表示!$B$13<=有効積算気温!H200,有効積算気温!$A200,\"\")","v":""},{"$f":"IF(表示!$B$13<=有効積算気温!I200,有効積算気温!$A200,\"\")","v":""},{"$f":"IF(表示!$B$13<=有効積算気温!J200,有効積算気温!$A200,\"\")","v":""},{"$f":"IF(表示!$B$13<=有効積算気温!K200,有効積算気温!$A200,\"\")","v":""},{"$f":"IF(表示!$B$13<=有効積算気温!L200,有効積算気温!$A200,\"\")","v":""},{"$f":"IF(表示!$B$13<=有効積算気温!M200,有効積算気温!$A200,\"\")","v":""},{"$f":"IF(表示!$B$13<=有効積算気温!N200,有効積算気温!$A200,\"\")","v":""},{"$f":"IF(表示!$B$13<=有効積算気温!O200,有効積算気温!$A200,\"\")","v":""},{"$f":"IF(表示!$B$13<=有効積算気温!P200,有効積算気温!$A200,\"\")","v":""},{"$f":"IF(表示!$B$13<=有効積算気温!Q200,有効積算気温!$A200,\"\")","v":""},{"$f":"IF(表示!$B$13<=有効積算気温!R200,有効積算気温!$A200,\"\")","v":""},{"$f":"IF(表示!$B$13<=有効積算気温!S200,有効積算気温!$A200,\"\")","v":""},{"$f":"IF(表示!$B$13<=有効積算気温!T200,有効積算気温!$A200,\"\")","v":""},{"$f":"IF(表示!$B$13<=有効積算気温!U200,有効積算気温!$A200,\"\")","v":""},null,null,null,null,{"$f":"IF(表示!$B$13<=有効積算気温!Z200,有効積算気温!$A200,\"\")","v":""}]
["2014-10-17",{"$f":"IF(表示!$B$13<=有効積算気温!B201,有効積算気温!$A201,\"\")","v":""},{"$f":"IF(表示!$B$13<=有効積算気温!C201,有効積算気温!$A201,\"\")","v":""},{"$f":"IF(表示!$B$13<=有効積算気温!D201,有効積算気温!$A201,\"\")","v":""},{"$f":"IF(表示!$B$13<=有効積算気温!E201,有効積算気温!$A201,\"\")","v":""},{"$f":"IF(表示!$B$13<=有効積算気温!F201,有効積算気温!$A201,\"\")","v":""},{"$f":"IF(表示!$B$13<=有効積算気温!G201,有効積算気温!$A201,\"\")","v":""},{"$f":"IF(表示!$B$13<=有効積算気温!H201,有効積算気温!$A201,\"\")","v":""},{"$f":"IF(表示!$B$13<=有効積算気温!I201,有効積算気温!$A201,\"\")","v":""},{"$f":"IF(表示!$B$13<=有効積算気温!J201,有効積算気温!$A201,\"\")","v":""},{"$f":"IF(表示!$B$13<=有効積算気温!K201,有効積算気温!$A201,\"\")","v":""},{"$f":"IF(表示!$B$13<=有効積算気温!L201,有効積算気温!$A201,\"\")","v":""},{"$f":"IF(表示!$B$13<=有効積算気温!M201,有効積算気温!$A201,\"\")","v":""},{"$f":"IF(表示!$B$13<=有効積算気温!N201,有効積算気温!$A201,\"\")","v":""},{"$f":"IF(表示!$B$13<=有効積算気温!O201,有効積算気温!$A201,\"\")","v":""},{"$f":"IF(表示!$B$13<=有効積算気温!P201,有効積算気温!$A201,\"\")","v":""},{"$f":"IF(表示!$B$13<=有効積算気温!Q201,有効積算気温!$A201,\"\")","v":""},{"$f":"IF(表示!$B$13<=有効積算気温!R201,有効積算気温!$A201,\"\")","v":""},{"$f":"IF(表示!$B$13<=有効積算気温!S201,有効積算気温!$A201,\"\")","v":""},{"$f":"IF(表示!$B$13<=有効積算気温!T201,有効積算気温!$A201,\"\")","v":""},{"$f":"IF(表示!$B$13<=有効積算気温!U201,有効積算気温!$A201,\"\")","v":""},null,null,null,null,{"$f":"IF(表示!$B$13<=有効積算気温!Z201,有効積算気温!$A201,\"\")","v":""}]
["2014-10-18",{"$f":"IF(表示!$B$13<=有効積算気温!B202,有効積算気温!$A202,\"\")","v":""},{"$f":"IF(表示!$B$13<=有効積算気温!C202,有効積算気温!$A202,\"\")","v":""},{"$f":"IF(表示!$B$13<=有効積算気温!D202,有効積算気温!$A202,\"\")","v":""},{"$f":"IF(表示!$B$13<=有効積算気温!E202,有効積算気温!$A202,\"\")","v":""},{"$f":"IF(表示!$B$13<=有効積算気温!F202,有効積算気温!$A202,\"\")","v":""},{"$f":"IF(表示!$B$13<=有効積算気温!G202,有効積算気温!$A202,\"\")","v":""},{"$f":"IF(表示!$B$13<=有効積算気温!H202,有効積算気温!$A202,\"\")","v":""},{"$f":"IF(表示!$B$13<=有効積算気温!I202,有効積算気温!$A202,\"\")","v":""},{"$f":"IF(表示!$B$13<=有効積算気温!J202,有効積算気温!$A202,\"\")","v":""},{"$f":"IF(表示!$B$13<=有効積算気温!K202,有効積算気温!$A202,\"\")","v":""},{"$f":"IF(表示!$B$13<=有効積算気温!L202,有効積算気温!$A202,\"\")","v":""},{"$f":"IF(表示!$B$13<=有効積算気温!M202,有効積算気温!$A202,\"\")","v":""},{"$f":"IF(表示!$B$13<=有効積算気温!N202,有効積算気温!$A202,\"\")","v":""},{"$f":"IF(表示!$B$13<=有効積算気温!O202,有効積算気温!$A202,\"\")","v":""},{"$f":"IF(表示!$B$13<=有効積算気温!P202,有効積算気温!$A202,\"\")","v":""},{"$f":"IF(表示!$B$13<=有効積算気温!Q202,有効積算気温!$A202,\"\")","v":""},{"$f":"IF(表示!$B$13<=有効積算気温!R202,有効積算気温!$A202,\"\")","v":""},{"$f":"IF(表示!$B$13<=有効積算気温!S202,有効積算気温!$A202,\"\")","v":""},{"$f":"IF(表示!$B$13<=有効積算気温!T202,有効積算気温!$A202,\"\")","v":""},{"$f":"IF(表示!$B$13<=有効積算気温!U202,有効積算気温!$A202,\"\")","v":""},null,null,null,null,{"$f":"IF(表示!$B$13<=有効積算気温!Z202,有効積算気温!$A202,\"\")","v":""}]
["2014-10-19",{"$f":"IF(表示!$B$13<=有効積算気温!B203,有効積算気温!$A203,\"\")","v":""},{"$f":"IF(表示!$B$13<=有効積算気温!C203,有効積算気温!$A203,\"\")","v":""},{"$f":"IF(表示!$B$13<=有効積算気温!D203,有効積算気温!$A203,\"\")","v":""},{"$f":"IF(表示!$B$13<=有効積算気温!E203,有効積算気温!$A203,\"\")","v":""},{"$f":"IF(表示!$B$13<=有効積算気温!F203,有効積算気温!$A203,\"\")","v":""},{"$f":"IF(表示!$B$13<=有効積算気温!G203,有効積算気温!$A203,\"\")","v":""},{"$f":"IF(表示!$B$13<=有効積算気温!H203,有効積算気温!$A203,\"\")","v":""},{"$f":"IF(表示!$B$13<=有効積算気温!I203,有効積算気温!$A203,\"\")","v":""},{"$f":"IF(表示!$B$13<=有効積算気温!J203,有効積算気温!$A203,\"\")","v":""},{"$f":"IF(表示!$B$13<=有効積算気温!K203,有効積算気温!$A203,\"\")","v":""},{"$f":"IF(表示!$B$13<=有効積算気温!L203,有効積算気温!$A203,\"\")","v":""},{"$f":"IF(表示!$B$13<=有効積算気温!M203,有効積算気温!$A203,\"\")","v":""},{"$f":"IF(表示!$B$13<=有効積算気温!N203,有効積算気温!$A203,\"\")","v":""},{"$f":"IF(表示!$B$13<=有効積算気温!O203,有効積算気温!$A203,\"\")","v":""},{"$f":"IF(表示!$B$13<=有効積算気温!P203,有効積算気温!$A203,\"\")","v":""},{"$f":"IF(表示!$B$13<=有効積算気温!Q203,有効積算気温!$A203,\"\")","v":""},{"$f":"IF(表示!$B$13<=有効積算気温!R203,有効積算気温!$A203,\"\")","v":""},{"$f":"IF(表示!$B$13<=有効積算気温!S203,有効積算気温!$A203,\"\")","v":""},{"$f":"IF(表示!$B$13<=有効積算気温!T203,有効積算気温!$A203,\"\")","v":""},{"$f":"IF(表示!$B$13<=有効積算気温!U203,有効積算気温!$A203,\"\")","v":""},null,null,null,null,{"$f":"IF(表示!$B$13<=有効積算気温!Z203,有効積算気温!$A203,\"\")","v":""}]
["2014-10-20",{"$f":"IF(表示!$B$13<=有効積算気温!B204,有効積算気温!$A204,\"\")","v":""},{"$f":"IF(表示!$B$13<=有効積算気温!C204,有効積算気温!$A204,\"\")","v":""},{"$f":"IF(表示!$B$13<=有効積算気温!D204,有効積算気温!$A204,\"\")","v":""},{"$f":"IF(表示!$B$13<=有効積算気温!E204,有効積算気温!$A204,\"\")","v":""},{"$f":"IF(表示!$B$13<=有効積算気温!F204,有効積算気温!$A204,\"\")","v":""},{"$f":"IF(表示!$B$13<=有効積算気温!G204,有効積算気温!$A204,\"\")","v":""},{"$f":"IF(表示!$B$13<=有効積算気温!H204,有効積算気温!$A204,\"\")","v":""},{"$f":"IF(表示!$B$13<=有効積算気温!I204,有効積算気温!$A204,\"\")","v":""},{"$f":"IF(表示!$B$13<=有効積算気温!J204,有効積算気温!$A204,\"\")","v":""},{"$f":"IF(表示!$B$13<=有効積算気温!K204,有効積算気温!$A204,\"\")","v":""},{"$f":"IF(表示!$B$13<=有効積算気温!L204,有効積算気温!$A204,\"\")","v":""},{"$f":"IF(表示!$B$13<=有効積算気温!M204,有効積算気温!$A204,\"\")","v":""},{"$f":"IF(表示!$B$13<=有効積算気温!N204,有効積算気温!$A204,\"\")","v":""},{"$f":"IF(表示!$B$13<=有効積算気温!O204,有効積算気温!$A204,\"\")","v":""},{"$f":"IF(表示!$B$13<=有効積算気温!P204,有効積算気温!$A204,\"\")","v":""},{"$f":"IF(表示!$B$13<=有効積算気温!Q204,有効積算気温!$A204,\"\")","v":""},{"$f":"IF(表示!$B$13<=有効積算気温!R204,有効積算気温!$A204,\"\")","v":""},{"$f":"IF(表示!$B$13<=有効積算気温!S204,有効積算気温!$A204,\"\")","v":""},{"$f":"IF(表示!$B$13<=有効積算気温!T204,有効積算気温!$A204,\"\")","v":""},{"$f":"IF(表示!$B$13<=有効積算気温!U204,有効積算気温!$A204,\"\")","v":""},null,null,null,null,{"$f":"IF(表示!$B$13<=有効積算気温!Z204,有効積算気温!$A204,\"\")","v":""}]
["2014-10-21",{"$f":"IF(表示!$B$13<=有効積算気温!B205,有効積算気温!$A205,\"\")","v":""},{"$f":"IF(表示!$B$13<=有効積算気温!C205,有効積算気温!$A205,\"\")","v":""},{"$f":"IF(表示!$B$13<=有効積算気温!D205,有効積算気温!$A205,\"\")","v":""},{"$f":"IF(表示!$B$13<=有効積算気温!E205,有効積算気温!$A205,\"\")","v":""},{"$f":"IF(表示!$B$13<=有効積算気温!F205,有効積算気温!$A205,\"\")","v":""},{"$f":"IF(表示!$B$13<=有効積算気温!G205,有効積算気温!$A205,\"\")","v":""},{"$f":"IF(表示!$B$13<=有効積算気温!H205,有効積算気温!$A205,\"\")","v":""},{"$f":"IF(表示!$B$13<=有効積算気温!I205,有効積算気温!$A205,\"\")","v":""},{"$f":"IF(表示!$B$13<=有効積算気温!J205,有効積算気温!$A205,\"\")","v":""},{"$f":"IF(表示!$B$13<=有効積算気温!K205,有効積算気温!$A205,\"\")","v":""},{"$f":"IF(表示!$B$13<=有効積算気温!L205,有効積算気温!$A205,\"\")","v":""},{"$f":"IF(表示!$B$13<=有効積算気温!M205,有効積算気温!$A205,\"\")","v":""},{"$f":"IF(表示!$B$13<=有効積算気温!N205,有効積算気温!$A205,\"\")","v":""},{"$f":"IF(表示!$B$13<=有効積算気温!O205,有効積算気温!$A205,\"\")","v":""},{"$f":"IF(表示!$B$13<=有効積算気温!P205,有効積算気温!$A205,\"\")","v":""},{"$f":"IF(表示!$B$13<=有効積算気温!Q205,有効積算気温!$A205,\"\")","v":""},{"$f":"IF(表示!$B$13<=有効積算気温!R205,有効積算気温!$A205,\"\")","v":""},{"$f":"IF(表示!$B$13<=有効積算気温!S205,有効積算気温!$A205,\"\")","v":""},{"$f":"IF(表示!$B$13<=有効積算気温!T205,有効積算気温!$A205,\"\")","v":""},{"$f":"IF(表示!$B$13<=有効積算気温!U205,有効積算気温!$A205,\"\")","v":""},null,null,null,null,{"$f":"IF(表示!$B$13<=有効積算気温!Z205,有効積算気温!$A205,\"\")","v":""}]
["2014-10-22",{"$f":"IF(表示!$B$13<=有効積算気温!B206,有効積算気温!$A206,\"\")","v":""},{"$f":"IF(表示!$B$13<=有効積算気温!C206,有効積算気温!$A206,\"\")","v":""},{"$f":"IF(表示!$B$13<=有効積算気温!D206,有効積算気温!$A206,\"\")","v":""},{"$f":"IF(表示!$B$13<=有効積算気温!E206,有効積算気温!$A206,\"\")","v":""},{"$f":"IF(表示!$B$13<=有効積算気温!F206,有効積算気温!$A206,\"\")","v":""},{"$f":"IF(表示!$B$13<=有効積算気温!G206,有効積算気温!$A206,\"\")","v":""},{"$f":"IF(表示!$B$13<=有効積算気温!H206,有効積算気温!$A206,\"\")","v":""},{"$f":"IF(表示!$B$13<=有効積算気温!I206,有効積算気温!$A206,\"\")","v":""},{"$f":"IF(表示!$B$13<=有効積算気温!J206,有効積算気温!$A206,\"\")","v":""},{"$f":"IF(表示!$B$13<=有効積算気温!K206,有効積算気温!$A206,\"\")","v":""},{"$f":"IF(表示!$B$13<=有効積算気温!L206,有効積算気温!$A206,\"\")","v":""},{"$f":"IF(表示!$B$13<=有効積算気温!M206,有効積算気温!$A206,\"\")","v":""},{"$f":"IF(表示!$B$13<=有効積算気温!N206,有効積算気温!$A206,\"\")","v":""},{"$f":"IF(表示!$B$13<=有効積算気温!O206,有効積算気温!$A206,\"\")","v":""},{"$f":"IF(表示!$B$13<=有効積算気温!P206,有効積算気温!$A206,\"\")","v":""},{"$f":"IF(表示!$B$13<=有効積算気温!Q206,有効積算気温!$A206,\"\")","v":""},{"$f":"IF(表示!$B$13<=有効積算気温!R206,有効積算気温!$A206,\"\")","v":""},{"$f":"IF(表示!$B$13<=有効積算気温!S206,有効積算気温!$A206,\"\")","v":""},{"$f":"IF(表示!$B$13<=有効積算気温!T206,有効積算気温!$A206,\"\")","v":""},{"$f":"IF(表示!$B$13<=有効積算気温!U206,有効積算気温!$A206,\"\")","v":""},null,null,null,null,{"$f":"IF(表示!$B$13<=有効積算気温!Z206,有効積算気温!$A206,\"\")","v":""}]
["2014-10-23",{"$f":"IF(表示!$B$13<=有効積算気温!B207,有効積算気温!$A207,\"\")","v":""},{"$f":"IF(表示!$B$13<=有効積算気温!C207,有効積算気温!$A207,\"\")","v":""},{"$f":"IF(表示!$B$13<=有効積算気温!D207,有効積算気温!$A207,\"\")","v":""},{"$f":"IF(表示!$B$13<=有効積算気温!E207,有効積算気温!$A207,\"\")","v":""},{"$f":"IF(表示!$B$13<=有効積算気温!F207,有効積算気温!$A207,\"\")","v":""},{"$f":"IF(表示!$B$13<=有効積算気温!G207,有効積算気温!$A207,\"\")","v":""},{"$f":"IF(表示!$B$13<=有効積算気温!H207,有効積算気温!$A207,\"\")","v":""},{"$f":"IF(表示!$B$13<=有効積算気温!I207,有効積算気温!$A207,\"\")","v":""},{"$f":"IF(表示!$B$13<=有効積算気温!J207,有効積算気温!$A207,\"\")","v":""},{"$f":"IF(表示!$B$13<=有効積算気温!K207,有効積算気温!$A207,\"\")","v":""},{"$f":"IF(表示!$B$13<=有効積算気温!L207,有効積算気温!$A207,\"\")","v":""},{"$f":"IF(表示!$B$13<=有効積算気温!M207,有効積算気温!$A207,\"\")","v":""},{"$f":"IF(表示!$B$13<=有効積算気温!N207,有効積算気温!$A207,\"\")","v":""},{"$f":"IF(表示!$B$13<=有効積算気温!O207,有効積算気温!$A207,\"\")","v":""},{"$f":"IF(表示!$B$13<=有効積算気温!P207,有効積算気温!$A207,\"\")","v":""},{"$f":"IF(表示!$B$13<=有効積算気温!Q207,有効積算気温!$A207,\"\")","v":""},{"$f":"IF(表示!$B$13<=有効積算気温!R207,有効積算気温!$A207,\"\")","v":""},{"$f":"IF(表示!$B$13<=有効積算気温!S207,有効積算気温!$A207,\"\")","v":""},{"$f":"IF(表示!$B$13<=有効積算気温!T207,有効積算気温!$A207,\"\")","v":""},{"$f":"IF(表示!$B$13<=有効積算気温!U207,有効積算気温!$A207,\"\")","v":""},null,null,null,null,{"$f":"IF(表示!$B$13<=有効積算気温!Z207,有効積算気温!$A207,\"\")","v":""}]
["2014-10-24",{"$f":"IF(表示!$B$13<=有効積算気温!B208,有効積算気温!$A208,\"\")","v":""},{"$f":"IF(表示!$B$13<=有効積算気温!C208,有効積算気温!$A208,\"\")","v":""},{"$f":"IF(表示!$B$13<=有効積算気温!D208,有効積算気温!$A208,\"\")","v":""},{"$f":"IF(表示!$B$13<=有効積算気温!E208,有効積算気温!$A208,\"\")","v":""},{"$f":"IF(表示!$B$13<=有効積算気温!F208,有効積算気温!$A208,\"\")","v":""},{"$f":"IF(表示!$B$13<=有効積算気温!G208,有効積算気温!$A208,\"\")","v":""},{"$f":"IF(表示!$B$13<=有効積算気温!H208,有効積算気温!$A208,\"\")","v":""},{"$f":"IF(表示!$B$13<=有効積算気温!I208,有効積算気温!$A208,\"\")","v":""},{"$f":"IF(表示!$B$13<=有効積算気温!J208,有効積算気温!$A208,\"\")","v":""},{"$f":"IF(表示!$B$13<=有効積算気温!K208,有効積算気温!$A208,\"\")","v":""},{"$f":"IF(表示!$B$13<=有効積算気温!L208,有効積算気温!$A208,\"\")","v":""},{"$f":"IF(表示!$B$13<=有効積算気温!M208,有効積算気温!$A208,\"\")","v":""},{"$f":"IF(表示!$B$13<=有効積算気温!N208,有効積算気温!$A208,\"\")","v":""},{"$f":"IF(表示!$B$13<=有効積算気温!O208,有効積算気温!$A208,\"\")","v":""},{"$f":"IF(表示!$B$13<=有効積算気温!P208,有効積算気温!$A208,\"\")","v":""},{"$f":"IF(表示!$B$13<=有効積算気温!Q208,有効積算気温!$A208,\"\")","v":""},{"$f":"IF(表示!$B$13<=有効積算気温!R208,有効積算気温!$A208,\"\")","v":""},{"$f":"IF(表示!$B$13<=有効積算気温!S208,有効積算気温!$A208,\"\")","v":""},{"$f":"IF(表示!$B$13<=有効積算気温!T208,有効積算気温!$A208,\"\")","v":""},{"$f":"IF(表示!$B$13<=有効積算気温!U208,有効積算気温!$A208,\"\")","v":""},null,null,null,null,{"$f":"IF(表示!$B$13<=有効積算気温!Z208,有効積算気温!$A208,\"\")","v":""}]
["2014-10-25",{"$f":"IF(表示!$B$13<=有効積算気温!B209,有効積算気温!$A209,\"\")","v":""},{"$f":"IF(表示!$B$13<=有効積算気温!C209,有効積算気温!$A209,\"\")","v":""},{"$f":"IF(表示!$B$13<=有効積算気温!D209,有効積算気温!$A209,\"\")","v":""},{"$f":"IF(表示!$B$13<=有効積算気温!E209,有効積算気温!$A209,\"\")","v":""},{"$f":"IF(表示!$B$13<=有効積算気温!F209,有効積算気温!$A209,\"\")","v":""},{"$f":"IF(表示!$B$13<=有効積算気温!G209,有効積算気温!$A209,\"\")","v":""},{"$f":"IF(表示!$B$13<=有効積算気温!H209,有効積算気温!$A209,\"\")","v":""},{"$f":"IF(表示!$B$13<=有効積算気温!I209,有効積算気温!$A209,\"\")","v":""},{"$f":"IF(表示!$B$13<=有効積算気温!J209,有効積算気温!$A209,\"\")","v":""},{"$f":"IF(表示!$B$13<=有効積算気温!K209,有効積算気温!$A209,\"\")","v":""},{"$f":"IF(表示!$B$13<=有効積算気温!L209,有効積算気温!$A209,\"\")","v":""},{"$f":"IF(表示!$B$13<=有効積算気温!M209,有効積算気温!$A209,\"\")","v":""},{"$f":"IF(表示!$B$13<=有効積算気温!N209,有効積算気温!$A209,\"\")","v":""},{"$f":"IF(表示!$B$13<=有効積算気温!O209,有効積算気温!$A209,\"\")","v":""},{"$f":"IF(表示!$B$13<=有効積算気温!P209,有効積算気温!$A209,\"\")","v":""},{"$f":"IF(表示!$B$13<=有効積算気温!Q209,有効積算気温!$A209,\"\")","v":""},{"$f":"IF(表示!$B$13<=有効積算気温!R209,有効積算気温!$A209,\"\")","v":""},{"$f":"IF(表示!$B$13<=有効積算気温!S209,有効積算気温!$A209,\"\")","v":""},{"$f":"IF(表示!$B$13<=有効積算気温!T209,有効積算気温!$A209,\"\")","v":""},{"$f":"IF(表示!$B$13<=有効積算気温!U209,有効積算気温!$A209,\"\")","v":""},null,null,null,null,{"$f":"IF(表示!$B$13<=有効積算気温!Z209,有効積算気温!$A209,\"\")","v":""}]
["2014-10-26",{"$f":"IF(表示!$B$13<=有効積算気温!B210,有効積算気温!$A210,\"\")","v":""},{"$f":"IF(表示!$B$13<=有効積算気温!C210,有効積算気温!$A210,\"\")","v":""},{"$f":"IF(表示!$B$13<=有効積算気温!D210,有効積算気温!$A210,\"\")","v":""},{"$f":"IF(表示!$B$13<=有効積算気温!E210,有効積算気温!$A210,\"\")","v":""},{"$f":"IF(表示!$B$13<=有効積算気温!F210,有効積算気温!$A210,\"\")","v":""},{"$f":"IF(表示!$B$13<=有効積算気温!G210,有効積算気温!$A210,\"\")","v":""},{"$f":"IF(表示!$B$13<=有効積算気温!H210,有効積算気温!$A210,\"\")","v":""},{"$f":"IF(表示!$B$13<=有効積算気温!I210,有効積算気温!$A210,\"\")","v":""},{"$f":"IF(表示!$B$13<=有効積算気温!J210,有効積算気温!$A210,\"\")","v":""},{"$f":"IF(表示!$B$13<=有効積算気温!K210,有効積算気温!$A210,\"\")","v":""},{"$f":"IF(表示!$B$13<=有効積算気温!L210,有効積算気温!$A210,\"\")","v":""},{"$f":"IF(表示!$B$13<=有効積算気温!M210,有効積算気温!$A210,\"\")","v":""},{"$f":"IF(表示!$B$13<=有効積算気温!N210,有効積算気温!$A210,\"\")","v":""},{"$f":"IF(表示!$B$13<=有効積算気温!O210,有効積算気温!$A210,\"\")","v":""},{"$f":"IF(表示!$B$13<=有効積算気温!P210,有効積算気温!$A210,\"\")","v":""},{"$f":"IF(表示!$B$13<=有効積算気温!Q210,有効積算気温!$A210,\"\")","v":""},{"$f":"IF(表示!$B$13<=有効積算気温!R210,有効積算気温!$A210,\"\")","v":""},{"$f":"IF(表示!$B$13<=有効積算気温!S210,有効積算気温!$A210,\"\")","v":""},{"$f":"IF(表示!$B$13<=有効積算気温!T210,有効積算気温!$A210,\"\")","v":""},{"$f":"IF(表示!$B$13<=有効積算気温!U210,有効積算気温!$A210,\"\")","v":""},null,null,null,null,{"$f":"IF(表示!$B$13<=有効積算気温!Z210,有効積算気温!$A210,\"\")","v":""}]
["2014-10-27",{"$f":"IF(表示!$B$13<=有効積算気温!B211,有効積算気温!$A211,\"\")","v":""},{"$f":"IF(表示!$B$13<=有効積算気温!C211,有効積算気温!$A211,\"\")","v":""},{"$f":"IF(表示!$B$13<=有効積算気温!D211,有効積算気温!$A211,\"\")","v":""},{"$f":"IF(表示!$B$13<=有効積算気温!E211,有効積算気温!$A211,\"\")","v":""},{"$f":"IF(表示!$B$13<=有効積算気温!F211,有効積算気温!$A211,\"\")","v":""},{"$f":"IF(表示!$B$13<=有効積算気温!G211,有効積算気温!$A211,\"\")","v":""},{"$f":"IF(表示!$B$13<=有効積算気温!H211,有効積算気温!$A211,\"\")","v":""},{"$f":"IF(表示!$B$13<=有効積算気温!I211,有効積算気温!$A211,\"\")","v":""},{"$f":"IF(表示!$B$13<=有効積算気温!J211,有効積算気温!$A211,\"\")","v":""},{"$f":"IF(表示!$B$13<=有効積算気温!K211,有効積算気温!$A211,\"\")","v":""},{"$f":"IF(表示!$B$13<=有効積算気温!L211,有効積算気温!$A211,\"\")","v":""},{"$f":"IF(表示!$B$13<=有効積算気温!M211,有効積算気温!$A211,\"\")","v":""},{"$f":"IF(表示!$B$13<=有効積算気温!N211,有効積算気温!$A211,\"\")","v":""},{"$f":"IF(表示!$B$13<=有効積算気温!O211,有効積算気温!$A211,\"\")","v":""},{"$f":"IF(表示!$B$13<=有効積算気温!P211,有効積算気温!$A211,\"\")","v":""},{"$f":"IF(表示!$B$13<=有効積算気温!Q211,有効積算気温!$A211,\"\")","v":""},{"$f":"IF(表示!$B$13<=有効積算気温!R211,有効積算気温!$A211,\"\")","v":""},{"$f":"IF(表示!$B$13<=有効積算気温!S211,有効積算気温!$A211,\"\")","v":""},{"$f":"IF(表示!$B$13<=有効積算気温!T211,有効積算気温!$A211,\"\")","v":""},{"$f":"IF(表示!$B$13<=有効積算気温!U211,有効積算気温!$A211,\"\")","v":""},null,null,null,null,{"$f":"IF(表示!$B$13<=有効積算気温!Z211,有効積算気温!$A211,\"\")","v":""}]
["2014-10-28",{"$f":"IF(表示!$B$13<=有効積算気温!B212,有効積算気温!$A212,\"\")","v":""},{"$f":"IF(表示!$B$13<=有効積算気温!C212,有効積算気温!$A212,\"\")","v":""},{"$f":"IF(表示!$B$13<=有効積算気温!D212,有効積算気温!$A212,\"\")","v":""},{"$f":"IF(表示!$B$13<=有効積算気温!E212,有効積算気温!$A212,\"\")","v":""},{"$f":"IF(表示!$B$13<=有効積算気温!F212,有効積算気温!$A212,\"\")","v":""},{"$f":"IF(表示!$B$13<=有効積算気温!G212,有効積算気温!$A212,\"\")","v":""},{"$f":"IF(表示!$B$13<=有効積算気温!H212,有効積算気温!$A212,\"\")","v":""},{"$f":"IF(表示!$B$13<=有効積算気温!I212,有効積算気温!$A212,\"\")","v":""},{"$f":"IF(表示!$B$13<=有効積算気温!J212,有効積算気温!$A212,\"\")","v":""},{"$f":"IF(表示!$B$13<=有効積算気温!K212,有効積算気温!$A212,\"\")","v":""},{"$f":"IF(表示!$B$13<=有効積算気温!L212,有効積算気温!$A212,\"\")","v":""},{"$f":"IF(表示!$B$13<=有効積算気温!M212,有効積算気温!$A212,\"\")","v":""},{"$f":"IF(表示!$B$13<=有効積算気温!N212,有効積算気温!$A212,\"\")","v":""},{"$f":"IF(表示!$B$13<=有効積算気温!O212,有効積算気温!$A212,\"\")","v":""},{"$f":"IF(表示!$B$13<=有効積算気温!P212,有効積算気温!$A212,\"\")","v":""},{"$f":"IF(表示!$B$13<=有効積算気温!Q212,有効積算気温!$A212,\"\")","v":""},{"$f":"IF(表示!$B$13<=有効積算気温!R212,有効積算気温!$A212,\"\")","v":""},{"$f":"IF(表示!$B$13<=有効積算気温!S212,有効積算気温!$A212,\"\")","v":""},{"$f":"IF(表示!$B$13<=有効積算気温!T212,有効積算気温!$A212,\"\")","v":""},{"$f":"IF(表示!$B$13<=有効積算気温!U212,有効積算気温!$A212,\"\")","v":""},null,null,null,null,{"$f":"IF(表示!$B$13<=有効積算気温!Z212,有効積算気温!$A212,\"\")","v":""}]
["2014-10-29",{"$f":"IF(表示!$B$13<=有効積算気温!B213,有効積算気温!$A213,\"\")","v":""},{"$f":"IF(表示!$B$13<=有効積算気温!C213,有効積算気温!$A213,\"\")","v":""},{"$f":"IF(表示!$B$13<=有効積算気温!D213,有効積算気温!$A213,\"\")","v":""},{"$f":"IF(表示!$B$13<=有効積算気温!E213,有効積算気温!$A213,\"\")","v":""},{"$f":"IF(表示!$B$13<=有効積算気温!F213,有効積算気温!$A213,\"\")","v":""},{"$f":"IF(表示!$B$13<=有効積算気温!G213,有効積算気温!$A213,\"\")","v":""},{"$f":"IF(表示!$B$13<=有効積算気温!H213,有効積算気温!$A213,\"\")","v":""},{"$f":"IF(表示!$B$13<=有効積算気温!I213,有効積算気温!$A213,\"\")","v":""},{"$f":"IF(表示!$B$13<=有効積算気温!J213,有効積算気温!$A213,\"\")","v":""},{"$f":"IF(表示!$B$13<=有効積算気温!K213,有効積算気温!$A213,\"\")","v":""},{"$f":"IF(表示!$B$13<=有効積算気温!L213,有効積算気温!$A213,\"\")","v":""},{"$f":"IF(表示!$B$13<=有効積算気温!M213,有効積算気温!$A213,\"\")","v":""},{"$f":"IF(表示!$B$13<=有効積算気温!N213,有効積算気温!$A213,\"\")","v":""},{"$f":"IF(表示!$B$13<=有効積算気温!O213,有効積算気温!$A213,\"\")","v":""},{"$f":"IF(表示!$B$13<=有効積算気温!P213,有効積算気温!$A213,\"\")","v":""},{"$f":"IF(表示!$B$13<=有効積算気温!Q213,有効積算気温!$A213,\"\")","v":""},{"$f":"IF(表示!$B$13<=有効積算気温!R213,有効積算気温!$A213,\"\")","v":""},{"$f":"IF(表示!$B$13<=有効積算気温!S213,有効積算気温!$A213,\"\")","v":""},{"$f":"IF(表示!$B$13<=有効積算気温!T213,有効積算気温!$A213,\"\")","v":""},{"$f":"IF(表示!$B$13<=有効積算気温!U213,有効積算気温!$A213,\"\")","v":""},null,null,null,null,{"$f":"IF(表示!$B$13<=有効積算気温!Z213,有効積算気温!$A213,\"\")","v":""}]
["2014-10-30",{"$f":"IF(表示!$B$13<=有効積算気温!B214,有効積算気温!$A214,\"\")","v":""},{"$f":"IF(表示!$B$13<=有効積算気温!C214,有効積算気温!$A214,\"\")","v":""},{"$f":"IF(表示!$B$13<=有効積算気温!D214,有効積算気温!$A214,\"\")","v":""},{"$f":"IF(表示!$B$13<=有効積算気温!E214,有効積算気温!$A214,\"\")","v":""},{"$f":"IF(表示!$B$13<=有効積算気温!F214,有効積算気温!$A214,\"\")","v":""},{"$f":"IF(表示!$B$13<=有効積算気温!G214,有効積算気温!$A214,\"\")","v":""},{"$f":"IF(表示!$B$13<=有効積算気温!H214,有効積算気温!$A214,\"\")","v":""},{"$f":"IF(表示!$B$13<=有効積算気温!I214,有効積算気温!$A214,\"\")","v":""},{"$f":"IF(表示!$B$13<=有効積算気温!J214,有効積算気温!$A214,\"\")","v":""},{"$f":"IF(表示!$B$13<=有効積算気温!K214,有効積算気温!$A214,\"\")","v":""},{"$f":"IF(表示!$B$13<=有効積算気温!L214,有効積算気温!$A214,\"\")","v":""},{"$f":"IF(表示!$B$13<=有効積算気温!M214,有効積算気温!$A214,\"\")","v":""},{"$f":"IF(表示!$B$13<=有効積算気温!N214,有効積算気温!$A214,\"\")","v":""},{"$f":"IF(表示!$B$13<=有効積算気温!O214,有効積算気温!$A214,\"\")","v":""},{"$f":"IF(表示!$B$13<=有効積算気温!P214,有効積算気温!$A214,\"\")","v":""},{"$f":"IF(表示!$B$13<=有効積算気温!Q214,有効積算気温!$A214,\"\")","v":""},{"$f":"IF(表示!$B$13<=有効積算気温!R214,有効積算気温!$A214,\"\")","v":""},{"$f":"IF(表示!$B$13<=有効積算気温!S214,有効積算気温!$A214,\"\")","v":""},{"$f":"IF(表示!$B$13<=有効積算気温!T214,有効積算気温!$A214,\"\")","v":""},{"$f":"IF(表示!$B$13<=有効積算気温!U214,有効積算気温!$A214,\"\")","v":""},null,null,null,null,{"$f":"IF(表示!$B$13<=有効積算気温!Z214,有効積算気温!$A214,\"\")","v":""}]
["2014-10-31",{"$f":"IF(表示!$B$13<=有効積算気温!B215,有効積算気温!$A215,\"\")","v":""},{"$f":"IF(表示!$B$13<=有効積算気温!C215,有効積算気温!$A215,\"\")","v":""},{"$f":"IF(表示!$B$13<=有効積算気温!D215,有効積算気温!$A215,\"\")","v":""},{"$f":"IF(表示!$B$13<=有効積算気温!E215,有効積算気温!$A215,\"\")","v":""},{"$f":"IF(表示!$B$13<=有効積算気温!F215,有効積算気温!$A215,\"\")","v":""},{"$f":"IF(表示!$B$13<=有効積算気温!G215,有効積算気温!$A215,\"\")","v":""},{"$f":"IF(表示!$B$13<=有効積算気温!H215,有効積算気温!$A215,\"\")","v":""},{"$f":"IF(表示!$B$13<=有効積算気温!I215,有効積算気温!$A215,\"\")","v":""},{"$f":"IF(表示!$B$13<=有効積算気温!J215,有効積算気温!$A215,\"\")","v":""},{"$f":"IF(表示!$B$13<=有効積算気温!K215,有効積算気温!$A215,\"\")","v":""},{"$f":"IF(表示!$B$13<=有効積算気温!L215,有効積算気温!$A215,\"\")","v":""},{"$f":"IF(表示!$B$13<=有効積算気温!M215,有効積算気温!$A215,\"\")","v":""},{"$f":"IF(表示!$B$13<=有効積算気温!N215,有効積算気温!$A215,\"\")","v":""},{"$f":"IF(表示!$B$13<=有効積算気温!O215,有効積算気温!$A215,\"\")","v":""},{"$f":"IF(表示!$B$13<=有効積算気温!P215,有効積算気温!$A215,\"\")","v":""},{"$f":"IF(表示!$B$13<=有効積算気温!Q215,有効積算気温!$A215,\"\")","v":""},{"$f":"IF(表示!$B$13<=有効積算気温!R215,有効積算気温!$A215,\"\")","v":""},{"$f":"IF(表示!$B$13<=有効積算気温!S215,有効積算気温!$A215,\"\")","v":""},{"$f":"IF(表示!$B$13<=有効積算気温!T215,有効積算気温!$A215,\"\")","v":""},{"$f":"IF(表示!$B$13<=有効積算気温!U215,有効積算気温!$A215,\"\")","v":""},null,null,null,null,{"$f":"IF(表示!$B$13<=有効積算気温!Z215,有効積算気温!$A215,\"\")","v":""}]
["2014-11-01",{"$f":"IF(表示!$B$13<=有効積算気温!B216,有効積算気温!$A216,\"\")","v":""},{"$f":"IF(表示!$B$13<=有効積算気温!C216,有効積算気温!$A216,\"\")","v":""},{"$f":"IF(表示!$B$13<=有効積算気温!D216,有効積算気温!$A216,\"\")","v":""},{"$f":"IF(表示!$B$13<=有効積算気温!E216,有効積算気温!$A216,\"\")","v":""},{"$f":"IF(表示!$B$13<=有効積算気温!F216,有効積算気温!$A216,\"\")","v":""},{"$f":"IF(表示!$B$13<=有効積算気温!G216,有効積算気温!$A216,\"\")","v":""},{"$f":"IF(表示!$B$13<=有効積算気温!H216,有効積算気温!$A216,\"\")","v":""},{"$f":"IF(表示!$B$13<=有効積算気温!I216,有効積算気温!$A216,\"\")","v":""},{"$f":"IF(表示!$B$13<=有効積算気温!J216,有効積算気温!$A216,\"\")","v":""},{"$f":"IF(表示!$B$13<=有効積算気温!K216,有効積算気温!$A216,\"\")","v":""},{"$f":"IF(表示!$B$13<=有効積算気温!L216,有効積算気温!$A216,\"\")","v":""},{"$f":"IF(表示!$B$13<=有効積算気温!M216,有効積算気温!$A216,\"\")","v":""},{"$f":"IF(表示!$B$13<=有効積算気温!N216,有効積算気温!$A216,\"\")","v":""},{"$f":"IF(表示!$B$13<=有効積算気温!O216,有効積算気温!$A216,\"\")","v":""},{"$f":"IF(表示!$B$13<=有効積算気温!P216,有効積算気温!$A216,\"\")","v":""},{"$f":"IF(表示!$B$13<=有効積算気温!Q216,有効積算気温!$A216,\"\")","v":""},{"$f":"IF(表示!$B$13<=有効積算気温!R216,有効積算気温!$A216,\"\")","v":""},{"$f":"IF(表示!$B$13<=有効積算気温!S216,有効積算気温!$A216,\"\")","v":""},{"$f":"IF(表示!$B$13<=有効積算気温!T216,有効積算気温!$A216,\"\")","v":""},{"$f":"IF(表示!$B$13<=有効積算気温!U216,有効積算気温!$A216,\"\")","v":""},null,null,null,null,{"$f":"IF(表示!$B$13<=有効積算気温!Z216,有効積算気温!$A216,\"\")","v":""}]
["晩限日",{"$f":"MAX(B2:B216)","v":"2014-08-24"},{"$f":"MAX(C2:C216)","v":"2014-08-25"},"2014-08-19","2014-08-19","2014-08-19","2014-08-21","2014-08-24","2014-08-23","2014-08-21","2014-08-24","2014-08-18","2014-08-28","2014-08-24","2014-09-01","2014-08-23","2014-08-17","2014-08-17","2014-08-23",{"$f":"MAX(T2:T216)","v":"2014-08-17"},{"$f":"MAX(U2:U216)","v":"2014-08-21"},null,null,null,null,{"$f":"MAX(Z2:Z216)","v":"2014-08-21"}]

{"sheet":"Mesh設定","index":5,"n_rows":1012,"n_cols":15,"rows_kept":1012,"cut":false,"hidden":true,"merged":[]}
["メッシュ農業気象データ　組み込みモジュール"]
[]
[]
[]
[]
[]
[]
[]
[]
[null,"設定はいくらでもＯＫ（プログラムでは１万行までスキャン）"]
[]
["番号","ボタン名","緯度","経度","取得開始日","取得最終日","要素","平年値","出力シート","出力セル","縦か横か","2/29の扱い"]
[1,"過去データ取得",{"$f":"表示!B7","v":43.012461227305998},{"$f":"表示!C7","v":141.40545845031701},{"$f":"DATE(表示!$A18,4,1)","v":"1999-04-01"},{"$f":"DATE(表示!$A18,11,1)","v":"1999-11-01"},"平均気温","-","データ整理","B2","縦",null,null,1,"Area1/1999/AMD_Area1_TMP_mea.nc.ascii?TMP_mea[90:304][585][249]"]
[2,"過去データ取得",{"$f":"C13","v":43.012461227305998},{"$f":"D13","v":141.40545845031701},{"$f":"DATE(表示!$A19,4,1)","v":"2000-04-01"},{"$f":"DATE(表示!$A19,11,1)","v":"2000-11-01"},"平均気温","-","データ整理","C2","縦",null,null,1,"Area1/2000/AMD_Area1_TMP_mea.nc.ascii?TMP_mea[91:305][585][249]"]
[3,"過去データ取得",{"$f":"C14","v":43.012461227305998},141.40545845031701,{"$f":"DATE(表示!$A20,4,1)","v":"2001-04-01"},{"$f":"DATE(表示!$A20,11,1)","v":"2001-11-01"},"平均気温","-","データ整理","D2","縦",null,null,1,"Area1/2001/AMD_Area1_TMP_mea.nc.ascii?TMP_mea[90:304][585][249]"]
[4,"過去データ取得",43.012461227305998,141.40545845031701,{"$f":"DATE(表示!$A21,4,1)","v":"2002-04-01"},{"$f":"DATE(表示!$A21,11,1)","v":"2002-11-01"},"平均気温","-","データ整理","E2","縦",null,null,1,"Area1/2002/AMD_Area1_TMP_mea.nc.ascii?TMP_mea[90:304][585][249]"]
[5,"過去データ取得",43.012461227305998,141.40545845031701,{"$f":"DATE(表示!$A22,4,1)","v":"2003-04-01"},{"$f":"DATE(表示!$A22,11,1)","v":"2003-11-01"},"平均気温","-","データ整理","F2","縦",null,null,1,"Area1/2003/AMD_Area1_TMP_mea.nc.ascii?TMP_mea[90:304][585][249]"]
[6,"過去データ取得",43.012461227305998,141.40545845031701,{"$f":"DATE(表示!$A23,4,1)","v":"2004-04-01"},{"$f":"DATE(表示!$A23,11,1)","v":"2004-11-01"},"平均気温","-","データ整理","G2","縦",null,null,1,"Area1/2004/AMD_Area1_TMP_mea.nc.ascii?TMP_mea[91:305][585][249]"]
[7,"過去データ取得",43.012461227305998,141.40545845031701,{"$f":"DATE(表示!$A24,4,1)","v":"2005-04-01"},{"$f":"DATE(表示!$A24,11,1)","v":"2005-11-01"},"平均気温","-","データ整理","H2","縦",null,null,1,"Area1/2005/AMD_Area1_TMP_mea.nc.ascii?TMP_mea[90:304][585][249]"]
[8,"過去データ取得",43.012461227305998,141.40545845031701,{"$f":"DATE(表示!$A25,4,1)","v":"2006-04-01"},{"$f":"DATE(表示!$A25,11,1)","v":"2006-11-01"},"平均気温","-","データ整理","I2","縦",null,null,1,"Area1/2006/AMD_Area1_TMP_mea.nc.ascii?TMP_mea[90:304][585][249]"]
[9,"過去データ取得",43.012461227305998,141.40545845031701,{"$f":"DATE(表示!$A26,4,1)","v":"2007-04-01"},{"$f":"DATE(表示!$A26,11,1)","v":"2007-11-01"},"平均気温","-","データ整理","J2","縦",null,null,1,"Area1/2007/AMD_Area1_TMP_mea.nc.ascii?TMP_mea[90:304][585][249]"]
[10,"過去データ取得",43.012461227305998,141.40545845031701,{"$f":"DATE(表示!$A27,4,1)","v":"2008-04-01"},{"$f":"DATE(表示!$A27,11,1)","v":"2008-11-01"},"平均気温","-","データ整理","K2","縦",null,null,1,"Area1/2008/AMD_Area1_TMP_mea.nc.ascii?TMP_mea[91:305][585][249]"]
[11,"過去データ取得",43.012461227305998,141.40545845031701,{"$f":"DATE(表示!$A28,4,1)","v":"2009-04-01"},{"$f":"DATE(表示!$A28,11,1)","v":"2009-11-01"},"平均気温","-","データ整理","L2","縦",null,null,1,"Area1/2009/AMD_Area1_TMP_mea.nc.ascii?TMP_mea[90:304][585][249]"]
[12,"過去データ取得",43.012461227305998,141.40545845031701,{"$f":"DATE(表示!$A29,4,1)","v":"2010-04-01"},{"$f":"DATE(表示!$A29,11,1)","v":"2010-11-01"},"平均気温","-","データ整理","M2","縦",null,null,1,"Area1/2010/AMD_Area1_TMP_mea.nc.ascii?TMP_mea[90:304][585][249]"]
[13,"過去データ取得",43.012461227305998,141.40545845031701,{"$f":"DATE(表示!$A30,4,1)","v":"2011-04-01"},{"$f":"DATE(表示!$A30,11,1)","v":"2011-11-01"},"平均気温","-","データ整理","N2","縦",null,null,1,"Area1/2011/AMD_Area1_TMP_mea.nc.ascii?TMP_mea[90:304][585][249]"]
[14,"過去データ取得",43.012461227305998,141.40545845031701,{"$f":"DATE(表示!$A31,4,1)","v":"2012-04-01"},{"$f":"DATE(表示!$A31,11,1)","v":"2012-11-01"},"平均気温","-","データ整理","O2","縦",null,null,1,"Area1/2012/AMD_Area1_TMP_mea.nc.ascii?TMP_mea[91:305][585][249]"]
[15,"過去データ取得",43.012461227305998,141.40545845031701,{"$f":"DATE(表示!$A32,4,1)","v":"2013-04-01"},{"$f":"DATE(表示!$A32,11,1)","v":"2013-11-01"},"平均気温","-","データ整理","P2","縦",null,null,1,"Area1/2013/AMD_Area1_TMP_mea.nc.ascii?TMP_mea[90:304][585][249]"]
[16,"過去データ取得",43.012461227305998,141.40545845031701,{"$f":"DATE(表示!$A33,4,1)","v":"2014-04-01"},{"$f":"DATE(表示!$A33,11,1)","v":"2014-11-01"},"平均気温","-","データ整理","Q2","縦",null,null,1,"Area1/2014/AMD_Area1_TMP_mea.nc.ascii?TMP_mea[90:304][585][249]"]
[17,"過去データ取得",43.012461227305998,141.40545845031701,{"$f":"DATE(表示!$A34,4,1)","v":"2015-04-01"},{"$f":"DATE(表示!$A34,11,1)","v":"2015-11-01"},"平均気温","-","データ整理","R2","縦",null,null,1,"Area1/2015/AMD_Area1_TMP_mea.nc.ascii?TMP_mea[90:304][585][249]"]
[18,"過去データ取得",43.012461227305998,141.40545845031701,{"$f":"DATE(表示!$A35,4,1)","v":"2016-04-01"},{"$f":"DATE(表示!$A35,11,1)","v":"2016-11-01"},"平均気温","-","データ整理","S2","縦",null,null,1,"Area1/2016/AMD_Area1_TMP_mea.nc.ascii?TMP_mea[91:305][585][249]"]
[19,"過去データ取得",{"$f":"C30","v":43.012461227305998},141.40545845031701,{"$f":"DATE(表示!$A36,4,1)","v":"2017-04-01"},{"$f":"DATE(表示!$A36,11,1)","v":"2017-11-01"},"平均気温","-","データ整理","T2","縦",null,null,1,"Area1/2017/AMD_Area1_TMP_mea.nc.ascii?TMP_mea[90:304][585][249]"]
[20,"過去データ取得",43.012461227305998,141.40545845031701,{"$f":"DATE(表示!$A37,4,1)","v":"2018-04-01"},{"$f":"DATE(表示!$A37,11,1)","v":"2018-11-01"},"平均気温","-","データ整理","U2","縦",null,null,1,"Area1/2018/AMD_Area1_TMP_mea.nc.ascii?TMP_mea[90:304][585][249]"]
[21,"今年のデータ取得",43.012461227305998,141.40545845031701,{"$f":"DATE(YEAR(TODAY()),4,1)","v":"2018-04-01"},{"$f":"DATE(YEAR(TODAY()),11,1)","v":"2018-11-01"},"平均気温","-","データ整理","Z2","縦",null,null,1,"Area1/2018/AMD_Area1_TMP_mea.nc.ascii?TMP_mea[90:304][585][249]"]
[22,"今年のデータ取得",43.012461227305998,141.40545845031701,{"$f":"DATE(YEAR(TODAY()),4,1)","v":"2018-04-01"},{"$f":"DATE(YEAR(TODAY()),11,1)","v":"2018-11-01"},"平均気温","○","データ整理","AA2","縦",null,null,1,"Area1/2017/AMD_Area1_Cli_TMP_mea.nc.ascii?TMP_mea[90:304][585][249]"]
[23]
[24]
[25]
[26]
[27]
[28]
[29]
[30]
[31]
[32]
[33]
[34]
[35]
[36]
[37]
[38]
[39]
[40]
[41]
[42]
[43]
[44]
[45]
[46]
[47]
[48]
[49]
[50]
[51]
[52]
[53]
[54]
[55]
[56]
[57]
[58]
[59]
[60]
[61]
[62]
[63]
[64]
[65]
[66]
[67]
[68]
[69]
[70]
[71]
[72]
[73]
[74]
[75]
[76]
[77]
[78]
[79]
[80]
[81]
[82]
[83]
[84]
[85]
[86]
[87]
[88]
[89]
[90]
[91]
[92]
[93]
[94]
[95]
[96]
[97]
[98]
[99]
[100]
[101]
[102]
[103]
[104]
[105]
[106]
[107]
[108]
[109]
[110]
[111]
[112]
[113]
[114]
[115]
[116]
[117]
[118]
[119]
[120]
[121]
[122]
[123]
[124]
[125]
[126]
[127]
[128]
[129]
[130]
[131]
[132]
[133]
[134]
[135]
[136]
[137]
[138]
[139]
[140]
[141]
[142]
[143]
[144]
[145]
[146]
[147]
[148]
[149]
[150]
[151]
[152]
[153]
[154]
[155]
[156]
[157]
[158]
[159]
[160]
[161]
[162]
[163]
[164]
[165]
[166]
[167]
[168]
[169]
[170]
[171]
[172]
[173]
[174]
[175]
[176]
[177]
[178]
[179]
[180]
[181]
[182]
[183]
[184]
[185]
[186]
[187]
[188]
[189]
[190]
[191]
[192]
[193]
[194]
[195]
[196]
[197]
[198]
[199]
[200]
[201]
[202]
[203]
[204]
[205]
[206]
[207]
[208]
[209]
[210]
[211]
[212]
[213]
[214]
[215]
[216]
[217]
[218]
[219]
[220]
[221]
[222]
[223]
[224]
[225]
[226]
[227]
[228]
[229]
[230]
[231]
[232]
[233]
[234]
[235]
[236]
[237]
[238]
[239]
[240]
[241]
[242]
[243]
[244]
[245]
[246]
[247]
[248]
[249]
[250]
[251]
[252]
[253]
[254]
[255]
[256]
[257]
[258]
[259]
[260]
[261]
[262]
[263]
[264]
[265]
[266]
[267]
[268]
[269]
[270]
[271]
[272]
[273]
[274]
[275]
[276]
[277]
[278]
[279]
[280]
[281]
[282]
[283]
[284]
[285]
[286]
[287]
[288]
[289]
[290]
[291]
[292]
[293]
[294]
[295]
[296]
[297]
[298]
[299]
[300]
[301]
[302]
[303]
[304]
[305]
[306]
[307]
[308]
[309]
[310]
[311]
[312]
[313]
[314]
[315]
[316]
[317]
[318]
[319]
[320]
[321]
[322]
[323]
[324]
[325]
[326]
[327]
[328]
[329]
[330]
[331]
[332]
[333]
[334]
[335]
[336]
[337]
[338]
[339]
[340]
[341]
[342]
[343]
[344]
[345]
[346]
[347]
[348]
[349]
[350]
[351]
[352]
[353]
[354]
[355]
[356]
[357]
[358]
[359]
[360]
[361]
[362]
[363]
[364]
[365]
[366]
[367]
[368]
[369]
[370]
[371]
[372]
[373]
[374]
[375]
[376]
[377]
[378]
[379]
[380]
[381]
[382]
[383]
[384]
[385]
[386]
[387]
[388]
[389]
[390]
[391]
[392]
[393]
[394]
[395]
[396]
[397]
[398]
[399]
[400]
[401]
[402]
[403]
[404]
[405]
[406]
[407]
[408]
[409]
[410]
[411]
[412]
[413]
[414]
[415]
[416]
[417]
[418]
[419]
[420]
[421]
[422]
[423]
[424]
[425]
[426]
[427]
[428]
[429]
[430]
[431]
[432]
[433]
[434]
[435]
[436]
[437]
[438]
[439]
[440]
[441]
[442]
[443]
[444]
[445]
[446]
[447]
[448]
[449]
[450]
[451]
[452]
[453]
[454]
[455]
[456]
[457]
[458]
[459]
[460]
[461]
[462]
[463]
[464]
[465]
[466]
[467]
[468]
[469]
[470]
[471]
[472]
[473]
[474]
[475]
[476]
[477]
[478]
[479]
[480]
[481]
[482]
[483]
[484]
[485]
[486]
[487]
[488]
[489]
[490]
[491]
[492]
[493]
[494]
[495]
[496]
[497]
[498]
[499]
[500]
[501]
[502]
[503]
[504]
[505]
[506]
[507]
[508]
[509]
[510]
[511]
[512]
[513]
[514]
[515]
[516]
[517]
[518]
[519]
[520]
[521]
[522]
[523]
[524]
[525]
[526]
[527]
[528]
[529]
[530]
[531]
[532]
[533]
[534]
[535]
[536]
[537]
[538]
[539]
[540]
[541]
[542]
[543]
[544]
[545]
[546]
[547]
[548]
[549]
[550]
[551]
[552]
[553]
[554]
[555]
[556]
[557]
[558]
[559]
[560]
[561]
[562]
[563]
[564]
[565]
[566]
[567]
[568]
[569]
[570]
[571]
[572]
[573]
[574]
[575]
[576]
[577]
[578]
[579]
[580]
[581]
[582]
[583]
[584]
[585]
[586]
[587]
[588]
[589]
[590]
[591]
[592]
[593]
[594]
[595]
[596]
[597]
[598]
[599]
[600]
[601]
[602]
[603]
[604]
[605]
[606]
[607]
[608]
[609]
[610]
[611]
[612]
[613]
[614]
[615]
[616]
[617]
[618]
[619]
[620]
[621]
[622]
[623]
[624]
[625]
[626]
[627]
[628]
[629]
[630]
[631]
[632]
[633]
[634]
[635]
[636]
[637]
[638]
[639]
[640]
[641]
[642]
[643]
[644]
[645]
[646]
[647]
[648]
[649]
[650]
[651]
[652]
[653]
[654]
[655]
[656]
[657]
[658]
[659]
[660]
[661]
[662]
[663]
[664]
[665]
[666]
[667]
[668]
[669]
[670]
[671]
[672]
[673]
[674]
[675]
[676]
[677]
[678]
[679]
[680]
[681]
[682]
[683]
[684]
[685]
[686]
[687]
[688]
[689]
[690]
[691]
[692]
[693]
[694]
[695]
[696]
[697]
[698]
[699]
[700]
[701]
[702]
[703]
[704]
[705]
[706]
[707]
[708]
[709]
[710]
[711]
[712]
[713]
[714]
[715]
[716]
[717]
[718]
[719]
[720]
[721]
[722]
[723]
[724]
[725]
[726]
[727]
[728]
[729]
[730]
[731]
[732]
[733]
[734]
[735]
[736]
[737]
[738]
[739]
[740]
[741]
[742]
[743]
[744]
[745]
[746]
[747]
[748]
[749]
[750]
[751]
[752]
[753]
[754]
[755]
[756]
[757]
[758]
[759]
[760]
[761]
[762]
[763]
[764]
[765]
[766]
[767]
[768]
[769]
[770]
[771]
[772]
[773]
[774]
[775]
[776]
[777]
[778]
[779]
[780]
[781]
[782]
[783]
[784]
[785]
[786]
[787]
[788]
[789]
[790]
[791]
[792]
[793]
[794]
[795]
[796]
[797]
[798]
[799]
[800]
[801]
[802]
[803]
[804]
[805]
[806]
[807]
[808]
[809]
[810]
[811]
[812]
[813]
[814]
[815]
[816]
[817]
[818]
[819]
[820]
[821]
[822]
[823]
[824]
[825]
[826]
[827]
[828]
[829]
[830]
[831]
[832]
[833]
[834]
[835]
[836]
[837]
[838]
[839]
[840]
[841]
[842]
[843]
[844]
[845]
[846]
[847]
[848]
[849]
[850]
[851]
[852]
[853]
[854]
[855]
[856]
[857]
[858]
[859]
[860]
[861]
[862]
[863]
[864]
[865]
[866]
[867]
[868]
[869]
[870]
[871]
[872]
[873]
[874]
[875]
[876]
[877]
[878]
[879]
[880]
[881]
[882]
[883]
[884]
[885]
[886]
[887]
[888]
[889]
[890]
[891]
[892]
[893]
[894]
[895]
[896]
[897]
[898]
[899]
[900]
[901]
[902]
[903]
[904]
[905]
[906]
[907]
[908]
[909]
[910]
[911]
[912]
[913]
[914]
[915]
[916]
[917]
[918]
[919]
[920]
[921]
[922]
[923]
[924]
[925]
[926]
[927]
[928]
[929]
[930]
[931]
[932]
[933]
[934]
[935]
[936]
[937]
[938]
[939]
[940]
[941]
[942]
[943]
[944]
[945]
[946]
[947]
[948]
[949]
[950]
[951]
[952]
[953]
[954]
[955]
[956]
[957]
[958]
[959]
[960]
[961]
[962]
[963]
[964]
[965]
[966]
[967]
[968]
[969]
[970]
[971]
[972]
[973]
[974]
[975]
[976]
[977]
[978]
[979]
[980]
[981]
[982]
[983]
[984]
[985]
[986]
[987]
[988]
[989]
[990]
[991]
[992]
[993]
[994]
[995]
[996]
[997]
[998]
[999]
[1000]

{"sheet":"html","index":6,"n_rows":244,"n_cols":1,"rows_kept":244,"cut":false,"hidden":true,"merged":[]}
["<!DOCTYPE html>"]
["<html>"]
["<head>"]
["<meta charset=\"UTF-8\">"]
["<meta http-equiv=\"X-UA-Compatible\" content=\"IE=11\"/>"]
["<title>Select point from map.</title>"]
["<link rel=\"stylesheet\" href=\"https://unpkg.com/leaflet@1.2.0/dist/leaflet.css\"\n  integrity=\"sha512-M2wvCLH6DSRazYeZRIm1JnYyh22purTM+FDB5CsyxtQJYeKq83arPe5wgbNmcFXGqiSH2XR8dT/fJISVA1r/zQ==\"\n  crossorigin=\"\"/>"]
["<script src=\"https://unpkg.com/leaflet@1.2.0/dist/leaflet.js\"\n  integrity=\"sha512-lInM/apFSqyy1o6s89K4iQUKg6ppXEgsVxT35HbzUupEVRh2Eu9Wdl4tHj7dZO0s1uvplcYGmt3498TtHq+log==\"\n  crossorigin=\"\"></script>"]
[]
["<style>"]
["  body {padding: 0; margin: 0}"]
["  html, body, #map {height: 93%; width: 100%;}"]
["  .mesh_label{"]
["    white-space:nowrap;"]
["    font-weight: 300;"]
["    text-shadow: 0 0 0.2em black, 0 0 0.2em black,"]
["            0 0 0.2em black,0 0 0.2em black,0 0 0.2em;"]
["    color: lightgrey;"]
["  }"]
["</style>"]
["</head>"]
[]
["<body>"]
["<div id=\"map\"></div>"]
["<div id=\"error\"></div>"]
["<div id=\"message\">マップ上をクリックして、地点を指定しOKボタンを押してください。地点選択をやめる場合は、キャンセルボタンをお押してください。</div>"]
["<div id=\"coord\">"]
["    Latitude:<span id=\"t_lat\"></span><br/> "]
["    Longitude:<span id=\"t_lon\"></span>"]
["</div>"]
[]
["<input type=\"button\" name=\"check\" value=\"OK\" onClick=\"check_latlon()\">"]
["<input type=\"button\" name=\"check\" value=\"キャンセル\" onClick=\"cancel_select()\">"]
["<input type=\"hidden\" name=\"sub_lat\" id=\"sub_lat\"/>"]
["<input type=\"hidden\" name=\"sub_lon\" id=\"sub_lon\"/>"]
["<input type=\"hidden\" name=\"cancel_txt\" id=\"cancel_txt\"/>"]
["<script>"]
["var sw = L.latLng(23,120),"]
["    ne = L.latLng(46,150),"]
["    bounds = L.latLngBounds(sw,ne);"]
[]
["var map = L.map('map',{"]
["    maxBounds:bounds"]
["});"]
[]
["var tile_layer2 = L.tileLayer('https://cyberjapandata.gsi.go.jp/xyz/seamlessphoto/{z}/{x}/{y}.jpg', {"]
["  attribution: \"<a href='https://maps.gsi.go.jp/development/ichiran.html' target='_blank'>地理院タイル</a>\""]
["}).addTo(map);"]
[]
["var tile_layer1 = L.tileLayer('https://cyberjapandata.gsi.go.jp/xyz/std/{z}/{x}/{y}.png', {"]
["  attribution: \"<a href='https://maps.gsi.go.jp/development/ichiran.html' target='_blank'>地理院タイル</a>\""]
["}).addTo(map);"]
[]
[]
["map.setView([38.3622222, 138.7313889], 4);"]
[]
["var createLabelIcon = function(labelClass,labelText){"]
["  return L.divIcon({ "]
["    className: labelClass,"]
["    html: labelText,"]
["    bgPos: L.point(1000,100)"]
["  })"]
["}"]
[]
["function latlon2mesh(lat,lon) {"]
["    y1 = Math.floor(lat * 1.5);"]
["    x1 = Math.floor(lon) - 100;"]
["    lat1_0 = y1 / 1.5;"]
["    lon1_0 = x1 + 100;"]
["    y2 = Math.floor((lat-lat1_0) * 1.5 * 80);"]
["    x2 = Math.floor((lon-lon1_0) * 80);"]
[]
["    m1 = y1.toString() + x1.toString();"]
["    m2 = Math.floor(y2 / 10).toString() + Math.floor(x2 / 10).toString();"]
["    m3 = (y2 % 10).toString() + (x2 % 10).toString();"]
["    return [m1,m2,m3].join(\"\");"]
["}"]
[]
["function mesh2bounds(meshcode) {"]
["    mc = meshcode.toString().split(\"-\").join(\"\");"]
["    mcl = mc.length;"]
[]
["    if(mcl == 4) {"]
["        south_sec = parseInt(mc.substr(0,2)) * 2400;"]
["        south = south_sec / 3600;"]
["        west = parseInt(mc.substr(2,2)) + 100;"]
["        north = (south_sec + 2400) / 3600;"]
["        east = west + 1;"]
["    }"]
["    else {"]
["        south_sec = parseInt(mc.substr(0,2)) * 2400 + parseInt(mc.substr(4,1)) * 300;"]
["        west_sec = (parseInt(mc.substr(2,2)) + 100) * 3600 + parseInt(mc.substr(5,1)) * 450;"]
[]
["        if(mcl == 6) {"]
["            north_sec = south_sec + 300;"]
["            east_sec = west_sec + 450;"]
["        }"]
["        else {"]
["            south_sec += parseInt(mc.substr(6,1)) * 30;"]
["            west_sec += parseInt(mc.substr(7,1)) * 45;"]
["            north_sec = south_sec + 30;"]
["            east_sec = west_sec + 45;"]
["        }"]
["        "]
["        south = south_sec / 3600;"]
["        west = west_sec / 3600;"]
["        north = north_sec / 3600;"]
["        east = east_sec / 3600;"]
["    }"]
["    return [[south,west],[north,east],meshcode]"]
["}"]
["var mesh_group = L.layerGroup().addTo(map);"]
[]
["function draw_mesh(mesh_list){"]
["    //clear current mesh layers"]
["    mesh_group.clearLayers();"]
["    //create new mesh layers"]
["    mesh_layers = new Array();"]
["    for (var i = 0; i < mesh_list.length; i++) {"]
["        mesh_group.addLayer(L.rectangle(L.latLngBounds("]
["            L.latLng(mesh_list[i][0]),L.latLng(mesh_list[i][1])),"]
["            {color:\"#ff7800\",weight:1}"]
["        ));"]
["        l_lat = (mesh_list[i][0][0] + mesh_list[i][1][0])/2;"]
["        l_lng = (2*mesh_list[i][0][1] + mesh_list[i][1][1])/3;"]
["        mesh_group.addLayer(L.marker(new L.latLng(l_lat,l_lng),{icon:createLabelIcon(\"mesh_label\",mesh_list[i][2])}));"]
["    }"]
["}"]
[]
["function gen_meshlist(tr,bl,flg1,flg2,flg3){"]
["    var mesh_list = new Array();"]
["    var x_min = parseInt(bl.substr(2,2));"]
["    var x_max = parseInt(tr.substr(2,2));"]
["    var y_min = parseInt(bl.substr(0,2));"]
["    var y_max = parseInt(tr.substr(0,2));"]
["    console.log(tr,bl);"]
["    console.log(x_min,x_max);"]
["    console.log(y_min,y_max);"]
[]
["    for (var x = x_min; x <= x_max; x++) {"]
["        for (var y = y_min; y <= y_max; y++) {"]
["            if(flg1){"]
["                mesh_list.push(mesh2bounds(y.toString()+x.toString()));"]
["            }"]
["            if(flg2 || flg3){"]
["                var x2_min = (x>x_min) ? 0 : parseInt(bl.substr(5,1));"]
["                var x2_max = (x<x_max) ? 7 : parseInt(tr.substr(5,1));"]
["                var y2_min = (y>y_min) ? 0 : parseInt(bl.substr(4,1));"]
["                var y2_max = (y<y_max) ? 7 : parseInt(tr.substr(4,1));"]
["            }"]
["            if(flg2){"]
["                for (var x2 = x2_min; x2 <= x2_max; x2++) {"]
["                    for (var y2 = y2_min; y2 <= y2_max; y2++){"]
["                        mesh_list.push(mesh2bounds(y.toString()+x.toString()+y2.toString()+x2.toString()));"]
["                    }"]
["                }"]
["            }"]
["            if(flg3){"]
["                for (var x2 = x2_min; x2 <= x2_max; x2++) {"]
["                    for (var y2 = y2_min; y2 <= y2_max; y2++){"]
["                        var x3_min = (x2 == x2_min && x == x_min) ? parseInt(bl.substr(7,1)) : 0;"]
["                        var x3_max = (x2 == x2_max && x == x_max) ? parseInt(tr.substr(7,1)) : 9;"]
["                        var y3_min = (y2 == y2_min && y == y_min) ? parseInt(bl.substr(6,1)) : 0;"]
["                        var y3_max = (y2 == y2_max && y == y_max) ? parseInt(tr.substr(6,1)) : 9;"]
["                        for (var x3 = x3_min; x3 <= x3_max; x3++) {"]
["                            for (var y3 = y3_min; y3 <= y3_max; y3++) {"]
["                                mesh_list.push(mesh2bounds(y.toString()+x.toString()+\"-\"+y2.toString()+x2.toString()+\"-\"+y3.toString()+x3.toString()));"]
["                            }"]
["                        }"]
["                    }"]
["                }"]
["            }"]
["        }"]
["    }"]
["    return mesh_list;"]
["}"]
[]
["var marker;"]
["function onMapClick(e){"]
["    try{"]
["        map.removeLayer(marker);"]
["    }catch(er){"]
["        console.log(er)"]
["    }"]
["    marker = new L.Marker(e.latlng,{draggable:false});"]
["    document.getElementById(\"t_lat\").textContent=e.latlng.lat;"]
["    document.getElementById(\"t_lon\").textContent=e.latlng.lng;"]
["    map.addLayer(marker);"]
["}"]
[]
["var agri_area = [[[39.3333333333,139],[46,146],\"Area1\"],[[34.6666666666,137],[42,143],\"Area2\"],[[38.6666666666,142],[32,135],\"Area3\"],[[32.6666666666,130],[36.6666666666,138],\"Area4\"],[[28.6666666666,128],[35.3333333333,133],\"Area5\"],[[24,122],[29.3333333333,132],\"Area6\"]];"]
[]
["function update_mesh(e){"]
["    var bounds = map.getBounds();"]
["    var tr_mesh = latlon2mesh(bounds._northEast.lat,bounds._northEast.lng);"]
["    var bl_mesh = latlon2mesh(bounds._southWest.lat,bounds._southWest.lng);"]
["    var mesh_list;"]
[]
["    if (map.getZoom() < 7) {"]
["        mesh_list = agri_area;"]
["    }else if(map.getZoom() < 10){"]
["        //first mesh"]
["        mesh_list = gen_meshlist(tr_mesh,bl_mesh,true,false,false);"]
["    }else if(map.getZoom() < 13){"]
["        //second mesh"]
["        mesh_list = gen_meshlist(tr_mesh,bl_mesh,false,true,false);"]
["    }else{"]
["        //third mesh"]
["        mesh_list = gen_meshlist(tr_mesh,bl_mesh,false,false,true);"]
["    }"]
["    draw_mesh(mesh_list);"]
["}"]
[]
["draw_mesh(agri_area);"]
["map.on('click',onMapClick);"]
["map.on('moveend',update_mesh);"]
[]
["var baseLayers = {"]
["    \"航空写真\":tile_layer2,"]
["    \"標準地図\":tile_layer1"]
["};"]
["var meshLayers = {"]
["    \"メッシュ\":mesh_group"]
["};"]
["L.control.layers(baseLayers,meshLayers).addTo(map);"]
[]
["function check_latlon(){"]
[" if(document.getElementById(\"t_lat\").textContent==\"\"){"]
["  alert(\"地点が選択されていません。\");"]
[" }else{"]
["  document.getElementById(\"sub_lat\").value=document.getElementById(\"t_lat\").textContent;"]
["  document.getElementById(\"sub_lon\").value=document.getElementById(\"t_lon\").textContent;"]
[" }"]
["}"]
[]
["function cancel_select(){"]
[" if(confirm(\"地点の選択をやめますか？\")){"]
["  document.getElementById(\"cancel_txt\").value = \"cancel\";"]
[" }"]
["}"]
["//onMapClick({\"latlng\":{\"lat\":35.94243575255426,\"lng\":139.31762695312503}});"]
["</script>"]
["</body>"]
["</html>"]